{"text_format":"1","workbook":"xlsx","n_sheets":5,"sheets":["Výběr","Vstupy","Výpočty","Data_grafy","Grafy"],"not_rendered":{"charts":12,"images":0,"macros":1,"external_links":0,"defined_names":2,"comments":0,"pivot_tables":0},"unopened":[],"bounds":{"document_bytes":16777216,"sheet_cells":100000,"rows_first":2000,"rows_last":500,"rows_between":2000,"halvings":0,"cell_chars":16384,"cell_head_chars":4096},"cells_cut":0,"cells_raw":0,"read":"whole","date_system":"1900"}

{"sheet":"Výběr","index":0,"n_rows":66,"n_cols":2,"rows_kept":66,"cut":false,"hidden":false,"merged":[[0,0,0,5]]}
["Modelové projekce budoucího počtu a struktury lékařů primární zdravotní péče a jejich kapacit\nAplikace se základními výsledky na úrovni Česka a jednotlivých krajů \n\nTato aplikace vznikla v rámci projektu TA ČR Omega (č. TD03000312) „Hodnocení a modelování dostupnosti primární zdravotní péče jako klíčového aspektu zdravotní péče v ČR“. Je určena k modelovému odhadu budoucího vývoje počtů lékařů (a jejich kapacit) podle věku a pohlaví na úrovni Česka a jednotlivých krajů na období 1. 1. 2017 až 1. 1. 2050 v rámci čtyř odborností primární zdravotní péče: Všeobecné praktické lékařství (001), Praktické lékařství pro děti a dorost (002), Zubní lékařství (014) a Ambulantní gynekologie (603) za předpokladu fixace parametrů uvedeného vývoje za období 2011–2016.\n\nAutoři:\nRNDr. Boris Burcin, Ph.D. a RNDr. Luděk Šídlo, Ph.D. \nKatedra demografie a geodemografie, Centrum populačního plánování a aplikované demografie\nPřírodovědecká fakulta Univerzity Karlovy, Praha\nKontakt: boris.burcin@natur.cuni.cz, ludek.sidlo@natur.cuni.cz\n\nDatové zdroje:\nPočty lékařů smluvních PZS VZP ČR podle věku a pohlaví za období 2011–2016.\nBurcin, B., Z. Čermák, T. Kučera a L. Šídlo, 2014. Prognóza vývoje počtu obyvatel v krajích České republiky do roku 2065. Zpracováno pro Výzkumný ústav vodohospodářský T. G. Masaryka v Praze.\n\nMetodika:\nŠídlo, L., 2010. Současný stav a perspektivy vývoje počtu a struktury lékařů primární zdravotní péče v České republice. Dizertační práce (Ph.D.). Univerzita Karlova v Praze, katedra demografie a geodemografie, Praha, 2010, 307 s + CD-ROM s přílohami. Dostupné z https://is.cuni.cz/webapps/zzp/detail/92456/"]
[]
[]
[]
["Výběr odbornosti a územní jednotky, spuštění výpočtu:"]
["Odbornost","Územní jednotka"]
["Všeobecné praktické lékařství","Česká republika"]
["Všeobecné praktické lékařství","Hl. m. Praha"]
["Všeobecné praktické lékařství","Středočeský kraj"]
["Všeobecné praktické lékařství","Jihočeský kraj"]
["Všeobecné praktické lékařství","Plzeňský kraj"]
["Všeobecné praktické lékařství","Karlovarský kraj"]
["Všeobecné praktické lékařství","Ústecký kraj"]
["Všeobecné praktické lékařství","Liberecký kraj"]
["Všeobecné praktické lékařství","Královéhradecký kraj"]
["Všeobecné praktické lékařství","Pardubický kraj"]
["Všeobecné praktické lékařství","Kraj Vysočina"]
["Všeobecné praktické lékařství","Jihomoravský kraj"]
["Všeobecné praktické lékařství","Olomoucký kraj"]
["Všeobecné praktické lékařství","Zlínský kraj"]
["Všeobecné praktické lékařství","Moravskoslezský kraj"]
["Praktické lékařství pro děti a dorost","Česká republika"]
["Praktické lékařství pro děti a dorost","Hl. m. Praha"]
["Praktické lékařství pro děti a dorost","Středočeský kraj"]
["Praktické lékařství pro děti a dorost","Jihočeský kraj"]
["Praktické lékařství pro děti a dorost","Plzeňský kraj"]
["Praktické lékařství pro děti a dorost","Karlovarský kraj"]
["Praktické lékařství pro děti a dorost","Ústecký kraj"]
["Praktické lékařství pro děti a dorost","Liberecký kraj"]
["Praktické lékařství pro děti a dorost","Královéhradecký kraj"]
["Praktické lékařství pro děti a dorost","Pardubický kraj"]
["Praktické lékařství pro děti a dorost","Kraj Vysočina"]
["Praktické lékařství pro děti a dorost","Jihomoravský kraj"]
["Praktické lékařství pro děti a dorost","Olomoucký kraj"]
["Praktické lékařství pro děti a dorost","Zlínský kraj"]
["Praktické lékařství pro děti a dorost","Moravskoslezský kraj"]
["Zubní lékařství","Česká republika"]
["Zubní lékařství","Hl. m. Praha"]
["Zubní lékařství","Středočeský kraj"]
["Zubní lékařství","Jihočeský kraj"]
["Zubní lékařství","Plzeňský kraj"]
["Zubní lékařství","Karlovarský kraj"]
["Zubní lékařství","Ústecký kraj"]
["Zubní lékařství","Liberecký kraj"]
["Zubní lékařství","Královéhradecký kraj"]
["Zubní lékařství","Pardubický kraj"]
["Zubní lékařství","Kraj Vysočina"]
["Zubní lékařství","Jihomoravský kraj"]
["Zubní lékařství","Olomoucký kraj"]
["Zubní lékařství","Zlínský kraj"]
["Zubní lékařství","Moravskoslezský kraj"]
["Ambulantní gynekologie","Česká republika"]
["Ambulantní gynekologie","Hl. m. Praha"]
["Ambulantní gynekologie","Středočeský kraj"]
["Ambulantní gynekologie","Jihočeský kraj"]
["Ambulantní gynekologie","Plzeňský kraj"]
["Ambulantní gynekologie","Karlovarský kraj"]
["Ambulantní gynekologie","Ústecký kraj"]
["Ambulantní gynekologie","Liberecký kraj"]
["Ambulantní gynekologie","Královéhradecký kraj"]
["Ambulantní gynekologie","Pardubický kraj"]
["Ambulantní gynekologie","Kraj Vysočina"]
["Ambulantní gynekologie","Jihomoravský kraj"]
["Ambulantní gynekologie","Olomoucký kraj"]
["Ambulantní gynekologie","Zlínský kraj"]
["Ambulantní gynekologie","Moravskoslezský kraj"]

{"sheet":"Vstupy","index":1,"n_rows":1486,"n_cols":179,"rows_kept":1486,"cut":false,"hidden":true,"merged":[[1412,1,1412,2],[1412,4,1413,4],[1412,5,1412,6],[1412,8,1413,8],[1412,9,1412,10],[1419,12,1420,12],[1287,112,1287,113],[1287,114,1287,115],[1287,116,1287,117],[1287,118,1287,119],[1287,120,1287,121],[1287,122,1287,123],[1289,93,1290,93],[1289,94,1289,95],[1289,96,1289,97],[1289,98,1289,99],[1289,100,1289,101],[1289,102,1289,103],[1289,104,1289,105],[1289,106,1289,107],[1289,108,1289,109],[1289,110,1289,111],[1289,112,1289,113],[1289,114,1289,115],[1289,116,1289,117],[1289,118,1289,119],[1289,120,1289,121],[1289,122,1289,123],[1287,94,1287,95],[1287,96,1287,97],[1287,98,1287,99],[1287,100,1287,101],[1287,102,1287,103],[1287,104,1287,105],[1287,106,1287,107],[1287,108,1287,109],[1287,110,1287,111],[1287,81,1287,82],[1287,83,1287,84],[1287,85,1287,86],[1287,87,1287,88],[1287,89,1287,90],[1287,91,1287,92],[1289,62,1290,62],[1289,63,1289,64],[1289,65,1289,66],[1289,67,1289,68],[1289,69,1289,70],[1289,71,1289,72],[1289,73,1289,74],[1289,75,1289,76],[1289,77,1289,78],[1289,79,1289,80],[1289,81,1289,82],[1289,83,1289,84],[1289,85,1289,86],[1289,87,1289,88],[1289,89,1289,90],[1289,91,1289,92],[1287,63,1287,64],[1287,65,1287,66],[1287,67,1287,68],[1287,69,1287,70],[1287,71,1287,72],[1287,73,1287,74],[1287,75,1287,76],[1287,77,1287,78],[1287,79,1287,80],[1287,52,1287,53],[1287,54,1287,55],[1287,56,1287,57],[1287,58,1287,59],[1287,60,1287,61],[1289,31,1290,31],[1289,32,1289,33],[1289,34,1289,35],[1289,36,1289,37],[1289,38,1289,39],[1289,40,1289,41],[1289,42,1289,43],[1289,44,1289,45],[1289,46,1289,47],[1289,48,1289,49],[1289,50,1289,51],[1289,52,1289,53],[1289,54,1289,55],[1289,56,1289,57],[1289,58,1289,59],[1289,60,1289,61],[1287,34,1287,35],[1287,36,1287,37],[1287,38,1287,39],[1287,40,1287,41],[1287,42,1287,43],[1287,44,1287,45],[1287,46,1287,47],[1287,48,1287,49],[1287,50,1287,51],[1287,15,1287,16],[1287,17,1287,18],[1287,19,1287,20],[1287,21,1287,22],[1287,23,1287,24],[1287,25,1287,26],[1287,27,1287,28],[1287,29,1287,30],[1287,32,1287,33],[1289,0,1290,0],[1289,1,1289,2],[1289,3,1289,4],[1289,5,1289,6],[1289,7,1289,8],[1289,9,1289,10],[1289,11,1289,12],[1289,13,1289,14],[1289,15,1289,16],[1110,104,1110,105],[1110,107,1112,107],[1110,108,1110,117],[1111,108,1111,109],[1111,110,1111,111],[1111,112,1111,113],[1111,114,1111,115],[1111,116,1111,117],[1110,93,1112,93],[1110,94,1110,95],[1110,96,1110,97],[1110,98,1110,99],[1110,100,1110,101],[1110,102,1110,103],[1031,104,1031,105],[1031,107,1033,107],[1031,108,1031,117],[1032,108,1032,109],[1032,110,1032,111],[1032,112,1032,113],[1032,114,1032,115],[1032,116,1032,117],[1031,93,1033,93],[1031,94,1031,95],[1031,96,1031,97],[1031,98,1031,99],[1031,100,1031,101],[1031,102,1031,103],[952,104,952,105],[952,107,954,107],[952,108,952,117],[953,108,953,109],[953,110,953,111],[953,112,953,113],[953,114,953,115],[953,116,953,117],[952,93,954,93],[952,94,952,95],[952,96,952,97],[952,98,952,99],[952,100,952,101],[952,102,952,103],[873,104,873,105],[873,107,875,107],[873,108,873,117],[874,108,874,109],[874,110,874,111],[874,112,874,113],[874,114,874,115],[874,116,874,117],[873,93,875,93],[873,94,873,95],[873,96,873,97],[873,98,873,99],[873,100,873,101],[873,102,873,103],[794,104,794,105],[794,107,796,107],[794,108,794,117],[795,108,795,109],[795,110,795,111],[795,112,795,113],[795,114,795,115],[795,116,795,117],[794,93,796,93],[794,94,794,95],[794,96,794,97],[794,98,794,99],[794,100,794,101],[794,102,794,103],[715,104,715,105],[715,107,717,107],[715,108,715,117],[716,108,716,109],[716,110,716,111],[716,112,716,113],[716,114,716,115],[716,116,716,117],[715,93,717,93],[715,94,715,95],[715,96,715,97],[715,98,715,99],[715,100,715,101],[715,102,715,103],[636,104,636,105],[636,107,638,107],[636,108,636,117],[637,108,637,109],[637,110,637,111],[637,112,637,113],[637,114,637,115],[637,116,637,117],[636,93,638,93],[636,94,636,95],[636,96,636,97],[636,98,636,99],[636,100,636,101],[636,102,636,103],[557,104,557,105],[557,107,559,107],[557,108,557,117],[558,108,558,109],[558,110,558,111],[558,112,558,113],[558,114,558,115],[558,116,558,117],[557,93,559,93],[557,94,557,95],[557,96,557,97],[557,98,557,99],[557,100,557,101],[557,102,557,103],[478,104,478,105],[478,107,480,107],[478,108,478,117],[479,108,479,109],[479,110,479,111],[479,112,479,113],[479,114,479,115],[479,116,479,117],[478,93,480,93],[478,94,478,95],[478,96,478,97],[478,98,478,99],[478,100,478,101],[478,102,478,103],[399,104,399,105],[399,107,401,107],[399,108,399,117],[400,108,400,109],[400,110,400,111],[400,112,400,113],[400,114,400,115],[400,116,400,117],[399,93,401,93],[399,94,399,95],[399,96,399,97],[399,98,399,99],[399,100,399,101],[399,102,399,103],[320,104,320,105],[320,107,322,107],[320,108,320,117],[321,108,321,109],[321,110,321,111],[321,112,321,113],[321,114,321,115],[321,116,321,117],[320,93,322,93],[320,94,320,95],[320,96,320,97],[320,98,320,99],[320,100,320,101],[320,102,320,103],[241,104,241,105],[241,107,243,107],[241,108,241,117],[242,108,242,109],[242,110,242,111],[242,112,242,113],[242,114,242,115],[242,116,242,117],[241,93,243,93],[241,94,241,95],[241,96,241,97],[241,98,241,99],[241,100,241,101],[241,102,241,103],[162,104,162,105],[162,107,164,107],[162,108,162,117],[163,108,163,109],[163,110,163,111],[163,112,163,113],[163,114,163,115],[163,116,163,117],[162,93,164,93],[162,94,162,95],[162,96,162,97],[162,98,162,99],[162,100,162,101],[162,102,162,103],[83,104,83,105],[83,107,85,107],[83,108,83,117],[84,108,84,109],[84,110,84,111],[84,112,84,113],[84,114,84,115],[84,116,84,117],[83,93,85,93],[83,94,83,95],[83,96,83,97],[83,98,83,99],[83,100,83,101],[83,102,83,103],[4,104,4,105],[4,107,6,107],[4,108,4,117],[5,108,5,109],[5,110,5,111],[5,112,5,113],[5,114,5,115],[5,116,5,117],[4,93,6,93],[4,94,4,95],[4,96,4,97],[4,98,4,99],[4,100,4,101],[4,102,4,103],[1110,73,1110,74],[1110,76,1112,76],[1110,77,1110,86],[1111,77,1111,78],[1111,79,1111,80],[1111,81,1111,82],[1111,83,1111,84],[1111,85,1111,86],[952,73,952,74],[952,76,954,76],[952,77,952,86],[953,77,953,78],[953,79,953,80],[953,81,953,82],[953,83,953,84],[953,85,953,86],[794,73,794,74],[794,76,796,76],[1110,62,1112,62],[1110,63,1110,64],[1110,65,1110,66],[1110,67,1110,68],[1110,69,1110,70],[1110,71,1110,72],[1031,73,1031,74],[1031,76,1033,76],[1031,77,1031,86],[1032,77,1032,78],[1032,79,1032,80],[1032,81,1032,82],[1032,83,1032,84],[1032,85,1032,86],[1031,62,1033,62],[1031,63,1031,64],[1031,65,1031,66],[1031,67,1031,68],[1031,69,1031,70],[1031,71,1031,72],[952,62,954,62],[952,63,952,64],[952,65,952,66],[952,67,952,68],[952,69,952,70],[952,71,952,72],[873,73,873,74],[873,76,875,76],[873,77,873,86],[874,77,874,78],[874,79,874,80],[874,81,874,82],[874,83,874,84],[874,85,874,86],[873,62,875,62],[873,63,873,64],[873,65,873,66],[873,67,873,68],[873,69,873,70],[873,71,873,72],[794,77,794,86],[795,77,795,78],[795,79,795,80],[795,81,795,82],[795,83,795,84],[795,85,795,86],[794,62,796,62],[794,63,794,64],[794,65,794,66],[794,67,794,68],[794,69,794,70],[794,71,794,72],[715,73,715,74],[715,76,717,76],[715,77,715,86],[716,77,716,78],[716,79,716,80],[716,81,716,82],[716,83,716,84],[716,85,716,86],[715,62,717,62],[715,63,715,64],[715,65,715,66],[715,67,715,68],[715,69,715,70],[715,71,715,72],[636,73,636,74],[636,76,638,76],[636,77,636,86],[637,77,637,78],[637,79,637,80],[637,81,637,82],[637,83,637,84],[637,85,637,86],[636,62,638,62],[636,63,636,64],[636,65,636,66],[636,67,636,68],[636,69,636,70],[636,71,636,72],[557,73,557,74],[557,76,559,76],[557,77,557,86],[558,77,558,78],[558,79,558,80],[558,81,558,82],[558,83,558,84],[558,85,558,86],[557,62,559,62],[557,63,557,64],[557,65,557,66],[557,67,557,68],[557,69,557,70],[557,71,557,72],[478,73,478,74],[478,76,480,76],[478,77,478,86],[479,77,479,78],[479,79,479,80],[479,81,479,82],[479,83,479,84],[479,85,479,86],[478,62,480,62],[478,63,478,64],[478,65,478,66],[478,67,478,68],[478,69,478,70],[478,71,478,72],[399,73,399,74],[399,76,401,76],[399,77,399,86],[400,77,400,78],[400,79,400,80],[400,81,400,82],[400,83,400,84],[400,85,400,86],[399,62,401,62],[399,63,399,64],[399,65,399,66],[399,67,399,68],[399,69,399,70],[399,71,399,72],[320,73,320,74],[320,76,322,76],[320,77,320,86],[321,77,321,78],[321,79,321,80],[321,81,321,82],[321,83,321,84],[321,85,321,86],[320,62,322,62],[320,63,320,64],[320,65,320,66],[320,67,320,68],[320,69,320,70],[320,71,320,72],[241,73,241,74],[241,76,243,76],[241,77,241,86],[242,77,242,78],[242,79,242,80],[242,81,242,82],[242,83,242,84],[242,85,242,86],[241,62,243,62],[241,63,241,64],[241,65,241,66],[241,67,241,68],[241,69,241,70],[241,71,241,72],[162,73,162,74],[162,76,164,76],[162,77,162,86],[163,77,163,78],[163,79,163,80],[163,81,163,82],[163,83,163,84],[163,85,163,86],[162,62,164,62],[162,63,162,64],[162,65,162,66],[162,67,162,68],[162,69,162,70],[162,71,162,72],[83,73,83,74],[83,76,85,76],[83,77,83,86],[84,77,84,78],[84,79,84,80],[84,81,84,82],[84,83,84,84],[84,85,84,86],[83,62,85,62],[83,63,83,64],[83,65,83,66],[83,67,83,68],[83,69,83,70],[83,71,83,72],[4,73,4,74],[4,76,6,76],[4,77,4,86],[5,77,5,78],[5,79,5,80],[5,81,5,82],[5,83,5,84],[5,85,5,86],[4,62,6,62],[4,63,4,64],[4,65,4,66],[4,67,4,68],[4,69,4,70],[4,71,4,72],[1110,42,1110,43],[1110,45,1112,45],[1110,46,1110,55],[1111,46,1111,47],[1111,48,1111,49],[1111,50,1111,51],[1111,52,1111,53],[1111,54,1111,55],[952,42,952,43],[952,45,954,45],[952,46,952,55],[953,46,953,47],[953,48,953,49],[953,50,953,51],[953,52,953,53],[953,54,953,55],[794,42,794,43],[794,45,796,45],[1110,31,1112,31],[1110,32,1110,33],[1110,34,1110,35],[1110,36,1110,37],[1110,38,1110,39],[1110,40,1110,41],[1031,42,1031,43],[1031,45,1033,45],[1031,46,1031,55],[1032,46,1032,47],[1032,48,1032,49],[1032,50,1032,51],[1032,52,1032,53],[1032,54,1032,55],[1031,31,1033,31],[1031,32,1031,33],[1031,34,1031,35],[1031,36,1031,37],[1031,38,1031,39],[1031,40,1031,41],[952,31,954,31],[952,32,952,33],[952,34,952,35],[952,36,952,37],[952,38,952,39],[952,40,952,41],[873,42,873,43],[873,45,875,45],[873,46,873,55],[874,46,874,47],[874,48,874,49],[874,50,874,51],[874,52,874,53],[874,54,874,55],[873,31,875,31],[873,32,873,33],[873,34,873,35],[873,36,873,37],[873,38,873,39],[873,40,873,41],[794,46,794,55],[795,46,795,47],[795,48,795,49],[795,50,795,51],[795,52,795,53],[795,54,795,55],[794,31,796,31],[794,32,794,33],[794,34,794,35],[794,36,794,37],[794,38,794,39],[794,40,794,41],[715,42,715,43],[715,45,717,45],[715,46,715,55],[716,46,716,47],[716,48,716,49],[716,50,716,51],[716,52,716,53],[716,54,716,55],[715,31,717,31],[715,32,715,33],[715,34,715,35],[715,36,715,37],[715,38,715,39],[715,40,715,41],[636,42,636,43],[636,45,638,45],[636,46,636,55],[637,46,637,47],[637,48,637,49],[637,50,637,51],[637,52,637,53],[637,54,637,55],[636,31,638,31],[636,32,636,33],[636,34,636,35],[636,36,636,37],[636,38,636,39],[636,40,636,41],[557,42,557,43],[557,45,559,45],[557,46,557,55],[558,46,558,47],[558,48,558,49],[558,50,558,51],[558,52,558,53],[558,54,558,55],[557,31,559,31],[557,32,557,33],[557,34,557,35],[557,36,557,37],[557,38,557,39],[557,40,557,41],[478,42,478,43],[478,45,480,45],[478,46,478,55],[479,46,479,47],[479,48,479,49],[479,50,479,51],[479,52,479,53],[479,54,479,55],[478,31,480,31],[478,32,478,33],[478,34,478,35],[478,36,478,37],[478,38,478,39],[478,40,478,41],[399,42,399,43],[399,45,401,45],[399,46,399,55],[400,46,400,47],[400,48,400,49],[400,50,400,51],[400,52,400,53],[400,54,400,55],[399,31,401,31],[399,32,399,33],[399,34,399,35],[399,36,399,37],[399,38,399,39],[399,40,399,41],[320,42,320,43],[320,45,322,45],[320,46,320,55],[321,46,321,47],[321,48,321,49],[321,50,321,51],[321,52,321,53],[321,54,321,55],[320,31,322,31],[320,32,320,33],[320,34,320,35],[320,36,320,37],[320,38,320,39],[320,40,320,41],[241,42,241,43],[241,45,243,45],[241,46,241,55],[242,46,242,47],[242,48,242,49],[242,50,242,51],[242,52,242,53],[242,54,242,55],[241,31,243,31],[241,32,241,33],[241,34,241,35],[241,36,241,37],[241,38,241,39],[241,40,241,41],[162,42,162,43],[162,45,164,45],[162,46,162,55],[163,46,163,47],[163,48,163,49],[163,50,163,51],[163,52,163,53],[163,54,163,55],[162,31,164,31],[162,32,162,33],[162,34,162,35],[162,36,162,37],[162,38,162,39],[162,40,162,41],[83,42,83,43],[83,45,85,45],[83,46,83,55],[84,46,84,47],[84,48,84,49],[84,50,84,51],[84,52,84,53],[84,54,84,55],[83,31,85,31],[83,32,83,33],[83,34,83,35],[83,36,83,37],[83,38,83,39],[83,40,83,41],[4,42,4,43],[4,45,6,45],[4,46,4,55],[5,46,5,47],[5,48,5,49],[5,50,5,51],[5,52,5,53],[5,54,5,55],[4,31,6,31],[4,32,4,33],[4,34,4,35],[4,36,4,37],[4,38,4,39],[4,40,4,41],[1110,11,1110,12],[1110,14,1112,14],[1110,15,1110,24],[1111,15,1111,16],[1111,17,1111,18],[1111,19,1111,20],[1111,21,1111,22],[1111,23,1111,24],[952,11,952,12],[952,14,954,14],[952,15,952,24],[953,15,953,16],[953,17,953,18],[953,19,953,20],[953,21,953,22],[953,23,953,24],[794,11,794,12],[794,14,796,14],[1110,0,1112,0],[1110,1,1110,2],[1110,3,1110,4],[1110,5,1110,6],[1110,7,1110,8],[1110,9,1110,10],[1031,11,1031,12],[1031,14,1033,14],[1031,15,1031,24],[1032,15,1032,16],[1032,17,1032,18],[1032,19,1032,20],[1032,21,1032,22],[1032,23,1032,24],[1031,0,1033,0],[1031,1,1031,2],[1031,3,1031,4],[1031,5,1031,6],[1031,7,1031,8],[1031,9,1031,10],[952,0,954,0],[952,1,952,2],[952,3,952,4],[952,5,952,6],[952,7,952,8],[952,9,952,10],[873,11,873,12],[873,14,875,14],[873,15,873,24],[874,15,874,16],[874,17,874,18],[874,19,874,20],[874,21,874,22],[874,23,874,24],[873,0,875,0],[873,1,873,2],[873,3,873,4],[873,5,873,6],[873,7,873,8],[873,9,873,10],[794,15,794,24],[795,15,795,16],[795,17,795,18],[795,19,795,20],[795,21,795,22],[795,23,795,24],[794,0,796,0],[794,1,794,2],[794,3,794,4],[794,5,794,6],[794,7,794,8],[794,9,794,10],[715,11,715,12],[715,14,717,14],[715,15,715,24],[716,15,716,16],[716,17,716,18],[716,19,716,20],[716,21,716,22],[716,23,716,24],[715,0,717,0],[715,1,715,2],[715,3,715,4],[715,5,715,6],[715,7,715,8],[715,9,715,10],[636,11,636,12],[636,14,638,14],[636,15,636,24],[637,15,637,16],[637,17,637,18],[637,19,637,20],[637,21,637,22],[637,23,637,24],[636,0,638,0],[636,1,636,2],[636,3,636,4],[636,5,636,6],[636,7,636,8],[636,9,636,10],[557,11,557,12],[557,14,559,14],[557,15,557,24],[558,15,558,16],[558,17,558,18],[558,19,558,20],[558,21,558,22],[558,23,558,24],[557,0,559,0],[557,1,557,2],[557,3,557,4],[557,5,557,6],[557,7,557,8],[557,9,557,10],[478,11,478,12],[478,14,480,14],[478,15,478,24],[479,15,479,16],[479,17,479,18],[479,19,479,20],[479,21,479,22],[479,23,479,24],[478,0,480,0],[478,1,478,2],[478,3,478,4],[478,5,478,6],[478,7,478,8],[478,9,478,10],[399,11,399,12],[399,14,401,14],[399,15,399,24],[400,15,400,16],[400,17,400,18],[400,19,400,20],[400,21,400,22],[400,23,400,24],[399,0,401,0],[399,1,399,2],[399,3,399,4],[399,5,399,6],[399,7,399,8],[399,9,399,10],[320,11,320,12],[320,14,322,14],[320,15,320,24],[321,15,321,16],[321,17,321,18],[321,19,321,20],[321,21,321,22],[321,23,321,24],[320,0,322,0],[320,1,320,2],[320,3,320,4],[320,5,320,6],[320,7,320,8],[320,9,320,10],[241,11,241,12],[241,14,243,14],[241,15,241,24],[242,15,242,16],[242,17,242,18],[242,19,242,20],[242,21,242,22],[242,23,242,24],[241,0,243,0],[241,1,241,2],[241,3,241,4],[241,5,241,6],[241,7,241,8],[241,9,241,10],[163,23,163,24],[162,0,164,0],[162,1,162,2],[162,3,162,4],[162,5,162,6],[162,7,162,8],[162,9,162,10],[83,11,83,12],[83,14,85,14],[83,15,83,24],[84,15,84,16],[84,17,84,18],[84,19,84,20],[84,21,84,22],[84,23,84,24],[83,0,85,0],[83,1,83,2],[83,3,83,4],[83,5,83,6],[83,7,83,8],[83,9,83,10],[4,11,4,12],[4,14,6,14],[4,15,4,24],[5,15,5,16],[5,17,5,18],[5,19,5,20],[5,21,5,22],[5,23,5,24],[4,0,6,0],[4,1,4,2],[4,3,4,4],[4,5,4,6],[4,7,4,8],[4,9,4,10],[1210,0,1211,0],[1210,1,1210,2],[1210,4,1211,4],[1210,5,1210,6],[1210,8,1211,8],[1210,9,1210,10],[1210,12,1211,12],[1210,13,1210,14],[1210,17,1211,17],[1210,21,1211,21],[1210,22,1210,23],[162,11,162,12],[162,14,164,14],[162,15,162,24],[163,15,163,16],[163,17,163,18],[163,19,163,20],[163,21,163,22],[1210,25,1211,25],[1210,26,1210,27],[1210,29,1211,29],[1210,30,1210,31],[1367,1,1367,3],[1367,4,1367,6],[1367,8,1367,10],[1210,18,1210,19],[1289,17,1289,18],[1289,19,1289,20],[1289,21,1289,22],[1289,23,1289,24],[1289,25,1289,26],[1289,27,1289,28],[1289,29,1289,30],[1287,1,1287,2],[1287,3,1287,4],[1287,5,1287,6],[1287,7,1287,8],[1287,9,1287,10],[1287,11,1287,12],[1287,13,1287,14],[1366,0,1368,0],[1366,12,1368,12],[1367,13,1367,15],[1367,16,1367,18],[1367,20,1367,22],[1366,24,1368,24],[1367,25,1367,27],[1367,28,1367,30],[1367,32,1367,34],[1366,36,1368,36],[1367,37,1367,39]],"merged_total":1252,"flags":["merged_cut"]}
[]
[]
[]
[]
[]
[]
[]
[]
[]
[]
[]
[]
[]
[]
[]
[]
[]
[]
[]
[]
[]
[]
[]
[]
[]
[]
[]
[]
[]
[]
[]
[]
[]
[]
[]
[]
[]
[]
[]
[]
[]
[]
[]
[]
[]
[]
[]
[]
[]
[]
[]
[]
[]
[]
[]
[]
[]
[]
[]
[]
[]
[]
[]
[]
[]
[]
[]
[]
[]
[]
[]
[]
[]
[]
[]
[]
[]
[]
[]
[]
[]
[]
[]
[]
[]
[]
[]
[]
[]
[]
[]
[]
[]
[]
[]
[]
[]
[]
[]
[]
[]
[]
[]
[]
[]
[]
[]
[]
[]
[]
[]
[]
[]
[]
[]
[]
[]
[]
[]
[]
[]
[]
[]
[]
[]
[]
[]
[]
[]
[]
[]
[]
[]
[]
[]
[]
[]
[]
[]
[]
[]
[]
[]
[]
[]
[]
[]
[]
[]
[]
[]
[]
[]
[]
[]
[]
[]
[]
[]
[]
[]
[]
[]
[]
[]
[]
[]
[]
[]
[]
[]
[]
[]
[]
[]
[]
[]
[]
[]
[]
[]
[]
[]
[]
[]
[]
[]
[]
[]
[]
[]
[]
[]
[]
[]
[]
[]
[]
[]
[]
[]
[]
[]
[]
[]
[]
[]
[]
[]
[]
[]
[]
[]
[]
[]
[]
[]
[]
[]
[]
[]
[]
[]
[]
[]
[]
[]
[]
[]
[]
[]
[]
[]
[]
[]
[]
[]
[]
[]
[]
[]
[]
[]
[]
[]
[]
[]
[]
[]
[]
[]
[]
[]
[]
[]
[]
[]
[]
[]
[]
[]
[]
[]
[]
[]
[]
[]
[]
[]
[]
[]
[]
[]
[]
[]
[]
[]
[]
[]
[]
[]
[]
[]
[]
[]
[]
[]
[]
[]
[]
[]
[]
[]
[]
[]
[]
[]
[]
[]
[]
[]
[]
[]
[]
[]
[]
[]
[]
[]
[]
[]
[]
[]
[]
[]
[]
[]
[]
[]
[]
[]
[]
[]
[]
[]
[]
[]
[]
[]
[]
[]
[]
[]
[]
[]
[]
[]
[]
[]
[]
[]
[]
[]
[]
[]
[]
[]
[]
[]
[]
[]
[]
[]
[]
[]
[]
[]
[]
[]
[]
[]
[]
[]
[]
[]
[]
[]
[]
[]
[]
[]
[]
[]
[]
[]
[]
[]
[]
[]
[]
[]
[]
[]
[]
[]
[]
[]
[]
[]
[]
[]
[]
[]
[]
[]
[]
[]
[]
[]
[]
[]
[]
[]
[]
[]
[]
[]
[]
[]
[]
[]
[]
[]
[]
[]
[]
[]
[]
[]
[]
[]
[]
[]
[]
[]
[]
[]
[]
[]
[]
[]
[]
[]
[]
[]
[]
[]
[]
[]
[]
[]
[]
[]
[]
[]
[]
[]
[]
[]
[]
[]
[]
[]
[]
[]
[]
[]
[]
[]
[]
[]
[]
[]
[]
[]
[]
[]
[]
[]
[]
[]
[]
[]
[]
[]
[]
[]
[]
[]
[]
[]
[]
[]
[]
[]
[]
[]
[]
[]
[]
[]
[]
[]
[]
[]
[]
[]
[]
[]
[]
[]
[]
[]
[]
[]
[]
[]
[]
[]
[]
[]
[]
[]
[]
[]
[]
[]
[]
[]
[]
[]
[]
[]
[]
[]
[]
[]
[]
[]
[]
[]
[]
[]
[]
[]
[]
[]
[]
[]
[]
[]
[]
[]
[]
[]
[]
[]
[]
[]
[]
[]
[]
[]
[]
[]
[]
[]
[]
[]
[]
[]
[]
[]
[]
[]
[]
[]
[]
[]
[]
[]
[]
[]
[]
[]
[]
[]
[]
[]
[]
[]
[]
[]
[]
[]
[]
[]
[]
[]
[]
[]
[]
[]
[]
[]
[]
[]
[]
[]
[]
[]
[]
[]
[]
[]
[]
[]
[]
[]
[]
[]
[]
[]
[]
[]
[]
[]
[]
[]
[]
[]
[]
[]
[]
[]
[]
[]
[]
[]
[]
[]
[]
[]
[]
[]
[]
[]
[]
[]
[]
[]
[]
[]
[]
[]
[]
[]
[]
[]
[]
[]
[]
[]
[]
[]
[]
[]
[]
[]
[]
[]
[]
[]
[]
[]
[]
[]
[]
[]
[]
[]
[]
[]
[]
[]
[]
[]
[]
[]
[]
[]
[]
[]
[]
[]
[]
[]
[]
[]
[]
[]
[]
[]
[]
[]
[]
[]
[]
[]
[]
[]
[]
[]
[]
[]
[]
[]
[]
[]
[]
[]
[]
[]
[]
[]
[]
[]
[]
[]
[]
[]
[]
[]
[]
[]
[]
[]
[]
[]
[]
[]
[]
[]
[]
[]
[]
[]
[]
[]
[]
[]
[]
[]
[]
[]
[]
[]
[]
[]
[]
[]
[]
[]
[]
[]
[]
[]
[]
[]
[]
[]
[]
[]
[]
[]
[]
[]
[]
[]
[]
[]
[]
[]
[]
[]
[]
[]
[]
[]
[]
[]
[]
[]
[]
[]
[]
[]
[]
[]
[]
[]
[]
[]
[]
[]
[]
[]
[]
[]
[]
[]
[]
[]
[]
[]
[]
[]
[]
[]
[]
[]
[]
[]
[]
[]
[]
[]
[]
[]
[]
[]
[]
[]
[]
[]
[]
[]
[]
[]
[]
[]
[]
[]
[]
[]
[]
[]
[]
[]
[]
[]
[]
[]
[]
[]
[]
[]
[]
[]
[]
[]
[]
[]
[]
[]
[]
[]
[]
[]
[]
[]
[]
[]
[]
[]
[]
[]
[]
[]
[]
[]
[]
[]
[]
[]
[]
[]
[]
[]
[]
[]
[]
[]
[]
[]
[]
[]
[]
[]
[]
[]
[]
[]
[]
[]
[]
[]
[]
[]
[]
[]
[]
[]
[]
[]
[]
[]
[]
[]
[]
[]
[]
[]
[]
[]
[]
[]
[]
[]
[]
[]
[]
[]
[]
[]
[]
[]
[]
[]
[]
[]
[]
[]
[]
[]
[]
[]
[]
[]
[]
[]
[]
[]
[]
[]
[]
[]
[]
[]
[]
[]
[]
[]
[]
[]
[]
[]
[]
[]
[]
[]
[]
[]
[]
[]
[]
[]
[]
[]
[]
[]
[]
[]
[]
[]
[]
[]
[]
[]
[]
[]
[]
[]
[]
[]
[]
[]
[]
[]
[]
[]
[]
[]
[]
[]
[]
[]
[]
[]
[]
[]
[]
[]
[]
[]
[]
[]
[]
[]
[]
[]
[]
[]
[]
[]
[]
[]
[]
[]
[]
[]
[]
[]
[]
[]
[]
[]
[]
[]
[]
[]
[]
[]
[]
[]
[]
[]
[]
[]
[]
[]
[]
[]
[]
[]
[]
[]
[]
[]
[]
[]
[]
[]
[]
[]
[]
[]
[]
[]
[]
[]
[]
[]
[]
[]
[]
[]
[]
[]
[]
[]
[]
[]
[]
[]
[]
[]
[]
[]
[]
[]
[]
[]
[]
[]
[]
[]
[]
[]
[]
[]
[]
[]
[]
[]
[]
[]
[]
[]
[]
[]
[]
[]
[]
[]
[]
[]
[]
[]
[]
[]
[]
[]
[]
[]
[]
[]
[]
[]
[]
[]
[]
[]
[]
[]
[]
[]
[]
[]
[]
[]
[]
[]
[]
[]
[]
[]
[]
[]
[]
[]
[]
[]
[]
[]
[]
[]
[]
[]
[]
[]
[]
[]
[]
[]
[]
[]
[]
[]
[]
[]
[]
[]
[]
[]
[]
[]
[]
[]
[]
[]
[]
[]
[]
[]
[]
[]
[]
[]
[]
[]
[]
[]
[]
[]
[]
[null,null,null,null,null,null,null,null,null,null,null,null,null,null,null,null,null,null,null,null,null,null,null,null,null,null,null,null,null,null,null,null,null,null,null,null,null,null,null,null,null,null,null,null,null,null,null,null,null,null,null,null,null,null,null,null,null,null,null,null,null,null,null,null,null,null,null,null,null,null,null,null,null,null,null,null,null,null,null,null,null,null,null,null,null,null,null,null,null,null,null,null,null,"Celkem",253,544,251,543,257,540,275,537,276,542,280,538,null,"SUM",{"$f":"SUM(DE1115:DE1186)","v":0},0,0,0,0,0,0,0,0,0]
[]
["Nově vstupující",null,null,null,null,null,null,null,null,null,null,null,null,null,null,null,null,"Hraniční věk"]
["VPL","VPL","VPL",null,"PLDD","PLDD","PLDD",null,"GYN","GYN","GYN",null,"ZUB","ZUB","ZUB",null,null,"VPL","VPL",null,"PLDD","PLDD",null,"GYN","GYN",null,"ZUB","ZUB"]
[null,"Muži","Ženy",null,null,"Muži","Ženy",null,null,"Muži","Ženy",null,null,"Muži","Ženy",null,null,"muži",56,null,"muži",56,null,"muži",56,null,"muži",54]
["Česká republika",43.2,102,null,"Česká republika",5.6,38.4,null,"Česká republika",11.4,28.4,null,"Česká republika",98,155.19999999999999,null,null,"ženy",53,null,"ženy",53,null,"ženy",53,null,"ženy",51]
["Hl. m. Praha",8,22.4,null,"Hl. m. Praha",2.4,4.4000000000000004,null,"Hl. m. Praha",3.2,16.2,null,"Hl. m. Praha",21.2,36]
["Středočeský kraj",5.8,12.6,null,"Středočeský kraj",0.6,3.4,null,"Středočeský kraj",4.2,2.8,null,"Středočeský kraj",8.4,15,null,null,"Průměrná výše úvazku"]
["Jihočeský kraj",1.6,3.8,null,"Jihočeský kraj",0,2.2000000000000002,null,"Jihočeský kraj",-0.8,1.4,null,"Jihočeský kraj",3.6,9.6,null,null,"VPL","VPL","VPL",null,"PLDD","PLDD","PLDD",null,"GYN","GYN","GYN",null,"ZUB","ZUB","ZUB"]
["Plzeňský kraj",2.6,4.8,null,"Plzeňský kraj",0.2,1.4,null,"Plzeňský kraj",0.4,2.4,null,"Plzeňský kraj",4.8,4.8,null,null,"Věk","Muži","Ženy",null,"Věk","Muži","Ženy",null,"Věk","Muži","Ženy",null,"Věk","Muži","Ženy"]
["Karlovarský kraj",2,0.2,null,"Karlovarský kraj",0,1,null,"Karlovarský kraj",1.6,0.2,null,"Karlovarský kraj",2.8,3,null,null,"00–34",0.71328671328671323,0.66723809523809507,null,"00–34",0.68500000000000005,0.70428571428571429,null,"00–34",0.40560606060606053,0.33339622641509448,null,"00–34",0.80540697674418626,0.77629499561018456]
["Ústecký kraj",4.2,4.8,null,"Ústecký kraj",0,1.8,null,"Ústecký kraj",-1,1.2,null,"Ústecký kraj",4.8,6.2,null,null,"35–39",0.8386290322580644,0.77875457875457854,null,"35–39",0.89,0.75083333333333324,null,"35–39",0.34709401709401716,0.44550898203592842,null,"35–39",0.81065743944636692,0.76814814814814825]
["Liberecký kraj",2.2000000000000002,4,null,"Liberecký kraj",0.6,1.8,null,"Liberecký kraj",0,-0.4,null,"Liberecký kraj",4.4000000000000004,7.8,null,null,"40–44",0.80758454106280197,0.84542168674698803,null,"40–44",0.84458333333333335,0.85939393939393949,null,"40–44",0.45190476190476203,0.51085000000000003,null,"40–44",0.80679802955664981,0.8272752808988767]
["Královéhradecký kraj",0.8,4.4000000000000004,null,"Královéhradecký kraj",0.8,1.4,null,"Královéhradecký kraj",1.6,0.8,null,"Královéhradecký kraj",6,6.6,null,null,"45–49",0.85934883720930233,0.86523809523809492,null,"45–49",0.81714285714285706,0.91999999999999993,null,"45–49",0.46961038961038937,0.64677018633540395,null,"45–49",0.86662790697674386,0.89223118279569902]
["Pardubický kraj",3.2,4,null,"Pardubický kraj",-0.8,3.2,null,"Pardubický kraj",0.8,0,null,"Pardubický kraj",3.4,4.2,null,null,"50–54",0.85265873015873006,0.90783098591549283,null,"50–54",0.78377358490566051,0.8924832214765106,null,"50–54",0.58660792951541829,0.66382113821138211,null,"50–54",0.85857988165680466,0.89866438356164335]
["Kraj Vysočina",2.8,2.2000000000000002,null,"Kraj Vysočina",0.2,2.4,null,"Kraj Vysočina",0.4,1.2,null,"Kraj Vysočina",3.6,6.6,null,null,"55–59",0.90073991031390177,0.95026315789473625,null,"55–59",0.87971428571428578,0.94268292682926869,null,"55–59",0.64701438848920856,0.7082119205298012,null,"55–59",0.90662337662337722,0.91323319027181737]
["Jihomoravský kraj",2.6,10.199999999999999,null,"Jihomoravský kraj",0.4,4.2,null,"Jihomoravský kraj",0.8,5.4,null,"Jihomoravský kraj",14,24.4,null,null,"60–64",0.89256360078277885,0.93186685962373361,null,"60–64",0.83218390804597708,0.92116772823779203,null,"60–64",0.60049535603715154,0.78254901960784318,null,"60–64",0.89314814814814825,0.89236681222707492]
["Olomoucký kraj",2,6.8,null,"Olomoucký kraj",0.2,3.2,null,"Olomoucký kraj",0.8,-1.4,null,"Olomoucký kraj",5.8,10,null,null,"65–69",0.8291078066914499,0.85645892351274755,null,"65–69",0.74888888888888883,0.84142307692307694,null,"65–69",0.61364705882352943,0.64159090909090921,null,"65–69",0.86987551867219903,0.8237027707808563]
["Zlínský kraj",2.2000000000000002,7.6,null,"Zlínský kraj",0,3,null,"Zlínský kraj",0.6,-0.4,null,"Zlínský kraj",8.8000000000000007,11.6,null,null,"70+",0.74847222222222221,0.8021926910299001,null,"70+",0.80444444444444452,0.78799999999999992,null,"70+",0.56579831932773106,0.54816326530612247,null,"70+",0.76318435754189951,0.765273631840796]
["Moravskoslezský kraj",6,16.2,null,"Moravskoslezský kraj",1,5.2,null,"Moravskoslezský kraj",2.2000000000000002,2.2000000000000002,null,"Moravskoslezský kraj",10,12.6]
[]
[]
["Rozložení příchozích (v %)",null,null,null,null,null,null,null,null,null,null,null,null,null,null,null,null,"Intenzita opuštění systému"]
["VPL","VPL","VPL",null,"PLDD","PLDD","PLDD",null,"GYN","GYN","GYN",null,"ZUB","ZUB","ZUB",null,null,"VPL","VPL","VPL",null,"PLDD","PLDD","PLDD",null,"GYN","GYN","GYN",null,"ZUB","ZUB","ZUB"]
["Věk",2017,null,null,"Věk",2017,null,null,"Věk",2017,null,null,"Věk",2017,null,null,null,"Věk","Muži",null,null,"Věk","Muži",null,null,"Věk","Muži",null,null,"Věk","Muži"]
[null,"Muži","Ženy",null,null,"Muži","Ženy",null,null,"Muži","Ženy",null,null,"Muži","Ženy",null,null,null,"Muži","Ženy",null,null,"Muži","Ženy",null,null,"Muži","Ženy",null,null,"Muži","Ženy"]
[23,0,0,null,23,0,0,null,23,0,0,null,23,1.0309278350515463,1.5706806282722512,null,null,23,0,0,null,23,0,0,null,23,0,0,null,23,-3.1790750776662748E-2,-3.0422017389849097E-2]
[24,0,0.11848341232227488,null,24,0,0.11848341232227488,null,24,0,0.11848341232227488,null,24,16.701030927835049,26.308900523560208,null,null,24,0,0,null,24,0,0,null,24,0,0,null,24,-3.1440773153996154E-2,-3.0114203443911233E-2]
[25,0.99667774086378735,1.7772511848341233,null,25,0.99667774086378735,1.7772511848341233,null,25,0.99667774086378735,1.7772511848341233,null,25,25.567010309278349,31.675392670157066,null,null,25,0,0,null,25,0,0,null,25,0,0,null,25,-3.1067575376024708E-2,-2.9781375291912465E-2]
[26,3.6544850498338874,4.1469194312796205,null,26,3.6544850498338874,4.1469194312796205,null,26,3.6544850498338874,4.1469194312796205,null,26,15.670103092783505,18.848167539267017,null,null,26,0,0,null,26,0,0,null,26,0,0,null,26,-3.0669616842500098E-2,-2.9421500178309669E-2]
[27,4.3189368770764114,6.3981042654028428,null,27,4.3189368770764114,6.3981042654028428,null,27,4.3189368770764114,6.3981042654028428,null,27,10.103092783505154,6.2827225130890048,null,null,27,0,0,null,27,0,0,null,27,0,0,null,27,-3.0245254738133078E-2,-2.9032380157623713E-2]
[28,2.9900332225913622,4.8578199052132707,null,28,2.9900332225913622,4.8578199052132707,null,28,2.9900332225913622,4.8578199052132707,null,28,5.5670103092783512,2.74869109947644,null,null,28,0,0,null,28,0,0,null,28,0,0,null,28,-2.9792737250876659E-2,-2.861163867043726E-2]
[29,5.9800664451827243,4.62085308056872,null,29,5.9800664451827243,4.62085308056872,null,29,5.9800664451827243,4.62085308056872,null,29,5.9793814432989691,0.3926701570680628,null,null,29,0,0,null,29,0,0,null,29,0,0,null,29,-2.9310196340259064E-2,-2.8156706028503779E-2]
[30,8.9700996677740861,6.2796208530805684,null,30,8.9700996677740861,6.2796208530805684,null,30,8.9700996677740861,6.2796208530805684,null,30,2.8865979381443299,-2.4869109947643979,null,null,30,-2.4960653806656651E-2,-7.657196178589315E-2,null,30,-2.4960653806656651E-2,-7.657196178589315E-2,null,30,-2.4960653806656651E-2,-7.657196178589315E-2,null,30,-2.8795640025913321E-2,-2.7664803720317904E-2]
[31,6.9767441860465116,5.2132701421800949,null,31,6.9767441860465116,5.2132701421800949,null,31,6.9767441860465116,5.2132701421800949,null,31,2.4742268041237114,0.65445026178010468,null,null,31,-2.4654875864254522E-2,-7.3467418331317091E-2,null,31,-2.4654875864254522E-2,-7.3467418331317091E-2,null,31,-2.4654875864254522E-2,-7.3467418331317091E-2,null,31,-2.8246944164469774E-2,-2.713292744129291E-2]
[32,5.9800664451827243,5.5687203791469191,null,32,5.9800664451827243,5.5687203791469191,null,32,5.9800664451827243,5.5687203791469191,null,32,1.8556701030927836,2.6178010471204187,null,null,32,-2.4323631018891054E-2,-7.0338259222679445E-2,null,32,-2.4323631018891054E-2,-7.0338259222679445E-2,null,32,-2.4323631018891054E-2,-7.0338259222679445E-2,null,32,-2.7661843680865595E-2,-2.6557828744901792E-2]
[33,7.6411960132890364,5.2132701421800949,null,33,7.6411960132890364,5.2132701421800949,null,33,7.6411960132890364,5.2132701421800949,null,33,3.2989690721649487,1.1780104712041886,null,null,33,-2.3964798243976331E-2,-6.7184289284607734E-2,null,33,-2.3964798243976331E-2,-6.7184289284607734E-2,null,33,-2.3964798243976331E-2,-6.7184289284607734E-2,null,33,-2.7037923217873253E-2,-2.593599520271591E-2]
[34,5.3156146179401995,5.4502369668246446,null,34,5.3156146179401995,5.4502369668246446,null,34,5.3156146179401995,5.4502369668246446,null,34,1.6494845360824744,0.26178010471204188,null,null,34,-2.3576079861923588E-2,-6.4005311794201158E-2,null,34,-2.3576079861923588E-2,-6.4005311794201158E-2,null,34,-2.3576079861923588E-2,-6.4005311794201158E-2,null,34,-2.6372607165248134E-2,-2.5263628952168077E-2]
[35,2.3255813953488373,5.6872037914691944,null,35,2.3255813953488373,5.6872037914691944,null,35,2.3255813953488373,5.6872037914691944,null,35,1.2371134020618557,1.5706806282722512,null,null,35,-2.3154986831662873E-2,-6.0801128468760124E-2,null,35,-2.3154986831662873E-2,-6.0801128468760124E-2,null,35,-2.3154986831662873E-2,-6.0801128468760124E-2,null,35,-2.5663149027334638E-2,-2.4536623501020163E-2]
[36,4.3189368770764114,7.5829383886255926,null,36,4.3189368770764114,7.5829383886255926,null,36,4.3189368770764114,7.5829383886255926,null,36,0.61855670103092786,1.0471204188481675,null,null,36,-2.2698822810816303E-2,-5.7571539453418752E-2,null,36,-2.2698822810816303E-2,-5.7571539453418752E-2,null,36,-2.2698822810816303E-2,-5.7571539453418752E-2,null,36,-2.4906620085239074E-2,-2.3750538646867929E-2]
[37,3.6544850498338874,3.4360189573459716,null,37,3.6544850498338874,3.4360189573459716,null,37,3.6544850498338874,3.4360189573459716,null,37,2.0618556701030926,1.1780104712041886,null,null,37,-2.2204666890481846E-2,-5.431634330867946E-2,null,37,-2.2204666890481846E-2,-5.431634330867946E-2,null,37,-2.2204666890481846E-2,-5.431634330867946E-2,null,37,-2.4099897306765535E-2,-2.2900573358503366E-2]
[38,3.322259136212625,5.9241706161137442,null,38,3.322259136212625,5.9241706161137442,null,38,3.322259136212625,5.9241706161137442,null,38,0.82474226804123718,0.78534031413612559,null,null,38,-2.1669354892072994E-2,-5.1035336997848457E-2,null,38,-2.1669354892072994E-2,-5.1035336997848457E-2,null,38,-2.1669354892072994E-2,-5.1035336997848457E-2,null,38,-2.3239650454205785E-2,-2.1981536453506922E-2]
[39,3.322259136212625,4.8578199052132707,null,39,3.322259136212625,4.8578199052132707,null,39,3.322259136212625,4.8578199052132707,null,39,0.41237113402061859,0.78534031413612559,null,null,39,-2.1089459106454298E-2,-4.7728315874371707E-2,null,39,-2.1089459106454298E-2,-4.7728315874371707E-2,null,39,-2.1089459106454298E-2,-4.7728315874371707E-2,null,39,-2.2322328336762651E-2,-2.0987814892982244E-2]
[40,5.6478405315614619,3.3175355450236967,null,40,5.6478405315614619,3.3175355450236967,null,40,5.6478405315614619,3.3175355450236967,null,40,0.41237113402061859,0.91623036649214651,null,null,40,-2.0461266345638416E-2,-4.4395073669070584E-2,null,40,-2.0461266345638416E-2,-4.4395073669070584E-2,null,40,-2.0461266345638416E-2,-4.4395073669070584E-2,null,40,-2.1344144150855483E-2,-1.9913339499792865E-2]
[41,2.6578073089700998,4.028436018957346,null,41,2.6578073089700998,4.028436018957346,null,41,2.6578073089700998,4.028436018957346,null,41,0.2061855670103093,1.5706806282722512,null,null,41,-1.9780754166505314E-2,-4.103540247727594E-2,null,41,-1.9780754166505314E-2,-4.103540247727594E-2,null,41,-1.9780754166505314E-2,-4.103540247727594E-2,null,41,-2.0301059847790948E-2,-1.8751547890924172E-2]
[42,3.322259136212625,3.7914691943127963,null,42,3.322259136212625,3.7914691943127963,null,42,3.322259136212625,3.7914691943127963,null,42,0.61855670103092786,1.3089005235602094,null,null,42,-1.9043565114299395E-2,-3.7649092745860979E-2,null,42,-1.9043565114299395E-2,-3.7649092745860979E-2,null,42,-1.9043565114299395E-2,-3.7649092745860979E-2,null,42,-1.9188769464267116E-2,-1.7495344397579212E-2]
[43,1.3289036544850499,2.4881516587677726,null,43,1.3289036544850499,2.4881516587677726,null,43,1.3289036544850499,2.4881516587677726,null,43,0.61855670103092786,-0.13089005235602094,null,null,43,-1.8244978820980508E-2,-3.4235933260170159E-2,null,43,-1.8244978820980508E-2,-3.4235933260170159E-2,null,43,-1.8244978820980508E-2,-3.4235933260170159E-2,null,43,-1.8002681346897517E-2,-1.6137056728219367E-2]
[44,3.322259136212625,1.8957345971563981,null,44,3.322259136212625,1.8957345971563981,null,44,3.322259136212625,1.8957345971563981,null,44,0.41237113402061859,1.1780104712041886,null,null,44,-1.7379881779769069E-2,-3.079571113084556E-2,null,44,-1.7379881779769069E-2,-3.079571113084556E-2,null,44,-1.7379881779769069E-2,-3.079571113084556E-2,null,44,-1.6737899197376022E-2,-1.4668389109868469E-2]
[45,0.99667774086378735,2.3696682464454977,null,45,0.99667774086378735,2.3696682464454977,null,45,0.99667774086378735,2.3696682464454977,null,45,-1.0309278350515463,0.52356020942408377,null,null,45,-1.6442734602345705E-2,-2.7328211780548117E-2,null,45,-1.6442734602345705E-2,-2.7328211780548117E-2,null,45,-1.6442734602345705E-2,-2.7328211780548117E-2,null,45,-1.5389201860034993E-2,-1.3080371621489853E-2]
[46,1.9933554817275747,0.94786729857819907,null,46,1.9933554817275747,0.94786729857819907,null,46,1.9933554817275747,0.94786729857819907,null,46,1.2371134020618557,-0.26178010471204188,null,null,46,-1.5427536549046708E-2,-2.3833218930573552E-2,null,46,-1.5427536549046708E-2,-2.3833218930573552E-2,null,46,-1.5427536549046708E-2,-2.3833218930573552E-2,null,46,-1.3951021768357569E-2,-1.1363305409988599E-2]
[47,3.9867109634551494,1.6587677725118484,null,47,3.9867109634551494,1.6587677725118484,null,47,3.9867109634551494,1.6587677725118484,null,47,0.41237113402061859,0.52356020942408377,null,null,47,-1.432778710493513E-2,-2.0310514587362827E-2,null,47,-1.432778710493513E-2,-2.0310514587362827E-2,null,47,-1.432778710493513E-2,-2.0310514587362827E-2,null,47,-1.2417421961469048E-2,-9.5067034542446818E-3]
[48,2.6578073089700998,0.35545023696682465,null,48,2.6578073089700998,0.35545023696682465,null,48,2.6578073089700998,0.35545023696682465,null,48,0.2061855670103093,-0.26178010471204188,null,null,48,-1.3136444355711483E-2,-1.6759879028905078E-2,null,48,-1.3136444355711483E-2,-1.6759879028905078E-2,null,48,-1.3136444355711483E-2,-1.6759879028905078E-2,null,48,-1.0782071575728858E-2,-7.4992265153918831E-3]
[49,1.3289036544850499,0.35545023696682465,null,49,1.3289036544850499,0.35545023696682465,null,49,1.3289036544850499,0.35545023696682465,null,49,-0.2061855670103093,0.65445026178010468,null,null,49,-1.1845879896936674E-2,-1.3181090791032468E-2,null,49,-1.1845879896936674E-2,-1.3181090791032468E-2,null,49,-1.1845879896936674E-2,-1.3181090791032468E-2,null,49,-9.0382197102500117E-3,-5.3286138821572702E-3]
[50,2.3255813953488373,0.35545023696682465,null,50,2.3255813953488373,0.35545023696682465,null,50,2.3255813953488373,0.35545023696682465,null,50,0.2061855670103093,0,null,null,50,-1.0447829987842008E-2,-9.5739266536075673E-3,null,50,-1.0447829987842008E-2,-9.5739266536075673E-3,null,50,-1.0447829987842008E-2,-9.5739266536075673E-3,null,50,-7.1786675584598267E-3,-2.9816084882870186E-3]
[51,0.33222591362126247,-0.11848341232227488,null,51,0.33222591362126247,-0.11848341232227488,null,51,0.33222591362126247,-0.11848341232227488,null,51,-0.41237113402061859,0.13089005235602094,null,null,51,-8.9333426369543403E-3,-5.9381616265994919E-3,null,51,-8.9333426369543403E-3,-5.9381616265994919E-3,null,51,-8.9333426369543403E-3,-5.9381616265994919E-3,null,51,-5.1957386906583275E-3,-4.4387594471129166E-4]
[52,-1.3289036544850499,0.23696682464454977,null,52,-1.3289036544850499,0.23696682464454977,null,52,-1.3289036544850499,0.23696682464454977,null,52,0.41237113402061859,0,null,null,52,-7.2927202807152869E-3,-2.2735689360512956E-3,null,52,-7.2927202807152869E-3,-2.2735689360512956E-3,null,52,-7.2927202807152869E-3,-2.2735689360512956E-3,null,52,-3.0812473648973299E-3,2.3000830080645018E-3]
[53,0.33222591362126247,1.1848341232227488,null,53,0.33222591362126247,1.1848341232227488,null,53,0.33222591362126247,1.1848341232227488,null,53,0,0,null,null,53,-5.5154576880539208E-3,1.4200799900648264E-3,null,53,-5.5154576880539208E-3,1.4200799900648264E-3,null,53,-5.5154576880539208E-3,1.4200799900648264E-3,null,53,-8.2646473536426845E-4,5.2670271620411588E-3]
[54,2.6578073089700998,0,null,54,2.6578073089700998,0,null,54,2.6578073089700998,0,null,54,0,0,null,null,54,-3.5901746933041691E-3,5.1430155361044672E-3,null,54,-3.5901746933041691E-3,5.1430155361044672E-3,null,54,-3.5901746933041691E-3,5.1430155361044672E-3,null,54,1.5779171812247347E-3,8.4750771964309107E-3]
[55,-0.99667774086378735,0,null,55,-0.99667774086378735,0,null,55,-0.99667774086378735,0,null,55,0,0,null,null,55,-1.5045433267417141E-3,8.8954699131207349E-3,null,55,-1.5045433267417141E-3,8.8954699131207349E-3,null,55,-1.5045433267417141E-3,8.8954699131207349E-3,null,55,4.1418239299730181E-3,1.1943826350119542E-2]
[56,-0.33222591362126247,0,null,56,-0.33222591362126247,0,null,56,-0.33222591362126247,0,null,56,0,0,null,null,56,7.5479112385653385E-4,1.2677677173347668E-2,null,56,7.5479112385653385E-4,1.2677677173347668E-2,null,56,7.5479112385653385E-4,1.2677677173347668E-2,null,56,6.8758395915126391E-3,1.5694460087820682E-2]
[57,0,0,null,57,0,0,null,57,0,0,null,57,0,0,null,null,57,3.2022956260896428E-3,1.6489873224799223E-2,null,57,3.2022956260896428E-3,1.6489873224799223E-2,null,57,3.2022956260896428E-3,1.6489873224799223E-2,null,57,9.7912504742185616E-3,1.9749885490785705E-2]
[58,0,0,null,58,0,0,null,58,0,0,null,58,0,0,null,null,58,5.8536420378017436E-3,2.0332295845983339E-2,null,58,5.8536420378017436E-3,2.0332295845983339E-2,null,58,5.8536420378017436E-3,2.0332295845983339E-2,null,58,1.2900091705293909E-2,2.4134871162325655E-2]
[59,0,0,null,59,0,0,null,59,0,0,null,59,0,0,null,null,59,8.7258074571032705E-3,2.4205184700732962E-2,null,59,8.7258074571032705E-3,2.4205184700732962E-2,null,59,8.7258074571032705E-3,2.4205184700732962E-2,null,59,1.621519691305924E-2,2.8876198502622026E-2]
[60,0,0,null,60,0,0,null,60,0,0,null,60,0,0,null,null,60,1.1837182930104769E-2,2.8108781353154866E-2,null,60,1.1837182930104769E-2,2.8108781353154866E-2,null,60,1.1837182930104769E-2,2.8108781353154866E-2,null,60,1.9750251205539596E-2,3.4002825276740443E-2]
[61,0,0,null,61,0,0,null,61,0,0,null,61,0,0,null,null,61,1.5207691212440876E-2,3.2043329282696043E-2,null,61,1.5207691212440876E-2,3.2043329282696043E-2,null,61,1.5207691212440876E-2,3.2043329282696043E-2,null,61,2.3519847664050651E-2,3.9546062474842152E-2]
[62,0,0,null,62,0,0,null,62,0,0,null,62,0,0,null,null,62,1.8858914338635065E-2,3.6009073899331501E-2,null,62,1.8858914338635065E-2,3.6009073899331501E-2,null,62,1.8858914338635065E-2,3.6009073899331501E-2,null,62,2.7539547584995522E-2,4.5539765544772022E-2]
[63,0,0,null,63,0,0,null,63,0,0,null,63,0,0,null,null,63,2.2814231816156594E-2,4.0006262558869854E-2,null,63,2.2814231816156594E-2,4.0006262558869854E-2,null,63,2.2814231816156594E-2,4.0006262558869854E-2,null,63,3.1825944718556751E-2,5.2020541164979985E-2]
[64,0,0,null,64,0,0,null,64,0,0,null,64,0,0,null,null,64,2.7098970329054454E-2,4.4035144578382535E-2,null,64,2.7098970329054454E-2,4.4035144578382535E-2,null,64,2.7098970329054454E-2,4.4035144578382535E-2,null,64,3.6396733769467463E-2,5.9027970820645766E-2]
[65,0,0,null,65,0,0,null,65,0,0,null,65,0,0,null,null,65,3.1740565909749496E-2,4.8095971251754577E-2,null,65,3.1740565909749496E-2,4.8095971251754577E-2,null,65,3.1740565909749496E-2,4.8095971251754577E-2,null,65,4.1270783442640957E-2,6.6604852548504179E-2]
[66,0,0,null,66,0,0,null,66,0,0,null,66,0,0,null,null,66,3.6768739617404095E-2,5.2188995865357857E-2,null,66,3.6768739617404095E-2,5.2188995865357857E-2,null,66,3.6768739617404095E-2,5.2188995865357857E-2,null,66,4.6468214335197364E-2,7.4797462326832376E-2]
[67,0,0,null,67,0,0,null,67,0,0,null,67,0,0,null,null,67,4.2215687847771632E-2,5.6314473713850011E-2,null,67,4.2215687847771632E-2,5.6314473713850011E-2,null,67,4.2215687847771632E-2,5.6314473713850011E-2,null,67,5.2010481996436042E-2,8.3655836707044684E-2]
[68,0,0,null,68,0,0,null,68,0,0,null,68,0,0,null,null,68,4.8116288493118844E-2,6.0472662116097697E-2,null,68,4.8116288493118844E-2,6.0472662116097697E-2,null,68,4.8116288493118844E-2,6.0472662116097697E-2,null,68,5.7920465498631959E-2,9.3234078413073351E-2]
[69,0,0,null,69,0,0,null,69,0,0,null,69,0,0,null,null,69,5.4508324272302636E-2,6.4663820431226315E-2,null,69,5.4508324272302636E-2,6.4663820431226315E-2,null,69,5.4508324272302636E-2,6.4663820431226315E-2,null,69,6.4222561884287391E-2,0.10359068677499117]
[70,0,0,null,70,0,0,null,70,0,0,null,70,0,0,null,null,70,6.1432724661029822E-2,6.8888210074797396E-2,null,70,6.1432724661029822E-2,6.8888210074797396E-2,null,70,6.1432724661029822E-2,6.8888210074797396E-2,null,70,7.0942786879726966E-2,0.11478891501500715]
[71,0,0,null,71,0,0,null,71,0,0,null,71,0,0,null,null,71,6.8933827971425929E-2,7.3146094535113337E-2,null,71,6.8933827971425929E-2,7.3146094535113337E-2,null,71,6.8933827971425929E-2,7.3146094535113337E-2,null,71,7.8108882290791146E-2,0.12689715656796555]
[72,0,0,null,72,0,0,null,72,0,0,null,72,0,0,null,null,72,7.7059665259060994E-2,7.7437739389652482E-2,null,72,7.7059665259060994E-2,7.7437739389652482E-2,null,72,7.7059665259060994E-2,7.7437739389652482E-2,null,72,8.5750430523971605E-2,0.13998936279581231]
[73,0,0,null,73,0,0,null,73,0,0,null,73,0,0,null,null,73,8.5862267875346662E-2,8.1763412321633644E-2,null,73,8.5862267875346662E-2,8.1763412321633644E-2,null,73,8.5862267875346662E-2,8.1763412321633644E-2,null,73,9.3898976705740947E-2,0.15414549464722832]
[74,0,0,null,74,0,0,null,74,0,0,null,74,0,0,null,null,74,9.539800063462138E-2,8.6123383136712639E-2,null,74,9.539800063462138E-2,8.6123383136712639E-2,null,74,9.539800063462138E-2,8.6123383136712639E-2,null,74,0.10258815890420152,0.1694520110209497]
[75,0,0,null,75,0,0,null,75,0,0,null,75,0,0,null,null,75,0.10572792272926158,9.0517923779810827E-2,null,75,0.10572792272926158,9.0517923779810827E-2,null,75,0.10572792272926158,9.0517923779810827E-2,null,75,0.11185384699061891,0.1860023968154676]
[76,0,0,null,76,0,0,null,76,0,0,null,76,0,0,null,null,76,0.11691817870382699,9.4947308352076987E-2,null,76,0.11691817870382699,9.4947308352076987E-2,null,76,0.11691817870382699,9.4947308352076987E-2,null,76,0.12173429071407886,0.20389773389018231]
[77,0,0,null,77,0,0,null,77,0,0,null,77,0,0,null,null,77,0.12904042199172877,9.9411813127983972E-2,null,77,0.12904042199172877,9.9411813127983972E-2,null,77,0.12904042199172877,9.9411813127983972E-2,null,77,0.13227027760053189,0.22324731842516848]
[78,0,0,null,78,0,0,null,78,0,0,null,78,0,0,null,null,78,0.14217227372640573,0.10391171657256104,null,78,0.14217227372640573,0.10391171657256104,null,78,0.14217227372640573,0.10391171657256104,null,78,0.14350530132805284,0.24416932845009215]
[79,0,0,null,79,0,0,null,79,0,0,null,79,0,0,null,null,79,0.15639781976487252,0.10844729935876207,null,79,0.15639781976487252,0.10844729935876207,null,79,0.15639781976487252,0.10844729935876207,null,79,0.15548574127338555,0.26679154561922835]
[80,0,0,null,80,0,0,null,80,0,0,null,80,0,0,null,null,80,0.17180814910617559,0.11301884438497234,null,80,0.17180814910617559,0.11301884438497234,null,80,0.17180814910617559,0.11301884438497234,null,80,0.16826105397095731,0.29125213564083285]
[81,0,0,null,81,0,0,null,81,0,0,null,81,0,0,null,null,81,0.18850193715236188,0.11762663679265395,null,81,0.18850193715236188,0.11762663679265395,null,81,0.18850193715236188,0.11762663679265395,null,81,0.18188397727473182,0.31770049212736262]
[82,0,0,null,82,0,0,null,82,0,0,null,82,0,0,null,null,82,0.20658607754669231,0.12227096398413051,null,82,0.20658607754669231,0.12227096398413051,null,82,0.20658607754669231,0.12227096398413051,null,82,0.19641074806569581,0.3462981490203787]
[83,0,0,null,83,0,0,null,83,0,0,null,83,0,0,null,null,83,0.22617636663488747,0.12695211564051401,null,83,0.22617636663488747,0.12695211564051401,null,83,0.22617636663488747,0.12695211564051401,null,83,0.21190133440370595,0.37721976716278321]
[84,0,0,null,84,0,0,null,84,0,0,null,84,0,0,null,null,84,0.24739824493214882,0.13167038373977191,null,84,0.24739824493214882,0.13167038373977191,null,84,0.24739824493214882,0.13167038373977191,null,84,0.22841968308203753,0.41065420104390904]
[85,0,0,null,85,0,0,null,85,0,0,null,85,0,0,null,null,85,0.27038760034371079,0.13642606257494005,null,85,0.27038760034371079,0.13642606257494005,null,85,0.27038760034371079,0.13642606257494005,null,85,0.24603398360657025,0.4468056522326298]
[86,0,0,null,86,0,0,null,86,0,0,null,86,0,0,null,null,86,0.29529163828211169,0.14121944877247805,null,86,0.29529163828211169,0.14121944877247805,null,86,0.29529163828211169,0.14121944877247805,null,86,0.26481694968934599,0.48589491654310546]
[87,0,0,null,87,0,0,null,87,0,0,null,87,0,0,null,null,87,0.32226982425270989,0.14605084131077073,null,87,0.32226982425270989,0.14605084131077073,null,87,0.32226982425270989,0.14605084131077073,null,87,0.28484611941852833,0.52816073255026286]
[88,0,0,null,88,0,0,null,88,0,0,null,88,0,0,null,null,88,0.35149490494301561,0.15092054153877654,null,88,0.35149490494301561,0.15092054153877654,null,88,0.35149490494301561,0.15092054153877654,null,88,0.30620417534390654,0.57386123969109892]
[89,0,0,null,89,0,0,null,89,0,0,null,89,0,0,null,null,89,0.38315401435406693,0.15582885319482309,null,89,0.38315401435406693,0.15582885319482309,null,89,0.38315401435406693,0.15582885319482309,null,89,0.3289792857992811,0.62327555485718755]
[90,0,0,null,90,0,0,null,90,0,0,null,90,0,0,null,null,90,0.41744987205663991,0.1607760824255533,null,90,0.41744987205663991,0.1607760824255533,null,90,0.41744987205663991,0.1607760824255533,null,90,0.35326546887075544,0.67670547710747353]
[91,0,0,null,91,0,0,null,91,0,0,null,91,0,0,null,null,91,0.45460208124495444,0.16576253780501959,null,91,0.45460208124495444,0.16576253780501959,null,91,0.45460208124495444,0.16576253780501959,null,91,0.37916298051342523,0.73447733091292267]
[92,0,0,null,92,0,0,null,92,0,0,null,92,0,0,null,null,92,0.49484853489958164,0.17078853035393138,null,92,0.49484853489958164,0.17078853035393138,null,92,0.49484853489958164,0.17078853035393138,null,92,0.40677872841866081,0.79694395919068139]
[93,0,0,null,93,0,0,null,93,0,0,null,93,0,0,null,null,93,0.53844693906348629,0.17585437355905431,null,93,0.53844693906348629,0.17585437355905431,null,93,0.53844693906348629,0.17585437355905431,null,93,0.43622671334046204,0.86448687830025617]
[94,0,0,null,94,0,0,null,94,0,0,null,94,0,0,null,null,94,1,1,null,94,1,1,null,94,1,1,null,94,1,1]
[]
[]
["Vstupní věková struktura",null,null,null,null,null,null,null,null,null,null,null,null,null,null,null,null,null,null,null,null,null,null,null,null,null,null,null,null,null,null,null,null,null,null,null,null,null,null,null,null,null,null,null,null,null,null,null,null,null,null,null,null,null,null,null,null,null,null,null,null,null,null,null,null,null,null,null,null,null,null,null,null,null,null,null,null,null,null,null,null,null,null,null,null,null,null,null,null,null,null,null,null,null,9,null,88,null,167,null,246,null,325,null,404,null,483,null,562,null,641,null,720,null,799,null,878,null,957,null,1036,null,1115]
[null,"Česká republika",null,"Hl. m. Praha",null,"Středočeský ",null,"Jihočeský ",null,"Plzeňský ",null,"Karlovarský ",null,"Ústecký ",null,"Liberecký ",null,"Královéhradecký ",null,"Pardubický ",null," Vysočina",null,"Jihomoravský ",null,"Olomoucký ",null,"Zlínský ",null,"Moravskoslezský ",null,null,"Česká republika",null,"Hl. m. Praha",null,"Středočeský ",null,"Jihočeský ",null,"Plzeňský ",null,"Karlovarský ",null,"Ústecký ",null,"Liberecký ",null,"Královéhradecký ",null,"Pardubický ",null," Vysočina",null,"Jihomoravský ",null,"Olomoucký ",null,"Zlínský ",null,"Moravskoslezský ",null,null,"Česká republika",null,"Hl. m. Praha",null,"Středočeský ",null,"Jihočeský ",null,"Plzeňský ",null,"Karlovarský ",null,"Ústecký ",null,"Liberecký ",null,"Královéhradecký ",null,"Pardubický ",null," Vysočina",null,"Jihomoravský ",null,"Olomoucký ",null,"Zlínský ",null,"Moravskoslezský ",null,null,"Česká republika",null,"Hl. m. Praha",null,"Středočeský ",null,"Jihočeský ",null,"Plzeňský ",null,"Karlovarský ",null,"Ústecký ",null,"Liberecký ",null,"Královéhradecký ",null,"Pardubický ",null," Vysočina",null,"Jihomoravský ",null,"Olomoucký ",null,"Zlínský ",null,"Moravskoslezský "]
["VPL","VPL","VPL","VPL","VPL","VPL","VPL","VPL","VPL","VPL","VPL","VPL","VPL","VPL","VPL","VPL","VPL","VPL","VPL","VPL","VPL","VPL","VPL","VPL","VPL","VPL","VPL","VPL","VPL","VPL","VPL","PLDD","PLDD","PLDD","PLDD","PLDD","PLDD","PLDD","PLDD","PLDD","PLDD","PLDD","PLDD","PLDD","PLDD","PLDD","PLDD","PLDD","PLDD","PLDD","PLDD","PLDD","PLDD","PLDD","PLDD","PLDD","PLDD","PLDD","PLDD","PLDD","PLDD","PLDD","GYN","GYN","GYN","GYN","GYN","GYN","GYN","GYN","GYN","GYN","GYN","GYN","GYN","GYN","GYN","GYN","GYN","GYN","GYN","GYN","GYN","GYN","GYN","GYN","GYN","GYN","GYN","GYN","GYN","GYN","GYN","ZUB","ZUB","ZUB","ZUB","ZUB","ZUB","ZUB","ZUB","ZUB","ZUB","ZUB","ZUB","ZUB","ZUB","ZUB","ZUB","ZUB","ZUB","ZUB","ZUB","ZUB","ZUB","ZUB","ZUB","ZUB","ZUB","ZUB","ZUB","ZUB","ZUB","ZUB"]
["Věk","2017-01-01",null,"2017-01-01",null,"2017-01-01",null,"2017-01-01",null,"2017-01-01",null,"2017-01-01",null,"2017-01-01",null,"2017-01-01",null,"2017-01-01",null,"2017-01-01",null,"2017-01-01",null,"2017-01-01",null,"2017-01-01",null,"2017-01-01",null,"2017-01-01",null,"Věk","2017-01-01",null,"2017-01-01",null,"2017-01-01",null,"2017-01-01",null,"2017-01-01",null,"2017-01-01",null,"2017-01-01",null,"2017-01-01",null,"2017-01-01",null,"2017-01-01",null,"2017-01-01",null,"2017-01-01",null,"2017-01-01",null,"2017-01-01",null,"2017-01-01",null,"Věk","2017-01-01",null,"2017-01-01",null,"2017-01-01",null,"2017-01-01",null,"2017-01-01",null,"2017-01-01",null,"2017-01-01",null,"2017-01-01",null,"2017-01-01",null,"2017-01-01",null,"2017-01-01",null,"2017-01-01",null,"2017-01-01",null,"2017-01-01",null,"2017-01-01",null,"Věk","2017-01-01",null,"2017-01-01",null,"2017-01-01",null,"2017-01-01",null,"2017-01-01",null,"2017-01-01",null,"2017-01-01",null,"2017-01-01",null,"2017-01-01",null,"2017-01-01",null,"2017-01-01",null,"2017-01-01",null,"2017-01-01",null,"2017-01-01",null,"2017-01-01"]
[null,"Muži","Ženy","Muži","Ženy","Muži","Ženy","Muži","Ženy","Muži","Ženy","Muži","Ženy","Muži","Ženy","Muži","Ženy","Muži","Ženy","Muži","Ženy","Muži","Ženy","Muži","Ženy","Muži","Ženy","Muži","Ženy","Muži","Ženy",null,"Muži","Ženy","Muži","Ženy","Muži","Ženy","Muži","Ženy","Muži","Ženy","Muži","Ženy","Muži","Ženy","Muži","Ženy","Muži","Ženy","Muži","Ženy","Muži","Ženy","Muži","Ženy","Muži","Ženy","Muži","Ženy","Muži","Ženy",null,"Muži","Ženy","Muži","Ženy","Muži","Ženy","Muži","Ženy","Muži","Ženy","Muži","Ženy","Muži","Ženy","Muži","Ženy","Muži","Ženy","Muži","Ženy","Muži","Ženy","Muži","Ženy","Muži","Ženy","Muži","Ženy","Muži","Ženy",null,"Muži","Ženy","Muži","Ženy","Muži","Ženy","Muži","Ženy","Muži","Ženy","Muži","Ženy","Muži","Ženy","Muži","Ženy","Muži","Ženy","Muži","Ženy","Muži","Ženy","Muži","Ženy","Muži","Ženy","Muži","Ženy","Muži","Ženy"]
[23,0,0,0,0,0,0,0,0,0,0,0,0,0,0,0,0,0,0,0,0,0,0,0,0,0,0,0,0,0,0,23,0,0,0,0,0,0,0,0,0,0,0,0,0,0,0,0,0,0,0,0,0,0,0,0,0,0,0,0,0,0,23,0,0,0,0,0,0,0,0,0,0,0,0,0,0,0,0,0,0,0,0,0,0,0,0,0,0,0,0,0,0,23,3,2,2,0,0,0,0,0,0,0,0,0,0,0,0,0,0,1,0,0,0,0,0,0,1,0,0,1,0,0]
[24,0,1,0,0,0,0,0,0,0,0,0,0,0,0,0,0,0,0,0,0,0,0,0,1,0,0,0,0,0,0,24,0,0,0,0,0,0,0,0,0,0,0,0,0,0,0,0,0,0,0,0,0,0,0,0,0,0,0,0,0,0,24,0,0,0,0,0,0,0,0,0,0,0,0,0,0,0,0,0,0,0,0,0,0,0,0,0,0,0,0,0,0,24,18,38,0,9,2,3,0,1,2,1,0,1,1,1,2,1,3,2,1,0,0,2,2,8,3,3,0,1,2,5]
[25,1,1,0,0,0,0,0,0,0,0,0,0,0,0,0,0,0,0,0,0,0,0,0,0,0,0,0,0,1,1,25,0,1,0,0,0,0,0,0,0,0,0,0,0,0,0,0,0,0,0,0,0,0,0,0,0,1,0,0,0,0,25,0,3,0,3,0,0,0,0,0,0,0,0,0,0,0,0,0,0,0,0,0,0,0,0,0,0,0,0,0,0,25,49,102,11,15,1,6,3,2,4,7,1,1,2,5,0,5,4,6,3,5,2,3,9,22,3,13,4,3,2,9]
[26,2,5,1,0,0,0,0,0,0,1,0,0,0,0,0,0,0,0,0,0,0,0,0,1,0,1,0,1,1,1,26,0,7,0,1,0,0,0,0,0,0,0,0,0,0,0,0,0,0,0,0,0,0,0,0,0,2,0,3,0,1,26,0,1,0,1,0,0,0,0,0,0,0,0,0,0,0,0,0,0,0,0,0,0,0,0,0,0,0,0,0,0,26,55,122,9,19,4,8,2,11,3,3,1,2,2,2,2,3,3,6,3,3,2,11,5,22,7,16,7,6,8,13]
[27,4,13,0,3,0,0,1,1,0,1,1,0,1,0,0,0,1,0,0,0,0,0,0,1,0,2,0,2,0,3,27,0,2,0,0,0,0,0,0,0,0,0,0,0,0,0,0,0,0,0,0,0,0,0,0,0,1,0,0,0,1,27,0,6,0,1,0,2,0,1,0,0,0,0,0,1,0,0,0,0,0,0,0,0,0,1,0,0,0,0,0,0,27,80,122,16,33,5,6,6,7,2,8,1,1,3,5,1,3,9,6,3,6,3,1,12,19,3,7,10,7,8,14]
[28,4,18,1,1,0,3,0,0,0,0,0,0,0,2,1,1,0,1,0,0,0,0,0,1,0,3,0,2,2,4,28,0,1,0,0,0,0,0,0,0,0,0,0,0,0,0,0,0,0,0,0,0,0,0,0,0,1,0,0,0,0,28,1,7,0,5,0,0,0,1,0,0,0,0,0,0,0,0,0,0,1,0,0,1,0,0,0,0,0,0,0,0,28,58,146,15,37,3,7,0,8,2,3,0,2,3,5,4,6,3,9,3,6,1,6,7,26,4,4,7,11,8,18]
[29,10,36,0,5,3,1,0,3,0,2,0,0,0,2,0,0,2,1,0,2,1,1,1,5,2,7,0,3,2,4,29,0,4,0,0,0,1,0,0,0,0,0,0,0,1,0,0,0,0,0,1,0,0,0,0,0,1,0,0,0,0,29,1,6,0,1,0,4,0,0,0,0,0,0,0,0,0,0,0,0,0,0,1,0,0,1,0,0,0,0,0,0,29,66,118,16,33,2,11,3,6,3,5,2,4,2,4,4,6,6,2,2,5,2,5,10,11,2,9,3,6,10,13]
[30,13,37,1,9,1,3,0,1,0,3,1,0,1,1,0,1,0,2,1,2,1,3,2,4,3,4,1,0,1,6,30,0,1,0,0,0,1,0,0,0,0,0,0,0,0,0,0,0,0,0,0,0,0,0,0,0,0,0,0,0,0,30,6,6,2,1,1,3,1,0,0,0,0,0,1,0,0,0,0,0,0,0,0,0,1,2,0,0,0,0,0,0,30,77,136,18,34,8,15,5,5,4,4,1,0,3,5,3,6,1,9,4,5,4,7,13,17,5,8,3,8,7,15]
[31,17,32,2,8,3,3,2,1,0,2,0,0,1,0,1,2,1,3,0,1,2,0,2,3,1,1,0,3,3,6,31,0,11,0,2,0,3,0,1,0,2,0,0,0,0,0,1,0,0,0,0,0,1,0,0,0,0,0,0,0,1,31,6,20,1,5,2,6,1,1,0,0,0,0,0,1,2,0,0,0,0,2,0,0,0,5,1,0,0,0,0,2,31,71,124,13,29,11,12,0,7,4,2,3,3,3,5,1,1,5,7,1,4,2,7,12,20,11,12,4,9,5,11]
[32,22,58,1,16,4,10,0,1,1,5,0,2,2,0,0,0,0,0,2,4,1,1,5,4,0,6,1,3,5,7,32,2,11,1,1,0,2,0,1,0,1,0,0,0,0,1,0,0,0,0,1,0,1,0,1,0,0,0,2,0,1,32,8,26,3,4,4,2,0,2,0,1,0,0,0,1,0,3,2,1,0,0,0,1,0,7,0,1,0,0,0,3,32,54,107,13,26,4,9,1,7,5,1,2,3,2,0,2,4,2,1,3,8,2,5,6,13,6,10,4,14,3,10]
[33,22,64,8,9,1,6,2,7,1,1,0,2,1,1,0,1,0,1,3,5,0,0,1,9,1,7,2,1,2,14,33,2,10,0,2,1,2,0,0,0,0,0,1,0,0,0,0,0,0,0,0,0,0,1,3,0,0,0,0,0,2,33,11,28,3,10,0,5,1,2,0,1,1,0,0,1,0,0,0,1,1,0,0,2,4,4,0,1,0,0,1,2,33,64,87,19,17,1,6,4,3,7,2,2,1,2,4,3,2,3,6,2,3,1,1,8,15,1,13,4,7,8,9]
[34,34,62,4,7,2,8,3,4,0,3,1,1,1,3,1,3,2,3,3,2,2,1,5,10,6,5,0,2,4,11,34,5,11,1,2,0,0,0,1,0,0,0,1,0,0,0,0,2,1,0,0,0,0,0,3,0,1,0,0,2,2,34,12,29,6,8,1,3,0,2,1,3,0,1,1,3,0,1,0,0,0,0,0,0,0,4,2,2,0,0,1,2,34,65,74,9,20,2,4,1,6,5,6,0,1,0,3,8,0,3,4,3,2,4,5,8,8,5,7,8,3,9,8]
[35,19,44,4,8,4,4,0,1,2,1,1,3,1,5,1,3,1,2,0,0,1,1,1,6,0,3,0,2,4,8,35,3,9,0,1,0,1,0,0,0,0,0,0,0,3,0,0,1,1,0,0,0,0,1,1,0,0,0,0,1,2,35,13,35,7,13,1,4,0,2,1,1,0,1,0,3,0,2,1,0,0,1,0,0,0,4,0,1,1,0,2,4,35,61,73,9,20,2,6,4,7,7,3,1,2,4,3,2,3,2,6,1,1,1,2,11,9,3,5,7,4,8,5]
[36,22,48,6,10,1,4,0,1,1,2,0,0,0,5,1,3,4,3,0,2,1,1,1,6,0,5,3,2,4,6,36,3,17,1,2,1,3,1,0,0,1,0,0,0,1,0,0,0,3,0,1,0,0,0,4,0,0,0,1,0,1,36,10,22,1,9,2,2,1,0,0,0,0,2,1,2,0,1,1,0,0,0,0,1,4,1,1,1,1,1,2,3,36,48,73,12,18,3,7,3,1,5,1,1,3,1,3,3,4,2,4,0,3,1,4,7,8,5,4,1,2,6,12]
[37,25,59,2,9,2,6,2,5,3,4,1,1,2,2,0,4,0,5,2,0,0,4,6,7,3,4,1,4,2,4,37,1,21,0,1,0,2,1,2,0,1,0,1,0,1,0,0,0,3,0,3,0,2,0,0,0,2,0,1,0,3,37,20,24,3,6,3,5,1,0,1,2,1,1,1,3,0,0,2,0,0,0,1,0,2,8,3,2,3,0,1,1,37,67,83,20,26,4,15,1,2,8,4,0,1,2,3,4,2,5,6,1,2,1,4,9,4,1,4,5,4,10,10]
[38,19,54,5,15,1,9,2,3,0,3,1,0,0,2,0,5,0,1,0,2,1,3,2,4,2,1,1,3,5,5,38,3,11,2,1,0,2,0,1,0,0,0,0,0,1,0,0,0,0,0,0,0,0,0,0,0,3,0,2,1,1,38,12,30,2,8,0,3,1,3,0,1,1,0,0,1,1,1,0,2,0,1,1,2,3,5,1,1,0,1,2,1,38,57,63,14,17,7,6,3,3,5,5,4,0,1,3,3,4,6,3,3,1,3,3,6,5,0,4,2,6,4,4]
[39,29,57,6,14,2,3,1,5,1,3,2,0,0,5,2,1,0,1,4,1,2,0,1,4,2,6,4,3,3,11,39,1,19,0,6,0,3,0,1,0,1,0,1,0,1,0,1,0,0,0,0,0,0,1,1,0,1,0,0,0,3,39,17,29,4,8,1,2,2,0,1,2,0,0,2,2,0,0,1,3,0,0,0,1,3,3,0,1,1,2,3,7,39,37,51,5,16,7,4,2,1,1,2,0,0,2,0,2,4,1,1,1,2,1,0,4,8,8,5,3,5,2,3]
[40,32,59,3,19,4,6,4,5,1,2,1,1,2,4,0,2,6,1,3,1,1,3,2,5,2,1,4,1,0,8,40,1,16,1,0,0,4,0,1,0,1,0,0,0,2,0,1,0,2,0,2,0,1,0,1,0,0,0,1,0,0,40,17,32,4,9,2,2,0,3,0,1,0,0,2,1,1,0,1,1,1,2,0,3,3,4,2,3,1,3,2,3,40,53,51,14,15,4,4,2,1,4,4,0,0,3,2,1,3,3,3,3,3,3,1,6,8,6,2,3,0,3,7]
[41,27,69,1,13,4,6,1,1,1,5,0,1,3,6,1,5,2,6,1,3,2,3,4,8,1,0,2,3,4,9,41,4,22,0,3,0,3,0,1,0,2,0,3,1,1,0,0,0,1,0,1,0,2,1,2,1,1,0,2,1,1,41,18,36,3,14,1,2,2,1,0,3,0,0,1,0,0,1,3,5,1,1,0,1,3,4,2,3,0,0,2,3,41,45,56,8,10,3,7,4,2,2,4,2,2,2,6,1,1,3,1,2,2,4,2,4,5,6,4,2,6,6,5]
[42,36,78,2,9,5,12,6,2,1,5,3,0,2,7,0,1,2,5,4,4,1,2,3,10,2,2,2,4,4,16,42,4,22,1,2,0,2,0,5,0,1,0,0,0,2,1,2,2,0,0,2,0,0,0,2,0,1,0,1,0,2,42,15,31,3,5,4,4,0,5,0,2,0,1,2,0,0,1,0,1,1,1,1,2,1,4,1,2,0,2,2,3,42,35,62,9,9,1,4,0,4,3,7,1,1,1,2,0,1,4,1,3,2,0,0,4,10,1,5,6,7,4,10]
[43,25,74,3,19,2,12,1,2,3,4,1,1,1,4,0,2,3,5,0,1,2,2,2,9,1,3,1,3,5,8,43,6,37,0,6,1,6,0,1,0,0,0,0,0,5,1,3,0,1,0,5,0,0,3,3,0,0,0,1,1,6,43,21,25,2,11,1,4,3,2,1,3,0,1,1,1,0,0,1,0,0,0,1,0,4,3,1,0,2,0,4,2,43,31,62,8,9,1,4,2,1,3,1,1,0,4,5,0,0,2,6,2,3,0,2,2,8,1,4,2,8,4,11]
[44,46,87,4,18,5,15,1,1,2,6,5,3,7,7,0,5,4,3,7,2,1,2,4,8,2,5,1,3,4,9,44,2,25,0,5,0,5,0,2,0,1,0,0,0,2,0,2,0,0,0,2,1,0,0,0,0,0,1,1,0,5,44,20,21,5,4,3,3,1,0,0,2,1,0,1,1,1,0,1,2,1,1,1,1,2,4,1,1,0,1,4,1,44,37,70,8,17,4,10,1,5,2,3,2,0,3,3,1,0,1,3,2,2,1,3,1,8,4,3,4,7,5,7]
[45,44,93,6,19,7,12,3,6,2,4,3,1,2,5,3,4,2,2,2,5,3,1,4,9,4,5,0,9,6,12,45,6,27,1,3,0,5,0,0,1,3,1,0,0,2,0,0,0,2,0,2,0,1,1,4,1,0,0,2,1,3,45,24,32,7,7,3,4,3,2,0,3,0,1,1,0,1,3,1,2,0,0,5,1,1,4,1,0,2,3,1,2,45,29,94,8,23,1,12,2,5,1,6,3,2,3,4,0,3,1,2,1,3,1,6,4,9,1,7,1,3,3,11]
[46,34,85,9,9,2,13,5,2,0,4,1,3,1,6,3,3,0,8,5,0,1,4,5,7,1,5,0,11,1,10,46,12,43,0,5,1,2,2,4,1,3,0,1,1,4,0,0,1,4,0,4,2,1,0,6,1,1,2,1,1,7,46,41,34,3,12,3,2,0,1,4,3,2,0,4,1,2,2,1,1,2,3,1,2,3,2,8,3,4,1,8,2,46,27,93,5,13,4,11,0,7,3,8,0,2,0,5,0,5,1,7,2,5,0,2,1,13,2,4,5,3,4,9]
[47,35,90,5,14,4,6,1,6,1,3,1,1,4,5,2,4,3,7,3,7,1,2,2,12,5,6,2,5,1,12,47,5,33,1,1,1,3,0,0,0,0,0,2,0,4,1,1,0,1,1,1,0,0,1,3,0,6,0,4,0,7,47,33,21,6,5,3,1,1,1,1,1,2,1,2,2,1,2,4,1,3,0,1,1,3,4,2,1,0,0,8,1,47,38,81,7,16,2,13,3,4,2,7,1,2,2,6,2,4,1,5,0,4,2,4,5,4,1,2,4,4,8,6]
[48,35,76,6,15,5,15,0,2,2,5,0,0,3,7,5,0,3,4,1,2,2,5,2,9,1,7,4,3,2,5,48,9,27,1,4,0,0,2,1,0,3,1,2,2,2,0,0,0,2,1,1,0,1,0,4,0,3,1,2,1,2,48,32,26,5,7,1,2,1,2,1,1,3,0,1,4,1,1,2,0,2,0,0,1,5,4,2,2,2,3,6,0,48,37,63,5,13,1,5,3,2,5,6,1,1,3,6,1,3,2,2,3,2,0,1,7,7,3,6,1,3,2,6]
[49,49,65,5,8,3,7,4,2,5,5,2,2,4,9,0,4,3,2,2,6,2,4,8,2,5,1,0,3,7,10,49,3,34,0,5,1,2,0,3,0,2,0,2,0,2,1,1,0,4,0,3,0,2,0,1,0,1,1,2,0,5,49,28,18,4,7,5,0,2,0,1,0,1,2,3,1,0,1,0,0,2,1,2,0,3,4,2,1,1,0,3,1,49,32,59,3,7,4,7,0,5,3,4,2,1,3,7,0,2,3,7,0,3,1,3,4,3,5,2,0,2,5,6]
[50,49,71,4,17,2,10,2,3,2,1,0,2,6,5,3,4,3,0,6,3,3,1,8,8,4,1,1,5,6,13,50,3,38,0,3,0,4,0,1,2,4,0,2,0,4,0,1,0,2,1,2,0,0,0,3,0,5,0,2,0,5,50,26,23,4,4,2,0,1,1,1,0,0,2,2,5,0,0,4,1,2,2,3,0,1,4,2,0,0,1,4,3,50,31,67,9,15,5,8,3,3,0,6,0,3,2,3,1,1,2,6,2,3,1,2,1,5,2,3,1,4,3,5]
[51,39,61,10,9,3,9,2,0,2,2,1,0,1,5,2,2,4,2,1,2,1,2,6,7,2,7,2,5,2,9,51,8,43,1,5,0,4,1,0,0,3,1,1,0,3,1,4,2,1,0,2,1,4,0,2,0,2,1,5,0,7,51,33,13,8,0,2,2,1,0,4,2,0,0,2,1,1,0,0,0,3,2,2,1,2,1,2,1,5,1,4,2,51,28,67,6,10,3,7,0,5,3,3,1,4,2,5,2,2,3,5,1,2,1,6,1,6,4,2,1,3,2,7]
[52,50,54,3,9,7,6,4,4,0,0,4,1,5,1,1,5,1,1,5,4,4,1,5,6,4,3,3,4,6,9,52,9,56,2,7,2,4,0,4,0,5,0,1,0,5,0,4,0,3,0,2,0,0,2,10,2,1,0,4,1,6,52,29,22,6,7,3,1,1,0,4,1,0,1,1,2,3,0,1,2,1,0,2,2,1,2,2,1,3,1,2,3,52,40,67,10,15,3,8,1,2,3,5,1,2,4,7,1,1,3,6,4,6,2,3,5,4,1,1,1,2,3,5]
[53,44,60,7,7,3,9,4,3,5,5,0,2,2,4,4,2,3,3,3,0,0,2,4,5,5,9,2,3,4,8,53,12,61,1,9,1,7,0,4,0,1,0,1,2,4,2,2,1,1,1,1,2,5,2,12,0,5,0,5,0,4,53,29,15,7,1,6,2,2,2,3,0,0,1,2,1,1,1,2,0,1,1,1,2,2,1,0,1,1,3,4,1,53,36,62,5,11,4,7,1,1,3,5,1,0,1,5,1,1,4,7,2,5,1,3,5,7,2,3,4,5,2,2]
[54,51,68,5,10,5,8,6,2,4,5,1,3,2,3,1,2,1,6,2,5,5,2,3,10,5,1,4,4,7,7,54,4,57,0,5,0,6,1,4,0,3,1,2,2,1,0,2,0,1,0,5,0,3,0,9,0,8,0,2,0,6,54,28,14,5,4,4,1,3,2,0,2,0,0,2,0,2,0,2,1,0,1,1,1,3,2,4,0,0,0,3,0,54,30,42,6,3,3,4,2,8,3,4,1,2,2,3,3,2,2,3,0,3,3,2,2,3,0,3,2,1,1,1]
[55,49,96,6,16,5,7,4,8,2,5,1,4,3,4,6,4,2,2,3,4,2,3,2,8,2,9,6,12,5,11,55,15,60,2,5,0,7,1,4,0,3,1,1,1,5,2,1,0,4,1,2,1,6,2,7,0,4,2,2,2,9,55,31,29,5,10,4,3,2,2,0,0,2,0,5,2,0,1,3,1,1,0,1,0,7,3,2,4,2,2,0,3,55,25,47,5,9,6,8,0,1,1,3,0,0,2,2,0,3,4,6,0,4,0,2,1,5,2,1,1,0,3,3]
[56,71,107,7,15,5,9,9,7,3,5,4,0,4,7,2,4,5,3,3,3,6,3,8,22,4,7,4,5,7,17,56,15,63,3,7,2,5,0,5,1,4,0,0,2,7,0,5,0,5,0,2,1,2,2,5,1,2,1,6,2,8,56,41,27,10,6,4,3,3,3,1,1,2,0,4,2,1,0,2,1,3,1,1,1,0,3,4,3,5,2,4,3,56,27,53,3,11,2,5,3,5,2,2,2,3,1,5,1,3,1,4,3,2,1,1,4,2,3,2,1,4,0,4]
[57,71,144,8,25,3,18,6,8,4,2,7,1,4,6,0,1,10,10,8,7,2,6,6,22,3,15,3,8,7,17,57,12,70,0,10,4,14,1,8,1,1,0,1,0,1,0,3,2,2,0,6,2,5,0,5,1,5,1,4,0,7,57,48,18,6,3,4,2,0,1,5,3,1,0,3,2,2,1,1,1,2,0,0,0,6,3,4,0,5,1,10,1,57,33,78,8,15,2,10,3,6,3,5,0,4,1,4,3,1,3,5,0,1,2,4,4,4,2,5,0,3,2,11]
[58,77,147,10,23,8,6,6,12,6,7,2,4,2,5,1,7,6,5,5,6,2,7,9,21,5,9,3,9,13,26,58,16,88,2,6,3,13,1,5,1,3,1,1,2,4,0,1,0,7,1,5,2,3,2,13,1,4,1,11,0,12,58,43,30,5,3,5,4,2,2,0,2,4,1,1,3,2,4,4,0,5,0,3,1,8,5,2,1,1,0,2,4,58,48,153,7,22,2,15,1,7,0,12,2,4,3,9,4,5,7,6,4,5,2,7,5,22,7,7,0,11,4,21]
[59,98,165,6,27,7,16,9,6,4,3,2,3,3,5,4,8,10,6,6,7,2,11,12,28,11,12,3,17,20,18,59,12,91,1,6,1,8,2,7,1,9,1,2,1,5,1,6,0,5,0,5,1,4,1,10,1,5,0,4,1,15,59,35,26,9,6,2,2,1,1,3,1,1,0,3,1,0,2,0,1,1,1,2,1,5,7,1,0,1,2,6,1,59,50,188,10,27,2,25,4,15,0,16,1,4,3,11,1,6,2,10,5,7,3,11,8,21,3,12,5,11,4,13]
[60,89,168,8,24,7,15,2,7,2,10,1,1,7,10,5,3,9,11,7,6,5,11,12,33,7,9,4,11,14,17,60,13,81,1,9,4,10,1,5,0,5,0,5,1,3,0,2,0,4,2,2,0,5,1,11,1,11,0,4,2,5,60,37,16,8,2,5,3,6,1,0,0,1,1,2,1,0,0,2,0,1,1,0,0,4,3,4,0,1,2,4,2,60,63,208,5,21,8,28,10,14,3,12,1,4,6,13,2,7,2,13,6,10,3,9,7,25,2,18,3,11,5,25]
[61,93,175,8,26,14,15,10,11,7,8,3,3,10,19,3,6,4,8,6,7,5,12,8,29,3,10,8,4,7,17,61,16,111,3,18,1,12,0,3,1,6,0,3,1,7,1,4,1,8,0,3,2,8,3,16,1,8,1,3,1,12,61,52,17,11,4,5,3,4,1,4,0,4,1,2,0,1,0,3,1,1,0,4,2,6,2,4,0,1,1,4,2,61,70,220,7,29,4,25,3,8,5,20,3,4,7,17,6,7,1,13,2,9,5,7,11,33,8,9,4,11,4,30]
[62,105,154,10,25,9,19,12,9,5,13,3,4,5,12,3,9,8,6,6,1,8,7,12,24,8,8,5,6,11,11,62,16,95,0,18,2,11,0,5,0,2,0,2,1,7,3,5,2,5,0,1,1,4,2,12,3,9,1,5,1,9,62,41,20,14,3,3,2,2,0,3,2,1,1,3,3,2,0,1,0,1,0,3,1,4,4,1,2,3,1,1,1,62,132,270,15,44,11,19,17,24,5,14,7,5,14,9,9,8,1,15,1,12,8,18,9,49,10,22,11,10,16,23]
[63,96,128,9,28,9,13,6,6,7,6,3,1,10,6,4,10,1,4,4,4,12,6,13,18,7,5,2,6,9,15,63,14,84,1,14,2,11,2,1,0,2,0,2,2,5,1,6,0,6,2,5,0,7,0,8,2,7,0,1,2,9,63,50,14,8,3,3,2,4,1,3,0,2,1,3,4,4,0,3,0,2,1,2,0,8,1,3,1,4,1,5,0,63,138,276,25,58,9,20,11,16,3,16,4,11,14,15,6,10,12,12,4,7,6,7,13,23,11,24,9,21,12,36]
[64,92,97,9,24,14,10,6,10,10,4,1,2,9,9,5,3,3,5,6,1,3,2,10,10,2,7,5,5,12,6,64,20,70,2,8,5,6,3,2,0,9,1,0,3,3,1,3,2,3,0,3,0,5,2,13,0,5,0,2,1,8,64,48,19,9,5,3,2,2,0,0,0,0,0,6,2,0,2,4,2,2,1,3,1,6,4,8,0,1,0,5,0,64,92,188,14,45,9,22,3,4,5,8,2,4,4,11,6,10,6,15,4,11,4,11,12,19,7,7,4,6,13,15]
[65,71,85,10,15,6,12,3,5,3,4,2,3,8,6,4,6,5,1,1,5,6,0,6,13,6,7,6,2,6,6,65,13,66,0,7,3,12,2,8,0,4,1,0,2,8,0,1,2,3,0,2,1,4,0,3,1,4,0,5,1,5,65,36,19,6,3,2,3,3,1,1,1,0,0,4,2,2,1,0,0,2,0,1,0,6,5,3,1,2,2,4,1,65,68,111,10,19,7,7,3,4,5,7,3,7,7,5,3,5,4,2,2,8,3,8,6,11,5,10,3,5,7,13]
[66,63,67,5,7,9,6,5,6,3,2,2,0,5,10,6,7,8,3,1,2,1,4,8,6,6,0,3,5,3,9,66,5,67,2,14,1,11,0,3,0,3,0,2,1,5,0,2,0,4,0,2,0,2,1,5,0,6,0,7,0,1,66,31,12,4,1,3,3,4,1,2,0,0,0,0,2,1,0,2,0,0,1,2,0,5,1,1,2,3,0,4,1,66,67,97,8,15,9,11,0,5,3,4,2,0,8,9,2,5,2,5,2,7,3,4,10,8,7,7,2,4,9,14]
[67,39,47,7,14,5,7,5,0,1,2,0,1,3,3,0,1,2,2,3,1,0,3,7,5,0,2,2,5,4,3,67,17,49,0,12,5,6,1,2,0,2,3,1,4,2,0,1,0,2,0,1,0,2,1,10,2,5,0,1,1,2,67,29,16,6,2,4,0,1,3,0,1,2,0,0,2,1,0,1,1,1,0,2,1,2,4,5,1,2,0,3,1,67,60,76,10,15,11,9,5,7,2,1,3,2,5,5,1,2,1,3,2,1,2,1,5,13,3,8,4,0,6,10]
[68,45,62,8,18,9,6,4,3,3,5,3,1,4,8,0,0,2,1,0,1,3,0,2,3,3,3,1,4,3,9,68,8,38,3,7,1,7,0,3,0,3,0,2,0,3,0,2,1,3,1,0,0,2,0,0,0,1,1,2,1,3,68,17,12,4,1,2,2,2,1,1,2,1,0,1,0,2,0,0,1,0,0,1,0,2,0,0,0,1,0,2,5,68,41,77,5,16,3,6,3,2,1,10,1,2,2,4,2,4,3,4,2,4,3,4,5,3,2,8,3,3,6,7]
[69,46,77,8,22,7,6,4,4,1,6,3,2,2,5,2,1,2,3,2,4,1,2,4,7,2,3,3,4,5,8,69,6,46,1,8,2,4,0,1,0,1,0,1,0,4,2,2,1,2,0,2,0,4,0,6,0,3,0,1,0,7,69,29,9,7,2,2,0,2,1,1,3,2,0,2,0,1,2,0,1,3,0,0,0,2,0,2,0,1,0,4,1,69,38,53,7,12,1,4,4,1,3,3,0,0,4,4,0,1,1,4,0,0,3,1,1,7,1,4,4,1,9,11]
[70,38,66,4,7,6,6,4,1,0,9,1,2,1,2,2,2,5,6,3,0,3,4,2,10,3,6,1,5,3,6,70,2,28,0,3,0,2,1,1,1,3,0,1,0,3,0,1,0,0,0,1,0,0,0,5,0,2,0,2,0,4,70,22,16,8,4,0,2,0,0,0,1,0,0,0,1,0,0,4,1,0,0,0,1,4,3,2,0,0,1,4,2,70,22,57,7,9,1,4,2,2,2,2,1,0,2,1,0,1,1,4,0,1,1,4,1,10,0,4,0,2,5,13]
[71,39,43,4,11,5,5,2,5,2,3,1,1,5,7,0,2,5,2,1,0,6,1,3,2,2,1,3,0,0,3,71,2,16,0,2,0,4,0,0,0,0,0,1,0,1,0,0,0,1,0,1,2,0,0,3,0,2,0,0,0,1,71,14,20,3,7,1,3,0,0,2,1,0,0,2,0,0,1,2,1,0,1,0,0,1,2,0,1,0,2,3,1,71,22,50,4,8,4,3,0,3,2,3,2,0,1,3,1,1,0,0,0,2,2,3,1,3,0,6,3,3,2,12]
[72,22,46,4,10,3,3,1,2,1,4,0,1,1,5,1,1,1,6,0,0,1,0,4,4,1,2,2,1,2,7,72,5,15,0,2,1,2,0,0,1,2,0,1,0,1,0,0,0,0,0,0,0,1,2,1,0,1,0,1,1,3,72,16,13,4,5,1,1,2,1,1,0,0,0,1,1,0,0,1,0,2,0,0,0,1,1,1,0,1,1,1,3,72,23,33,1,8,0,0,2,2,2,2,0,0,1,2,0,2,2,2,3,0,1,3,2,5,2,1,0,0,7,6]
[73,18,32,2,5,2,6,0,1,0,4,0,2,3,4,2,2,1,2,2,0,1,0,1,1,1,3,2,0,1,2,73,4,22,0,6,2,1,0,0,1,1,0,3,0,2,0,0,0,0,0,3,0,0,0,1,0,0,0,1,1,4,73,12,11,2,5,1,1,0,0,3,1,1,0,1,0,0,0,0,0,0,0,0,1,0,0,2,0,1,0,1,3,73,27,32,8,4,2,0,1,0,0,1,0,3,1,5,1,0,2,4,1,3,1,2,6,4,1,0,0,2,3,4]
[74,17,34,2,9,3,3,1,1,1,4,0,2,0,2,1,0,1,2,2,0,0,2,3,3,0,1,2,3,1,2,74,1,18,1,2,0,0,0,2,0,1,0,0,0,1,0,1,0,0,0,0,0,1,0,3,0,2,0,0,0,5,74,8,3,2,1,0,0,1,0,0,1,0,0,0,0,1,0,0,0,0,0,0,0,0,0,2,0,0,0,2,1,74,17,19,1,6,1,1,1,1,0,2,0,0,1,1,1,0,1,0,2,1,1,1,3,0,1,1,2,0,2,5]
[75,13,34,0,10,2,4,1,2,0,1,0,3,2,2,0,1,1,1,1,1,1,1,0,3,0,0,1,0,4,5,75,1,14,1,4,0,1,0,0,0,1,0,1,0,2,0,0,0,0,0,0,0,1,0,1,0,0,0,1,0,2,75,8,6,4,3,0,0,0,0,0,0,0,0,2,1,0,0,0,0,0,1,0,1,1,0,0,0,0,0,1,0,75,15,16,5,4,0,0,1,0,0,1,2,0,1,1,1,0,1,1,1,1,0,1,1,2,0,2,0,1,2,2]
[76,23,16,0,4,3,2,4,1,0,0,2,1,4,1,0,0,2,0,0,0,1,0,0,3,2,1,2,0,3,3,76,0,4,0,1,0,0,0,0,0,0,0,0,0,1,0,0,0,1,0,1,0,0,0,0,0,0,0,0,0,0,76,7,6,3,3,2,0,1,0,0,0,0,0,0,0,0,0,0,0,0,0,1,1,0,2,0,0,0,0,0,0,76,17,10,3,1,1,0,1,0,0,0,1,0,2,0,2,1,0,2,1,1,0,0,4,2,0,1,1,0,1,2]
[77,7,10,0,3,1,2,0,0,1,1,1,1,0,0,2,0,1,0,0,0,1,0,0,1,0,0,0,1,0,1,77,1,3,0,1,0,1,0,0,0,1,0,0,0,0,1,0,0,0,0,0,0,0,0,0,0,0,0,0,0,0,77,2,5,0,1,1,1,0,1,0,0,0,0,0,1,0,0,0,0,0,0,0,0,0,0,1,1,0,0,0,0,77,10,3,3,0,0,0,0,0,1,1,0,0,1,1,0,0,1,0,1,0,0,0,1,0,1,1,0,0,1,0]
[78,6,10,2,1,1,1,1,3,0,2,0,0,1,1,0,0,1,0,0,0,0,0,0,0,0,2,0,0,0,0,78,1,4,1,0,0,1,0,0,0,0,0,0,0,0,0,0,0,0,0,0,0,1,0,1,0,1,0,0,0,0,78,3,4,1,0,0,1,0,0,0,0,0,0,0,0,0,1,0,0,0,0,0,0,0,0,0,1,1,0,1,1,78,8,3,3,2,0,0,1,0,1,0,0,0,1,0,1,0,0,0,0,0,0,0,0,0,1,0,0,0,1,1]
[79,9,10,4,2,0,1,1,1,0,0,0,1,1,1,0,1,0,0,0,0,2,0,0,1,0,0,0,0,1,2,79,0,4,0,2,0,1,0,0,0,0,0,0,0,1,0,0,0,0,0,0,0,0,0,0,0,0,0,0,0,0,79,4,2,1,0,0,0,0,0,0,0,0,0,0,0,0,0,1,1,0,0,0,0,0,0,1,1,0,0,1,0,79,1,1,0,0,0,0,0,0,0,0,0,0,1,0,0,0,0,1,0,0,0,0,0,0,0,0,0,0,0,0]
[80,3,12,1,3,1,2,0,0,0,0,0,1,0,1,1,0,0,0,0,1,0,0,0,2,0,0,0,0,0,2,80,2,4,0,1,0,0,1,0,0,0,0,0,1,0,0,1,0,0,0,0,0,0,0,1,0,1,0,0,0,0,80,2,2,0,0,0,0,0,0,0,0,0,0,0,0,0,0,0,0,0,1,0,1,1,0,0,0,0,0,1,0,80,1,2,1,1,0,0,0,0,0,0,0,0,0,0,0,1,0,0,0,0,0,0,0,0,0,0,0,0,0,0]
[81,8,1,1,1,0,0,0,0,0,0,0,0,0,0,0,0,2,0,0,0,0,0,2,0,1,0,2,0,1,0,81,0,3,0,1,0,0,0,0,0,0,0,0,0,0,0,0,0,0,0,0,0,0,0,2,0,0,0,0,0,0,81,1,2,0,1,1,0,0,0,0,0,0,0,0,0,0,0,0,0,0,0,0,0,0,0,0,0,0,0,0,1,81,3,1,0,1,0,0,0,0,0,0,0,0,0,0,0,0,0,0,0,0,0,0,2,0,1,0,0,0,0,0]
[82,7,3,2,1,0,0,0,0,0,0,1,1,0,0,1,0,0,0,1,0,0,0,0,0,0,0,1,0,1,1,82,1,1,0,1,0,0,0,0,0,0,0,0,0,0,0,0,1,0,0,0,0,0,0,0,0,0,0,0,0,0,82,4,3,2,1,0,0,0,1,0,0,0,0,0,1,0,0,1,0,0,0,0,0,0,0,0,0,0,0,1,0,82,5,1,0,1,3,0,0,0,0,0,0,0,0,0,0,0,0,0,0,0,0,0,1,0,1,0,0,0,0,0]
[83,4,0,0,0,0,0,0,0,0,0,0,0,3,0,0,0,0,0,0,0,0,0,0,0,1,0,0,0,0,0,83,0,1,0,0,0,0,0,0,0,0,0,0,0,0,0,0,0,0,0,0,0,1,0,0,0,0,0,0,0,0,83,3,0,2,0,0,0,0,0,0,0,0,0,0,0,0,0,0,0,0,0,0,0,0,0,0,0,0,0,1,0,83,5,2,0,0,0,0,0,0,1,1,1,0,2,0,0,0,0,0,1,0,0,1,0,0,0,0,0,0,0,0]
[84,6,6,1,4,2,0,0,0,0,0,0,0,1,0,1,0,0,0,0,1,0,0,0,0,1,0,1,0,0,1,84,1,1,0,0,1,0,0,0,0,0,0,0,0,0,0,0,0,1,0,0,0,0,0,0,0,0,0,0,0,0,84,0,0,0,0,0,0,0,0,0,0,0,0,0,0,0,0,0,0,0,0,0,0,0,0,0,0,0,0,0,0,84,0,0,0,0,0,0,0,0,0,0,0,0,0,0,0,0,0,0,0,0,0,0,0,0,0,0,0,0,0,0]
[85,4,1,3,0,0,0,0,0,0,0,0,0,0,0,0,0,0,0,0,0,0,0,1,0,0,0,0,0,0,1,85,2,1,0,0,0,0,0,0,0,0,1,1,0,0,0,0,0,0,0,0,0,0,0,0,0,0,0,0,1,0,85,1,0,0,0,0,0,0,0,0,0,0,0,0,0,0,0,0,0,0,0,0,0,1,0,0,0,0,0,0,0,85,3,1,1,0,0,1,0,0,1,0,0,0,0,0,0,0,0,0,0,0,0,0,0,0,0,0,0,0,1,0]
[86,2,1,1,1,0,0,1,0,0,0,0,0,0,0,0,0,0,0,0,0,0,0,0,0,0,0,0,0,0,0,86,0,0,0,0,0,0,0,0,0,0,0,0,0,0,0,0,0,0,0,0,0,0,0,0,0,0,0,0,0,0,86,1,0,0,0,1,0,0,0,0,0,0,0,0,0,0,0,0,0,0,0,0,0,0,0,0,0,0,0,0,0,86,2,0,1,0,0,0,0,0,0,0,0,0,0,0,0,0,0,0,0,0,0,0,0,0,1,0,0,0,0,0]
[87,2,2,0,1,0,0,2,0,0,1,0,0,0,0,0,0,0,0,0,0,0,0,0,0,0,0,0,0,0,0,87,0,0,0,0,0,0,0,0,0,0,0,0,0,0,0,0,0,0,0,0,0,0,0,0,0,0,0,0,0,0,87,0,0,0,0,0,0,0,0,0,0,0,0,0,0,0,0,0,0,0,0,0,0,0,0,0,0,0,0,0,0,87,0,0,0,0,0,0,0,0,0,0,0,0,0,0,0,0,0,0,0,0,0,0,0,0,0,0,0,0,0,0]
[88,1,2,0,2,0,0,0,0,0,0,1,0,0,0,0,0,0,0,0,0,0,0,0,0,0,0,0,0,0,0,88,0,0,0,0,0,0,0,0,0,0,0,0,0,0,0,0,0,0,0,0,0,0,0,0,0,0,0,0,0,0,88,0,0,0,0,0,0,0,0,0,0,0,0,0,0,0,0,0,0,0,0,0,0,0,0,0,0,0,0,0,0,88,0,0,0,0,0,0,0,0,0,0,0,0,0,0,0,0,0,0,0,0,0,0,0,0,0,0,0,0,0,0]
[89,0,0,0,0,0,0,0,0,0,0,0,0,0,0,0,0,0,0,0,0,0,0,0,0,0,0,0,0,0,0,89,0,0,0,0,0,0,0,0,0,0,0,0,0,0,0,0,0,0,0,0,0,0,0,0,0,0,0,0,0,0,89,2,0,0,0,0,0,1,0,0,0,0,0,0,0,0,0,0,0,0,0,0,0,1,0,0,0,0,0,0,0,89,0,0,0,0,0,0,0,0,0,0,0,0,0,0,0,0,0,0,0,0,0,0,0,0,0,0,0,0,0,0]
[90,0,0,0,0,0,0,0,0,0,0,0,0,0,0,0,0,0,0,0,0,0,0,0,0,0,0,0,0,0,0,90,0,0,0,0,0,0,0,0,0,0,0,0,0,0,0,0,0,0,0,0,0,0,0,0,0,0,0,0,0,0,90,0,0,0,0,0,0,0,0,0,0,0,0,0,0,0,0,0,0,0,0,0,0,0,0,0,0,0,0,0,0,90,0,0,0,0,0,0,0,0,0,0,0,0,0,0,0,0,0,0,0,0,0,0,0,0,0,0,0,0,0,0]
[91,0,0,0,0,0,0,0,0,0,0,0,0,0,0,0,0,0,0,0,0,0,0,0,0,0,0,0,0,0,0,91,0,0,0,0,0,0,0,0,0,0,0,0,0,0,0,0,0,0,0,0,0,0,0,0,0,0,0,0,0,0,91,0,0,0,0,0,0,0,0,0,0,0,0,0,0,0,0,0,0,0,0,0,0,0,0,0,0,0,0,0,0,91,0,0,0,0,0,0,0,0,0,0,0,0,0,0,0,0,0,0,0,0,0,0,0,0,0,0,0,0,0,0]
[92,0,0,0,0,0,0,0,0,0,0,0,0,0,0,0,0,0,0,0,0,0,0,0,0,0,0,0,0,0,0,92,0,0,0,0,0,0,0,0,0,0,0,0,0,0,0,0,0,0,0,0,0,0,0,0,0,0,0,0,0,0,92,1,0,0,0,0,0,0,0,0,0,0,0,0,0,0,0,0,0,0,0,1,0,0,0,0,0,0,0,0,0,92,0,0,0,0,0,0,0,0,0,0,0,0,0,0,0,0,0,0,0,0,0,0,0,0,0,0,0,0,0,0]
[93,0,0,0,0,0,0,0,0,0,0,0,0,0,0,0,0,0,0,0,0,0,0,0,0,0,0,0,0,0,0,93,1,0,0,0,1,0,0,0,0,0,0,0,0,0,0,0,0,0,0,0,0,0,0,0,0,0,0,0,0,0,93,0,0,0,0,0,0,0,0,0,0,0,0,0,0,0,0,0,0,0,0,0,0,0,0,0,0,0,0,0,0,93,0,0,0,0,0,0,0,0,0,0,0,0,0,0,0,0,0,0,0,0,0,0,0,0,0,0,0,0,0,0]
[94,0,0,0,0,0,0,0,0,0,0,0,0,0,0,0,0,0,0,0,0,0,0,0,0,0,0,0,0,0,0,94,0,0,0,0,0,0,0,0,0,0,0,0,0,0,0,0,0,0,0,0,0,0,0,0,0,0,0,0,0,0,94,0,0,0,0,0,0,0,0,0,0,0,0,0,0,0,0,0,0,0,0,0,0,0,0,0,0,0,0,0,0,94,0,0,0,0,0,0,0,0,0,0,0,0,0,0,0,0,0,0,0,0,0,0,0,0,0,0,0,0,0,0]
[]
[]
["Prognóza vývoje obyvatelstva (počáteční stavy)"]
["Česká republika","VPL","VPL","VPL","PLDD","PLDD","PLDD","GYN","ZUB","ZUB","ZUB",null,"Hl. m. Praha","VPL","VPL","VPL","PLDD","PLDD","PLDD","GYN","ZUB","ZUB","ZUB",null,"Středočeský kraj","VPL","VPL","VPL","PLDD","PLDD","PLDD","GYN","ZUB","ZUB","ZUB",null,"Jihočeský kraj","VPL","VPL","VPL","PLDD","PLDD","PLDD","GYN","ZUB","ZUB","ZUB",null,"Plzeňský kraj","VPL","VPL","VPL","PLDD","PLDD","PLDD","GYN","ZUB","ZUB","ZUB",null,"Karlovarský kraj","VPL","VPL","VPL","PLDD","PLDD","PLDD","GYN","ZUB","ZUB","ZUB",null,"Ústecký kraj","VPL","VPL","VPL","PLDD","PLDD","PLDD","GYN","ZUB","ZUB","ZUB",null,"Liberecký kraj","VPL","VPL","VPL","PLDD","PLDD","PLDD","GYN","ZUB","ZUB","ZUB",null,"Královéhradecký kraj","VPL","VPL","VPL","PLDD","PLDD","PLDD","GYN","ZUB","ZUB","ZUB",null,"Pardubický kraj","VPL","VPL","VPL","PLDD","PLDD","PLDD","GYN","ZUB","ZUB","ZUB",null,"Kraj Vysočina","VPL","VPL","VPL","PLDD","PLDD","PLDD","GYN","ZUB","ZUB","ZUB",null,"Jihomoravský kraj","VPL","VPL","VPL","PLDD","PLDD","PLDD","GYN","ZUB","ZUB","ZUB",null,"Olomoucký kraj","VPL","VPL","VPL","PLDD","PLDD","PLDD","GYN","ZUB","ZUB","ZUB",null,"Zlínský kraj","VPL","VPL","VPL","PLDD","PLDD","PLDD","GYN","ZUB","ZUB","ZUB",null,"Moravskoslezský kraj","VPL","VPL","VPL","PLDD","PLDD","PLDD","GYN","ZUB","ZUB","ZUB"]
[null,"Počet obyvatel 15+",null,null,"Počet obyvatel 0–19",null,null,"Počet obyvatel 15+","Počet obyvatel celkem",null,null,null,null,"Počet obyvatel 15+",null,null,"Počet obyvatel 0–19",null,null,"Počet obyvatel 15+","Počet obyvatel celkem",null,null,null,null,"Počet obyvatel 15+",null,null,"Počet obyvatel 0–19",null,null,"Počet obyvatel 15+","Počet obyvatel celkem",null,null,null,null,"Počet obyvatel 15+",null,null,"Počet obyvatel 0–19",null,null,"Počet obyvatel 15+","Počet obyvatel celkem",null,null,null,null,"Počet obyvatel 15+",null,null,"Počet obyvatel 0–19",null,null,"Počet obyvatel 15+","Počet obyvatel celkem",null,null,null,null,"Počet obyvatel 15+",null,null,"Počet obyvatel 0–19",null,null,"Počet obyvatel 15+","Počet obyvatel celkem",null,null,null,null,"Počet obyvatel 15+",null,null,"Počet obyvatel 0–19",null,null,"Počet obyvatel 15+","Počet obyvatel celkem",null,null,null,null,"Počet obyvatel 15+",null,null,"Počet obyvatel 0–19",null,null,"Počet obyvatel 15+","Počet obyvatel celkem",null,null,null,null,"Počet obyvatel 15+",null,null,"Počet obyvatel 0–19",null,null,"Počet obyvatel 15+","Počet obyvatel celkem",null,null,null,null,"Počet obyvatel 15+",null,null,"Počet obyvatel 0–19",null,null,"Počet obyvatel 15+","Počet obyvatel celkem",null,null,null,null,"Počet obyvatel 15+",null,null,"Počet obyvatel 0–19",null,null,"Počet obyvatel 15+","Počet obyvatel celkem",null,null,null,null,"Počet obyvatel 15+",null,null,"Počet obyvatel 0–19",null,null,"Počet obyvatel 15+","Počet obyvatel celkem",null,null,null,null,"Počet obyvatel 15+",null,null,"Počet obyvatel 0–19",null,null,"Počet obyvatel 15+","Počet obyvatel celkem",null,null,null,null,"Počet obyvatel 15+",null,null,"Počet obyvatel 0–19",null,null,"Počet obyvatel 15+","Počet obyvatel celkem",null,null,null,null,"Počet obyvatel 15+",null,null,"Počet obyvatel 0–19",null,null,"Počet obyvatel 15+","Počet obyvatel celkem"]
[null,"Muži","Ženy","Celkem","Muži","Ženy","Celkem","Ženy","Muži","Ženy","Celkem",null,null,"Muži","Ženy","Celkem","Muži","Ženy","Celkem","Ženy","Muži","Ženy","Celkem",null,null,"Muži","Ženy","Celkem","Muži","Ženy","Celkem","Ženy","Muži","Ženy","Celkem",null,null,"Muži","Ženy","Celkem","Muži","Ženy","Celkem","Ženy","Muži","Ženy","Celkem",null,null,"Muži","Ženy","Celkem","Muži","Ženy","Celkem","Ženy","Muži","Ženy","Celkem",null,null,"Muži","Ženy","Celkem","Muži","Ženy","Celkem","Ženy","Muži","Ženy","Celkem",null,null,"Muži","Ženy","Celkem","Muži","Ženy","Celkem","Ženy","Muži","Ženy","Celkem",null,null,"Muži","Ženy","Celkem","Muži","Ženy","Celkem","Ženy","Muži","Ženy","Celkem",null,null,"Muži","Ženy","Celkem","Muži","Ženy","Celkem","Ženy","Muži","Ženy","Celkem",null,null,"Muži","Ženy","Celkem","Muži","Ženy","Celkem","Ženy","Muži","Ženy","Celkem",null,null,"Muži","Ženy","Celkem","Muži","Ženy","Celkem","Ženy","Muži","Ženy","Celkem",null,null,"Muži","Ženy","Celkem","Muži","Ženy","Celkem","Ženy","Muži","Ženy","Celkem",null,null,"Muži","Ženy","Celkem","Muži","Ženy","Celkem","Ženy","Muži","Ženy","Celkem",null,null,"Muži","Ženy","Celkem","Muži","Ženy","Celkem","Ženy","Muži","Ženy","Celkem",null,null,"Muži","Ženy","Celkem","Muži","Ženy","Celkem","Ženy","Muži","Ženy","Celkem"]
[2017,4347866.3157637231,4572408.9968479061,8920275.3126116302,1071339.757689765,1015971.4028859132,2087311.1605756781,4572408.9968479061,5183669.2045443235,5365343.8744763536,10549013.079020675,null,2017,518567.33260723454,559237.72763851623,1077805.0602457507,120535.5159154502,114104.43217787196,234639.94809332216,559237.72763851623,616423.85075250035,651703.2818368125,1268127.1325893127,null,2017,541958.3992633319,566803.75092766201,1108762.1501909939,148273.89015699163,140392.61800917721,288666.50816616882,566803.75092766201,660191.86673225742,678747.9155313659,1338939.7822636233,null,2017,263750.1416101355,275613.24868796271,539363.39029809821,65208.672078083473,61685.069519641635,126893.74159772511,275613.24868796271,314269.15349456738,323416.77880372462,637685.93229829194,null,2017,241153.09072565287,248916.81615220985,490069.90687786276,56830.342793327858,54542.665830951904,111373.00862427976,248916.81615220985,285492.72419914696,291493.60093758954,576986.3251367365,null,2017,123461.37417462045,128564.95457278879,252026.32874740922,29594.27962613104,28043.299866101079,57637.579492232122,128564.95457278879,146219.16123628616,150019.45013564685,296238.61137193302,null,2017,340313.84241324977,350813.61163931724,691127.45405256702,86300.590176996557,82009.548550851498,168310.13872784807,350813.61163931724,406918.27104427823,414052.74594473431,820971.01698901248,null,2017,179835.6486704174,189349.11108461019,369184.7597550276,46091.986919546849,43744.105719528561,89836.092639075418,189349.11108461019,215551.45412212933,223236.19460955905,438787.64873168839,null,2017,227160.61120492921,238861.39677653238,466022.00798146159,55899.192911742735,52419.373008462375,108318.56592020512,238861.39677653238,270071.27498424315,279328.13238265959,549399.4073669028,null,2017,213801.72602976381,222116.01034973629,435917.73637950013,53138.220140975565,50225.375396993782,103363.59553796935,222116.01034973629,254704.49226550743,260744.89247511813,515449.38474062557,null,2017,213095.95708288337,218413.87450603864,431509.83158892201,51363.287478518941,48682.782767529665,100046.07024604861,218413.87450603864,252214.41485669962,255648.09024417182,507862.50510087144,null,2017,483865.16745956731,511967.42280129011,995832.59026085748,117538.14567402379,111632.31837745605,229170.46405147982,511967.42280129011,576244.08181714558,599844.9393256926,1176089.0211428381,null,2017,260559.70428250512,276610.08419066912,537169.78847317421,63185.017419712021,60293.169709307695,123478.18712901972,276610.08419066912,309295.94941810536,323286.8930408181,632582.84245892346,null,2017,240918.42186955939,256258.62072250096,497177.04259206034,57313.36274822188,53969.027573863983,111282.39032208586,256258.62072250096,284813.04820486391,297566.13058923953,582379.17879410344,null,2017,499424.8983698723,528882.36679807201,1028307.2651679444,120067.2536500424,114227.61637817579,234294.8700282182,528882.36679807201,591259.46141659166,616254.82861922111,1207514.2900358126]
[2018,4348971.7604178721,4572504.3507467443,8921476.1111646146,1079149.0787152727,1022832.9907657666,2101982.0694810394,4572504.3507467443,5190882.6657587271,5370899.0684793629,10561781.73423809,null,2018,521498.39826096065,561590.99766304961,1083089.3959240103,123421.76868345654,116661.42663176372,240083.19531522028,561590.99766304961,621809.6353327079,656252.12716755166,1278061.7625002596,null,2018,545932.28891384089,571510.86857416539,1117443.1574880062,151111.37770108957,143002.73356233229,294114.11126342183,571510.86857416539,666219.06781874737,685394.33684577211,1351613.4046645195,null,2018,263601.87059787154,275542.29617956752,539144.16677743907,65544.868895476655,61919.275988010791,127464.14488348745,275542.29617956752,314327.14367913781,323543.17427009501,637870.31794923288,null,2018,241403.04354192878,249148.35610551617,490551.39964744495,57362.279261165255,55036.108523778334,112398.3877849436,249148.35610551617,286061.06521322561,292024.99278085527,578086.05799408094,null,2018,122964.25533777154,127997.7348629419,250961.99020071345,29496.963993052246,27957.400110675575,57454.364103727821,127997.7348629419,145578.98001289889,149323.27966158235,294902.25967448123,null,2018,339818.07726910152,349835.86536866723,689653.94263776881,86382.798675859725,82057.48109754076,168440.27977340049,349835.86536866723,406286.74673642905,412999.18852205848,819285.93525848747,null,2018,179765.12665713762,189158.76834528384,368923.89500242146,46344.63077218573,43887.719164612194,90232.349936797924,189158.76834528384,215605.31489702416,223126.1682969399,438731.48319396406,null,2018,226610.86004352293,238279.5987270021,464890.45877052506,55943.599797982009,52474.868120285384,108418.46791826739,238279.5987270021,269645.65880614327,278846.94736903405,548492.60617517726,null,2018,213643.25409015641,221683.89280579649,435327.14689595287,53252.440990244271,50311.854272577912,103564.29526282218,221683.89280579649,254617.48726154648,260547.78269148929,515165.26995303575,null,2018,212635.25389813047,217926.69088850595,430561.94478663639,51243.424549911288,48657.018705731782,99900.443255643069,217926.69088850595,251799.14376254613,255163.06983863944,506962.21360118559,null,2018,484107.71061116166,511879.57736892952,995987.28798009118,118627.38877583863,112544.40032099499,231171.78909683361,511879.57736892952,577325.61893819622,600476.25756328122,1177801.8765014773,null,2018,259841.63888878332,275788.92972679873,535630.56861558207,63266.293474863283,60360.866705208398,123627.16018007169,275788.92972679873,308667.88427820528,322553.4372693256,631221.32154753082,null,2018,240193.32293963694,255529.89415152304,495723.21709116001,57360.008078943007,54046.980467000525,111406.98854594353,255529.89415152304,284107.20316378458,296843.63774803764,580950.84091182216,null,2018,496956.65936786804,526630.87997899635,1023587.5393468644,119791.23506520444,113914.857095254,233706.09216045844,526630.87997899635,588831.71585813409,613804.6684547012,1202636.3843128353]
[2019,4351185.8659297647,4573925.0884708427,8925110.9544006083,1086500.1915669967,1029419.3761244266,2115919.5676914235,4573925.0884708427,5198231.2805756452,5376806.9895487912,10575038.270124437,null,2019,524994.49858410482,564479.1871123946,1089473.6856964994,126283.91460417387,119335.93156819094,245619.84617236481,564479.1871123946,627604.96390654449,661243.83647549746,1288848.8003820418,null,2019,550169.6103010833,576454.64518188499,1126624.2554829684,153891.38642468755,145722.93191424536,299614.31833893294,576454.64518188499,672370.24922229024,692193.51943441515,1364563.7686567055,null,2019,263368.73358670046,275496.59395735041,538865.32754405087,65912.971615178685,62178.594971311606,128091.56658649028,275496.59395735041,314348.37066953979,323646.80143297766,637995.17210251745,null,2019,241654.74685294458,249411.08158395739,491065.82843690197,57779.97712203041,55466.681230520306,113246.65835255072,249411.08158395739,286607.56686946866,292547.98899975239,579155.55586922099,null,2019,122494.67712490248,127383.73867575573,249878.4158006582,29293.254272275015,27868.245294237789,57161.499566512808,127383.73867575573,144947.16022788576,148641.8919220735,293589.05214995926,null,2019,339427.56179846538,348983.01123552513,688410.57303399057,86369.290652684693,81996.220546729048,168365.51119941374,348983.01123552513,405576.38786488987,411893.766555059,817470.15441994881,null,2019,179672.1131786395,188931.76002635341,368603.87320499291,46516.747476385455,43948.555562518901,90465.303038904356,188931.76002635341,215627.98722134592,222998.50904594819,438626.4962672941,null,2019,226144.28906130849,237818.36120105453,463962.65026236302,55933.452556644479,52587.225642902777,108520.67819954726,237818.36120105453,269206.61168820615,278359.72846204537,547566.34015025152,null,2019,213442.2245290647,221324.59519594451,434766.81972500921,53362.610669840127,50404.336549512496,103766.94721935262,221324.59519594451,254505.61971763757,260330.04042960473,514835.66014724231,null,2019,212173.02865491851,217533.34922695669,429706.3778818752,51170.465029739891,48566.522598884585,99736.987628624483,217533.34922695669,251355.36478268163,254658.30160006505,506013.66638274665,null,2019,484314.15629182645,511756.73914602108,996070.89543784759,119626.61666072614,113400.11923529572,233026.73589602186,511756.73914602108,578330.899239611,601051.65089707216,1179382.550136683,null,2019,259215.48179802476,275081.18123800121,534296.66303602594,63268.350778004155,60426.810423644376,123695.16120164853,275081.18123800121,308009.6768006247,321800.31267950725,629809.989480132,null,2019,239510.09710580896,254780.69182148873,494290.78892729769,57384.155190967198,54005.145642426585,111389.30083339379,254780.69182148873,283373.92581686203,296088.98850975162,579462.91432661365,null,2019,494604.64706197183,524490.15286815446,1019094.7999301263,119706.99851365911,113512.05494400626,233219.05345766537,524490.15286815446,586366.49654805742,611351.65310502169,1197718.149653079]
[2020,4356126.098905717,4577829.2784469305,8933955.3773526493,1093794.1236439804,1035717.7393823779,2129511.8630263582,4577829.2784469305,5205696.5146263028,5382978.4893596228,10588675.003985927,null,2020,529251.16212046612,568186.19555946789,1097437.357679934,129175.8487617175,121895.32193068306,251071.17069240054,568186.19555946789,633819.0062222156,666677.56437647843,1300496.570598694,null,2020,554971.93402686424,582071.62631223712,1137043.5603391014,156840.85646049498,148305.94046532171,305146.79692581668,582071.62631223712,678646.98200507555,699143.17275753827,1377790.1547626138,null,2020,263315.95251574228,275562.51804173295,538878.47055747523,66124.366551178551,62449.975594667412,128574.34214584596,275562.51804173295,314329.24350119475,323724.09065761417,638053.33415880892,null,2020,241985.74008807976,249731.06371912939,491716.80380720913,58202.395422555172,55885.931853387345,114088.32727594252,249731.06371912939,287132.82257634902,293058.00199653429,580190.82457288331,null,2020,122040.39707731083,126811.73240500999,248852.1294823208,29187.707118860228,27737.333904426057,56925.041023286285,126811.73240500999,144324.12674088543,147975.68201812243,292299.80875900784,null,2020,339026.78509617643,348272.73341938038,687299.51851555682,86362.093809831626,81928.791040870216,168290.88485070184,348272.73341938038,404786.7623609599,410728.37104739231,815515.13340835227,null,2020,179705.32369386958,188872.57838349926,368577.90207736881,46650.461566679129,44016.308505317706,90666.770071996842,188872.57838349926,215616.15723561982,222849.61564372989,438465.77287934971,null,2020,225755.96396519881,237405.69873363827,463161.66269883711,55973.854180852082,52602.242216943479,108576.09639779557,237405.69873363827,268753.17556354438,277862.72479547054,546615.90035901498,null,2020,213303.94339196477,221101.9794591206,434405.92285108537,53421.987288880686,50450.630577859076,103872.61786673976,221101.9794591206,254364.88035814938,260086.13833307204,514451.01869122143,null,2020,211850.1466406153,217057.21168498948,428907.35832560482,51144.298564078446,48595.968675860924,99740.267239939363,217057.21168498948,250879.10422377387,254127.70204855799,505006.80627233186,null,2020,484887.81529532158,511903.42753558885,996791.24283091049,120491.30373950518,114310.3656991406,234801.66943864577,511903.42753558885,579253.45671618416,601562.03587029618,1180815.4925864805,null,2020,258545.53103967768,274464.75462990964,533010.28566958732,63335.601414118908,60434.846404254749,123770.44781837365,274464.75462990964,307318.6693556906,321017.67314938456,628336.34250507515,null,2020,238861.69465091941,254067.36655244365,492929.06120336306,57348.965798080113,53940.901785223374,111289.86758330348,254067.36655244365,282612.32091881731,295297.73009823146,577910.05101704877,null,2020,492623.70930351078,522320.39201078407,1014944.1013142949,119534.38296714783,113163.18072842208,232697.56369556993,522320.39201078407,583859.80684784299,608867.98656719981,1192727.7934150428]
[2021,4363799.9049636582,4584897.2083272748,8948697.1132909339,1099332.3005166105,1041291.24904716,2140623.5495637702,4584897.2083272748,5213314.615888386,5389428.7446422186,10602743.360530604,null,2021,534083.27878458041,572723.53743617248,1106806.8162207529,131977.23151175049,124366.73562677225,256343.96713852274,572723.53743617248,640463.17937134393,672562.15257703792,1313025.3319483818,null,2021,560431.75049962522,588201.87131911609,1148633.6218187413,159352.64458172943,150713.36690652929,310066.01148825872,588201.87131911609,685065.12253179238,706257.26629798394,1391322.3888297763,null,2021,263333.37370072678,275735.92182089004,539069.29552161682,66312.279899256115,62615.26138746705,128927.54128672316,275735.92182089004,314269.83446444257,323770.8016128437,638040.63607728621,null,2021,242566.10310601175,250226.01532426508,492792.11843027687,58469.915683821353,56129.405083038408,114599.32076685976,250226.01532426508,287640.5535175117,293555.59480132925,581196.14831884089,null,2021,121653.69415288891,126361.30247603997,248014.99662892887,29019.37021364973,27571.5702466611,56590.940460310827,126361.30247603997,143711.36270259842,147324.3936721436,291035.75637474202,null,2021,338753.00722251076,347612.84009388316,686365.84731639386,86112.545126482335,81724.061601173438,167836.60672765577,347612.84009388316,403930.97055572481,409509.41182449408,813440.38238021894,null,2021,179669.83214044897,188791.97605710154,368461.80819755048,46661.997278705319,44042.834898895424,90704.832177600736,188791.97605710154,215573.06666625926,222678.3911159175,438251.45778217679,null,2021,225566.39517894783,237114.16478591727,462680.5599648651,55946.587364035688,52612.774936911708,108559.3623009474,237114.16478591727,268286.80049048015,277358.37487015338,545645.17536063353,null,2021,213249.37599476121,220928.37598049812,434177.75197525934,53469.803520597095,50546.278888646077,104016.08240924317,220928.37598049812,254196.00513585439,259817.63930825121,514013.64444410556,null,2021,211651.1698013175,216746.46188582343,428397.63168714091,51031.503205512243,48561.732335387438,99593.235540899681,216746.46188582343,250372.02776091002,253572.19235522137,503944.22011613136,null,2021,485567.93008678604,512376.03402866295,997943.96411544899,121354.94387861337,115114.07952114291,236469.02339975629,512376.03402866295,580094.37338011886,602005.94243338925,1182100.3158135081,null,2021,258108.08575889387,273949.1452893595,532057.23104825336,63312.687382404096,60498.716406559797,123811.40378896389,273949.1452893595,306593.91885224072,320205.16494689073,626799.08379913145,null,2021,238387.7760269081,253599.48587866849,491987.26190557657,57151.325710535326,53904.505363333505,111055.83107386883,253599.48587866849,281816.74356077245,294467.78323512571,576284.5267958981,null,2021,490778.13250925118,520530.0759508771,1011308.2084601283,119159.46515951786,112889.92584464178,232049.39100415964,520530.0759508771,581300.65689833765,606343.63559143618,1187644.2924897738]
[2022,4374205.6973989755,4594241.080284006,8968446.7776829824,1104098.2854495039,1045399.6598518341,2149497.9453013381,4594241.080284006,5219927.0237186095,5395103.5105784601,10615030.53429707,null,2022,539357.464771781,577479.2818170453,1116836.7465888262,134498.31583035525,126730.36752824327,261228.6833585985,577479.2818170453,646801.62374229252,678200.07696325798,1325001.7007055506,null,2022,566165.07672403427,594640.96522437246,1160806.0419484067,161516.12643672104,152921.49199209345,314437.61842881446,594640.96522437246,691361.30413934297,713298.71891734679,1404660.0230566896,null,2022,263542.61498813145,276065.95807407604,539608.57306220755,66502.678566007555,62695.864746487656,129198.54331249521,276065.95807407604,314163.82687833527,323783.94399451074,637947.77087284601,null,2022,243376.14373048279,250970.34368860093,494346.48741908371,58799.832309929719,56273.632835369666,115073.46514529939,250970.34368860093,288134.17138610536,294049.77659724082,582183.94798334618,null,2022,121475.00966740977,126011.86754561999,247486.87721302977,28841.966743278153,27374.715349380895,56216.682092659044,126011.86754561999,143087.03539748161,146665.26886936164,289752.30426684325,null,2022,338641.38642192766,347192.95329294575,685834.33971487335,85777.173470448004,81417.618348572127,167194.79181902012,347192.95329294575,403016.0768844792,408238.63729915826,811254.71418363741,null,2022,179799.21315074008,188916.25228992171,368715.46544066176,46710.862584737406,44066.878649933904,90777.74123467131,188916.25228992171,215508.01415024488,222498.49711720206,438006.51126744691,null,2022,225395.83970419189,237018.17223042075,462414.01193461264,55945.271818611902,52587.539482691689,108532.81130130359,237018.17223042075,267793.2062139475,276836.01294478623,544629.21915873373,null,2022,213376.88911732699,220906.16741068795,434283.05652801495,53588.300633649626,50580.401121258983,104168.7017549086,220906.16741068795,253990.48042999435,259519.31552207144,513509.79595206579,null,2022,211482.1362217915,216406.57024126753,427888.70646305906,50934.841898793005,48551.848493084617,99486.690391877622,216406.57024126753,249806.22206084867,252967.06870270593,502773.29076355463,null,2022,486613.44150562008,512975.15451930719,999588.59602492722,122055.59559138698,115681.15535785098,237736.75094923796,512975.15451930719,580836.80044043704,602375.15646335355,1183211.9569037906,null,2022,257812.12948431741,273575.42677659984,531387.55626091722,63188.780154407003,60342.43615467129,123531.2163090783,273575.42677659984,305809.76844199462,319341.85655795282,625151.62499994738,null,2022,237907.83894449804,253115.47106225183,491023.31000674987,57039.002352440439,53724.608433588575,110763.61078602902,253115.47106225183,280967.4836363041,293585.54444608721,574553.02808239125,null,2022,489260.51296672208,518966.49611088843,1008227.0090776104,118699.53705873783,112451.10135860709,231150.63841734492,518966.49611088843,578651.00991680159,603743.63618342369,1182394.6461002254]
[2023,4388347.6856124271,4608323.0097076027,8996670.6953200307,1107105.6702234084,1047862.526000147,2154968.1962235551,4608323.0097076027,5225483.8153240653,5399942.1803980144,10625425.995722083,null,2023,544837.55256523821,582368.93264813628,1127206.4852133745,136928.53232887364,128884.82023019266,265813.35255906632,582368.93264813628,652831.62811933656,683580.84383658587,1336412.4719559224,null,2023,572557.68542235252,601842.80498221668,1174400.4904045691,163476.71232467319,154776.58668661007,318253.29901128326,601842.80498221668,697533.15341806598,720264.35544940853,1417797.5088674745,null,2023,263948.19045561721,276712.41368398338,540660.60413960065,66488.276478396088,62678.091967668413,129166.3684460645,276712.41368398338,314007.40050009137,323758.25832137826,637765.65882146964,null,2023,244289.43721880324,252000.2496289055,496289.68684770877,58961.49309787331,56428.545474540791,115390.03857241411,252000.2496289055,288611.76370794064,294537.03514466615,583148.79885260679,null,2023,121287.19095029095,125876.05855521816,247163.2495055091,28594.815293846896,27149.532694188249,55744.347988035144,125876.05855521816,142451.79339302939,145997.18877972028,288448.9821727497,null,2023,338965.73021995951,347162.5256113006,686128.25583126012,85317.465791613067,81024.578141775477,166342.04393338854,347162.5256113006,402038.85551799688,406925.41705727077,808964.27257526759,null,2023,180230.59823400248,189249.26732318156,369479.86555718404,46676.343242205032,43990.832905134957,90667.176147339982,189249.26732318156,215421.11309614321,222306.3313295627,437727.44442570594,null,2023,225558.58525297622,237169.21446314998,462727.79971612617,55893.14414039554,52520.531032403691,108413.67517279924,237169.21446314998,267267.24768929189,276290.4047994173,543557.65248870919,null,2023,213680.94151004465,221156.11121085309,434837.05272089771,53460.129152578171,50617.165028550182,104077.29418112835,221156.11121085309,253745.63921292467,259188.95668694191,512934.59589986654,null,2023,211358.97370736848,216331.07899189147,427690.05269925995,50772.316793518243,48357.26489347707,99129.581686995312,216331.07899189147,249178.28677555558,252309.92716850049,501488.21394405607,null,2023,488004.55698222789,514078.34842508653,1002082.9054073144,122441.48847102164,115969.58201196503,238411.07048298669,514078.34842508653,581474.35593460989,602659.53097050742,1184133.8869051174,null,2023,257752.58315832834,273496.29652691196,531248.87968524033,63008.380920148098,60169.849190342458,123178.23011049055,273496.29652691196,304962.24105649011,318424.41515332274,623386.65620981285,null,2023,237797.25672330667,252813.62076472148,490610.87748802814,56823.346950780768,53503.067278397823,110326.4142291786,252813.62076472148,280057.45098494331,292644.36894907936,572701.81993402261,null,2023,488078.40321191051,518066.08689204569,1006144.4901039562,118263.22523748488,111792.07846490009,230055.30370238496,518066.08689204569,575902.88591764716,601055.14675165352,1176958.0326693007]
[2024,4404454.7592533492,4623804.7071985677,9028259.466451915,1108909.4144570488,1049146.2357872271,2158055.6502442756,4623804.7071985677,5229938.5005957121,5403815.6467980854,10633754.147393797,null,2024,550481.92054252606,587460.29199329962,1137942.2125358256,139084.24220704139,130836.6457479419,269920.88795498328,587460.29199329962,658539.75846097746,688682.95418944873,1347222.7126504262,null,2024,579233.66202309541,609460.95085954701,1188694.6128826425,165279.08057851496,156532.95466389612,321812.03524241108,609460.95085954701,703577.91800968302,727141.73014913802,1430719.648158821,null,2024,264543.63030410255,277409.58769372728,541953.2179978299,66513.003843465835,62604.933895862785,129117.93773932863,277409.58769372728,313797.2406486877,323687.39856314362,637484.63921183138,null,2024,245399.96887296261,253115.02116784648,498514.99004080909,59102.86073098921,56547.199829010257,115650.06055999946,253115.02116784648,289075.05565934529,295014.74108619598,584089.79674554127,null,2024,121220.6329726332,125736.45948669812,246957.09245933132,28330.130872655467,26985.602789801131,55315.733662456594,125736.45948669812,141805.47323749863,145317.25256721332,287122.72580471192,null,2024,339411.21335889754,347268.92798907921,686680.14134797675,84691.249656508211,80475.533760826947,165166.78341733516,347268.92798907921,400998.42016546527,405557.82850017369,806556.24866563897,null,2024,180726.06799145942,189742.6165071376,370468.68449859705,46642.264044809475,43942.960851933763,90585.224896743239,189742.6165071376,215312.20472930497,222098.69923320314,437410.90396250808,null,2024,225783.24426936722,237349.63627706049,463132.88054642768,55741.78816078158,52324.302040133582,108066.09020091516,237349.63627706049,266711.33307980141,275719.04617161973,542430.3792514212,null,2024,214082.08984733673,221363.99943038585,435446.08927772258,53343.963794804062,50556.429459513922,103900.39325431798,221363.99943038585,253460.8539073545,258820.75759350302,512281.61150085751,null,2024,211376.03881708047,216270.62502306543,427646.66384014592,50565.84301129145,48033.7324423233,98599.575453614758,216270.62502306543,248485.47679468125,251596.74499407626,500082.22178875748,null,2024,489729.00913765421,515530.47094400215,1005259.4800816564,122768.67322920273,116219.56154364045,238988.23477284319,515530.47094400215,581997.93707266182,602844.99151446554,1184842.9285871275,null,2024,257777.21287247172,273486.40110366262,531263.61397613434,62690.583534362289,59851.177327657751,122541.76086202005,273486.40110366262,304048.27206683485,317442.89789452776,621491.16996136261,null,2024,237686.05762755667,252618.59884413672,490304.65647169342,56518.801102063575,53250.68442069937,109769.48552276295,252618.59884413672,279082.65557336487,291638.30178840144,570720.95736176637,null,2024,487004.01061620488,516991.11987891869,1003995.1304951236,117636.92969055838,110984.51701398556,228621.44670454395,516991.11987891869,573045.90119005018,598252.30255297432,1171298.2037430245]
[2025,4418975.1696530413,4638326.9416534211,9057302.1113064624,1107985.3379290628,1048119.8322099753,2156105.170139038,4638326.9416534211,5233341.8576474627,5406674.596019363,10640016.453666829,null,2025,555897.84968634939,592446.55314012198,1148344.4028264713,140785.57274168343,132313.96466332534,273099.5374050088,592446.55314012198,663933.90062519629,693501.81774854811,1357435.7183737443,null,2025,585719.47233076941,616927.59895806247,1202647.071288832,166637.25835350723,157765.73672719256,324402.99508069979,616927.59895806247,709506.33982860821,733934.67315910524,1443441.0129877133,null,2025,265040.95479150792,278051.13241482404,543092.08720633201,66316.259999040951,62394.180981536454,128710.4409805774,278051.13241482404,313537.87628720625,323570.14341582177,637108.01970302803,null,2025,246556.03361379178,254198.25234919618,500754.28596298792,59154.763299905142,56605.816810920151,115760.58011082529,254198.25234919618,289529.79976018512,295481.03091226757,585010.83067245269,null,2025,121114.51445697506,125510.69993345955,246625.21439043462,28063.145863789854,26798.418814470111,54861.564678259965,125510.69993345955,141151.3270002245,144623.47868349403,285774.80568371853,null,2025,339653.95985259931,347137.98058092641,686791.94043352571,84022.890577745842,79753.628509605114,163776.51908735096,347137.98058092641,399903.11185934301,404127.05051346472,804030.16237280774,null,2025,181193.18526199175,190147.59886193552,371340.78412392724,46461.051271391399,43720.552801032303,90181.60407242371,190147.59886193552,215183.92841741611,221871.88068660689,437055.80910402304,null,2025,225937.79248716429,237602.05548833535,463539.84797549964,55499.673543371253,52070.523310053075,107570.19685342434,237602.05548833535,266123.69167969929,275117.17206562095,541240.86374532024,null,2025,214295.22142579904,221638.65643728085,435933.87786307989,53136.803061287545,50336.47408863774,103473.27714992528,221638.65643728085,253137.09691494642,258415.72487608535,511552.82179103175,null,2025,211261.63130867406,216098.7260254164,427360.35733409045,50177.729216264699,47756.37974359592,97934.10895986062,216098.7260254164,247729.73895958267,250823.91705004135,498553.65600962401,null,2025,491352.00154550414,516959.65057807445,1008311.6521235786,122638.66980195028,116128.69532644453,238767.3651283948,516959.65057807445,582407.14145105507,602924.97515374818,1185332.1166048031,null,2025,257726.23354849496,273463.74748496566,531189.98103346059,62374.828905726798,59406.474518527037,121781.30342425383,273463.74748496566,303067.31321141432,316392.37009709241,619459.68330850673,null,2025,237434.97681982812,252290.14763765488,489725.12445748301,56137.046851427876,52913.515507563163,109050.56235899104,252290.14763765488,278044.62538265169,290565.57220313739,568610.19758578902,null,2025,485791.34252359217,515854.14176316693,1001645.484286759,116579.64444197041,110155.4704070719,226735.11484904232,515854.14176316693,570085.96626993374,595324.78945433069,1165410.7557242643]
[2026,4432692.6963529689,4651156.8026842708,9083849.4990372397,1104392.7650528029,1044152.2465808416,2148545.0116336439,4651156.8026842708,5235699.6454602536,5408444.7640810506,10644144.409541303,null,2026,561132.47052952682,597084.0643860437,1158216.5349155706,142218.8832148767,133307.04841444574,275525.93162932247,597084.0643860437,669001.65422728774,698014.57321545703,1367016.2274427447,null,2026,592223.47293908033,624283.97674269881,1216507.4496817791,167473.25914525019,158645.86064160889,326119.11978685908,624283.97674269881,715320.34288331307,740633.66693891818,1455954.0098222313,null,2026,265458.91424100118,278636.38300663512,544095.29724763636,66012.962426062819,62051.13034947111,128064.09277553394,278636.38300663512,313232.87206385745,323401.93638788431,636634.8084517417,null,2026,247597.90621638353,255258.35533701081,502856.26155339438,58955.147362648662,56490.581113253029,115445.72847590169,255258.35533701081,289978.1911663739,295934.8155901517,585913.0067565256,null,2026,120923.12567993897,125250.64626154916,246173.77194148814,27747.23489890356,26512.573688184308,54259.808587087871,125250.64626154916,140490.80751052051,143916.09865448964,284406.90616501018,null,2026,339748.47006233054,346772.18972030265,686520.65978263319,83189.792169466236,78956.09379195908,162145.88596142532,346772.18972030265,398755.17888174317,402626.02402528084,801381.20290702395,null,2026,181662.47506934489,190467.90991954147,372130.38498888636,46331.413601306369,43512.35570122952,89843.769302535889,190467.90991954147,215037.27445321114,221624.95172636319,436662.22617957433,null,2026,226056.05025191078,237612.41297820371,463668.46323011449,55048.700045921527,51691.203091890478,106739.90313781201,237612.41297820371,265506.68148134649,274481.77668855753,539988.45816990407,null,2026,214664.73254002916,221812.32520881383,436477.05774884298,52822.137700474326,50048.610614385711,102870.74831486004,221812.32520881383,252776.64845846526,257970.24011346255,510746.88857192779,null,2026,211079.83966923927,215904.14026140969,426983.97993064893,49626.576489191262,47280.523015531129,96907.099504722399,215904.14026140969,246910.59545407168,249989.22912590182,496899.82457997347,null,2026,492950.2620442225,518237.33159913914,1011187.5936433617,122315.78812234548,115642.80879601726,237958.59691836272,518237.33159913914,582703.71659714007,602890.2158453915,1185593.9324425315,null,2026,257576.4132866796,273272.81061798579,530849.22390466533,61790.459110974742,58829.88084218849,120620.33995316323,273272.81061798579,302021.32348654425,315271.60317269864,617292.92665924295,null,2026,237188.34705506355,251964.5653739374,489152.91242900095,55536.7312643041,52284.876610161562,107821.60787446567,251964.5653739374,276942.97881720203,289424.03486935393,566367.0136865559,null,2026,484430.2167682178,514599.69127099996,999029.90803921781,115323.67950107681,108898.69991051537,224222.37941159218,514599.69127099996,567021.3799791761,592265.59772713913,1159286.9777063152]
[2027,4440419.0343772899,4658276.3910829704,9098695.4254602604,1097190.9347857856,1037276.1517036444,2134467.0864894302,4658276.3910829704,5236396.9466746803,5408572.0655247858,10644969.012199467,null,2027,565744.48715418228,601237.87440960598,1166982.3615637883,142981.11514836023,133904.27034830762,276885.38549666782,601237.87440960598,673844.83265194693,702316.41277153592,1376161.2454234827,null,2027,597876.57630694984,630920.44061610452,1228797.0169230544,167892.19729807277,159125.46698457436,327017.66428264714,630920.44061610452,720716.53796401375,746948.34062046581,1467664.8785844794,null,2027,265517.15898022213,278769.46921508777,544286.6281953099,65467.462969671265,61517.524451340854,126984.98742101212,278769.46921508777,312810.91550643637,323117.84909504355,635928.76460147998,null,2027,248179.96921183381,255927.12134252733,504107.09055436112,58506.549292579948,56117.546378823317,114624.09567140327,255927.12134252733,290296.89868859551,296264.84416254715,586561.74285114266,null,2027,120571.63885915039,124819.90864455435,245391.54750370473,27227.133986183755,26131.822809290145,53358.956795473903,124819.90864455435,139814.24119950799,143186.6773558697,283000.91855537769,null,2027,339429.19788668933,346001.92822420952,685431.1261108988,82166.587180850664,77899.344872883419,160065.93205373408,346001.92822420952,397543.72141430568,401048.9588200521,798592.68023435771,null,2027,181759.78288866935,190589.05997749255,372348.8428661619,46022.4445213211,43099.347486694984,89121.792008016084,190589.05997749255,214833.61669578892,221319.17590277456,436152.79259856348,null,2027,225825.321090062,237302.21395272287,463127.53504278488,54554.226759702171,51103.637015932363,105657.86377563453,237302.21395272287,264821.84024372482,273778.52262240759,538600.3628661324,null,2027,214695.04317214849,221798.10071564597,436493.14388779446,52294.479399523887,49587.405885316854,101881.88528484074,221798.10071564597,252348.51118428164,257459.55001811564,509808.06120239728,null,2027,210725.49607845617,215500.57167811517,426226.06775657134,48989.546373669553,46788.888196641165,95778.434570310725,215500.57167811517,246030.2820692682,249098.88116911007,495129.16323837824,null,2027,494030.00125819468,518996.12041754613,1013026.1216757408,121524.63144325939,114950.94188902609,236475.57333228548,518996.12041754613,582806.54638114024,602670.83365035476,1185477.3800314949,null,2027,257067.1337404536,272677.72609116446,529744.85983161803,61016.524702995506,58073.407308306159,119089.93201130166,272677.72609116446,300909.46591005108,314080.86554379232,614990.33145384339,null,2027,236590.41699291122,251322.31490061461,487912.73189352581,54891.556219739497,51624.403827117174,106515.96004685666,251322.31490061461,275777.49747980823,288217.72227872594,563995.21975853411,null,2027,482406.81075736642,512413.54089757922,994820.35165494564,113656.4794898559,107352.14424939,221008.6237392459,512413.54089757922,563842.0392858109,589063.43151399086,1152905.4707998019]
[2028,4447190.9384412663,4664718.4754470205,9111909.4138882868,1085487.1791935838,1025142.1992258573,2110629.3784194416,4664718.4754470205,5235550.9441009983,5407117.7898580758,10642668.733959071,null,2028,570298.35169003718,605436.31290536292,1175734.6645954,143314.48799666553,134188.09477722782,277502.58277389337,605436.31290536292,678466.66330278444,706401.14680009393,1384867.8101028784,null,2028,603088.87337080506,637167.50381780043,1240256.3771886055,167525.79959115281,158771.62266189262,326297.42225304543,637167.50381780043,725709.44454976579,752888.38646748092,1478597.8310172467,null,2028,265679.00348395872,278970.14052265574,544649.14400661446,64681.870983689143,60639.210892540767,125321.0818762299,278970.14052265574,312279.37874087685,322720.92346339935,635000.3022042762,null,2028,248727.90850486726,256649.28413723211,505377.19264209934,57939.722841936302,55454.215672465849,113393.93851440215,256649.28413723211,290490.54298150976,296476.2259360652,586966.76891757501,null,2028,120130.27975375149,124319.23342741508,244449.51318116655,26719.606052341369,25546.46221327793,52266.068265619295,124319.23342741508,139124.39544380805,142435.56580445665,281559.96124826471,null,2028,338842.70081608219,345112.00512789021,683954.70594397234,80684.586584152945,76452.832981589949,157137.41956574289,345112.00512789021,396276.77845295687,399398.42662823567,795675.20508119254,null,2028,181894.36965315868,190537.88863954096,372432.25829269964,45404.188417362995,42480.831649380867,87885.020066743862,190537.88863954096,214578.18828248628,220957.3325023464,435535.52078483265,null,2028,225518.04671720852,237043.79787317803,462561.84459038655,53706.709480973739,50259.79118985989,103966.50067083363,237043.79787317803,264072.71179336379,273009.8296279654,537082.54142132914,null,2028,214737.75484760618,221776.5356056586,436514.29045326478,51564.81571285129,48838.459497707161,100403.27521055845,221776.5356056586,251860.92767358659,256886.75186595367,508747.67953954026,null,2028,210390.35118482579,215120.47635132293,425510.82753614872,48259.801585777517,45998.640321791427,94258.441907568951,215120.47635132293,245097.40243801507,248157.47559550626,493254.87803352135,null,2028,494992.90134924487,519639.86047234194,1014632.7618215869,120301.73940925028,113689.80946438535,233991.54887363565,519639.86047234194,582731.2467275142,602272.80192315369,1185004.048650668,null,2028,256556.52040046692,272087.87460550875,528644.39500597562,59966.434155644602,56994.965211793482,116961.39936743808,272087.87460550875,299740.87393806508,312829.86367307481,612570.73761113989,null,2028,235997.1706028475,250596.33322255078,486593.50382539828,53833.984549557295,50739.993136215882,104573.97768577318,250596.33322255078,274558.60581075825,286954.17951217451,561512.78532293276,null,2028,480336.70606640674,510261.22873856209,990597.93480496877,111583.43183222789,105087.26955572843,216670.70138795633,510261.22873856209,560563.78396550613,585728.88005816808,1146292.6640236741]
[2029,4452095.2641964257,4669071.2842318453,9121166.548428271,1071104.023267447,1011057.8924119011,2082161.9156793484,4669071.2842318453,5233225.2497133203,5404170.7536088265,10637396.003322151,null,2029,574541.13828962191,609101.96323029255,1183643.1015199143,143245.16784863838,134080.70375563062,277325.87160426902,609101.96323029255,682865.36760217324,710270.94992757635,1393136.3175297496,null,2029,607935.74151036411,642961.70276211877,1250897.4442724828,166755.64769313359,157927.6406964793,324683.28838961292,642961.70276211877,730305.75469157519,758465.73389863456,1488771.4885902097,null,2029,265630.66494607157,278993.59894748376,544624.26389355538,63669.333928827538,59682.461762468432,123351.79569129596,278993.59894748376,311645.282817917,322218.62568446458,633863.90850238153,null,2029,249087.97336238957,257109.27718497589,506197.25054736546,57168.729804279741,54702.745840842988,111871.47564512273,257109.27718497589,290564.78020610969,296572.63171306619,587137.41191917588,null,2029,119698.71792137592,123811.94992765045,243510.66784902639,26094.638805352617,24967.819429597454,51062.458234950071,123811.94992765045,138422.44783375826,141665.24185459135,280087.68968834961,null,2029,338180.1631031094,344052.67002905364,682232.83313216304,79055.307178234376,74854.179344816584,153909.48652305096,344052.67002905364,394959.45125542575,397675.00273523637,792634.45399066212,null,2029,181955.40874021465,190486.17814025938,372441.586880474,44715.711966890012,41704.2648024632,86419.976769353205,190486.17814025938,214273.60920204857,220541.27372013859,434814.88292218716,null,2029,225169.93280507909,236722.09008108234,461892.02288616146,52784.626201858206,49380.504465201804,102165.13066706,236722.09008108234,263265.19811629807,272179.75243817893,535444.95055447705,null,2029,214592.40235480308,221584.30667564433,436176.70903044741,50716.862510261883,48113.797766640841,98830.660276902723,221584.30667564433,251314.34061066873,256255.25971800464,507569.60032867338,null,2029,209897.09787614195,214644.58500230504,424541.682878447,47350.28105899111,45162.645305620892,92512.926364612009,214644.58500230504,244116.59950606123,247173.86677490553,491290.46628096676,null,2029,495818.18369242223,520258.47532734444,1016076.6590197666,118670.87939956368,112021.57569802183,230692.45509758551,520258.47532734444,582485.85058491142,601715.11748617352,1184200.9680710849,null,2029,256072.86262883036,271462.64963327069,527535.51226210105,58798.893183512839,55818.765603069405,114617.65878658224,271462.64963327069,298523.21142236603,311524.01525710832,610047.22667947435,null,2029,235407.19984913009,249894.41850734796,485301.61835647805,52739.835697823473,49712.379754668749,102452.21545249222,249894.41850734796,273289.00066499959,285639.67077240953,558928.67143740912,null,2029,478107.77711687179,507987.41878301697,986095.19589988876,109338.10799007986,102928.40818637903,212266.51617645891,507987.41878301697,557194.35519900871,582273.61162833904,1139467.9668273479]
[2030,4457322.7177575463,4672997.8099793438,9130320.5277368892,1057641.5476393427,997317.63119406893,2054959.178833412,4672997.8099793438,5229545.2748872619,5399745.2842725832,10629290.559159841,null,2030,578764.79215985432,612796.26356727944,1191561.0557271338,143160.41346355205,133870.83933431256,277031.25279786461,612796.26356727944,687046.56226929766,713917.60287948081,1400964.1651487784,null,2030,612597.56724945921,648567.71453145985,1261165.2817809191,166060.06983834796,157155.21516302333,323215.28500137129,648567.71453145985,734519.18370019482,763678.19312540011,1498197.3768255948,null,2030,265557.93911790173,279007.32270556357,544565.26182346535,62724.011888941124,58753.554983391237,121477.56687233236,279007.32270556357,310914.48102492653,321613.80578573153,632528.28681065806,null,2030,249503.85202144337,257513.29529396637,507017.14731540973,56351.49052678173,53978.005285239517,110329.49581202125,257513.29529396637,290526.88889192697,296555.91356025008,587082.80245217704,null,2030,119286.92184044943,123302.08540406314,242589.00724451256,25512.998086870524,24470.385418642232,49983.383505512757,123302.08540406314,137712.368451799,140877.01988409692,278589.38833589596,null,2030,337629.45555182017,343014.79725256539,680644.2528043855,77600.076224123099,73456.303973944538,151056.38019806764,343014.79725256539,393597.66360213043,395877.10081552342,789474.7644176539,null,2030,182017.76692317909,190406.18538573125,372423.95230891032,44049.22711291787,41010.599345590992,85059.826458508862,190406.18538573125,213926.60862800651,220071.69099644653,433998.29962445307,null,2030,224833.1891352954,236322.87533568963,461156.06447098503,51919.89571357776,48419.921591028469,100339.81730460623,236322.87533568963,262405.38993707515,271290.50447066687,533695.89440774196,null,2030,214552.82271560893,221422.4856717276,435975.30838733655,50038.122548030806,47307.532908931273,97345.655456962078,221422.4856717276,250716.8018552789,255568.75495551017,506285.55681078904,null,2030,209486.95166987856,214191.79014139698,423678.74181127554,46537.689725397999,44406.46016981679,90944.149895214796,214191.79014139698,243094.05410707853,246149.09374771663,489243.14785479516,null,2030,496698.80097071914,520743.0950879606,1017441.8960586798,117077.31753042628,110321.4261382805,227398.7436687068,520743.0950879606,582091.22136748559,601001.41044053517,1183092.6318080206,null,2030,255554.94981294227,270802.06936483982,526357.01917778212,57677.279974493489,54624.46692112874,112301.74689562223,270802.06936483982,297262.61966447387,310167.14398105862,607429.76364553254,null,2030,234789.66112754456,249188.44728739504,483978.1084149396,51754.762400133754,48784.664672302461,100539.42707243621,249188.44728739504,271979.07369083335,284279.17936572724,556258.25305656064,null,2030,476048.04746145068,505719.38294970477,981767.43041115545,107178.19260574838,100758.25528843631,207936.44789418468,505719.38294970477,553752.35769675486,578697.87026443821,1132450.2279611931]
[2031,4460598.0027707098,4674888.8924052157,9135486.8951759245,1044355.8566873919,984586.23762768833,2028942.09431508,4674888.8924052157,5224604.1136141829,5393956.8151163096,10618560.928730492,null,2031,582725.45505041862,616215.72762536479,1198941.1826757835,142994.25406970398,133765.95360130235,276760.20767100633,616215.72762536479,691017.6879026196,717353.89088363317,1408371.5787862528,null,2031,616799.14641835773,653731.42026476469,1270530.5666831224,165236.23756671353,156402.66507294605,321638.90263965959,653731.42026476469,738366.14822047856,768540.46306896303,1506906.6112894416,null,2031,265357.61106025259,278887.31310411164,544244.92416436423,61832.183472376979,57849.298502565907,119681.48197494289,278887.31310411164,310094.55020911794,320913.946441882,631008.49665099988,null,2031,249773.88074906668,257778.43857365253,507552.31932271924,55648.758661706001,53270.833573633055,108919.59223533905,257778.43857365253,290380.36042534857,296432.49579230556,586812.85621765419,null,2031,118838.10381357174,122749.10362706792,241587.20744063967,25016.557156483919,23999.72589853801,49016.28305502193,122749.10362706792,136994.0536176544,140072.60170727191,277066.65532492631,null,2031,336951.24230393249,341826.8194545898,678778.06175852229,76264.34683449204,72244.834831722605,148509.18166621466,341826.8194545898,392193.18585021229,394008.98903480242,786202.17488501477,null,2031,182000.8691736995,190237.91614066999,372238.78531436948,43373.720099667931,40393.750958944183,83767.471058612107,190237.91614066999,213539.99709171848,219552.91379022252,433092.91088194097,null,2031,224407.58779381274,235832.23966433862,460239.82745815138,51083.490769588498,47686.269955161428,98769.760724749925,235832.23966433862,261499.15073510268,270348.03360544407,531847.18434054672,null,2031,214427.28584976838,221172.98912576196,435600.27497553034,49191.243563759039,46585.220999558842,95776.464563317888,221172.98912576196,250072.69646219828,254831.48723425891,504904.18369645718,null,2031,209006.20323760775,213674.3150243492,422680.51826195698,45762.393840488985,43643.946529633889,89406.340370122867,213674.3150243492,242034.19499574791,245090.57656528751,487124.77156103542,null,2031,497373.02095819119,521017.0909939144,1018390.1119521055,115460.17148948816,108720.47162836461,224180.64311785277,521017.0909939144,581566.41835170519,600146.10094326863,1181712.5192949739,null,2031,254956.87196326294,270050.84347399173,525007.71543725464,56631.231633243544,53567.634715543732,110198.86634878727,270050.84347399173,295967.64529153076,308765.65243582107,604733.29772735178,null,2031,234105.2763948341,248412.31354651367,482517.58994134777,50739.465310926797,47823.023950860763,98562.489261787559,248412.31354651367,270633.66646145954,282881.00793761626,553514.6743990758,null,2031,473875.44800393301,503302.36178612412,977177.80979005713,105121.80221875253,98632.607408913114,203754.40962766565,503302.36178612412,550244.35799928871,575018.65567553148,1125263.0136748203]
[2032,4462694.8481736844,4675417.6170211043,9138112.4651947916,1036030.0009829038,976525.45278253756,2012555.4537654412,4675417.6170211043,5219199.9077468421,5387508.3789108749,10606708.286657721,null,2032,586637.08926691755,619565.54036277335,1206202.6296296909,143284.52925257795,133995.39000707294,277279.91925965087,619565.54036277335,694997.67249821627,720779.42416805122,1415777.0966662676,null,2032,620716.44103740074,658592.67502392002,1279309.1160613208,164935.71974845289,156070.79732563675,321006.51707408961,658592.67502392002,742029.30553896679,773195.74007333384,1515225.0456123007,null,2032,265071.99583742017,278674.23833818163,543746.23417560174,61227.915316108105,57321.223673599059,118549.13898970716,278674.23833818163,309233.40812365123,320163.46762580756,629396.87574945879,null,2032,249973.45238143401,257967.51782834486,507940.97020977887,55315.710418748546,52870.55862886984,108186.26904761838,257967.51782834486,290208.092656694,296275.5041154616,586483.59677215561,null,2032,118353.22177761764,122151.83712557807,240505.05890319572,24665.594214458673,23679.400420687969,48344.994635146642,122151.83712557807,136262.09877015746,139245.41705393777,275507.51582409523,null,2032,336160.43164370669,340501.99719541491,676662.4288391216,75298.966640485974,71380.320550067278,146679.28719055327,340501.99719541491,390746.87019225472,392072.33949884021,782819.20969109493,null,2032,181919.43397411812,189992.73080277286,371912.164776891,43030.883804696809,39935.100116666981,82965.98392136379,189992.73080277286,213124.53297003167,218992.86973440903,432117.4027044407,null,2032,223912.6530989552,235262.74494540883,459175.39804436406,50556.830416453748,47231.487780282849,97788.318196736596,235262.74494540883,260563.48430676098,269366.05225007399,529929.53655683494,null,2032,214235.61586819869,220853.24200927073,435088.85787746939,48646.865908704494,46015.200628638238,94662.066537342733,220853.24200927073,249398.40388402349,254059.70565663037,503458.10954065388,null,2032,208461.10956307873,213092.1226300202,421553.23219309893,45130.533691782584,43065.087421551434,88195.621113334026,213092.1226300202,240938.44647612338,243995.54495316849,484933.9914292919,null,2032,498021.62750281318,521251.83526192931,1019273.4627647426,114299.63388685267,107582.52319622357,221882.15708307625,521251.83526192931,581133.72888473468,599367.60916963511,1180501.3380543697,null,2032,254282.12390837842,269210.72721407824,523492.85112245666,55917.780459115675,52879.714190470906,108797.49464958659,269210.72721407824,294639.66149265366,307318.08971777791,601957.75121043157,null,2032,233354.65436723517,247562.8861952326,480917.54056246777,50047.143730963835,47147.930291057317,97195.074022021145,247562.8861952326,269253.58716470777,281441.20171647024,550694.78888117801,null,2032,471594.99794641061,500737.52208817878,972332.52003458934,103671.89349350189,97350.718551712504,201022.6120452144,500737.52208817878,546670.6147878652,571235.41317727719,1117906.0279651424]
[2033,4463703.1614979841,4674643.8860583017,9138347.0475562848,1027795.0008008049,968208.6868486735,1996003.6876494782,4674643.8860583017,5213497.8995111743,5380526.319209436,10594024.218720611,null,2033,590498.49896284856,622857.15122065262,1213355.6501835012,143486.97188969457,134037.3473520164,277524.31924171094,622857.15122065262,698996.05716374493,724214.46935773583,1423210.5265214806,null,2033,624372.81565787806,663158.65825102001,1287531.473908898,164761.72880259604,155836.16184571435,320597.89064831042,663158.65825102001,745534.93472388224,777652.66618692537,1523187.6009108075,null,2033,264708.69128966966,278373.30096656171,543081.99225623137,60459.588285548693,56658.152114796554,117117.74040034524,278373.30096656171,308343.13017821207,319371.90282311564,627715.03300132765,null,2033,250106.5654057244,258082.31310146253,508188.87850718689,54934.229650693276,52339.450727483854,107273.68037817713,258082.31310146253,290017.23539721075,296089.74927964807,586106.98467685888,null,2033,117833.63211125777,121512.9859862452,239346.61809750297,24394.94812018982,23410.441941791156,47805.390061980972,121512.9859862452,135517.65010287342,138397.80420647853,273915.45430935198,null,2033,335269.57893317542,339052.97274907999,674322.55168225546,74566.978585844219,70582.697041255014,145149.67562709923,339052.97274907999,389271.14764488506,390079.01280921506,779350.16045410011,null,2033,181777.08633858,189675.44559125337,371452.53192983335,42620.118675648075,39611.015677394942,82231.134353043017,189675.44559125337,212685.47351848177,218397.55620356876,431083.02972205053,null,2033,223356.11751245213,234620.72977358452,457976.84728603665,50073.339941352715,46691.296378317827,96764.636319670535,234620.72977358452,259607.6973381248,268352.34294111078,527960.04027923557,null,2033,213983.20372694367,220467.11563013322,434450.31935707689,48062.59431853245,45421.286633845848,93483.880952378298,220467.11563013322,248702.80800345796,253260.28992756471,501963.09793102264,null,2033,207850.48918546524,212445.8400392386,420296.32922470383,44459.197906928712,42441.776779423766,86900.974686352478,212445.8400392386,239811.33884719896,242869.55057659475,482680.88942379371,null,2033,498660.18559890857,521445.20946989232,1020105.3950688009,113216.86761998979,106516.17915212072,219733.04677211051,521445.20946989232,580824.40789810847,598678.4408286619,1179502.8487267704,null,2033,253533.58904556229,268285.50487964402,521819.09392520634,55190.919479649478,52164.291329586733,107355.21080923622,268285.50487964402,293287.33190891118,305833.39649422816,599120.72840313939,null,2033,232539.57447403477,246641.07428161136,479180.64875564614,49334.679007722632,46534.688161302838,95869.367169025471,246641.07428161136,267846.53930154134,279966.05904437735,547812.5983459187,null,2033,469213.13325548411,498025.58411792177,967238.71737340582,102232.83851641446,95963.901713623374,198196.74023003783,498025.58411792177,543052.14748454082,567363.07853021065,1110415.2260147515]
[2034,4463711.8417909043,4672592.919492132,9136304.7612830363,1020651.7697957259,961140.98807404633,1981792.7578697726,4672592.919492132,5207650.1109790839,5373089.8213705318,10580739.932349617,null,2034,594322.06146211724,626084.84278152802,1220406.9042436453,143863.43505573881,134469.37447416977,278332.80952990858,626084.84278152802,703034.27457845502,727660.57581964717,1430694.8503981023,null,2034,627779.77196102182,667437.77505081263,1295217.5470118346,164648.98808520011,155773.35352503945,320422.34161023959,667437.77505081263,748897.08750167314,781921.60853655008,1530818.6960382233,null,2034,264272.55396291561,277984.96251088323,542257.51647379878,59845.540002590205,56112.356297364058,115957.89629995427,277984.96251088323,307432.04437600111,318543.34577714826,625975.39015314938,null,2034,250179.05929552345,258122.821661753,508301.88095727644,54663.249374986437,51995.218215224602,106658.46759021105,258122.821661753,289816.90083187737,295878.37134950561,585695.27218138298,null,2034,117283.49936659327,120834.81731550193,238118.3166820952,24110.341701162826,23135.160088505465,47245.501789668291,120834.81731550193,134764.62119143241,137531.27824586639,272295.89943729877,null,2034,334289.03861714416,337486.12157611951,671775.16019326367,73887.150162010745,69904.285031150357,143791.4351931611,337486.12157611951,387774.83205921506,388033.36886546633,775808.20092468138,null,2034,181580.56351097801,189289.39200336253,370869.95551434055,42255.79885048727,39253.967215682002,81509.766066169279,189289.39200336253,212229.77686194674,217770.25718420465,430000.03404615138,null,2034,222742.24548491923,233907.72142565469,456649.96691057389,49604.940066473777,46183.85540805557,95788.795474529354,233907.72142565469,258638.4710349791,267310.12940676423,525948.60044174339,null,2034,213674.76818188059,220014.26407668483,433689.03225856542,47639.712225156429,44969.50011193828,92609.212337094708,220014.26407668483,247994.55394670783,252436.42407340583,500430.97802011366,null,2034,207181.27688966956,211734.78977668262,418916.06666635221,43927.596307316468,41900.19903181844,85827.7953391349,211734.78977668262,238663.09819882011,241714.98420333469,480378.0824021548,null,2034,499295.83437748492,521608.19963094138,1020904.0340084264,112244.01611033856,105452.76161413048,217696.77772446902,521608.19963094138,580658.52146610187,598100.89601514279,1178759.4174812445,null,2034,252716.5732621827,267275.09040728986,519991.66366947256,54429.853765767606,51467.914711137462,105897.76847690507,267275.09040728986,291920.89402123337,304316.01266270207,596236.90668393543,null,2034,231663.94804982952,245647.70852440159,477311.65657423111,48605.044196648603,45881.670931114182,94486.715127762785,245647.70852440159,266421.39151997812,278460.96266439295,544882.35418437107,null,2034,466730.64736864471,495164.41275051498,961895.06011915975,100926.10389184802,94641.371418716299,195567.47531056433,495164.41275051498,539403.64339066425,563411.60656640062,1102815.2499570649]
[2035,4462687.5562771596,4669287.6802854426,9131975.2365626022,1012500.4904473108,953631.76399162598,1966132.2544389367,4669287.6802854426,5201735.5304901488,5365321.6392653333,10567057.169755483,null,2035,598104.22202092374,629260.71193039522,1227364.933951319,144130.33475117126,134727.93385407169,278858.26860524295,629260.71193039522,707121.19633007527,731140.84556164208,1438262.0418917174,null,2035,630936.22249790817,671433.24210650055,1302369.4646044087,164424.2776864848,155610.00290167821,320034.280588163,671433.24210650055,752121.50592514547,786012.3852848853,1538133.8912100308,null,2035,263762.58190861851,277510.70705285517,541273.28896147362,59201.991706414163,55515.027550681523,114717.01925709569,277510.70705285517,306506.93802028679,317686.3653061394,624193.30332642619,null,2035,250187.94273178958,258091.82930216193,508279.77203395148,54265.019463286386,51630.933118643654,105895.95258193003,258091.82930216193,289610.05592419283,295649.46761109208,585259.52353528491,null,2035,116703.95534373651,120120.09471897523,236824.05006271176,23805.732163293851,22851.116703821142,46656.848867114997,120120.09471897523,134005.83900872548,136650.24791812652,270656.086926852,null,2035,333223.3526495049,335808.60149030713,669031.95413981203,73078.439708283142,69151.974591716891,142230.41430000003,335808.60149030713,386265.50464241306,385944.47770877648,772209.98235118948,null,2035,181331.84480112433,188836.79932947739,370168.64413060172,41866.57282821821,38889.63656276602,80756.209390984237,188836.79932947739,211761.42383006276,217114.72438343332,428876.14821349608,null,2035,222071.74634832412,233124.52362950257,455196.26997782668,49102.612881979709,45720.995804639562,94823.608686619264,233124.52362950257,257661.40891021973,266244.58807628369,523905.99698650342,null,2035,213306.27429821584,219495.12938073193,432801.40367894777,47092.044417580662,44461.452291133814,91553.496708714476,219495.12938073193,247276.85414397251,251595.10002879307,498871.9541727656,null,2035,206445.42783977964,210957.79480546052,417403.22264524014,43297.887925677554,41318.78223566954,84616.670161347094,210957.79480546052,237492.69116814985,240537.24467702923,478029.93584517908,null,2035,499921.62850500143,521734.45910653367,1021656.0876115351,111205.14213770675,104497.59253781127,215702.734675518,521734.45910653367,580648.40811934462,597645.43042424647,1178293.8385435911,null,2035,251826.86577732238,266181.87859647925,518008.74437380163,53696.212950143061,50788.436444107385,104484.64939425045,266181.87859647925,290543.76039610023,302775.09354151477,593318.85393761494,null,2035,230723.97929923952,244579.89793119355,475303.87723043305,47894.915424639956,45217.688377543069,93112.603802183032,244579.89793119355,264983.18839791848,276930.99491535284,541914.18331327126,null,2035,464141.51225567074,492152.01090486872,956293.52316053945,99439.306402431306,93250.191017342309,192689.4974197736,492152.01090486872,535736.75567354204,559394.67382801685,1095131.4295015589]
[2036,4460706.8430564683,4664846.6854977012,9125553.5285541713,1005611.1482740389,947315.4485602479,1952926.596834287,4664846.6854977012,5195860.9484326467,5357360.6312429542,10553221.579675602,null,2036,601852.40382924443,632394.37650045787,1234246.7803297024,144532.01730834952,135125.85562325604,279657.87293160555,632394.37650045787,711267.6714862294,734667.11583403556,1445934.7873202651,null,2036,633860.64584341529,675162.70917745971,1309023.3550208751,164360.07035554992,155597.95162940648,319958.0219849564,675162.70917745971,755221.53187159984,789937.39591984032,1545158.9277914402,null,2036,263180.46980986663,276952.57765892736,540133.04746879404,58635.492863693304,54992.54160676161,113628.03447045491,276952.57765892736,305573.154928973,316805.83531047177,622378.99023944477,null,2036,250139.81887490858,257996.1774568409,508135.99633174948,53940.375688157677,51332.981163967212,105273.35685212488,257996.1774568409,289404.31630122603,295410.58031521406,584814.89661644003,null,2036,116098.56967457407,119372.69664211012,235471.2663166842,23534.992626988002,22598.915965070701,46133.908592058702,119372.69664211012,133243.4980446923,135757.52485464636,269001.02289933863,null,2036,332082.94701123703,334040.39280438144,666123.33981561847,72374.075679637244,68494.986630720843,140869.0623103581,334040.39280438144,384749.07587398344,383827.21613947651,768576.29201345996,null,2036,181034.34455116675,188322.06707033105,369356.41162149783,41532.647707703443,38577.518280893208,80110.165988596651,188322.06707033105,211284.4384904785,216435.15747840211,427719.59596888057,null,2036,221348.42898276472,232280.56107293663,453628.99005570135,48666.678453130742,45318.12337032675,93984.801823457499,232280.56107293663,256680.18077440083,265164.78520981513,521844.96598421596,null,2036,212879.88191459252,218912.05405179132,431791.93596638384,46610.43624356002,44014.947733206507,90625.383976766519,218912.05405179132,246553.76600400446,250740.05174619629,497293.81775020075,null,2036,205648.88878750557,210118.41849316758,415767.30728067318,42722.793661795818,40787.249182419764,83510.042844215583,210118.41849316758,236308.37256040232,239341.58286372086,475649.95542412321,null,2036,500547.08010237088,521839.87933690689,1022386.9594392778,110369.94429105546,103730.81498087916,214100.75927193463,521839.87933690689,580813.81972901896,597336.64749234135,1178150.4672213602,null,2036,250868.79931514873,265008.56674014934,515877.36605529807,53037.546098984945,50180.718692066395,103218.26479105133,265008.56674014934,289164.04718029022,301216.04252689361,590380.08970718388,null,2036,229720.22458344069,243443.73779921458,473163.96238265524,47243.329706607867,44611.131981382881,91854.461687990755,243443.73779921458,263536.65280034568,275385.58557954809,538922.23837989382,null,2036,461444.33977623272,489002.47069302597,950446.81046925869,98050.747588825048,91951.711719890358,190002.45930871542,489002.47069302597,532060.42238700076,555335.10997235333,1087395.5323593542]
[2037,4457791.7318046261,4659329.4102529194,9117121.1420575455,999775.09478311427,941998.03845314053,1941773.1332362548,4659329.4102529194,5190063.2518466404,5349272.1943714619,10539335.446218101,null,2037,605571.34177725879,635494.17866908631,1241065.5204463452,145031.45897904001,135616.41911262425,280647.87809166429,635494.17866908631,715481.6021799735,738249.51863155083,1453731.1208115243,null,2037,636560.91332957451,678635.15504902578,1315196.0683786003,164419.9263918752,155701.59795057864,320121.52434245381,678635.15504902578,758200.7514518731,793700.96936201537,1551901.7208138886,null,2037,262527.78327073978,276315.87410187663,538843.65737261646,58135.938416914192,54533.087539117834,112669.02595603203,276315.87410187663,304633.64206100802,315907.56317590369,620541.20523691177,null,2037,250036.52937323417,257838.47498097317,507875.00435420731,53678.843775701265,51095.279197082738,104774.12297278401,257838.47498097317,289202.75205527619,295165.46312025259,584368.21517552878,null,2037,115470.43036644642,118597.94835787489,234068.37872432132,23291.114204897891,22372.251197512793,45663.36540241068,118597.94835787489,132478.88980551439,134856.56771450196,267335.45752001635,null,2037,330873.55920045514,332190.04285758891,663063.60205804405,71752.122930981364,67914.798254797963,139666.92118577933,332190.04285758891,383225.43015423988,381684.70911625994,764910.13927049981,null,2037,180689.75419665169,187752.12191270033,368441.87610935199,41245.224561436786,38309.161744559722,79554.386305996508,187752.12191270033,210799.73762269769,215736.94968124482,426536.68730394251,null,2037,220573.25408310286,231375.71260354744,451948.9666866503,48286.862464111706,44968.249038633629,93255.111502745334,231375.71260354744,255696.72149053126,264070.74686690979,519767.46835744102,null,2037,212397.53014715115,218269.72583130922,430667.25597846037,46182.925799012024,43620.763419826908,89803.689218838932,218269.72583130922,245827.94292482323,249876.22770314914,495704.17062797234,null,2037,204789.30117980772,209217.00603997297,414006.30721978069,42192.044706528803,40297.952217529535,82489.99692405833,209217.00603997297,235108.96196883518,238129.12519516519,473238.08716400038,null,2037,501174.62224926683,521928.73589102522,1023103.3581402921,109723.65598757923,103144.17171127332,212867.82769885255,521928.73589102522,581164.18155972566,597184.28896930092,1178348.4705290266,null,2037,249842.93698646914,263760.0494140581,513602.98640052724,52444.974752109192,49635.061737815893,102080.03648992509,263760.0494140581,287784.3081337444,299644.85134254344,587429.1594762879,null,2037,228651.85343855561,242235.83942610433,470887.69286465994,46644.944912646883,44055.306265505831,90700.251178152714,242235.83942610433,262083.94739221392,273823.7412964243,535907.68868863815,null,2037,458631.92220591189,485718.54511777556,944350.46732368739,96745.056900279713,90733.939066281368,187478.99596656108,485718.54511777556,528374.38304618374,551241.47219624021,1079615.8552424239]
[2038,4453978.2512433855,4652816.5373141533,9106794.7885575388,994918.17150933028,937604.09379386995,1932522.2653032006,4652816.5373141533,5184374.325017171,5341128.900317017,10525503.225334188,null,2038,609267.27609353815,638580.8427029266,1247848.1187964648,145626.79247773162,136197.31274077663,281824.10521850828,638580.8427029266,719766.83349182119,741906.02174672193,1461672.8552385431,null,2038,639042.53646122129,681863.36068520311,1320905.8971464243,164587.44758227741,155904.19133493135,320491.63891720877,681863.36068520311,761057.44409623789,797309.29626814905,1558366.7403643869,null,2038,261807.58970509129,275601.44438742392,537409.03409251524,57697.685606439598,54130.780657443916,111828.46626388351,275601.44438742392,303692.54271430615,314992.78317738295,618685.32589168916,null,2038,249878.35944834346,257623.29304793794,507501.65249628143,53475.892606332127,50913.041914114357,104388.93452044649,257623.29304793794,289005.6985975242,294918.27699115325,583923.97558867745,null,2038,114820.50263532285,117798.49837687834,232619.00101220119,23071.641403636939,22168.235892241864,45239.877295878803,117798.49837687834,131712.10927809685,133948.85088273886,265660.9601608357,null,2038,329605.25571866945,330270.76529945491,659876.02101812442,71202.464346275461,67401.887004473858,138604.35135074932,330270.76529945491,381699.10682072554,379525.26260330144,761224.36942402693,null,2038,180305.18556648592,187132.89032051401,367438.07588699996,40999.944899863025,38080.655500981826,79080.600400844851,187132.89032051401,210312.446144772,215024.25232177557,425336.69846654753,null,2038,219749.85062360394,230417.84887270303,450167.69949630694,47955.751455443497,44663.956803836991,92619.70825928048,230417.84887270303,254713.58755374284,262968.87273442285,517682.46028816572,null,2038,211862.80011935203,217569.90088552196,429432.70100487396,45805.172963851313,43274.401642663834,89079.574606515147,217569.90088552196,245102.55577005117,249004.76030481316,494107.31607486436,null,2038,203864.46787474875,208254.14726766202,412118.61514241074,41703.588895070025,39848.767545271781,81552.356440341799,208254.14726766202,233894.97155464476,236902.85656619378,470797.8281208385,null,2038,501801.88717917877,522001.21673391038,1023803.1039130891,109263.36871054824,102734.29878049876,211997.667491047,522001.21673391038,581703.58609385369,597193.79821780836,1178897.3843116621,null,2038,248749.02696130084,262440.36254707037,511189.38950837124,51913.055661946695,49146.177748398433,101059.23341034513,262440.36254707037,286404.30862846813,298065.28613673255,584469.59476520075,null,2038,227516.6745975971,240960.30520658064,468476.97980417777,46096.106204415657,43546.415192997214,89642.521397412871,240960.30520658064,260625.00496925483,272251.11314449995,532876.11811375478,null,2038,455706.83825893211,482301.66098036594,938008.49923929805,95519.258695498735,89593.971035239112,185113.22973073786,482301.66098036594,524684.12930367119,547117.46922132326,1071801.5985249944]
[2039,4449319.1967755584,4645401.4607349401,9094720.6575104985,990935.72655627911,934032.06554350723,1924967.7920997865,4645401.4607349401,5178803.6164996624,5332980.5792475762,10511784.19574724,null,2039,612948.38221720804,641659.49592516373,1254607.8781423718,146310.51533860597,136860.28634027962,283170.80167888559,641659.49592516373,724127.02442773606,745636.83469048887,1469763.8591182251,null,2039,641308.38063156989,684858.88433234952,1326167.2649639193,164842.51920052216,156186.28236757586,321028.80156809802,684858.88433234952,763784.38067292259,800764.14829271217,1564548.5289656348,null,2039,261020.27257307578,274816.09278742096,535836.3653604968,57313.309861732167,53779.236288344269,111092.54615007644,274816.09278742096,302748.69633179746,314067.09588813182,616815.79221992928,null,2039,249669.97634551811,257356.11265469232,507026.0890002104,53325.849328750883,50780.826528507641,104106.67585725852,257356.11265469232,288814.51046667434,294671.51097332989,583486.02144000423,null,2039,114153.57011115603,116979.73303494058,231133.30314609662,22872.934078621471,21983.246954969047,44856.181033590517,116979.73303494058,130945.83178188771,133037.60992398829,263983.44170587603,null,2039,328288.27531136794,328296.96527508314,656585.24058645102,70713.34554251736,66944.629937151374,137657.97547966873,328296.96527508314,380172.41630161391,377355.34198265907,757527.75828427298,null,2039,179880.60017991922,186469.83398864779,366350.43416856701,40790.290892839723,37885.877067366135,78676.167960205858,186469.83398864779,209819.79476629751,214299.94403865846,424119.73880495597,null,2039,218880.50446593176,229410.45054171796,448290.95500764973,47664.923637235392,44397.878015087073,92062.801652322465,229410.45054171796,253728.93595138303,261858.96393548211,515587.89988686517,null,2039,211276.94203847295,216816.93086916808,428093.87290764099,45471.818727363367,42970.854371523026,88442.673098886386,216816.93086916808,244376.26996236522,248127.60632224579,492503.876284611,null,2039,202880.02391692789,207233.00023435886,410113.02415128675,41253.191825304326,39435.603986560884,80688.795811865217,207233.00023435886,232670.91846522136,235664.80825932682,468335.72672454815,null,2039,502432.9838210126,522070.18299642898,1024503.1668174416,108980.62863124959,102493.24425658456,211473.87288783415,522070.18299642898,582436.85134546948,597378.19325586327,1179815.0446013329,null,2039,247590.2973677582,261051.58505773332,508641.88242549152,51435.137806017563,48707.453826672529,100142.59163269009,261051.58505773332,285024.65815803298,296476.55890463333,581501.21706266631,null,2039,226316.17918350574,239616.30436352853,465932.48354703427,45592.536403992599,43080.399005615996,88672.935409608588,239616.30436352853,259161.09537437776,270666.52417596109,529827.61955033883,null,2039,452672.80861213483,478765.88867370557,931438.6972858404,94368.725281526713,88526.246597269288,182894.971878796,478765.88867370557,520992.23249388294,542975.43860409537,1063967.6710979783]
[2040,4443932.6763574183,4637208.390947694,9081141.0673051141,987775.14155776554,931228.22522951337,1919003.3667872788,4637208.390947694,5173330.6364034722,5324818.2865367299,10498148.922940204,null,2040,616624.93935252377,644751.44809018227,1261376.3874427062,147077.70919797101,137599.78616187282,284677.49535984383,644751.44809018227,728557.64249154204,749448.91849685612,1478006.5609883983,null,2040,643382.50028445479,687634.51273782155,1331017.0130222763,165170.07934483615,156533.68010849887,321703.75945333502,687634.51273782155,766384.04312106676,804058.11171704158,1570442.1548381085,null,2040,260174.95632975714,273962.65264896932,534137.60897872644,56979.493953317389,53475.755509002091,110455.24946231948,273962.65264896932,301802.4183085899,313125.39478590526,614927.8130944951,null,2040,249416.72787707936,257043.31178281308,506460.03965989244,53224.931898984767,50694.957127432426,103919.88902641719,257043.31178281308,288625.6842286404,294423.41220702132,583049.09643566166,null,2040,113472.1453806858,116144.4675955105,229616.61297619631,22692.597800644646,21815.255734882758,44507.853535527407,116144.4675955105,130177.84772530542,132121.48991003417,262299.33763533959,null,2040,326933.17871701019,326286.97129739396,653220.15001440421,70278.301995339614,66536.673307126126,136814.97530246573,326286.97129739396,378642.49392440909,375180.3978479823,753822.89177239139,null,2040,179425.55269928582,185770.08236693387,365195.63506621972,40612.737907481765,37721.207008367295,78333.944915849061,185770.08236693387,209324.30715969903,213564.26291505323,422888.57007475226,null,2040,217971.75053965344,228361.91018144807,446333.66072110151,47410.428032627955,44166.218426609586,91576.646459237541,228361.91018144807,252742.73337663573,260743.07812255787,513485.8114991936,null,2040,210646.51118772166,216018.62102477913,426665.13221250079,45182.305892198667,42708.771041789019,87891.076933987686,216018.62102477913,243649.68618364393,247246.3275149898,490896.01369863376,null,2040,201837.7531085106,206156.46062729374,407994.21373580431,40841.169720422746,39058.797308637419,79899.967029060164,206156.46062729374,231433.49002661981,234413.08390893601,465846.57393555582,null,2040,503079.86213420564,522142.33642639255,1025222.1985605982,108871.32690882561,102416.78799259281,211288.11490141842,522142.33642639255,583363.66663787211,597732.43364697567,1181096.1002848479,null,2040,246371.98834271592,259603.69155764405,505975.67990035994,51007.395710917655,48314.61423247747,99322.009943395125,259603.69155764405,283641.14188019361,294879.16679575678,578520.30867595039,null,2040,225056.54680440674,238207.76429528842,463264.31109969516,45133.324438539326,42656.380079320341,87789.704517859675,238207.76429528842,257692.15408434696,269067.90964972152,526760.06373406854,null,2040,449538.26359940757,475124.16031522333,924662.4239146309,93293.33875565826,87529.341190904321,180822.67994656257,475124.16031522333,517293.32725490752,538814.29901789909,1056107.6262728067]
[2041,4437902.6319013415,4628365.9534522109,9066268.5853535533,985320.06304980011,929078.20369423844,1914398.2667440383,4628365.9534522109,5167920.2729837215,5316657.4016569294,10484577.674640652,null,2041,620308.40781955665,647863.50937955303,1268171.9171991097,147915.30677241937,138403.57796771621,286318.88474013557,647863.50937955303,733060.46939772903,753340.36755761586,1486400.8369553448,null,2041,645268.9832387917,690210.48689381429,1335479.4701326061,165546.15145661455,156923.32905144384,322469.48050805839,690210.48689381429,768841.74921587191,807193.79852877418,1576035.5477446462,null,2041,259278.90480392447,273052.59809646715,532331.50290039158,56690.861265116975,53214.605761378436,109905.4670264954,273052.59809646715,300853.74551982689,312171.97421454277,613025.71973436966,null,2041,249123.97047003946,256692.18400647413,505816.15447651362,53165.287360997303,50647.299083449063,103812.58644444637,256692.18400647413,288436.93077004072,294174.03766287043,582610.96843291121,null,2041,112781.76409095312,115299.50337495359,228081.26746590671,22526.107204076201,21659.911043731707,44186.018247807908,115299.50337495359,129409.62942978136,131203.51174637506,260613.14117615641,null,2041,325551.30854045076,324251.86343013379,649803.17197058455,69884.301875857505,66166.360619203944,136050.66249506146,324251.86343013379,377109.22484602127,373001.48777645011,750110.71262247139,null,2041,178943.14261242156,185040.64942341461,363983.79203583614,40461.101235464361,37581.040739191754,78042.141974656115,185040.64942341461,208822.87939867558,212818.61004624376,421641.48944491934,null,2041,217028.86238543494,227280.07751172848,444308.93989716342,47185.060466176052,43961.585492846607,91146.645959022659,227280.07751172848,251753.54158628316,259622.35183476325,511375.89342104644,null,2041,209977.06720383946,215179.5031943502,425156.57039818965,44931.795432363142,42482.58266015922,87414.378092522355,215179.5031943502,242922.66950917008,246359.33443471199,489282.00394388207,null,2041,200742.90069827874,205029.89102029652,405772.79171857529,40464.077351890512,38714.948941536022,79179.026293426534,205029.89102029652,230183.86180572104,233149.05022723725,463332.91203295829,null,2041,503744.93207177223,522230.62057003839,1025975.5526418106,108924.36388602071,102493.76736441741,211418.13125043811,522230.62057003839,584475.26191853255,598258.88250626496,1182734.1444247975,null,2041,245101.06472650883,258104.77307111715,503205.83779762598,50623.714635895842,47961.907546617367,98585.622182513209,258104.77307111715,282252.19884998846,293273.34310136677,575525.54195135529,null,2041,223740.76380005109,236744.47123153612,460485.23503158719,44714.430954111682,42270.24357435909,86984.674528470772,236744.47123153612,256215.09358450424,267459.03618796641,523674.12977247068,null,2041,446310.55943931878,471385.82224833342,917696.3816876522,92287.503152795995,86597.043848187779,178884.54700098379,471385.82224833342,513583.01715157542,534631.61583174707,1048214.6329833225]
[2042,4431350.4978027232,4618954.3171474058,9050304.8149501309,983487.5750801987,927499.89503983245,1910987.4701200309,4618954.3171474058,5162529.2224688847,5308421.0991043523,10470950.321573237,null,2042,624002.41318407597,651000.96716022666,1275003.3803443026,148812.55538798106,139260.15856997701,288072.71395795804,651000.96716022666,737625.91712808993,757302.92970719421,1494928.846835284,null,2042,647094.88275434601,692707.99403916555,1339802.8767935117,165992.54950409848,157377.75358544418,323370.30308954266,692707.99403916555,771294.92670068366,810303.51155127608,1581598.4382519596,null,2042,258339.19571175415,272090.3303561681,530429.52606792224,56442.505356714952,52991.112374952063,109433.61773166701,272090.3303561681,299899.21246896661,311201.40286777867,611100.61533674528,null,2042,248803.54359603938,256306.70416673392,505110.2477627733,53141.667085427027,50632.5889814088,103774.25606683583,256306.70416673392,288249.77003534598,293917.91768325138,582167.68771859736,null,2042,112085.20085077101,114445.47467038367,226530.67552115468,22370.34831340934,21513.953455568808,43884.301768978148,114445.47467038367,128639.96168062353,130280.345943258,258920.30762388153,null,2042,324153.9117176013,322199.91535504413,646353.82707264542,69521.080427084118,65823.641652992752,135344.72208007687,322199.91535504413,375571.51253578492,370815.00033555849,746386.51287134341,null,2042,178444.29018895861,184290.63339394986,362734.92358290846,40330.652764000712,37460.266369308585,77790.919133309304,184290.63339394986,208319.46579818978,212065.09180979521,420384.55760798499,null,2042,216058.55847253982,226168.4336457584,442226.99211829819,46984.526965237666,43779.933963776988,90764.460929014662,226168.4336457584,250758.28757686715,258491.17153611555,509249.45911298273,null,2042,209274.69660088312,214306.28479740029,423580.98139828339,44715.707636042855,42288.230170612391,87003.937806655245,214306.28479740029,242192.20029865982,245464.99382261129,487657.19412127114,null,2042,199601.78574686637,203857.430249,403459.21599586634,40119.915904526155,38401.64630391173,78521.562208437885,203857.430249,228920.14082251242,231868.64558179851,460788.78640431096,null,2042,504320.21535387228,522230.37302661,1026550.5883804823,109093.74730779583,102678.69454964687,211772.4418574427,522230.37302661,585611.44039589993,598802.20020754274,1184413.6406034427,null,2042,243787.90147452787,256556.84482240418,500344.74629693205,50280.043463374539,47645.713818220829,97925.757281595375,256556.84482240418,280856.54788297182,291650.50939274923,572507.0572757211,null,2042,222378.05790698784,235227.44395760357,457605.50186459138,44334.590057534086,41920.419387042821,86255.009444576906,235227.44395760357,254729.96504608283,265831.99016132602,520561.95520740887,null,2042,443005.84424349986,467565.48750695848,910571.33175045834,91347.684906972019,85725.78185696846,177073.46676394047,467565.48750695848,509859.87409820553,530425.38850409607,1040285.2626023015]
[2043,4424404.3376101833,4609150.8529824354,9033555.1905926168,982224.39877184073,926441.0665009314,1908665.4652727721,4609150.8529824354,5157113.8662927859,5300124.256252531,10457238.122545315,null,2043,627709.70591838763,654176.34954548813,1281886.0554638756,149758.00778115517,140157.61135319146,289915.61913434661,654176.34954548813,742243.64665998227,761335.95313736645,1503579.5997973487,null,2043,648872.85414023104,695149.68531819584,1344022.5394584269,166495.72597184699,157884.43566443061,324380.16163627757,695149.68531819584,773731.90853190771,813387.12891589908,1587119.0374478069,null,2043,257366.94988391799,271084.43062247138,528451.38050638931,56232.719368666061,52803.491854037027,109036.21122270309,271084.43062247138,298939.3365702118,310212.34842623392,609151.68499644566,null,2043,248460.08875808926,255897.90268069785,504357.99143878708,53150.50912645788,50647.355078172142,103797.86420463002,255897.90268069785,288057.97009796044,293655.84625769674,581713.81635565718,null,2043,111385.67814829611,113587.89167604655,224973.56982434267,22223.96924374126,21376.131858547444,43600.101102288703,113587.89167604655,127869.53457437229,129355.22538065788,257224.75995503017,null,2043,322744.62885535677,320144.66063142533,642889.28948678216,69182.533556712908,65502.37195381389,134684.90551052679,320144.66063142533,374023.01842642378,368624.72389283672,742647.74231926049,null,2043,177935.74109598013,183528.88097957912,361464.62207555922,40217.705016378539,37355.075712895341,77572.780729273887,183528.88097957912,207813.60788353835,211305.5893415304,419119.19722506875,null,2043,215069.59110672196,225036.88866736079,440106.47977408278,46807.059792061402,43619.657722494201,90426.71751455561,225036.88866736079,249757.19411127159,257351.61058779477,507108.80469906633,null,2043,208548.39631765281,213405.87087254762,421954.26719020039,44531.807460229662,42123.476199792181,86655.283660021843,213405.87087254762,241458.68501604718,244562.14021860008,486020.82523464726,null,2043,198423.81158805007,202646.39782315789,401070.20941120794,39810.208208161872,38120.159818017957,77930.368026179829,202646.39782315789,227643.45658074843,230571.28776017699,458214.74434092542,null,2043,504825.31046882732,522160.62867793842,1026985.9391467657,109372.13777713102,102964.42134235101,212336.55911948203,522160.62867793842,586764.84774970112,599355.44328020944,1186120.2910299106,null,2043,242443.83373180908,254976.17537690056,497420.00910870964,49974.246264769252,47363.977655045077,97338.223919814336,254976.17537690056,279453.2298898244,290015.52312622673,569468.75301605114,null,2043,220975.75790010201,233670.70445331754,454646.46235341951,43994.18777247837,41607.401531773954,85601.589304252324,233670.70445331754,253234.09324475058,264191.58472345333,517425.67796820391,null,2043,439641.98969676066,463684.38565730769,903326.37535406835,90473.581432050458,84915.498756368994,175389.08018841944,463684.38565730769,506123.33695604565,526199.85120384744,1032323.188159893]
[2044,4417158.2091993634,4599127.474880903,9016285.6840802655,981485.49732178019,925858.44898680481,1907343.9463085849,4599127.474880903,5151597.9340344723,5291779.2965012826,10443377.230535753,null,2044,631435.60404852289,657401.90404580359,1288837.5080943266,150743.42749157923,141089.49579855124,291832.92329013045,657401.90404580359,746903.65505954076,765438.52038872021,1512342.175448261,null,2044,650617.6264220489,697558.2865035244,1348175.9129255733,167046.27704561129,158434.09091694333,325480.36796255462,697558.2865035244,776143.9926146681,816444.68562419561,1592588.6782388636,null,2044,256368.40149565204,270051.48640833813,526419.88790399022,56061.166988008095,52650.608793894382,108711.77578190248,270051.48640833813,297969.40499327646,309210.66121768445,607180.06621096097,null,2044,248100.84814044822,255477.00882769845,503577.85696814663,53188.263700393465,50687.945979440105,103876.20967983357,255477.00882769845,287858.31335216464,293388.80865199078,581247.12200415542,null,2044,110683.9096678823,112729.98140695695,223413.89107483925,22085.300715439524,21244.647820252241,43329.948535691765,112729.98140695695,127096.18629702392,128428.55529747729,255524.74159450119,null,2044,321329.47034811234,318097.8550129236,639427.325361036,68861.545452906634,65196.181420873421,134057.72687378005,318097.8550129236,372460.32531499112,366434.03406595014,738894.35938094126,null,2044,177419.47381531814,182761.24110518594,360180.71492050408,40120.124883714256,37263.666457989726,77383.791341703982,182761.24110518594,207300.45061065778,210539.7480026955,417840.19861335331,null,2044,214066.35522061781,223896.30410201036,437962.65932262817,46650.521306323288,43478.944111003875,90129.465417327156,223896.30410201036,248745.82068650398,256206.47261022296,504952.29329672694,null,2044,207803.30178519138,212487.87422763259,420291.17601282394,44378.21563946399,41985.924572645657,86364.140212109647,212487.87422763259,240718.85725877396,243652.13013368181,484370.98739245581,null,2044,197216.79760773137,201408.73862825407,398625.53623598546,39533.463841800141,37869.39489476812,77402.858736568262,201408.73862825407,226352.6448552974,229260.77339580446,455613.41825110186,null,2044,505272.9297552738,522046.85535754164,1027319.7851128154,109752.51668076943,103343.80327776342,213096.31995853287,522046.85535754164,587919.69026613387,599917.17570182425,1187836.8659679582,null,2044,241073.47940607092,253372.01973425841,494445.49914032931,49704.895749020201,47115.158132732467,96820.053881752669,253372.01973425841,278035.89332442079,288367.35245902138,566403.24578344217,null,2044,219544.67817624181,232080.71969376344,451625.39787000522,43693.612462279547,41331.699073041644,85025.311535321191,232080.71969376344,251728.45385802779,262535.25412334589,514263.70798137365,null,2044,436225.33331025107,459757.19982701086,895982.53313726187,89666.165364471308,84166.887736904973,173833.05310137628,459757.19982701086,502364.2455429908,521955.12482866726,1024319.3703716581]
[2045,4409741.5122455442,4589042.5638264595,8998784.0760720056,981170.13949757605,925656.69161729678,1906826.8311148728,4589042.5638264595,5145951.7876496613,5283395.9152076431,10429347.702857304,null,2045,635189.82950522425,660689.56826501573,1295879.39777024,151755.58615122637,142043.43505290648,293799.02120413282,660689.56826501573,751601.497581642,769609.59972025559,1521211.0973018976,null,2045,652345.5944372646,699946.59161753079,1352292.1860547955,167629.26294336826,159013.331868376,326642.59481174429,699946.59161753079,778526.82143742708,819469.6670803976,1597996.4885178246,null,2045,255356.10662433205,269001.06443288602,524357.1710572181,55922.045085968304,52526.916354735658,108448.96144070396,269001.06443288602,296990.84507679311,308195.35995176405,605186.20502855722,null,2045,247735.67222609682,255051.65734978215,502787.32957587898,53248.608402913938,50748.505027043997,103997.11342995794,255051.65734978215,287651.03220339131,293115.21768075577,580766.24988414708,null,2045,109982.99473980608,111875.57659965573,221858.57133946181,21951.403784886661,21116.825198916507,43068.228983803172,111875.57659965573,126320.41023017342,127501.78990044605,253822.20013061946,null,2045,319915.20423055766,316065.29370703566,635980.49793759338,68548.131429387242,64896.076567784097,133444.20799717132,316065.29370703566,370882.84384515288,364242.28226346261,735125.12610861543,null,2045,176900.12068876537,181995.36643879447,358895.48712755984,40032.997738227554,37181.184383667292,77214.182121894846,181995.36643879447,206778.88246745028,209769.75637686055,416548.63884431083,null,2045,213059.79892578087,222756.99003472881,435816.7889605097,46511.355053108447,43354.340298899064,89865.695352007519,222756.99003472881,247727.40138825437,255058.82784210728,502786.22923036164,null,2045,207045.33689047786,211562.20358821252,418607.54047869041,44250.021276275394,41871.019857769366,86121.041134044761,211562.20358821252,239970.62777670074,242737.55907634014,482708.18685304088,null,2045,195986.80915572512,200150.80858702885,396137.61774275394,39286.477923578124,37646.139791275171,76932.617714853288,200150.80858702885,225046.26667949453,227936.29184452075,452982.55852401524,null,2045,505682.39987288608,521915.46569360152,1027597.8655664877,110220.68274958752,103803.04605209538,214023.72880168288,521915.46569360152,589065.56672603299,600486.01048009866,1189551.5772061315,null,2045,239684.7569186856,251756.81296963271,491441.56988831831,49466.572123960708,46894.015948147564,96360.588072108279,251756.81296963271,276602.05713263754,286708.71017941448,563310.76731205196,null,2045,218089.30609148202,230471.49776607365,448560.80385755567,43429.295632575813,41089.597590280726,84518.893222856539,230471.49776607365,250208.13154864637,260867.97493400134,511076.10648264771,null,2045,432767.58193846059,455803.66677648172,888571.24871494225,88917.699202511722,83472.257625399565,172389.95682791129,455803.66677648172,498579.40355586482,517696.86787721916,1016276.271433084]
[2046,4402295.9502155576,4579036.0107783414,8981331.960993899,981220.3308215749,925781.23005037918,1907001.5608719541,4579036.0107783414,5140172.6971942112,5274978.9902504077,10415151.68744462,null,2046,638981.46884467639,664045.45601468533,1303026.9248593617,152790.93676260571,143015.45890084031,295806.39566344605,664045.45601468533,756333.40419287235,773843.09185505146,1530176.4960479238,null,2046,654065.80442054663,702331.60050319601,1356397.4049237426,168237.824255463,159615.92626601423,327853.7505214772,702331.60050319601,780872.80619750533,822463.28973224224,1603336.0959297474,null,2046,254340.56593128611,267941.11299309263,522281.67892437871,55811.5636585303,52428.624637218301,108240.18829574861,267941.11299309263,296004.83405009948,307165.35438119818,603170.18843129766,null,2046,247371.04311486668,254631.57414875226,502002.61726361897,53327.176547485738,50825.706807966359,104152.8833554521,254631.57414875226,287433.62301791046,292836.52673835971,580270.14975627023,null,2046,109284.74952482931,111025.86931291452,220310.61883774382,21820.682854250899,20991.197249832545,42811.880104083444,111025.86931291452,125542.66204586909,126574.86740248336,252117.52944835246,null,2046,318503.8884093879,314054.96661832725,632558.85502771521,68237.095624479814,64597.312138339577,132834.40776281938,314054.96661832725,369286.56697509618,362051.93544793513,731338.50242303126,null,2046,176384.34567722891,181237.59294641615,357621.93862364505,39953.816007808164,37105.319255767768,77059.135263575939,181237.59294641615,206250.74051682701,208997.6296784523,415248.37019527931,null,2046,212052.32063453368,221625.40200630995,433677.7226408436,46387.002264369294,43243.104190917751,89630.106455287052,221625.40200630995,246697.88275439499,253908.87198339286,500606.75473778788,null,2046,206282.14246770309,210634.10648285653,416916.24895055965,44144.017316107682,41775.51258909874,85919.529905206422,210634.10648285653,239214.15944636404,241816.64246915653,481030.80191552057,null,2046,194742.05294291314,198880.60391195596,393622.6568548691,39067.109799350401,37448.532660406112,76515.64245975652,198880.60391195596,223725.31716490031,226599.29045651754,450324.60762141785,null,2046,506083.18823688274,521792.56317360012,1027875.7514104829,110766.35555387905,104332.43010271805,215098.78565659712,521792.56317360012,590202.31169767305,601060.28019472992,1191262.5918924031,null,2046,238290.95630374778,250142.16415545202,488433.12045919977,49254.907166412362,46696.717288347405,95951.62445475976,250142.16415545202,275155.24546115409,285042.3882590569,560197.63372021099,null,2046,216622.07473789333,228850.35465484904,445472.42939274234,43197.69466551287,40877.894963301835,84075.589628814705,228850.35465484904,248676.81798480966,259189.10110362741,507865.91908843711,null,2046,429291.34896906168,451842.64385593327,881133.99282499496,88224.148345319685,82827.492999610127,171051.64134492981,451842.64385593327,494776.32568873448,513429.72054820514,1008206.0462369396]
[2047,4394926.7429771954,4569233.2401017193,8964159.9830789138,981527.40261954744,926128.73028135276,1907656.1329009,4569233.2401017193,5134228.3910333691,5266524.939401025,10400753.330434397,null,2047,642815.32214613166,667479.36471721309,1310294.6868633446,153843.22460167718,143999.77957724236,297843.00417891954,667479.36471721309,761091.40034314874,778137.20670439035,1539228.6070475392,null,2047,655791.84712291998,704727.62884080026,1360519.4759637201,168859.69639194722,160229.89942229807,329089.59581424529,704727.62884080026,783180.24234193075,825425.01923010731,1608605.2615720381,null,2047,253331.107169778,266883.10173911194,520214.20890888991,55723.432752413602,52348.794589541023,108072.22734195463,266883.10173911194,295012.14450049307,306123.23645798012,601135.38095847319,null,2047,247014.59376416405,254224.27177063527,501238.86553479929,53417.231497652188,50913.441951608766,104330.67344926095,254224.27177063527,287205.67633056297,292552.43387296301,579758.11020352598,null,2047,108589.69232292275,110184.36311444105,218774.0554373638,21690.501176334539,20865.662296309121,42556.16347264366,110184.36311444105,124761.77972830273,125650.0021665962,250411.78189489892,null,2047,317100.92458418757,312073.59364655503,629174.51823074254,67921.921981953536,64293.594743957103,132215.51672591065,312073.59364655503,367671.32055358717,359864.39069565688,727535.71124924405,null,2047,175874.49664443207,180493.08449894996,356367.58114338201,39878.126156733502,37032.129326430178,76910.255483163681,180493.08449894996,205714.18868086065,208224.91749496755,413939.1061758282,null,2047,211053.14837245204,220509.22576448272,431562.37413693476,46271.656880349285,43139.704894757539,89411.361775106823,220509.22576448272,245660.13490505834,252758.30831410378,498418.44321916212,null,2047,205521.16923357506,209711.3762469978,415232.54548057285,44053.599197736796,41693.061090708652,85746.660288445448,209711.3762469978,238449.44383378536,240890.22113609541,479339.66496988077,null,2047,193488.10236333546,197603.68203246943,391091.78439580486,38868.473050030843,37270.113339478208,76138.586389509059,197603.68203246943,222388.00127151664,225248.49358993728,447636.49486145389,null,2047,506492.58993136248,521696.45045948477,1028189.0403908473,111371.26381316743,104914.62496864557,216285.888781813,521696.45045948477,591319.5153048177,601632.56421773555,1192952.0795225534,null,2047,236897.34614871777,248534.56051986443,485431.90666858223,49062.463658611523,46516.146151342044,95578.609809953574,248534.56051986443,273692.07909485034,283366.75797151099,557058.83706636133,null,2047,215149.10659967671,227227.07724716753,442376.18384684424,42991.547685280719,40689.75945834248,83681.307143623198,227227.07724716753,247131.82040471415,257500.24855462555,504632.0689593397,null,2047,425807.29657354014,447885.45950354618,873692.75607708632,87574.263775659027,82222.018470691546,169796.28224635057,447885.45950354618,490950.64373974077,509151.13899435464,1000101.7827340954]
[2048,4387744.3805235988,4559739.9448906053,8947484.3254142031,981973.53415338998,926588.38732613146,1908561.9214795216,4559739.9448906053,5128100.4586099479,5258019.2559731621,10386119.71458311,null,2048,646698.37513523456,670993.82353265584,1317692.1986678904,154906.72372524728,144990.52652171126,299897.25024695857,670993.82353265584,765871.5540656629,782483.99024835264,1548355.5443140157,null,2048,657536.44572815078,707143.68708704249,1364680.1328151934,169479.94111526207,160841.42125350388,330321.36236876599,707143.68708704249,785447.32650539244,828349.96249558858,1613797.289000981,null,2048,252335.45067876135,265836.68770122534,518172.13837998669,55649.493932943464,52280.062541705251,107929.55647464871,265836.68770122534,294011.00539858901,305069.99800040579,599081.0033989948,null,2048,246673.01617000945,253835.75517080113,500508.77134081058,53511.759158051849,51005.224452515002,104516.98361056685,253835.75517080113,286966.88200087857,292262.39794081141,579229.27994168992,null,2048,107899.63123595509,109350.19635312738,217249.82758908247,21559.398170114848,20738.933474846148,42298.331644960999,109350.19635312738,123978.09939017239,124724.99789127074,248703.09728144313,null,2048,315710.82594225166,310122.15612803528,625832.98207028699,67597.608566374038,63980.48169588374,131578.09026225779,310122.15612803528,366036.71262133791,357676.26852083392,723712.98114217189,null,2048,175374.43001210821,179764.20817306574,355138.63818517397,39801.527780922435,36957.804644486758,76759.3324254092,179764.20817306574,205168.88961687271,207450.42726703524,412619.31688390794,null,2048,210066.18134599979,219415.37623137014,429481.55757736997,46159.728949449753,43038.875775363493,89198.604724813253,219415.37623137014,244612.13170134556,251608.5585645574,496220.69026590296,null,2048,204767.28300966872,208801.08841858417,413568.3714282529,43971.649172304104,41617.525044653004,85589.174216957108,208801.08841858417,237674.03356385033,239958.97561249425,477633.00917634461,null,2048,192234.76195392394,196327.54759796389,388562.3095518878,38683.418175418024,37103.894755078873,75787.312930496904,196327.54759796389,221037.24465870042,223884.75049942621,444921.99515812664,null,2048,506930.83776992536,521648.1054253396,1028578.943195265,112014.15433993674,105529.36006586536,217543.5144058021,521648.1054253396,592411.95794536418,602200.23457176657,1194612.1925171306,null,2048,235511.80898828071,246942.87762548175,482454.68661376246,48880.999878818329,46344.117132693282,95225.117011511611,246942.87762548175,272212.4888859588,281682.94642366277,553895.43530962151,null,2048,213680.18666801395,225610.68823688722,439290.87490490114,42802.877902433174,40517.388495668471,83320.266398101638,225610.68823688722,245574.74191728557,255802.59612748103,501377.33804476657,null,2048,422325.14588531438,443947.74720902467,866272.89309433906,86954.253286113948,81642.771472156965,168597.02475827091,443947.74720902467,487097.39033853705,504863.15180947556,991960.54214801267]
[2049,4380830.6042860448,4550640.160624994,8931470.7649110388,982437.93029151182,927048.12845123885,1909486.0587427509,4550640.160624994,5121763.8083472913,5249448.3676458606,10371212.17599315,null,2049,650636.26397526148,674593.70043131919,1325229.9644065807,155973.6423904952,145980.41125761636,301954.05364811153,674593.70043131919,770670.17804004974,786879.79005200882,1557549.9680920586,null,2049,659303.67180092726,709589.61990013428,1368893.2917010617,170084.05038297398,161436.75026799645,331520.80065097043,709589.61990013428,787666.4063955379,831236.89370763011,1618903.300103168,null,2049,251362.4876728589,264809.39405748347,516171.8817303424,55579.643543848084,52214.380109148777,107794.02365299687,264809.39405748347,293001.96958403592,304006.5964942174,597008.56607825332,null,2049,246351.80647935413,253471.80900767638,499823.61548703047,53603.628478977582,51094.124778572594,104697.75325755018,253471.80900767638,286717.16521423368,291966.79114987515,578683.95636410883,null,2049,107215.99056748649,108526.13054372813,215742.12111121463,21425.920744157724,20609.850567011468,42035.771311169192,108526.13054372813,123191.94019929635,123801.71988564599,246993.66008494236,null,2049,314333.16587310412,308203.55263959564,622536.71851269971,67260.015193644911,63654.418451834339,130914.43364547925,308203.55263959564,364378.49690241739,355487.19141329249,719865.68831570982,null,2049,174885.07841414123,179052.24060827721,353937.31902241847,39719.930469448816,36878.636597949429,76598.567067398253,179052.24060827721,204612.72978421455,206672.80425671412,411285.5340409287,null,2049,209097.05855555119,218349.51030676372,427446.56886231492,46044.999757061436,42934.942932739497,88979.942689800926,218349.51030676372,243554.46044460993,250460.80333211055,494015.2637767205,null,2049,204025.66853527466,207906.93063793244,411932.59917320707,43891.902449560039,41542.900305450828,85434.802755010867,207906.93063793244,236887.26240959781,239020.99289483757,475908.25530443538,null,2049,190985.76272231503,195057.95674691268,386043.71946922771,38504.39356989041,36942.892112087953,75447.285681978363,195057.95674691268,219671.12785769528,222508.64133175608,442179.76918945136,null,2049,507410.42801229481,521659.95218386425,1029070.380196159,112672.57114813043,106155.56525216604,218828.13640029647,521659.95218386425,593469.91385262343,602755.37196992489,1196225.2858225484,null,2049,234138.92106881176,245371.44787226265,479510.36894107441,48702.300863699616,46173.11363425669,94875.414497956313,245371.44787226265,270714.36641603574,279989.28358494333,550703.65000097908,null,2049,212220.78646096439,224005.58604269064,436226.37250365503,42623.353756534336,40352.645923344404,82975.999679878732,224005.58604269064,244004.73903943147,254094.4530803372,498099.1921197687,null,2049,418863.51414769975,440042.32964635402,858905.84379405377,86351.577543089268,81077.496261064225,167429.07380415348,440042.32964635402,483223.05220751168,500567.03449256689,983790.08670007857]
[2050,4374242.4310980756,4541928.5883071972,8916171.0194052737,982806.42427120858,927402.20341136213,1910208.6276825704,4541928.5883071972,5115198.0666315798,5240736.3951410856,10355934.461772665,null,2050,654629.561409318,678276.85484927532,1332906.4162585933,157035.63967443557,146963.00525370555,303998.64492814115,678276.85484927532,775479.52326034836,791315.85900506587,1566795.3822654141,null,2050,661100.63877813064,712065.71383441205,1373166.3526125427,170659.89789051225,162003.83623246505,332663.7341229773,712065.71383441205,789836.99350558675,834078.43439354689,1623915.4278991336,null,2050,250414.5244453866,263798.31389594957,514212.83834133617,55505.054978622335,52143.648608472475,107648.70358709482,263798.31389594957,291981.95062937564,302925.36965169257,594907.32028106821,null,2050,246052.54429699946,253131.56057318999,499184.10487018945,53685.904660726032,51173.535103131755,104859.43976385778,253131.56057318999,286453.84613030957,291660.7388248216,578114.58495513117,null,2050,106538.75114160009,107710.61128431869,214249.36242591878,21288.545311077563,20477.153560377621,41765.698871455184,107710.61128431869,122402.22504604438,122877.7332155607,245279.95826160506,null,2050,312969.92914178874,306311.35462148377,619281.28376327245,66905.887235258691,63312.50829883432,130218.39553409301,306311.35462148377,362696.80568353808,353289.13561807509,715985.94130161311,null,2050,174409.32769029439,178356.83412409952,352766.16181439394,39629.954631231536,36791.298351819976,76421.252983051512,178356.83412409952,204047.41789302963,205890.53403118561,409937.95192421525,null,2050,208149.59582858763,217308.1031496533,425457.69897824095,45922.069384387483,42822.840825377178,88744.910209764668,217308.1031496533,242487.61595572936,249308.47649428301,491796.09245001234,null,2050,203300.17058598172,207030.94462954486,410331.11521552654,43808.43057670827,41463.585929480629,85272.016506188898,207030.94462954486,236088.59445929845,238074.17439691714,474162.76885621558,null,2050,189742.45446826736,193794.01210260452,383536.46657087188,38325.206799536303,36781.0806748455,75106.287474381796,193794.01210260452,218287.76964291485,221116.09077675742,439403.86041967227,null,2050,507950.97246715968,521740.73216396873,1029691.7046311283,113323.23978450225,106771.75228215751,220094.99206665976,521740.73216396873,594495.05041362357,603290.31425906299,1197785.3646726864,null,2050,232783.79359943783,243822.61756131554,476606.41116075334,48518.092954011954,45995.772657157635,94513.865611169589,243822.61756131554,269197.94260430214,278283.95134734869,547481.89395165083,null,2050,210773.86716058987,222414.88564118699,433188.75280177686,42444.841653783165,40187.725647625208,82632.567301408373,222414.88564118699,242419.48534570294,252373.90154231558,494793.38688801852,null,2050,415426.30008453358,436166.04987619416,851592.34996072773,85753.658736415076,80514.459985911846,166268.11872232694,436166.04987619416,479322.84606177633,496251.68158445338,975574.52764622972]
[]
[]
["Počty nově příchozích",null,null,null,"Hraniční věk",null,null,null,null,null,null,null,"Průměrná výše úvazku"]
[null,2017,null,null,"muži",56,null,null,null,null,null,null,"Věk","Muži","Ženy",null,null,"Očekávaný vývoj počtu obyvatel ve věku 15 a více let na 1 lékaře"]
["Muži",5.8,null,null,"ženy",53,null,null,null,null,null,null,"00–34",0.71328671328671323,0.66723809523809507,null,null,"Očekávaný vývoj počtu obyvatel ve věku 0–19 let na 1 lékaře"]
["Ženy",12.6,null,null,null,null,null,null,null,null,null,null,"35–39",0.8386290322580644,0.77875457875457854,null,null,"Očekávaný vývoj počtu obyvatel na 1 lékaře"]
[null,null,null,null,null,null,null,null,null,null,null,null,"40–44",0.80758454106280197,0.84542168674698803,null,null,"Očekávaný vývoj počtu žen ve věku 15 a více let na 1 lékaře"]
[null,null,null,null,null,null,null,null,null,null,null,null,"45–49",0.85934883720930233,0.86523809523809492]
["Rozložení příchozích (v %)",null,null,null,"Intenzita opuštění systému",null,null,null,"Vstupní věková struktura",null,null,null,"50–54",0.85265873015873006,0.90783098591549283]
["Věk",2017,null,null,"Věk",2017,null,null,"Věk","2017-01-01",null,null,"55–59",0.90073991031390177,0.95026315789473625]
[null,"Muži","Ženy",null,null,"Muži","Ženy",null,null,"Muži","Ženy",null,"60–64",0.89256360078277885,0.93186685962373361]
[23,0,0,null,23,0,0,null,23,0,0,null,"65–69",0.8291078066914499,0.85645892351274755]
[24,0,0.11848341232227488,null,24,0,0,null,24,0,0,null,"70+",0.74847222222222221,0.8021926910299001]
[25,0.99667774086378735,1.7772511848341233,null,25,0,0,null,25,0,0]
[26,3.6544850498338874,4.1469194312796205,null,26,0,0,null,26,0,0]
[27,4.3189368770764114,6.3981042654028428,null,27,0,0,null,27,0,0,null,"Prognóza vývoje obyvatelstva"]
[28,2.9900332225913622,4.8578199052132707,null,28,0,0,null,28,0,3,null,null,"Počet obyvatel 15+"]
[29,5.9800664451827243,4.62085308056872,null,29,0,0,null,29,3,1,null,null,"Muži","Ženy","Celkem"]
[30,8.9700996677740861,6.2796208530805684,null,30,-2.4960653806656651E-2,-7.657196178589315E-2,null,30,1,3,null,2017,541958.3992633319,566803.75092766201,0]
[31,6.9767441860465116,5.2132701421800949,null,31,-2.4654875864254522E-2,-7.3467418331317091E-2,null,31,3,3,null,2018,545932.28891384089,571510.86857416539,0]
[32,5.9800664451827243,5.5687203791469191,null,32,-2.4323631018891054E-2,-7.0338259222679445E-2,null,32,4,10,null,2019,550169.6103010833,576454.64518188499,0]
[33,7.6411960132890364,5.2132701421800949,null,33,-2.3964798243976331E-2,-6.7184289284607734E-2,null,33,1,6,null,2020,554971.93402686424,582071.62631223712,0]
[34,5.3156146179401995,5.4502369668246446,null,34,-2.3576079861923588E-2,-6.4005311794201158E-2,null,34,2,8,null,2021,560431.75049962522,588201.87131911609,0]
[35,2.3255813953488373,5.6872037914691944,null,35,-2.3154986831662873E-2,-6.0801128468760124E-2,null,35,4,4,null,2022,566165.07672403427,594640.96522437246,0]
[36,4.3189368770764114,7.5829383886255926,null,36,-2.2698822810816303E-2,-5.7571539453418752E-2,null,36,1,4,null,2023,572557.68542235252,601842.80498221668,0]
[37,3.6544850498338874,3.4360189573459716,null,37,-2.2204666890481846E-2,-5.431634330867946E-2,null,37,2,6,null,2024,579233.66202309541,609460.95085954701,0]
[38,3.322259136212625,5.9241706161137442,null,38,-2.1669354892072994E-2,-5.1035336997848457E-2,null,38,1,9,null,2025,585719.47233076941,616927.59895806247,0]
[39,3.322259136212625,4.8578199052132707,null,39,-2.1089459106454298E-2,-4.7728315874371707E-2,null,39,2,3,null,2026,592223.47293908033,624283.97674269881,0]
[40,5.6478405315614619,3.3175355450236967,null,40,-2.0461266345638416E-2,-4.4395073669070584E-2,null,40,4,6,null,2027,597876.57630694984,630920.44061610452,0]
[41,2.6578073089700998,4.028436018957346,null,41,-1.9780754166505314E-2,-4.103540247727594E-2,null,41,4,6,null,2028,603088.87337080506,637167.50381780043,0]
[42,3.322259136212625,3.7914691943127963,null,42,-1.9043565114299395E-2,-3.7649092745860979E-2,null,42,5,12,null,2029,607935.74151036411,642961.70276211877,0]
[43,1.3289036544850499,2.4881516587677726,null,43,-1.8244978820980508E-2,-3.4235933260170159E-2,null,43,2,12,null,2030,612597.56724945921,648567.71453145985,0]
[44,3.322259136212625,1.8957345971563981,null,44,-1.7379881779769069E-2,-3.079571113084556E-2,null,44,5,15,null,2031,616799.14641835773,653731.42026476469,0]
[45,0.99667774086378735,2.3696682464454977,null,45,-1.6442734602345705E-2,-2.7328211780548117E-2,null,45,7,12,null,2032,620716.44103740074,658592.67502392002,0]
[46,1.9933554817275747,0.94786729857819907,null,46,-1.5427536549046708E-2,-2.3833218930573552E-2,null,46,2,13,null,2033,624372.81565787806,663158.65825102001,0]
[47,3.9867109634551494,1.6587677725118484,null,47,-1.432778710493513E-2,-2.0310514587362827E-2,null,47,4,6,null,2034,627779.77196102182,667437.77505081263,0]
[48,2.6578073089700998,0.35545023696682465,null,48,-1.3136444355711483E-2,-1.6759879028905078E-2,null,48,5,15,null,2035,630936.22249790817,671433.24210650055,0]
[49,1.3289036544850499,0.35545023696682465,null,49,-1.1845879896936674E-2,-1.3181090791032468E-2,null,49,3,7,null,2036,633860.64584341529,675162.70917745971,0]
[50,2.3255813953488373,0.35545023696682465,null,50,-1.0447829987842008E-2,-9.5739266536075673E-3,null,50,2,10,null,2037,636560.91332957451,678635.15504902578,0]
[51,0.33222591362126247,-0.11848341232227488,null,51,-8.9333426369543403E-3,-5.9381616265994919E-3,null,51,3,9,null,2038,639042.53646122129,681863.36068520311,0]
[52,-1.3289036544850499,0.23696682464454977,null,52,-7.2927202807152869E-3,-2.2735689360512956E-3,null,52,7,6,null,2039,641308.38063156989,684858.88433234952,0]
[53,0.33222591362126247,1.1848341232227488,null,53,-5.5154576880539208E-3,1.4200799900648264E-3,null,53,3,9,null,2040,643382.50028445479,687634.51273782155,0]
[54,2.6578073089700998,0,null,54,-3.5901746933041691E-3,5.1430155361044672E-3,null,54,5,8,null,2041,645268.9832387917,690210.48689381429,0]
[55,-0.99667774086378735,0,null,55,-1.5045433267417141E-3,8.8954699131207349E-3,null,55,5,7,null,2042,647094.88275434601,692707.99403916555,0]
[56,-0.33222591362126247,0,null,56,7.5479112385653385E-4,1.2677677173347668E-2,null,56,5,9,null,2043,648872.85414023104,695149.68531819584,0]
[57,0,0,null,57,3.2022956260896428E-3,1.6489873224799223E-2,null,57,3,18,null,2044,650617.6264220489,697558.2865035244,0]
[58,0,0,null,58,5.8536420378017436E-3,2.0332295845983339E-2,null,58,8,6,null,2045,652345.5944372646,699946.59161753079,0]
[59,0,0,null,59,8.7258074571032705E-3,2.4205184700732962E-2,null,59,7,16,null,2046,654065.80442054663,702331.60050319601,0]
[60,0,0,null,60,1.1837182930104769E-2,2.8108781353154866E-2,null,60,7,15,null,2047,655791.84712291998,704727.62884080026,0]
[61,0,0,null,61,1.5207691212440876E-2,3.2043329282696043E-2,null,61,14,15,null,2048,657536.44572815078,707143.68708704249,0]
[62,0,0,null,62,1.8858914338635065E-2,3.6009073899331501E-2,null,62,9,19,null,2049,659303.67180092726,709589.61990013428,0]
[63,0,0,null,63,2.2814231816156594E-2,4.0006262558869854E-2,null,63,9,13,null,2050,661100.63877813064,712065.71383441205,0]
[64,0,0,null,64,2.7098970329054454E-2,4.4035144578382535E-2,null,64,14,10]
[65,0,0,null,65,3.1740565909749496E-2,4.8095971251754577E-2,null,65,6,12]
[66,0,0,null,66,3.6768739617404095E-2,5.2188995865357857E-2,null,66,9,6]
[67,0,0,null,67,4.2215687847771632E-2,5.6314473713850011E-2,null,67,5,7]
[68,0,0,null,68,4.8116288493118844E-2,6.0472662116097697E-2,null,68,9,6]
[69,0,0,null,69,5.4508324272302636E-2,6.4663820431226315E-2,null,69,7,6]
[70,0,0,null,70,6.1432724661029822E-2,6.8888210074797396E-2,null,70,6,6]
[71,0,0,null,71,6.8933827971425929E-2,7.3146094535113337E-2,null,71,5,5]
[72,0,0,null,72,7.7059665259060994E-2,7.7437739389652482E-2,null,72,3,3]
[73,0,0,null,73,8.5862267875346662E-2,8.1763412321633644E-2,null,73,2,6]
[74,0,0,null,74,9.539800063462138E-2,8.6123383136712639E-2,null,74,3,3]
[75,0,0,null,75,0.10572792272926158,9.0517923779810827E-2,null,75,2,4]
[76,0,0,null,76,0.11691817870382699,9.4947308352076987E-2,null,76,3,2]
[77,0,0,null,77,0.12904042199172877,9.9411813127983972E-2,null,77,1,2]
[78,0,0,null,78,0.14217227372640573,0.10391171657256104,null,78,1,1]
[79,0,0,null,79,0.15639781976487252,0.10844729935876207,null,79,0,1]
[80,0,0,null,80,0.17180814910617559,0.11301884438497234,null,80,1,2]
[81,0,0,null,81,0.18850193715236188,0.11762663679265395,null,81,0,0]
[82,0,0,null,82,0.20658607754669231,0.12227096398413051,null,82,0,0]
[83,0,0,null,83,0.22617636663488747,0.12695211564051401,null,83,0,0]
[84,0,0,null,84,0.24739824493214882,0.13167038373977191,null,84,2,0]
[85,0,0,null,85,0.27038760034371079,0.13642606257494005,null,85,0,0]
[86,0,0,null,86,0.29529163828211169,0.14121944877247805,null,86,0,0]
[87,0,0,null,87,0.32226982425270989,0.14605084131077073,null,87,0,0]
[88,0,0,null,88,0.35149490494301561,0.15092054153877654,null,88,0,0]
[89,0,0,null,89,0.38315401435406693,0.15582885319482309,null,89,0,0]
[90,0,0,null,90,0.41744987205663991,0.1607760824255533,null,90,0,0]
[91,0,0,null,91,0.45460208124495444,0.16576253780501959,null,91,0,0]
[92,0,0,null,92,0.49484853489958164,0.17078853035393138,null,92,0,0]
[93,0,0,null,93,0.53844693906348629,0.17585437355905431,null,93,0,0]
[94,0,0,null,94,1,1,null,94,0,0]

{"sheet":"Výpočty","index":2,"n_rows":589,"n_cols":201,"rows_kept":589,"cut":false,"hidden":true,"merged":[[485,59,485,60],[485,61,485,62],[485,63,485,64],[485,65,485,66],[485,67,485,68],[485,41,485,42],[485,43,485,44],[485,45,485,46],[485,47,485,48],[485,49,485,50],[485,51,485,52],[485,53,485,54],[485,55,485,56],[485,57,485,58],[470,63,470,64],[470,65,470,66],[470,67,470,68],[485,0,486,0],[485,1,485,2],[485,3,485,4],[485,5,485,6],[485,7,485,8],[485,9,485,10],[485,11,485,12],[485,13,485,14],[485,15,485,16],[485,17,485,18],[485,19,485,20],[485,21,485,22],[485,23,485,24],[485,25,485,26],[485,27,485,28],[485,29,485,30],[485,31,485,32],[485,33,485,34],[485,35,485,36],[485,37,485,38],[485,39,485,40],[470,45,470,46],[470,47,470,48],[470,49,470,50],[470,51,470,52],[470,53,470,54],[470,55,470,56],[470,57,470,58],[470,59,470,60],[470,61,470,62],[442,67,442,68],[470,0,471,0],[470,1,470,2],[470,3,470,4],[470,5,470,6],[470,7,470,8],[470,9,470,10],[470,11,470,12],[470,13,470,14],[470,15,470,16],[470,17,470,18],[470,19,470,20],[470,21,470,22],[470,23,470,24],[470,25,470,26],[470,27,470,28],[470,29,470,30],[470,31,470,32],[470,33,470,34],[470,35,470,36],[470,37,470,38],[470,39,470,40],[470,41,470,42],[470,43,470,44],[442,49,442,50],[442,51,442,52],[442,53,442,54],[442,55,442,56],[442,57,442,58],[442,59,442,60],[442,61,442,62],[442,63,442,64],[442,65,442,66],[442,31,442,32],[442,33,442,34],[442,35,442,36],[442,37,442,38],[442,39,442,40],[442,41,442,42],[442,43,442,44],[442,45,442,46],[442,47,442,48],[427,53,427,54],[427,55,427,56],[427,57,427,58],[427,59,427,60],[427,61,427,62],[427,63,427,64],[427,65,427,66],[427,67,427,68],[442,0,443,0],[442,1,442,2],[442,3,442,4],[442,5,442,6],[442,7,442,8],[442,9,442,10],[442,11,442,12],[442,13,442,14],[442,15,442,16],[442,17,442,18],[442,19,442,20],[442,21,442,22],[442,23,442,24],[442,25,442,26],[442,27,442,28],[442,29,442,30],[427,35,427,36],[427,37,427,38],[427,39,427,40],[427,41,427,42],[427,43,427,44],[427,45,427,46],[427,47,427,48],[427,49,427,50],[427,51,427,52],[427,17,427,18],[427,19,427,20],[427,21,427,22],[427,23,427,24],[427,25,427,26],[427,27,427,28],[427,29,427,30],[427,31,427,32],[427,33,427,34],[427,0,428,0],[427,1,427,2],[427,3,427,4],[427,5,427,6],[427,7,427,8],[427,9,427,10],[427,11,427,12],[427,13,427,14],[427,15,427,16],[411,53,411,54],[411,55,411,56],[411,57,411,58],[411,59,411,60],[411,61,411,62],[411,63,411,64],[411,65,411,66],[411,67,411,68],[411,0,412,0],[411,35,411,36],[411,37,411,38],[411,39,411,40],[411,41,411,42],[411,43,411,44],[411,45,411,46],[411,47,411,48],[411,49,411,50],[411,51,411,52],[329,55,329,56],[329,57,329,58],[329,59,329,60],[329,61,329,62],[329,63,329,64],[329,65,329,66],[329,67,329,68],[411,1,411,2],[411,3,411,4],[411,5,411,6],[411,7,411,8],[411,9,411,10],[411,11,411,12],[411,13,411,14],[411,15,411,16],[411,17,411,18],[411,19,411,20],[411,21,411,22],[411,23,411,24],[411,25,411,26],[411,27,411,28],[411,29,411,30],[411,31,411,32],[411,33,411,34],[329,37,329,38],[329,39,329,40],[329,41,329,42],[329,43,329,44],[329,45,329,46],[329,47,329,48],[329,49,329,50],[329,51,329,52],[329,53,329,54],[329,19,329,20],[329,21,329,22],[329,23,329,24],[329,25,329,26],[329,27,329,28],[329,29,329,30],[329,31,329,32],[329,33,329,34],[329,35,329,36],[329,1,329,2],[329,3,329,4],[329,5,329,6],[329,7,329,8],[329,9,329,10],[329,11,329,12],[329,13,329,14],[329,15,329,16],[329,17,329,18],[327,51,327,52],[327,53,327,54],[327,55,327,56],[327,57,327,58],[327,59,327,60],[327,61,327,62],[327,63,327,64],[327,65,327,66],[327,67,327,68],[327,33,327,34],[327,35,327,36],[327,37,327,38],[327,39,327,40],[327,41,327,42],[327,43,327,44],[327,45,327,46],[327,47,327,48],[327,49,327,50],[326,53,326,54],[326,55,326,56],[326,57,326,58],[326,59,326,60],[326,61,326,62],[326,63,326,64],[326,65,326,66],[326,67,326,68],[327,1,327,2],[327,3,327,4],[327,5,327,6],[327,7,327,8],[327,9,327,10],[327,11,327,12],[327,13,327,14],[327,15,327,16],[327,17,327,18],[327,19,327,20],[327,21,327,22],[327,23,327,24],[327,25,327,26],[327,27,327,28],[327,29,327,30],[327,31,327,32],[326,35,326,36],[326,37,326,38],[326,39,326,40],[326,41,326,42],[326,43,326,44],[326,45,326,46],[326,47,326,48],[326,49,326,50],[326,51,326,52],[326,17,326,18],[326,19,326,20],[326,21,326,22],[326,23,326,24],[326,25,326,26],[326,27,326,28],[326,29,326,30],[326,31,326,32],[326,33,326,34],[326,0,328,0],[326,1,326,2],[326,3,326,4],[326,5,326,6],[326,7,326,8],[326,9,326,10],[326,11,326,12],[326,13,326,14],[326,15,326,16],[163,199,163,200],[166,195,166,196],[166,197,166,198],[166,199,166,200],[166,183,166,184],[166,185,166,186],[166,187,166,188],[166,189,166,190],[166,191,166,192],[166,193,166,194],[164,199,164,200],[164,191,164,192],[164,193,164,194],[164,195,164,196],[164,197,164,198],[166,171,166,172],[166,173,166,174],[166,175,166,176],[166,177,166,178],[166,179,166,180],[166,181,166,182],[166,159,166,160],[166,161,166,162],[166,163,166,164],[166,165,166,166],[166,167,166,168],[166,169,166,170],[166,147,166,148],[166,149,166,150],[166,151,166,152],[166,153,166,154],[166,155,166,156],[166,157,166,158],[166,135,166,136],[166,137,166,138],[166,139,166,140],[166,141,166,142],[166,143,166,144],[166,145,166,146],[166,123,166,124],[166,125,166,126],[166,127,166,128],[166,129,166,130],[166,131,166,132],[166,133,166,134],[166,111,166,112],[166,113,166,114],[166,115,166,116],[166,117,166,118],[166,119,166,120],[166,121,166,122],[166,99,166,100],[166,101,166,102],[166,103,166,104],[166,105,166,106],[166,107,166,108],[166,109,166,110],[166,87,166,88],[166,89,166,90],[166,91,166,92],[166,93,166,94],[166,95,166,96],[166,97,166,98],[166,79,166,80],[166,81,166,82],[166,83,166,84],[166,85,166,86],[166,63,166,64],[166,65,166,66],[166,67,166,68],[166,69,166,70],[166,71,166,72],[166,73,166,74],[166,61,166,62],[166,39,166,40],[166,41,166,42],[166,43,166,44],[166,45,166,46],[166,47,166,48],[166,49,166,50],[166,75,166,76],[166,77,166,78],[166,27,166,28],[166,29,166,30],[166,31,166,32],[166,33,166,34],[166,35,166,36],[166,37,166,38],[166,15,166,16],[166,17,166,18],[166,19,166,20],[166,21,166,22],[166,23,166,24],[166,25,166,26],[166,1,166,2],[166,3,166,4],[166,5,166,6],[166,7,166,8],[166,9,166,10],[166,11,166,12],[166,13,166,14],[164,187,164,188],[164,189,164,190],[164,175,164,176],[164,177,164,178],[164,179,164,180],[164,181,164,182],[164,183,164,184],[164,185,164,186],[164,163,164,164],[164,165,164,166],[164,167,164,168],[164,169,164,170],[164,171,164,172],[164,173,164,174],[164,151,164,152],[164,153,164,154],[164,155,164,156],[164,157,164,158],[164,159,164,160],[164,161,164,162],[164,139,164,140],[164,141,164,142],[164,143,164,144],[164,145,164,146],[164,147,164,148],[164,149,164,150],[164,127,164,128],[164,129,164,130],[164,131,164,132],[164,133,164,134],[164,135,164,136],[164,137,164,138],[164,115,164,116],[164,117,164,118],[164,119,164,120],[164,121,164,122],[164,123,164,124],[164,125,164,126],[164,103,164,104],[164,105,164,106],[164,107,164,108],[164,109,164,110],[164,111,164,112],[164,113,164,114],[164,91,164,92],[164,93,164,94],[164,95,164,96],[164,97,164,98],[164,99,164,100],[164,101,164,102],[164,79,164,80],[164,81,164,82],[164,83,164,84],[164,85,164,86],[164,87,164,88],[164,89,164,90],[164,73,164,74],[164,75,164,76],[164,77,164,78],[164,65,164,66],[164,1,164,2],[164,3,164,4],[164,5,164,6],[164,7,164,8],[164,9,164,10],[164,11,164,12],[164,13,164,14],[164,15,164,16],[164,17,164,18],[163,163,163,168],[163,169,163,174],[163,175,163,180],[163,181,163,186],[163,187,163,192],[163,193,163,198],[163,127,163,132],[163,133,163,138],[164,43,164,44],[164,45,164,46],[164,47,164,48],[164,49,164,50],[164,51,164,52],[164,53,164,54],[163,139,163,144],[163,145,163,150],[163,151,163,156],[163,157,163,162],[163,91,163,96],[163,97,163,102],[163,103,163,108],[163,109,163,114],[163,115,163,120],[163,121,163,126],[163,73,163,78],[163,79,163,84],[163,85,163,90],[163,19,163,24],[163,25,163,30],[163,31,163,36],[163,37,163,42],[163,43,163,48],[163,49,163,54],[7,0,8,0],[83,0,84,0],[163,0,165,0],[163,1,163,6],[163,7,163,12],[163,13,163,18],[163,55,163,60],[163,61,163,66],[163,67,163,72],[164,19,164,20],[164,21,164,22],[164,23,164,24],[164,25,164,26],[164,27,164,28],[164,29,164,30],[164,31,164,32],[164,33,164,34],[164,35,164,36],[164,37,164,38],[164,39,164,40],[164,41,164,42],[164,67,164,68],[164,69,164,70],[164,71,164,72],[247,100,247,102],[247,52,247,54],[247,22,247,24],[247,16,247,18],[247,28,247,30],[247,34,247,36],[247,40,247,42],[247,46,247,48],[247,0,248,0],[247,73,247,75],[247,79,247,81],[247,85,247,87],[247,91,247,93],[247,97,247,99],[247,76,247,78],[247,82,247,84],[247,88,247,90],[247,94,247,96],[247,1,247,3],[247,4,247,6],[247,10,247,12],[247,58,247,60],[247,64,247,66],[247,70,247,72],[247,7,247,9],[247,13,247,15],[247,19,247,21],[247,25,247,27],[247,31,247,33],[247,37,247,39],[247,43,247,45],[247,49,247,51],[247,55,247,57],[247,61,247,63],[247,67,247,69],[553,36,554,36],[553,37,554,37],[553,38,554,38],[553,39,554,39],[552,0,554,0],[552,1,552,3],[552,4,554,4],[552,5,552,19],[552,20,552,31],[552,32,552,34],[552,35,552,37],[552,38,552,40],[553,40,554,40],[553,17,553,19],[553,20,553,22],[553,23,553,25],[553,26,553,28],[553,29,553,31],[553,32,554,32],[553,33,554,33],[553,34,554,34],[553,35,554,35],[553,1,554,1],[553,2,554,2],[553,3,554,3],[553,5,554,5],[553,6,554,6],[553,7,554,7],[553,8,553,10],[553,11,553,13],[553,14,553,16],[83,1,83,2],[83,3,83,4],[83,5,83,6],[83,7,83,8],[83,9,83,10],[83,11,83,12],[83,13,83,14],[83,15,83,16],[83,17,83,18],[7,19,7,20],[7,21,7,22],[7,23,7,24],[7,25,7,26],[7,27,7,28],[7,29,7,30],[7,31,7,32],[7,33,7,34],[83,37,83,38],[83,19,83,20],[83,21,83,22],[83,23,83,24],[83,25,83,26],[83,27,83,28],[83,29,83,30],[83,31,83,32],[83,33,83,34],[83,35,83,36],[7,1,7,2],[7,3,7,4],[7,5,7,6],[7,7,7,8],[7,9,7,10],[7,11,7,12],[7,13,7,14],[7,15,7,16],[7,17,7,18],[7,65,7,66],[7,67,7,68],[552,41,552,43],[7,35,7,36],[7,37,7,38],[7,39,7,40],[7,41,7,42],[7,43,7,44],[7,45,7,46],[7,47,7,48],[7,49,7,50],[7,51,7,52],[83,55,83,56],[83,57,83,58],[83,59,83,60],[83,61,83,62],[83,63,83,64],[83,65,83,66],[83,67,83,68],[83,39,83,40],[83,41,83,42],[83,43,83,44],[83,45,83,46],[83,47,83,48],[553,41,554,41],[553,42,554,42],[553,43,554,43],[7,53,7,54],[7,55,7,56],[7,57,7,58],[7,59,7,60],[7,61,7,62],[7,63,7,64],[83,49,83,50],[83,51,83,52],[83,53,83,54],[552,44,554,44],[552,45,554,45],[164,55,164,56],[164,57,164,58],[164,59,164,60],[164,61,164,62],[164,63,164,64],[166,51,166,52],[166,53,166,54],[166,55,166,56],[166,57,166,58],[166,59,166,60]]}
["Počty nově příchozích"]
[null,2017,{"$f":"B2+1","v":2018},{"$f":"C2+1","v":2019},2020,2021,2022,2023,2024,2025,2026,2027,2028,2029,2030,2031,2032,2033,2034,2035,2036,2037,2038,2039,2040,2041,2042,2043,2044,2045,2046,2047,2048,2049,2050]
["Celkem",{"$f":"B4+B5","v":18.399999999999999},{"$f":"C4+C5","v":18.399999999999999},18.399999999999999,18.399999999999999,18.399999999999999,18.399999999999999,18.399999999999999,18.399999999999999,18.399999999999999,18.399999999999999,18.399999999999999,18.399999999999999,18.399999999999999,18.399999999999999,18.399999999999999,18.399999999999999,18.399999999999999,18.399999999999999,18.399999999999999,18.399999999999999,18.399999999999999,18.399999999999999,18.399999999999999,18.399999999999999,18.399999999999999,18.399999999999999,18.399999999999999,18.399999999999999,18.399999999999999,18.399999999999999,18.399999999999999,18.399999999999999,18.399999999999999,18.399999999999999]
["Muži",{"$f":"Vstupy!B1408","v":5.8},{"$f":"B4","v":5.8},{"$f":"C4","v":5.8},5.8,5.8,5.8,5.8,5.8,5.8,5.8,5.8,5.8,5.8,5.8,5.8,5.8,5.8,5.8,5.8,5.8,5.8,5.8,5.8,5.8,5.8,5.8,5.8,5.8,5.8,5.8,5.8,5.8,5.8,5.8]
["Ženy",{"$f":"Vstupy!B1409","v":12.6},{"$f":"B5","v":12.6},{"$f":"C5","v":12.6},12.6,12.6,12.6,12.6,12.6,12.6,12.6,12.6,12.6,12.6,12.6,12.6,12.6,12.6,12.6,12.6,12.6,12.6,12.6,12.6,12.6,12.6,12.6,12.6,12.6,12.6,12.6,12.6,12.6,12.6,12.6]
[]
["Rozložení příchozích (v %)"]
["Věk",{"$f":"B2","v":2017},null,{"$f":"B8+1","v":2018},null,{"$f":"D8+1","v":2019},null,{"$f":"F8+1","v":2020},null,{"$f":"H8+1","v":2021},null,{"$f":"J8+1","v":2022},null,{"$f":"L8+1","v":2023},null,{"$f":"N8+1","v":2024},null,{"$f":"P8+1","v":2025},null,{"$f":"R8+1","v":2026},null,{"$f":"T8+1","v":2027},null,{"$f":"V8+1","v":2028},null,{"$f":"X8+1","v":2029},null,{"$f":"Z8+1","v":2030},null,{"$f":"AB8+1","v":2031},null,{"$f":"AD8+1","v":2032},null,{"$f":"AF8+1","v":2033},null,{"$f":"AH8+1","v":2034},null,{"$f":"AJ8+1","v":2035},null,{"$f":"AL8+1","v":2036},null,{"$f":"AN8+1","v":2037},null,{"$f":"AP8+1","v":2038},null,{"$f":"AR8+1","v":2039},null,{"$f":"AT8+1","v":2040},null,{"$f":"AV8+1","v":2041},null,{"$f":"AX8+1","v":2042},null,{"$f":"AZ8+1","v":2043},null,{"$f":"BB8+1","v":2044},null,{"$f":"BD8+1","v":2045},null,{"$f":"BF8+1","v":2046},null,{"$f":"BH8+1","v":2047},null,{"$f":"BJ8+1","v":2048},null,{"$f":"BL8+1","v":2049},null,{"$f":"BN8+1","v":2050}]
[null,"Muži","Ženy",{"$f":"B9","v":"Muži"},{"$f":"C9","v":"Ženy"},{"$f":"D9","v":"Muži"},{"$f":"E9","v":"Ženy"},{"$f":"F9","v":"Muži"},"Ženy","Muži","Ženy","Muži","Ženy","Muži","Ženy","Muži","Ženy","Muži","Ženy","Muži","Ženy","Muži","Ženy","Muži","Ženy","Muži","Ženy","Muži","Ženy","Muži","Ženy","Muži","Ženy","Muži","Ženy","Muži","Ženy","Muži","Ženy","Muži","Ženy","Muži","Ženy","Muži","Ženy","Muži","Ženy","Muži","Ženy","Muži","Ženy","Muži","Ženy","Muži","Ženy","Muži","Ženy","Muži","Ženy","Muži","Ženy","Muži","Ženy","Muži","Ženy","Muži","Ženy","Muži","Ženy"]
[23,{"$f":"Vstupy!B1415","v":0},{"$f":"Vstupy!C1415","v":0},{"$f":"B10","v":0},{"$f":"C10","v":0},{"$f":"D10","v":0},0,{"$f":"F10","v":0},{"$f":"G10","v":0},0,0,{"$f":"J10","v":0},{"$f":"K10","v":0},0,0,{"$f":"N10","v":0},{"$f":"O10","v":0},0,0,{"$f":"R10","v":0},{"$f":"S10","v":0},0,0,{"$f":"V10","v":0},{"$f":"W10","v":0},{"$f":"X10","v":0},{"$f":"Y10","v":0},{"$f":"Z10","v":0},{"$f":"AA10","v":0},{"$f":"AB10","v":0},{"$f":"AC10","v":0},{"$f":"AD10","v":0},{"$f":"AE10","v":0},{"$f":"AF10","v":0},{"$f":"AG10","v":0},{"$f":"AH10","v":0},{"$f":"AI10","v":0},{"$f":"AJ10","v":0},{"$f":"AK10","v":0},{"$f":"AL10","v":0},{"$f":"AM10","v":0},{"$f":"AN10","v":0},{"$f":"AO10","v":0},{"$f":"AP10","v":0},{"$f":"AQ10","v":0},0,0,{"$f":"AT10","v":0},{"$f":"AU10","v":0},{"$f":"AV10","v":0},{"$f":"AW10","v":0},{"$f":"AX10","v":0},0,{"$f":"AZ10","v":0},{"$f":"BA10","v":0},0,0,{"$f":"BD10","v":0},{"$f":"BE10","v":0},{"$f":"BF10","v":0},{"$f":"BG10","v":0},{"$f":"BH10","v":0},{"$f":"BI10","v":0},{"$f":"BJ10","v":0},{"$f":"BK10","v":0},{"$f":"BL10","v":0},{"$f":"BM10","v":0},{"$f":"BN10","v":0},{"$f":"BO10","v":0}]
[24,{"$f":"Vstupy!B1416","v":0},{"$f":"Vstupy!C1416","v":0.11848341232227488},{"$f":"B11","v":0},{"$f":"C11","v":0.11848341232227488},{"$f":"D11","v":0},{"$f":"E11","v":0.11848341232227488},{"$f":"F11","v":0},{"$f":"G11","v":0.11848341232227488},0,0.11848341232227488,{"$f":"J11","v":0},{"$f":"K11","v":0.11848341232227488},0,0.11848341232227488,{"$f":"N11","v":0},{"$f":"O11","v":0.11848341232227488},0,0.11848341232227488,{"$f":"R11","v":0},{"$f":"S11","v":0.11848341232227488},0,0.11848341232227488,{"$f":"V11","v":0},{"$f":"W11","v":0.11848341232227488},0,0.11848341232227488,{"$f":"Z11","v":0},{"$f":"AA11","v":0.11848341232227488},0,0.11848341232227488,{"$f":"AD11","v":0},{"$f":"AE11","v":0.11848341232227488},0,0.11848341232227488,{"$f":"AH11","v":0},{"$f":"AI11","v":0.11848341232227488},0,0.11848341232227488,{"$f":"AL11","v":0},{"$f":"AM11","v":0.11848341232227488},0,0.11848341232227488,{"$f":"AP11","v":0},{"$f":"AQ11","v":0.11848341232227488},0,0.11848341232227488,{"$f":"AT11","v":0},{"$f":"AU11","v":0.11848341232227488},{"$f":"AV11","v":0},{"$f":"AW11","v":0.11848341232227488},0,0.11848341232227488,{"$f":"AZ11","v":0},{"$f":"BA11","v":0.11848341232227488},0,0.11848341232227488,{"$f":"BD11","v":0},{"$f":"BE11","v":0.11848341232227488},0,0.11848341232227488,{"$f":"BH11","v":0},{"$f":"BI11","v":0.11848341232227488},0,0.11848341232227488,{"$f":"BL11","v":0},{"$f":"BM11","v":0.11848341232227488},0,0.11848341232227488]
[25,{"$f":"Vstupy!B1417","v":0.99667774086378735},{"$f":"Vstupy!C1417","v":1.7772511848341233},0.99667774086378735,1.7772511848341233,0.99667774086378735,1.7772511848341233,0.99667774086378735,1.7772511848341233,0.99667774086378735,1.7772511848341233,0.99667774086378735,1.7772511848341233,0.99667774086378735,1.7772511848341233,0.99667774086378735,1.7772511848341233,0.99667774086378735,1.7772511848341233,0.99667774086378735,1.7772511848341233,0.99667774086378735,1.7772511848341233,0.99667774086378735,1.7772511848341233,0.99667774086378735,1.7772511848341233,0.99667774086378735,1.7772511848341233,0.99667774086378735,1.7772511848341233,0.99667774086378735,1.7772511848341233,0.99667774086378735,1.7772511848341233,0.99667774086378735,1.7772511848341233,0.99667774086378735,1.7772511848341233,0.99667774086378735,1.7772511848341233,0.99667774086378735,1.7772511848341233,0.99667774086378735,1.7772511848341233,{"$f":"AR12","v":0.99667774086378735},{"$f":"AS12","v":1.7772511848341233},0.99667774086378735,1.7772511848341233,0.99667774086378735,1.7772511848341233,0.99667774086378735,1.7772511848341233,0.99667774086378735,1.7772511848341233,0.99667774086378735,1.7772511848341233,0.99667774086378735,1.7772511848341233,0.99667774086378735,1.7772511848341233,0.99667774086378735,1.7772511848341233,0.99667774086378735,1.7772511848341233,0.99667774086378735,1.7772511848341233,0.99667774086378735,1.7772511848341233]
[26,{"$f":"Vstupy!B1418","v":3.6544850498338874},{"$f":"Vstupy!C1418","v":4.1469194312796205},3.6544850498338874,4.1469194312796205,3.6544850498338874,4.1469194312796205,3.6544850498338874,4.1469194312796205,3.6544850498338874,4.1469194312796205,3.6544850498338874,4.1469194312796205,3.6544850498338874,4.1469194312796205,3.6544850498338874,4.1469194312796205,3.6544850498338874,4.1469194312796205,3.6544850498338874,4.1469194312796205,3.6544850498338874,4.1469194312796205,3.6544850498338874,4.1469194312796205,3.6544850498338874,4.1469194312796205,3.6544850498338874,4.1469194312796205,3.6544850498338874,4.1469194312796205,3.6544850498338874,4.1469194312796205,3.6544850498338874,4.1469194312796205,3.6544850498338874,4.1469194312796205,3.6544850498338874,4.1469194312796205,3.6544850498338874,4.1469194312796205,3.6544850498338874,4.1469194312796205,3.6544850498338874,4.1469194312796205,3.6544850498338874,4.1469194312796205,3.6544850498338874,4.1469194312796205,3.6544850498338874,4.1469194312796205,3.6544850498338874,4.1469194312796205,3.6544850498338874,4.1469194312796205,3.6544850498338874,4.1469194312796205,3.6544850498338874,4.1469194312796205,3.6544850498338874,4.1469194312796205,3.6544850498338874,4.1469194312796205,3.6544850498338874,4.1469194312796205,3.6544850498338874,4.1469194312796205,3.6544850498338874,4.1469194312796205]
[27,{"$f":"Vstupy!B1419","v":4.3189368770764114},{"$f":"Vstupy!C1419","v":6.3981042654028428},4.3189368770764114,6.3981042654028428,4.3189368770764114,6.3981042654028428,4.3189368770764114,6.3981042654028428,4.3189368770764114,6.3981042654028428,4.3189368770764114,6.3981042654028428,4.3189368770764114,6.3981042654028428,4.3189368770764114,6.3981042654028428,4.3189368770764114,6.3981042654028428,4.3189368770764114,6.3981042654028428,4.3189368770764114,6.3981042654028428,4.3189368770764114,6.3981042654028428,4.3189368770764114,6.3981042654028428,4.3189368770764114,6.3981042654028428,4.3189368770764114,6.3981042654028428,4.3189368770764114,6.3981042654028428,4.3189368770764114,6.3981042654028428,4.3189368770764114,6.3981042654028428,4.3189368770764114,6.3981042654028428,4.3189368770764114,6.3981042654028428,4.3189368770764114,6.3981042654028428,4.3189368770764114,6.3981042654028428,4.3189368770764114,6.3981042654028428,4.3189368770764114,6.3981042654028428,4.3189368770764114,6.3981042654028428,4.3189368770764114,6.3981042654028428,4.3189368770764114,6.3981042654028428,4.3189368770764114,6.3981042654028428,4.3189368770764114,6.3981042654028428,4.3189368770764114,6.3981042654028428,4.3189368770764114,6.3981042654028428,4.3189368770764114,6.3981042654028428,4.3189368770764114,6.3981042654028428,4.3189368770764114,6.3981042654028428]
[28,{"$f":"Vstupy!B1420","v":2.9900332225913622},{"$f":"Vstupy!C1420","v":4.8578199052132707},2.9900332225913622,4.8578199052132707,2.9900332225913622,4.8578199052132707,2.9900332225913622,4.8578199052132707,2.9900332225913622,4.8578199052132707,2.9900332225913622,4.8578199052132707,2.9900332225913622,4.8578199052132707,2.9900332225913622,4.8578199052132707,2.9900332225913622,4.8578199052132707,2.9900332225913622,4.8578199052132707,2.9900332225913622,4.8578199052132707,2.9900332225913622,4.8578199052132707,2.9900332225913622,4.8578199052132707,2.9900332225913622,4.8578199052132707,2.9900332225913622,4.8578199052132707,2.9900332225913622,4.8578199052132707,2.9900332225913622,4.8578199052132707,2.9900332225913622,4.8578199052132707,2.9900332225913622,4.8578199052132707,2.9900332225913622,4.8578199052132707,2.9900332225913622,4.8578199052132707,2.9900332225913622,4.8578199052132707,2.9900332225913622,4.8578199052132707,2.9900332225913622,4.8578199052132707,2.9900332225913622,4.8578199052132707,2.9900332225913622,4.8578199052132707,2.9900332225913622,4.8578199052132707,2.9900332225913622,4.8578199052132707,2.9900332225913622,4.8578199052132707,2.9900332225913622,4.8578199052132707,2.9900332225913622,4.8578199052132707,2.9900332225913622,4.8578199052132707,2.9900332225913622,4.8578199052132707,2.9900332225913622,4.8578199052132707]
[29,{"$f":"Vstupy!B1421","v":5.9800664451827243},{"$f":"Vstupy!C1421","v":4.62085308056872},5.9800664451827243,4.62085308056872,5.9800664451827243,4.62085308056872,5.9800664451827243,4.62085308056872,5.9800664451827243,4.62085308056872,5.9800664451827243,4.62085308056872,5.9800664451827243,4.62085308056872,5.9800664451827243,4.62085308056872,5.9800664451827243,4.62085308056872,5.9800664451827243,4.62085308056872,5.9800664451827243,4.62085308056872,5.9800664451827243,4.62085308056872,5.9800664451827243,4.62085308056872,5.9800664451827243,4.62085308056872,5.9800664451827243,4.62085308056872,5.9800664451827243,4.62085308056872,5.9800664451827243,4.62085308056872,5.9800664451827243,4.62085308056872,5.9800664451827243,4.62085308056872,5.9800664451827243,4.62085308056872,5.9800664451827243,4.62085308056872,5.9800664451827243,4.62085308056872,5.9800664451827243,4.62085308056872,5.9800664451827243,4.62085308056872,5.9800664451827243,4.62085308056872,5.9800664451827243,4.62085308056872,5.9800664451827243,4.62085308056872,5.9800664451827243,4.62085308056872,5.9800664451827243,4.62085308056872,5.9800664451827243,4.62085308056872,5.9800664451827243,4.62085308056872,5.9800664451827243,4.62085308056872,5.9800664451827243,4.62085308056872,5.9800664451827243,4.62085308056872]
[30,{"$f":"Vstupy!B1422","v":8.9700996677740861},{"$f":"Vstupy!C1422","v":6.2796208530805684},8.9700996677740861,6.2796208530805684,8.9700996677740861,6.2796208530805684,8.9700996677740861,6.2796208530805684,8.9700996677740861,6.2796208530805684,8.9700996677740861,6.2796208530805684,8.9700996677740861,6.2796208530805684,8.9700996677740861,6.2796208530805684,8.9700996677740861,6.2796208530805684,8.9700996677740861,6.2796208530805684,8.9700996677740861,6.2796208530805684,8.9700996677740861,6.2796208530805684,8.9700996677740861,6.2796208530805684,8.9700996677740861,6.2796208530805684,8.9700996677740861,6.2796208530805684,8.9700996677740861,6.2796208530805684,8.9700996677740861,6.2796208530805684,8.9700996677740861,6.2796208530805684,8.9700996677740861,6.2796208530805684,8.9700996677740861,6.2796208530805684,8.9700996677740861,6.2796208530805684,8.9700996677740861,6.2796208530805684,8.9700996677740861,6.2796208530805684,8.9700996677740861,6.2796208530805684,8.9700996677740861,6.2796208530805684,8.9700996677740861,6.2796208530805684,8.9700996677740861,6.2796208530805684,8.9700996677740861,6.2796208530805684,8.9700996677740861,6.2796208530805684,8.9700996677740861,6.2796208530805684,8.9700996677740861,6.2796208530805684,8.9700996677740861,6.2796208530805684,8.9700996677740861,6.2796208530805684,8.9700996677740861,6.2796208530805684]
[31,{"$f":"Vstupy!B1423","v":6.9767441860465116},{"$f":"Vstupy!C1423","v":5.2132701421800949},6.9767441860465116,5.2132701421800949,6.9767441860465116,5.2132701421800949,6.9767441860465116,5.2132701421800949,6.9767441860465116,5.2132701421800949,6.9767441860465116,5.2132701421800949,6.9767441860465116,5.2132701421800949,6.9767441860465116,5.2132701421800949,6.9767441860465116,5.2132701421800949,6.9767441860465116,5.2132701421800949,6.9767441860465116,5.2132701421800949,6.9767441860465116,5.2132701421800949,6.9767441860465116,5.2132701421800949,6.9767441860465116,5.2132701421800949,6.9767441860465116,5.2132701421800949,6.9767441860465116,5.2132701421800949,6.9767441860465116,5.2132701421800949,6.9767441860465116,5.2132701421800949,6.9767441860465116,5.2132701421800949,6.9767441860465116,5.2132701421800949,6.9767441860465116,5.2132701421800949,6.9767441860465116,5.2132701421800949,6.9767441860465116,5.2132701421800949,6.9767441860465116,5.2132701421800949,6.9767441860465116,5.2132701421800949,6.9767441860465116,5.2132701421800949,6.9767441860465116,5.2132701421800949,6.9767441860465116,5.2132701421800949,6.9767441860465116,5.2132701421800949,6.9767441860465116,5.2132701421800949,6.9767441860465116,5.2132701421800949,6.9767441860465116,5.2132701421800949,6.9767441860465116,5.2132701421800949,6.9767441860465116,5.2132701421800949]
[32,{"$f":"Vstupy!B1424","v":5.9800664451827243},{"$f":"Vstupy!C1424","v":5.5687203791469191},5.9800664451827243,5.5687203791469191,5.9800664451827243,5.5687203791469191,5.9800664451827243,5.5687203791469191,5.9800664451827243,5.5687203791469191,5.9800664451827243,5.5687203791469191,5.9800664451827243,5.5687203791469191,5.9800664451827243,5.5687203791469191,5.9800664451827243,5.5687203791469191,5.9800664451827243,5.5687203791469191,5.9800664451827243,5.5687203791469191,5.9800664451827243,5.5687203791469191,5.9800664451827243,5.5687203791469191,5.9800664451827243,5.5687203791469191,5.9800664451827243,5.5687203791469191,5.9800664451827243,5.5687203791469191,5.9800664451827243,5.5687203791469191,5.9800664451827243,5.5687203791469191,5.9800664451827243,5.5687203791469191,5.9800664451827243,5.5687203791469191,5.9800664451827243,5.5687203791469191,5.9800664451827243,5.5687203791469191,5.9800664451827243,5.5687203791469191,5.9800664451827243,5.5687203791469191,5.9800664451827243,5.5687203791469191,5.9800664451827243,5.5687203791469191,5.9800664451827243,5.5687203791469191,5.9800664451827243,5.5687203791469191,5.9800664451827243,5.5687203791469191,5.9800664451827243,5.5687203791469191,5.9800664451827243,5.5687203791469191,5.9800664451827243,5.5687203791469191,5.9800664451827243,5.5687203791469191,5.9800664451827243,5.5687203791469191]
[33,{"$f":"Vstupy!B1425","v":7.6411960132890364},{"$f":"Vstupy!C1425","v":5.2132701421800949},7.6411960132890364,5.2132701421800949,7.6411960132890364,5.2132701421800949,7.6411960132890364,5.2132701421800949,7.6411960132890364,5.2132701421800949,7.6411960132890364,5.2132701421800949,7.6411960132890364,5.2132701421800949,7.6411960132890364,5.2132701421800949,7.6411960132890364,5.2132701421800949,7.6411960132890364,5.2132701421800949,7.6411960132890364,5.2132701421800949,7.6411960132890364,5.2132701421800949,7.6411960132890364,5.2132701421800949,7.6411960132890364,5.2132701421800949,7.6411960132890364,5.2132701421800949,7.6411960132890364,5.2132701421800949,7.6411960132890364,5.2132701421800949,7.6411960132890364,5.2132701421800949,7.6411960132890364,5.2132701421800949,7.6411960132890364,5.2132701421800949,7.6411960132890364,5.2132701421800949,7.6411960132890364,5.2132701421800949,7.6411960132890364,5.2132701421800949,7.6411960132890364,5.2132701421800949,7.6411960132890364,5.2132701421800949,7.6411960132890364,5.2132701421800949,7.6411960132890364,5.2132701421800949,7.6411960132890364,5.2132701421800949,7.6411960132890364,5.2132701421800949,7.6411960132890364,5.2132701421800949,7.6411960132890364,5.2132701421800949,7.6411960132890364,5.2132701421800949,7.6411960132890364,5.2132701421800949,7.6411960132890364,5.2132701421800949]
[34,{"$f":"Vstupy!B1426","v":5.3156146179401995},{"$f":"Vstupy!C1426","v":5.4502369668246446},5.3156146179401995,5.4502369668246446,5.3156146179401995,5.4502369668246446,5.3156146179401995,5.4502369668246446,5.3156146179401995,5.4502369668246446,5.3156146179401995,5.4502369668246446,5.3156146179401995,5.4502369668246446,5.3156146179401995,5.4502369668246446,5.3156146179401995,5.4502369668246446,5.3156146179401995,5.4502369668246446,5.3156146179401995,5.4502369668246446,5.3156146179401995,5.4502369668246446,5.3156146179401995,5.4502369668246446,5.3156146179401995,5.4502369668246446,5.3156146179401995,5.4502369668246446,5.3156146179401995,5.4502369668246446,5.3156146179401995,5.4502369668246446,5.3156146179401995,5.4502369668246446,5.3156146179401995,5.4502369668246446,5.3156146179401995,5.4502369668246446,5.3156146179401995,5.4502369668246446,5.3156146179401995,5.4502369668246446,5.3156146179401995,5.4502369668246446,5.3156146179401995,5.4502369668246446,5.3156146179401995,5.4502369668246446,5.3156146179401995,5.4502369668246446,5.3156146179401995,5.4502369668246446,5.3156146179401995,5.4502369668246446,5.3156146179401995,5.4502369668246446,5.3156146179401995,5.4502369668246446,5.3156146179401995,5.4502369668246446,5.3156146179401995,5.4502369668246446,5.3156146179401995,5.4502369668246446,5.3156146179401995,5.4502369668246446]
[35,{"$f":"Vstupy!B1427","v":2.3255813953488373},{"$f":"Vstupy!C1427","v":5.6872037914691944},2.3255813953488373,5.6872037914691944,2.3255813953488373,5.6872037914691944,2.3255813953488373,5.6872037914691944,2.3255813953488373,5.6872037914691944,2.3255813953488373,5.6872037914691944,2.3255813953488373,5.6872037914691944,2.3255813953488373,5.6872037914691944,2.3255813953488373,5.6872037914691944,2.3255813953488373,5.6872037914691944,2.3255813953488373,5.6872037914691944,2.3255813953488373,5.6872037914691944,2.3255813953488373,5.6872037914691944,2.3255813953488373,5.6872037914691944,2.3255813953488373,5.6872037914691944,2.3255813953488373,5.6872037914691944,2.3255813953488373,5.6872037914691944,2.3255813953488373,5.6872037914691944,2.3255813953488373,5.6872037914691944,2.3255813953488373,5.6872037914691944,2.3255813953488373,5.6872037914691944,2.3255813953488373,5.6872037914691944,2.3255813953488373,5.6872037914691944,2.3255813953488373,5.6872037914691944,2.3255813953488373,5.6872037914691944,2.3255813953488373,5.6872037914691944,2.3255813953488373,5.6872037914691944,2.3255813953488373,5.6872037914691944,2.3255813953488373,5.6872037914691944,2.3255813953488373,5.6872037914691944,2.3255813953488373,5.6872037914691944,2.3255813953488373,5.6872037914691944,2.3255813953488373,5.6872037914691944,2.3255813953488373,5.6872037914691944]
[36,{"$f":"Vstupy!B1428","v":4.3189368770764114},{"$f":"Vstupy!C1428","v":7.5829383886255926},4.3189368770764114,7.5829383886255926,4.3189368770764114,7.5829383886255926,4.3189368770764114,7.5829383886255926,4.3189368770764114,7.5829383886255926,4.3189368770764114,7.5829383886255926,4.3189368770764114,7.5829383886255926,4.3189368770764114,7.5829383886255926,4.3189368770764114,7.5829383886255926,4.3189368770764114,7.5829383886255926,4.3189368770764114,7.5829383886255926,4.3189368770764114,7.5829383886255926,4.3189368770764114,7.5829383886255926,4.3189368770764114,7.5829383886255926,4.3189368770764114,7.5829383886255926,4.3189368770764114,7.5829383886255926,4.3189368770764114,7.5829383886255926,4.3189368770764114,7.5829383886255926,4.3189368770764114,7.5829383886255926,4.3189368770764114,7.5829383886255926,4.3189368770764114,7.5829383886255926,4.3189368770764114,7.5829383886255926,4.3189368770764114,7.5829383886255926,4.3189368770764114,7.5829383886255926,4.3189368770764114,7.5829383886255926,4.3189368770764114,7.5829383886255926,4.3189368770764114,7.5829383886255926,4.3189368770764114,7.5829383886255926,4.3189368770764114,7.5829383886255926,4.3189368770764114,7.5829383886255926,4.3189368770764114,7.5829383886255926,4.3189368770764114,7.5829383886255926,4.3189368770764114,7.5829383886255926,4.3189368770764114,7.5829383886255926]
[37,{"$f":"Vstupy!B1429","v":3.6544850498338874},{"$f":"Vstupy!C1429","v":3.4360189573459716},3.6544850498338874,3.4360189573459716,3.6544850498338874,3.4360189573459716,3.6544850498338874,3.4360189573459716,3.6544850498338874,3.4360189573459716,3.6544850498338874,3.4360189573459716,3.6544850498338874,3.4360189573459716,3.6544850498338874,3.4360189573459716,3.6544850498338874,3.4360189573459716,3.6544850498338874,3.4360189573459716,3.6544850498338874,3.4360189573459716,3.6544850498338874,3.4360189573459716,3.6544850498338874,3.4360189573459716,3.6544850498338874,3.4360189573459716,3.6544850498338874,3.4360189573459716,3.6544850498338874,3.4360189573459716,3.6544850498338874,3.4360189573459716,3.6544850498338874,3.4360189573459716,3.6544850498338874,3.4360189573459716,3.6544850498338874,3.4360189573459716,3.6544850498338874,3.4360189573459716,3.6544850498338874,3.4360189573459716,3.6544850498338874,3.4360189573459716,3.6544850498338874,3.4360189573459716,3.6544850498338874,3.4360189573459716,3.6544850498338874,3.4360189573459716,3.6544850498338874,3.4360189573459716,3.6544850498338874,3.4360189573459716,3.6544850498338874,3.4360189573459716,3.6544850498338874,3.4360189573459716,3.6544850498338874,3.4360189573459716,3.6544850498338874,3.4360189573459716,3.6544850498338874,3.4360189573459716,3.6544850498338874,3.4360189573459716]
[38,{"$f":"Vstupy!B1430","v":3.322259136212625},{"$f":"Vstupy!C1430","v":5.9241706161137442},3.322259136212625,5.9241706161137442,3.322259136212625,5.9241706161137442,3.322259136212625,5.9241706161137442,{"$f":"H25","v":3.322259136212625},{"$f":"I25","v":5.9241706161137442},3.322259136212625,5.9241706161137442,{"$f":"L25","v":3.322259136212625},{"$f":"M25","v":5.9241706161137442},3.322259136212625,5.9241706161137442,{"$f":"P25","v":3.322259136212625},{"$f":"Q25","v":5.9241706161137442},3.322259136212625,5.9241706161137442,{"$f":"T25","v":3.322259136212625},{"$f":"U25","v":5.9241706161137442},3.322259136212625,5.9241706161137442,3.322259136212625,5.9241706161137442,3.322259136212625,5.9241706161137442,3.322259136212625,5.9241706161137442,3.322259136212625,5.9241706161137442,3.322259136212625,5.9241706161137442,3.322259136212625,5.9241706161137442,3.322259136212625,5.9241706161137442,3.322259136212625,5.9241706161137442,3.322259136212625,5.9241706161137442,3.322259136212625,5.9241706161137442,3.322259136212625,5.9241706161137442,3.322259136212625,5.9241706161137442,3.322259136212625,5.9241706161137442,3.322259136212625,5.9241706161137442,3.322259136212625,5.9241706161137442,3.322259136212625,5.9241706161137442,3.322259136212625,5.9241706161137442,3.322259136212625,5.9241706161137442,3.322259136212625,5.9241706161137442,3.322259136212625,5.9241706161137442,3.322259136212625,5.9241706161137442,3.322259136212625,5.9241706161137442]
[39,{"$f":"Vstupy!B1431","v":3.322259136212625},{"$f":"Vstupy!C1431","v":4.8578199052132707},3.322259136212625,4.8578199052132707,3.322259136212625,4.8578199052132707,3.322259136212625,4.8578199052132707,3.322259136212625,4.8578199052132707,3.322259136212625,4.8578199052132707,3.322259136212625,4.8578199052132707,3.322259136212625,4.8578199052132707,3.322259136212625,4.8578199052132707,3.322259136212625,4.8578199052132707,3.322259136212625,4.8578199052132707,3.322259136212625,4.8578199052132707,3.322259136212625,4.8578199052132707,3.322259136212625,4.8578199052132707,3.322259136212625,4.8578199052132707,3.322259136212625,4.8578199052132707,3.322259136212625,4.8578199052132707,3.322259136212625,4.8578199052132707,{"$f":"AJ26","v":3.322259136212625},{"$f":"AK26","v":4.8578199052132707},3.322259136212625,4.8578199052132707,{"$f":"AN26","v":3.322259136212625},{"$f":"AO26","v":4.8578199052132707},3.322259136212625,4.8578199052132707,3.322259136212625,4.8578199052132707,3.322259136212625,4.8578199052132707,3.322259136212625,4.8578199052132707,{"$f":"AX26","v":3.322259136212625},{"$f":"AY26","v":4.8578199052132707},3.322259136212625,4.8578199052132707,{"$f":"BB26","v":3.322259136212625},{"$f":"BC26","v":4.8578199052132707},3.322259136212625,4.8578199052132707,3.322259136212625,4.8578199052132707,3.322259136212625,4.8578199052132707,3.322259136212625,4.8578199052132707,3.322259136212625,4.8578199052132707,3.322259136212625,4.8578199052132707]
[40,{"$f":"Vstupy!B1432","v":5.6478405315614619},{"$f":"Vstupy!C1432","v":3.3175355450236967},5.6478405315614619,3.3175355450236967,5.6478405315614619,3.3175355450236967,5.6478405315614619,3.3175355450236967,5.6478405315614619,3.3175355450236967,5.6478405315614619,3.3175355450236967,5.6478405315614619,3.3175355450236967,5.6478405315614619,3.3175355450236967,5.6478405315614619,3.3175355450236967,5.6478405315614619,3.3175355450236967,5.6478405315614619,3.3175355450236967,5.6478405315614619,3.3175355450236967,5.6478405315614619,3.3175355450236967,5.6478405315614619,3.3175355450236967,5.6478405315614619,3.3175355450236967,5.6478405315614619,3.3175355450236967,5.6478405315614619,3.3175355450236967,5.6478405315614619,3.3175355450236967,5.6478405315614619,3.3175355450236967,5.6478405315614619,3.3175355450236967,5.6478405315614619,3.3175355450236967,5.6478405315614619,3.3175355450236967,5.6478405315614619,3.3175355450236967,5.6478405315614619,3.3175355450236967,5.6478405315614619,3.3175355450236967,5.6478405315614619,3.3175355450236967,5.6478405315614619,3.3175355450236967,5.6478405315614619,3.3175355450236967,5.6478405315614619,3.3175355450236967,5.6478405315614619,3.3175355450236967,5.6478405315614619,3.3175355450236967,5.6478405315614619,3.3175355450236967,5.6478405315614619,3.3175355450236967,5.6478405315614619,3.3175355450236967]
[41,{"$f":"Vstupy!B1433","v":2.6578073089700998},{"$f":"Vstupy!C1433","v":4.028436018957346},2.6578073089700998,4.028436018957346,2.6578073089700998,4.028436018957346,2.6578073089700998,4.028436018957346,2.6578073089700998,4.028436018957346,2.6578073089700998,4.028436018957346,2.6578073089700998,4.028436018957346,2.6578073089700998,4.028436018957346,2.6578073089700998,4.028436018957346,2.6578073089700998,4.028436018957346,2.6578073089700998,4.028436018957346,2.6578073089700998,4.028436018957346,2.6578073089700998,4.028436018957346,2.6578073089700998,4.028436018957346,2.6578073089700998,4.028436018957346,2.6578073089700998,4.028436018957346,2.6578073089700998,4.028436018957346,2.6578073089700998,4.028436018957346,2.6578073089700998,4.028436018957346,2.6578073089700998,4.028436018957346,2.6578073089700998,4.028436018957346,2.6578073089700998,4.028436018957346,2.6578073089700998,4.028436018957346,2.6578073089700998,4.028436018957346,2.6578073089700998,4.028436018957346,2.6578073089700998,4.028436018957346,2.6578073089700998,4.028436018957346,2.6578073089700998,4.028436018957346,2.6578073089700998,4.028436018957346,2.6578073089700998,4.028436018957346,2.6578073089700998,4.028436018957346,2.6578073089700998,4.028436018957346,2.6578073089700998,4.028436018957346,2.6578073089700998,4.028436018957346]
[42,{"$f":"Vstupy!B1434","v":3.322259136212625},{"$f":"Vstupy!C1434","v":3.7914691943127963},3.322259136212625,3.7914691943127963,3.322259136212625,3.7914691943127963,3.322259136212625,3.7914691943127963,3.322259136212625,3.7914691943127963,3.322259136212625,3.7914691943127963,3.322259136212625,3.7914691943127963,3.322259136212625,3.7914691943127963,3.322259136212625,3.7914691943127963,3.322259136212625,3.7914691943127963,3.322259136212625,3.7914691943127963,3.322259136212625,3.7914691943127963,3.322259136212625,3.7914691943127963,3.322259136212625,3.7914691943127963,3.322259136212625,3.7914691943127963,3.322259136212625,3.7914691943127963,3.322259136212625,3.7914691943127963,3.322259136212625,3.7914691943127963,3.322259136212625,3.7914691943127963,3.322259136212625,3.7914691943127963,3.322259136212625,3.7914691943127963,3.322259136212625,3.7914691943127963,3.322259136212625,3.7914691943127963,3.322259136212625,3.7914691943127963,3.322259136212625,3.7914691943127963,3.322259136212625,3.7914691943127963,3.322259136212625,3.7914691943127963,3.322259136212625,3.7914691943127963,3.322259136212625,3.7914691943127963,3.322259136212625,3.7914691943127963,3.322259136212625,3.7914691943127963,3.322259136212625,3.7914691943127963,3.322259136212625,3.7914691943127963,3.322259136212625,3.7914691943127963]
[43,{"$f":"Vstupy!B1435","v":1.3289036544850499},{"$f":"Vstupy!C1435","v":2.4881516587677726},1.3289036544850499,2.4881516587677726,1.3289036544850499,2.4881516587677726,1.3289036544850499,2.4881516587677726,1.3289036544850499,2.4881516587677726,1.3289036544850499,2.4881516587677726,1.3289036544850499,2.4881516587677726,1.3289036544850499,2.4881516587677726,1.3289036544850499,2.4881516587677726,1.3289036544850499,2.4881516587677726,1.3289036544850499,2.4881516587677726,1.3289036544850499,2.4881516587677726,1.3289036544850499,2.4881516587677726,1.3289036544850499,2.4881516587677726,1.3289036544850499,2.4881516587677726,1.3289036544850499,2.4881516587677726,1.3289036544850499,2.4881516587677726,1.3289036544850499,2.4881516587677726,1.3289036544850499,2.4881516587677726,1.3289036544850499,2.4881516587677726,1.3289036544850499,2.4881516587677726,1.3289036544850499,2.4881516587677726,1.3289036544850499,2.4881516587677726,1.3289036544850499,2.4881516587677726,1.3289036544850499,2.4881516587677726,1.3289036544850499,2.4881516587677726,1.3289036544850499,2.4881516587677726,1.3289036544850499,2.4881516587677726,1.3289036544850499,2.4881516587677726,1.3289036544850499,2.4881516587677726,1.3289036544850499,2.4881516587677726,1.3289036544850499,2.4881516587677726,1.3289036544850499,2.4881516587677726,1.3289036544850499,2.4881516587677726]
[44,{"$f":"Vstupy!B1436","v":3.322259136212625},{"$f":"Vstupy!C1436","v":1.8957345971563981},3.322259136212625,1.8957345971563981,3.322259136212625,1.8957345971563981,3.322259136212625,1.8957345971563981,3.322259136212625,1.8957345971563981,3.322259136212625,1.8957345971563981,3.322259136212625,1.8957345971563981,3.322259136212625,1.8957345971563981,3.322259136212625,1.8957345971563981,3.322259136212625,1.8957345971563981,3.322259136212625,1.8957345971563981,3.322259136212625,1.8957345971563981,3.322259136212625,1.8957345971563981,3.322259136212625,1.8957345971563981,3.322259136212625,1.8957345971563981,3.322259136212625,1.8957345971563981,3.322259136212625,1.8957345971563981,3.322259136212625,1.8957345971563981,3.322259136212625,1.8957345971563981,3.322259136212625,1.8957345971563981,3.322259136212625,1.8957345971563981,3.322259136212625,1.8957345971563981,3.322259136212625,1.8957345971563981,3.322259136212625,1.8957345971563981,3.322259136212625,1.8957345971563981,3.322259136212625,1.8957345971563981,3.322259136212625,1.8957345971563981,3.322259136212625,1.8957345971563981,3.322259136212625,1.8957345971563981,3.322259136212625,1.8957345971563981,3.322259136212625,1.8957345971563981,3.322259136212625,1.8957345971563981,3.322259136212625,1.8957345971563981,3.322259136212625,1.8957345971563981]
[45,{"$f":"Vstupy!B1437","v":0.99667774086378735},{"$f":"Vstupy!C1437","v":2.3696682464454977},0.99667774086378735,2.3696682464454977,0.99667774086378735,2.3696682464454977,0.99667774086378735,2.3696682464454977,0.99667774086378735,2.3696682464454977,0.99667774086378735,2.3696682464454977,0.99667774086378735,2.3696682464454977,0.99667774086378735,2.3696682464454977,0.99667774086378735,2.3696682464454977,0.99667774086378735,2.3696682464454977,0.99667774086378735,2.3696682464454977,0.99667774086378735,2.3696682464454977,0.99667774086378735,2.3696682464454977,0.99667774086378735,2.3696682464454977,0.99667774086378735,2.3696682464454977,0.99667774086378735,2.3696682464454977,0.99667774086378735,2.3696682464454977,0.99667774086378735,2.3696682464454977,0.99667774086378735,2.3696682464454977,0.99667774086378735,2.3696682464454977,0.99667774086378735,2.3696682464454977,0.99667774086378735,2.3696682464454977,0.99667774086378735,2.3696682464454977,0.99667774086378735,2.3696682464454977,0.99667774086378735,2.3696682464454977,0.99667774086378735,2.3696682464454977,0.99667774086378735,2.3696682464454977,0.99667774086378735,2.3696682464454977,0.99667774086378735,2.3696682464454977,0.99667774086378735,2.3696682464454977,0.99667774086378735,2.3696682464454977,0.99667774086378735,2.3696682464454977,0.99667774086378735,2.3696682464454977,0.99667774086378735,2.3696682464454977]
[46,{"$f":"Vstupy!B1438","v":1.9933554817275747},{"$f":"Vstupy!C1438","v":0.94786729857819907},1.9933554817275747,0.94786729857819907,1.9933554817275747,0.94786729857819907,1.9933554817275747,0.94786729857819907,1.9933554817275747,0.94786729857819907,1.9933554817275747,0.94786729857819907,1.9933554817275747,0.94786729857819907,1.9933554817275747,0.94786729857819907,1.9933554817275747,0.94786729857819907,1.9933554817275747,0.94786729857819907,1.9933554817275747,0.94786729857819907,1.9933554817275747,0.94786729857819907,1.9933554817275747,0.94786729857819907,1.9933554817275747,0.94786729857819907,1.9933554817275747,0.94786729857819907,1.9933554817275747,0.94786729857819907,1.9933554817275747,0.94786729857819907,1.9933554817275747,0.94786729857819907,1.9933554817275747,0.94786729857819907,1.9933554817275747,0.94786729857819907,1.9933554817275747,0.94786729857819907,1.9933554817275747,0.94786729857819907,1.9933554817275747,0.94786729857819907,1.9933554817275747,0.94786729857819907,1.9933554817275747,0.94786729857819907,1.9933554817275747,0.94786729857819907,1.9933554817275747,0.94786729857819907,1.9933554817275747,0.94786729857819907,1.9933554817275747,0.94786729857819907,1.9933554817275747,0.94786729857819907,1.9933554817275747,0.94786729857819907,1.9933554817275747,0.94786729857819907,1.9933554817275747,0.94786729857819907,1.9933554817275747,0.94786729857819907]
[47,{"$f":"Vstupy!B1439","v":3.9867109634551494},{"$f":"Vstupy!C1439","v":1.6587677725118484},3.9867109634551494,1.6587677725118484,3.9867109634551494,1.6587677725118484,3.9867109634551494,1.6587677725118484,3.9867109634551494,1.6587677725118484,3.9867109634551494,1.6587677725118484,3.9867109634551494,1.6587677725118484,3.9867109634551494,1.6587677725118484,3.9867109634551494,1.6587677725118484,3.9867109634551494,1.6587677725118484,3.9867109634551494,1.6587677725118484,3.9867109634551494,1.6587677725118484,3.9867109634551494,1.6587677725118484,3.9867109634551494,1.6587677725118484,3.9867109634551494,1.6587677725118484,3.9867109634551494,1.6587677725118484,3.9867109634551494,1.6587677725118484,3.9867109634551494,1.6587677725118484,3.9867109634551494,1.6587677725118484,3.9867109634551494,1.6587677725118484,3.9867109634551494,1.6587677725118484,3.9867109634551494,1.6587677725118484,3.9867109634551494,1.6587677725118484,3.9867109634551494,1.6587677725118484,3.9867109634551494,1.6587677725118484,3.9867109634551494,1.6587677725118484,3.9867109634551494,1.6587677725118484,3.9867109634551494,1.6587677725118484,3.9867109634551494,1.6587677725118484,3.9867109634551494,1.6587677725118484,3.9867109634551494,1.6587677725118484,3.9867109634551494,1.6587677725118484,3.9867109634551494,1.6587677725118484,3.9867109634551494,1.6587677725118484]
[48,{"$f":"Vstupy!B1440","v":2.6578073089700998},{"$f":"Vstupy!C1440","v":0.35545023696682465},2.6578073089700998,0.35545023696682465,2.6578073089700998,0.35545023696682465,2.6578073089700998,0.35545023696682465,2.6578073089700998,0.35545023696682465,2.6578073089700998,0.35545023696682465,2.6578073089700998,0.35545023696682465,2.6578073089700998,0.35545023696682465,2.6578073089700998,0.35545023696682465,2.6578073089700998,0.35545023696682465,2.6578073089700998,0.35545023696682465,2.6578073089700998,0.35545023696682465,2.6578073089700998,0.35545023696682465,2.6578073089700998,0.35545023696682465,2.6578073089700998,0.35545023696682465,2.6578073089700998,0.35545023696682465,2.6578073089700998,0.35545023696682465,2.6578073089700998,0.35545023696682465,2.6578073089700998,0.35545023696682465,2.6578073089700998,0.35545023696682465,2.6578073089700998,0.35545023696682465,2.6578073089700998,0.35545023696682465,2.6578073089700998,0.35545023696682465,2.6578073089700998,0.35545023696682465,2.6578073089700998,0.35545023696682465,2.6578073089700998,0.35545023696682465,2.6578073089700998,0.35545023696682465,2.6578073089700998,0.35545023696682465,2.6578073089700998,0.35545023696682465,2.6578073089700998,0.35545023696682465,2.6578073089700998,0.35545023696682465,2.6578073089700998,0.35545023696682465,2.6578073089700998,0.35545023696682465,2.6578073089700998,0.35545023696682465]
[49,{"$f":"Vstupy!B1441","v":1.3289036544850499},{"$f":"Vstupy!C1441","v":0.35545023696682465},1.3289036544850499,0.35545023696682465,1.3289036544850499,0.35545023696682465,1.3289036544850499,0.35545023696682465,1.3289036544850499,0.35545023696682465,1.3289036544850499,0.35545023696682465,1.3289036544850499,0.35545023696682465,1.3289036544850499,0.35545023696682465,1.3289036544850499,0.35545023696682465,1.3289036544850499,0.35545023696682465,1.3289036544850499,0.35545023696682465,1.3289036544850499,0.35545023696682465,1.3289036544850499,0.35545023696682465,1.3289036544850499,0.35545023696682465,1.3289036544850499,0.35545023696682465,1.3289036544850499,0.35545023696682465,1.3289036544850499,0.35545023696682465,1.3289036544850499,0.35545023696682465,1.3289036544850499,0.35545023696682465,1.3289036544850499,0.35545023696682465,1.3289036544850499,0.35545023696682465,1.3289036544850499,0.35545023696682465,1.3289036544850499,0.35545023696682465,1.3289036544850499,0.35545023696682465,1.3289036544850499,0.35545023696682465,1.3289036544850499,0.35545023696682465,1.3289036544850499,0.35545023696682465,1.3289036544850499,0.35545023696682465,1.3289036544850499,0.35545023696682465,1.3289036544850499,0.35545023696682465,1.3289036544850499,0.35545023696682465,1.3289036544850499,0.35545023696682465,1.3289036544850499,0.35545023696682465,1.3289036544850499,0.35545023696682465]
[50,{"$f":"Vstupy!B1442","v":2.3255813953488373},{"$f":"Vstupy!C1442","v":0.35545023696682465},2.3255813953488373,0.35545023696682465,2.3255813953488373,0.35545023696682465,2.3255813953488373,0.35545023696682465,2.3255813953488373,0.35545023696682465,2.3255813953488373,0.35545023696682465,2.3255813953488373,0.35545023696682465,2.3255813953488373,0.35545023696682465,2.3255813953488373,0.35545023696682465,2.3255813953488373,0.35545023696682465,2.3255813953488373,0.35545023696682465,2.3255813953488373,0.35545023696682465,2.3255813953488373,0.35545023696682465,2.3255813953488373,0.35545023696682465,2.3255813953488373,0.35545023696682465,2.3255813953488373,0.35545023696682465,2.3255813953488373,0.35545023696682465,2.3255813953488373,0.35545023696682465,2.3255813953488373,0.35545023696682465,2.3255813953488373,0.35545023696682465,2.3255813953488373,0.35545023696682465,2.3255813953488373,0.35545023696682465,2.3255813953488373,0.35545023696682465,2.3255813953488373,0.35545023696682465,2.3255813953488373,0.35545023696682465,2.3255813953488373,0.35545023696682465,2.3255813953488373,0.35545023696682465,2.3255813953488373,0.35545023696682465,2.3255813953488373,0.35545023696682465,2.3255813953488373,0.35545023696682465,2.3255813953488373,0.35545023696682465,2.3255813953488373,0.35545023696682465,2.3255813953488373,0.35545023696682465,2.3255813953488373,0.35545023696682465]
[51,{"$f":"Vstupy!B1443","v":0.33222591362126247},{"$f":"Vstupy!C1443","v":-0.11848341232227488},0.33222591362126247,-0.11848341232227488,0.33222591362126247,-0.11848341232227488,0.33222591362126247,-0.11848341232227488,0.33222591362126247,-0.11848341232227488,0.33222591362126247,-0.11848341232227488,0.33222591362126247,-0.11848341232227488,0.33222591362126247,-0.11848341232227488,0.33222591362126247,-0.11848341232227488,0.33222591362126247,-0.11848341232227488,0.33222591362126247,-0.11848341232227488,0.33222591362126247,-0.11848341232227488,0.33222591362126247,-0.11848341232227488,0.33222591362126247,-0.11848341232227488,0.33222591362126247,-0.11848341232227488,0.33222591362126247,-0.11848341232227488,0.33222591362126247,-0.11848341232227488,0.33222591362126247,-0.11848341232227488,0.33222591362126247,-0.11848341232227488,0.33222591362126247,-0.11848341232227488,0.33222591362126247,-0.11848341232227488,0.33222591362126247,-0.11848341232227488,0.33222591362126247,-0.11848341232227488,0.33222591362126247,-0.11848341232227488,0.33222591362126247,-0.11848341232227488,0.33222591362126247,-0.11848341232227488,0.33222591362126247,-0.11848341232227488,0.33222591362126247,-0.11848341232227488,0.33222591362126247,-0.11848341232227488,0.33222591362126247,-0.11848341232227488,0.33222591362126247,-0.11848341232227488,0.33222591362126247,-0.11848341232227488,0.33222591362126247,-0.11848341232227488,0.33222591362126247,-0.11848341232227488]
[52,{"$f":"Vstupy!B1444","v":-1.3289036544850499},{"$f":"Vstupy!C1444","v":0.23696682464454977},-1.3289036544850499,0.23696682464454977,-1.3289036544850499,0.23696682464454977,-1.3289036544850499,0.23696682464454977,-1.3289036544850499,0.23696682464454977,-1.3289036544850499,0.23696682464454977,-1.3289036544850499,0.23696682464454977,-1.3289036544850499,0.23696682464454977,-1.3289036544850499,0.23696682464454977,-1.3289036544850499,0.23696682464454977,-1.3289036544850499,0.23696682464454977,-1.3289036544850499,0.23696682464454977,-1.3289036544850499,0.23696682464454977,-1.3289036544850499,0.23696682464454977,-1.3289036544850499,0.23696682464454977,-1.3289036544850499,0.23696682464454977,-1.3289036544850499,0.23696682464454977,-1.3289036544850499,0.23696682464454977,-1.3289036544850499,0.23696682464454977,-1.3289036544850499,0.23696682464454977,-1.3289036544850499,0.23696682464454977,-1.3289036544850499,0.23696682464454977,-1.3289036544850499,0.23696682464454977,-1.3289036544850499,0.23696682464454977,-1.3289036544850499,0.23696682464454977,-1.3289036544850499,0.23696682464454977,-1.3289036544850499,0.23696682464454977,-1.3289036544850499,0.23696682464454977,-1.3289036544850499,0.23696682464454977,-1.3289036544850499,0.23696682464454977,-1.3289036544850499,0.23696682464454977,-1.3289036544850499,0.23696682464454977,-1.3289036544850499,0.23696682464454977,-1.3289036544850499,0.23696682464454977]
[53,{"$f":"Vstupy!B1445","v":0.33222591362126247},{"$f":"Vstupy!C1445","v":1.1848341232227488},0.33222591362126247,1.1848341232227488,0.33222591362126247,1.1848341232227488,0.33222591362126247,1.1848341232227488,0.33222591362126247,1.1848341232227488,0.33222591362126247,1.1848341232227488,0.33222591362126247,1.1848341232227488,0.33222591362126247,1.1848341232227488,0.33222591362126247,1.1848341232227488,0.33222591362126247,1.1848341232227488,0.33222591362126247,1.1848341232227488,0.33222591362126247,1.1848341232227488,0.33222591362126247,1.1848341232227488,0.33222591362126247,1.1848341232227488,0.33222591362126247,1.1848341232227488,0.33222591362126247,1.1848341232227488,0.33222591362126247,1.1848341232227488,0.33222591362126247,1.1848341232227488,0.33222591362126247,1.1848341232227488,0.33222591362126247,1.1848341232227488,0.33222591362126247,1.1848341232227488,0.33222591362126247,1.1848341232227488,0.33222591362126247,1.1848341232227488,0.33222591362126247,1.1848341232227488,0.33222591362126247,1.1848341232227488,0.33222591362126247,1.1848341232227488,0.33222591362126247,1.1848341232227488,0.33222591362126247,1.1848341232227488,0.33222591362126247,1.1848341232227488,0.33222591362126247,1.1848341232227488,0.33222591362126247,1.1848341232227488,0.33222591362126247,1.1848341232227488,0.33222591362126247,1.1848341232227488,0.33222591362126247,1.1848341232227488]
[54,{"$f":"Vstupy!B1446","v":2.6578073089700998},{"$f":"Vstupy!C1446","v":0},2.6578073089700998,0,2.6578073089700998,0,2.6578073089700998,0,2.6578073089700998,0,2.6578073089700998,0,2.6578073089700998,0,2.6578073089700998,0,2.6578073089700998,0,2.6578073089700998,0,2.6578073089700998,0,2.6578073089700998,0,2.6578073089700998,0,2.6578073089700998,0,2.6578073089700998,0,2.6578073089700998,0,2.6578073089700998,0,2.6578073089700998,0,2.6578073089700998,0,2.6578073089700998,0,2.6578073089700998,0,2.6578073089700998,0,2.6578073089700998,0,2.6578073089700998,0,2.6578073089700998,0,2.6578073089700998,0,2.6578073089700998,0,2.6578073089700998,0,2.6578073089700998,0,2.6578073089700998,0,2.6578073089700998,0,2.6578073089700998,0,2.6578073089700998,0,2.6578073089700998,0]
[55,{"$f":"Vstupy!B1447","v":-0.99667774086378735},{"$f":"Vstupy!C1447","v":0},-0.99667774086378735,0,-0.99667774086378735,0,-0.99667774086378735,0,-0.99667774086378735,0,-0.99667774086378735,0,-0.99667774086378735,0,-0.99667774086378735,0,-0.99667774086378735,0,-0.99667774086378735,0,-0.99667774086378735,0,-0.99667774086378735,0,-0.99667774086378735,0,-0.99667774086378735,0,-0.99667774086378735,0,-0.99667774086378735,0,-0.99667774086378735,0,-0.99667774086378735,0,-0.99667774086378735,0,-0.99667774086378735,0,-0.99667774086378735,0,-0.99667774086378735,0,-0.99667774086378735,0,-0.99667774086378735,0,-0.99667774086378735,0,-0.99667774086378735,0,-0.99667774086378735,0,-0.99667774086378735,0,-0.99667774086378735,0,-0.99667774086378735,0,-0.99667774086378735,0,-0.99667774086378735,0,-0.99667774086378735,0,-0.99667774086378735,0]
[56,{"$f":"Vstupy!B1448","v":-0.33222591362126247},{"$f":"Vstupy!C1448","v":0},-0.33222591362126247,0,-0.33222591362126247,0,-0.33222591362126247,0,-0.33222591362126247,0,-0.33222591362126247,0,-0.33222591362126247,0,-0.33222591362126247,0,-0.33222591362126247,0,-0.33222591362126247,0,-0.33222591362126247,0,-0.33222591362126247,0,-0.33222591362126247,0,-0.33222591362126247,0,-0.33222591362126247,0,-0.33222591362126247,0,-0.33222591362126247,0,-0.33222591362126247,0,-0.33222591362126247,0,-0.33222591362126247,0,-0.33222591362126247,0,-0.33222591362126247,0,-0.33222591362126247,0,-0.33222591362126247,0,-0.33222591362126247,0,-0.33222591362126247,0,-0.33222591362126247,0,-0.33222591362126247,0,-0.33222591362126247,0,-0.33222591362126247,0,-0.33222591362126247,0,-0.33222591362126247,0,-0.33222591362126247,0,-0.33222591362126247,0]
[57,{"$f":"Vstupy!B1449","v":0},{"$f":"Vstupy!C1449","v":0},0,0,0,0,0,0,0,0,0,0,0,0,0,0,0,0,0,0,0,0,0,0,0,0,0,0,0,0,0,0,0,0,0,0,0,0,0,0,0,0,0,0,0,0,0,0,0,0,0,0,0,0,0,0,0,0,0,0,0,0,0,0,0,0,0,0]
[58,{"$f":"Vstupy!B1450","v":0},{"$f":"Vstupy!C1450","v":0},0,0,0,0,0,0,0,0,0,0,0,0,0,0,0,0,0,0,0,0,0,0,0,0,0,0,0,0,0,0,0,0,0,0,0,0,0,0,0,0,0,0,0,0,0,0,0,0,0,0,0,0,0,0,0,0,0,0,0,0,0,0,0,0,0,0]
[59,{"$f":"Vstupy!B1451","v":0},{"$f":"Vstupy!C1451","v":0},0,0,0,0,0,0,0,0,0,0,0,0,0,0,0,0,0,0,0,0,0,0,0,0,0,0,0,0,0,0,0,0,0,0,0,0,0,0,0,0,0,0,0,0,0,0,0,0,0,0,0,0,0,0,0,0,0,0,0,0,0,0,0,0,0,0]
[60,{"$f":"Vstupy!B1452","v":0},{"$f":"Vstupy!C1452","v":0},0,0,0,0,0,0,0,0,0,0,0,0,0,0,0,0,0,0,0,0,0,0,0,0,0,0,0,0,0,0,0,0,0,0,0,0,0,0,0,0,0,0,0,0,0,0,0,0,0,0,0,0,0,0,0,0,0,0,0,0,0,0,0,0,0,0]
[61,{"$f":"Vstupy!B1453","v":0},{"$f":"Vstupy!C1453","v":0},0,0,0,0,0,0,0,0,0,0,0,0,0,0,0,0,0,0,0,0,0,0,0,0,0,0,0,0,0,0,0,0,0,0,0,0,0,0,0,0,0,0,0,0,0,0,0,0,0,0,0,0,0,0,0,0,0,0,0,0,0,0,0,0,0,0]
[62,{"$f":"Vstupy!B1454","v":0},{"$f":"Vstupy!C1454","v":0},0,0,0,0,0,0,0,0,0,0,0,0,0,0,0,0,0,0,0,0,0,0,0,0,0,0,0,0,0,0,0,0,0,0,0,0,0,0,0,0,0,0,0,0,0,0,0,0,0,0,0,0,0,0,0,0,0,0,0,0,0,0,0,0,0,0]
[63,{"$f":"Vstupy!B1455","v":0},{"$f":"Vstupy!C1455","v":0},0,0,0,0,0,0,0,0,0,0,0,0,0,0,0,0,0,0,0,0,0,0,0,0,0,0,0,0,0,0,0,0,0,0,0,0,0,0,0,0,0,0,0,0,0,0,0,0,0,0,0,0,0,0,0,0,0,0,0,0,0,0,0,0,0,0]
[64,{"$f":"Vstupy!B1456","v":0},{"$f":"Vstupy!C1456","v":0},0,0,0,0,0,0,0,0,0,0,0,0,0,0,0,0,0,0,0,0,0,0,0,0,0,0,0,0,0,0,0,0,0,0,0,0,0,0,0,0,0,0,0,0,0,0,0,0,0,0,0,0,0,0,0,0,0,0,0,0,0,0,0,0,0,0]
[65,{"$f":"Vstupy!B1457","v":0},{"$f":"Vstupy!C1457","v":0},0,0,0,0,0,0,0,0,0,0,0,0,0,0,0,0,0,0,0,0,0,0,0,0,0,0,0,0,0,0,0,0,0,0,0,0,0,0,0,0,0,0,0,0,0,0,0,0,0,0,0,0,0,0,0,0,0,0,0,0,0,0,0,0,0,0]
[66,{"$f":"Vstupy!B1458","v":0},{"$f":"Vstupy!C1458","v":0},0,0,0,0,0,0,0,0,0,0,0,0,0,0,0,0,0,0,0,0,0,0,0,0,0,0,0,0,0,0,0,0,0,0,0,0,0,0,0,0,0,0,0,0,0,0,0,0,0,0,0,0,0,0,0,0,0,0,0,0,0,0,0,0,0,0]
[67,{"$f":"Vstupy!B1459","v":0},{"$f":"Vstupy!C1459","v":0},0,0,0,0,0,0,0,0,0,0,0,0,0,0,0,0,0,0,0,0,0,0,0,0,0,0,0,0,0,0,0,0,0,0,0,0,0,0,0,0,0,0,0,0,0,0,0,0,0,0,0,0,0,0,0,0,0,0,0,0,0,0,0,0,0,0]
[68,{"$f":"Vstupy!B1460","v":0},{"$f":"Vstupy!C1460","v":0},0,0,0,0,0,0,0,0,0,0,0,0,0,0,0,0,0,0,0,0,0,0,0,0,0,0,0,0,0,0,0,0,0,0,0,0,0,0,0,0,0,0,0,0,0,0,0,0,0,0,0,0,0,0,0,0,0,0,0,0,0,0,0,0,0,0]
[69,{"$f":"Vstupy!B1461","v":0},{"$f":"Vstupy!C1461","v":0},0,0,0,0,0,0,0,0,0,0,0,0,0,0,0,0,0,0,0,0,0,0,0,0,0,0,0,0,0,0,0,0,0,0,0,0,0,0,0,0,0,0,0,0,0,0,0,0,0,0,0,0,0,0,0,0,0,0,0,0,0,0,0,0,0,0]
[70,{"$f":"Vstupy!B1462","v":0},{"$f":"Vstupy!C1462","v":0},0,0,0,0,0,0,0,0,0,0,0,0,0,0,0,0,0,0,0,0,0,0,0,0,0,0,0,0,0,0,0,0,0,0,0,0,0,0,0,0,0,0,0,0,0,0,0,0,0,0,0,0,0,0,0,0,0,0,0,0,0,0,0,0,0,0]
[71,{"$f":"Vstupy!B1463","v":0},{"$f":"Vstupy!C1463","v":0},0,0,0,0,0,0,0,0,0,0,0,0,0,0,0,0,0,0,0,0,0,0,0,0,0,0,0,0,0,0,0,0,0,0,0,0,0,0,0,0,0,0,0,0,0,0,0,0,0,0,0,0,0,0,0,0,0,0,0,0,0,0,0,0,0,0]
[72,{"$f":"Vstupy!B1464","v":0},{"$f":"Vstupy!C1464","v":0},0,0,0,0,0,0,0,0,0,0,0,0,0,0,0,0,0,0,0,0,0,0,0,0,0,0,0,0,0,0,0,0,0,0,0,0,0,0,0,0,0,0,0,0,0,0,0,0,0,0,0,0,0,0,0,0,0,0,0,0,0,0,0,0,0,0]
[73,{"$f":"Vstupy!B1465","v":0},{"$f":"Vstupy!C1465","v":0},0,0,0,0,0,0,0,0,0,0,0,0,0,0,0,0,0,0,0,0,0,0,0,0,0,0,0,0,0,0,0,0,0,0,0,0,0,0,0,0,0,0,0,0,0,0,0,0,0,0,0,0,0,0,0,0,0,0,0,0,0,0,0,0,0,0]
[74,{"$f":"Vstupy!B1466","v":0},{"$f":"Vstupy!C1466","v":0},0,0,0,0,0,0,0,0,0,0,0,0,0,0,0,0,0,0,0,0,0,0,0,0,0,0,0,0,0,0,0,0,0,0,0,0,0,0,0,0,0,0,0,0,0,0,0,0,0,0,0,0,0,0,0,0,0,0,0,0,0,0,0,0,0,0]
[75,{"$f":"Vstupy!B1467","v":0},{"$f":"Vstupy!C1467","v":0},0,0,0,0,0,0,0,0,0,0,0,0,0,0,0,0,0,0,0,0,0,0,0,0,0,0,0,0,0,0,0,0,0,0,0,0,0,0,0,0,0,0,0,0,0,0,0,0,0,0,0,0,0,0,0,0,0,0,0,0,0,0,0,0,0,0]
[76,{"$f":"Vstupy!B1468","v":0},{"$f":"Vstupy!C1468","v":0},0,0,0,0,0,0,0,0,0,0,0,0,0,0,0,0,0,0,0,0,0,0,0,0,0,0,0,0,0,0,0,0,0,0,0,0,0,0,0,0,0,0,0,0,0,0,0,0,0,0,0,0,0,0,0,0,0,0,0,0,0,0,0,0,0,0]
[77,{"$f":"Vstupy!B1469","v":0},{"$f":"Vstupy!C1469","v":0},0,0,0,0,0,0,0,0,0,0,0,0,0,0,0,0,0,0,0,0,0,0,0,0,0,0,0,0,0,0,0,0,0,0,0,0,0,0,0,0,0,0,0,0,0,0,0,0,0,0,0,0,0,0,0,0,0,0,0,0,0,0,0,0,0,0]
[78,{"$f":"Vstupy!B1470","v":0},{"$f":"Vstupy!C1470","v":0},0,0,0,0,0,0,0,0,0,0,0,0,0,0,0,0,0,0,0,0,0,0,0,0,0,0,0,0,0,0,0,0,0,0,0,0,0,0,0,0,0,0,0,0,0,0,0,0,0,0,0,0,0,0,0,0,0,0,0,0,0,0,0,0,0,0]
[79,{"$f":"Vstupy!B1471","v":0},{"$f":"Vstupy!C1471","v":0},0,0,0,0,0,0,0,0,0,0,0,0,0,0,0,0,0,0,0,0,0,0,0,0,0,0,0,0,0,0,0,0,0,0,0,0,0,0,0,0,0,0,0,0,0,0,0,0,0,0,0,0,0,0,0,0,0,0,0,0,0,0,0,0,0,0]
[80,{"$f":"Vstupy!B1472","v":0},{"$f":"Vstupy!C1472","v":0},0,0,0,0,0,0,0,0,0,0,0,0,0,0,0,0,0,0,0,0,0,0,0,0,0,0,0,0,0,0,0,0,0,0,0,0,0,0,0,0,0,0,0,0,0,0,0,0,0,0,0,0,0,0,0,0,0,0,0,0,0,0,0,0,0,0]
[81,{"$f":"Vstupy!B1473","v":0},{"$f":"Vstupy!C1473","v":0},0,0,0,0,0,0,0,0,0,0,0,0,0,0,0,0,0,0,0,0,0,0,0,0,0,0,0,0,0,0,0,0,0,0,0,0,0,0,0,0,0,0,0,0,0,0,0,0,0,0,0,0,0,0,0,0,0,0,0,0,0,0,0,0,0,0]
[82,{"$f":"Vstupy!B1474","v":0},{"$f":"Vstupy!C1474","v":0},0,0,0,0,0,0,0,0,0,0,0,0,0,0,0,0,0,0,0,0,0,0,0,0,0,0,0,0,0,0,0,0,0,0,0,0,0,0,0,0,0,0,0,0,0,0,0,0,0,0,0,0,0,0,0,0,0,0,0,0,0,0,0,0,0,0]
[83,{"$f":"Vstupy!B1475","v":0},{"$f":"Vstupy!C1475","v":0},0,0,0,0,0,0,0,0,0,0,0,0,0,0,0,0,0,0,0,0,0,0,0,0,0,0,0,0,0,0,0,0,0,0,0,0,0,0,0,0,0,0,0,0,0,0,0,0,0,0,0,0,0,0,0,0,0,0,0,0,0,0,0,0,0,0]
[84,{"$f":"Vstupy!B1476","v":0},{"$f":"Vstupy!C1476","v":0},0,0,0,0,0,0,0,0,0,0,0,0,0,0,0,0,0,0,0,0,0,0,0,0,0,0,0,0,0,0,0,0,0,0,0,0,0,0,0,0,0,0,0,0,0,0,0,0,0,0,0,0,0,0,0,0,0,0,0,0,0,0,0,0,0,0]
[85,{"$f":"Vstupy!B1477","v":0},{"$f":"Vstupy!C1477","v":0},0,0,0,0,0,0,0,0,0,0,0,0,0,0,0,0,0,0,0,0,0,0,0,0,0,0,0,0,0,0,0,0,0,0,0,0,0,0,0,0,0,0,0,0,0,0,0,0,0,0,0,0,0,0,0,0,0,0,0,0,0,0,0,0,0,0]
[86,{"$f":"Vstupy!B1478","v":0},{"$f":"Vstupy!C1478","v":0},0,0,0,0,0,0,0,0,0,0,0,0,0,0,0,0,0,0,0,0,0,0,0,0,0,0,0,0,0,0,0,0,0,0,0,0,0,0,0,0,0,0,0,0,0,0,0,0,0,0,0,0,0,0,0,0,0,0,0,0,0,0,0,0,0,0]
[87,{"$f":"Vstupy!B1479","v":0},{"$f":"Vstupy!C1479","v":0},0,0,0,0,0,0,0,0,0,0,0,0,0,0,0,0,0,0,0,0,0,0,{"$f":"X74","v":0},{"$f":"Y74","v":0},0,0,{"$f":"AB74","v":0},{"$f":"AC74","v":0},0,0,{"$f":"AF74","v":0},{"$f":"AG74","v":0},0,0,0,0,0,0,0,0,0,0,0,0,0,0,0,0,0,0,0,0,0,0,0,0,{"$f":"BF74","v":0},{"$f":"BG74","v":0},0,0,{"$f":"BJ74","v":0},{"$f":"BK74","v":0},0,0,{"$f":"BN74","v":0},{"$f":"BO74","v":0}]
[88,{"$f":"Vstupy!B1480","v":0},{"$f":"Vstupy!C1480","v":0},{"$f":"B75","v":0},{"$f":"C75","v":0},{"$f":"D75","v":0},{"$f":"E75","v":0},{"$f":"F75","v":0},{"$f":"G75","v":0},0,0,{"$f":"J75","v":0},{"$f":"K75","v":0},0,0,{"$f":"N75","v":0},{"$f":"O75","v":0},0,0,{"$f":"R75","v":0},{"$f":"S75","v":0},0,0,{"$f":"V75","v":0},{"$f":"W75","v":0},0,0,{"$f":"Z75","v":0},{"$f":"AA75","v":0},0,0,{"$f":"AD75","v":0},{"$f":"AE75","v":0},0,0,{"$f":"AH75","v":0},{"$f":"AI75","v":0},0,0,{"$f":"AL75","v":0},{"$f":"AM75","v":0},0,0,{"$f":"AP75","v":0},{"$f":"AQ75","v":0},0,0,{"$f":"AT75","v":0},{"$f":"AU75","v":0},{"$f":"AV75","v":0},{"$f":"AW75","v":0},0,0,{"$f":"AZ75","v":0},{"$f":"BA75","v":0},0,0,{"$f":"BD75","v":0},{"$f":"BE75","v":0},0,0,{"$f":"BH75","v":0},{"$f":"BI75","v":0},0,0,{"$f":"BL75","v":0},{"$f":"BM75","v":0},0,0]
[89,{"$f":"Vstupy!B1481","v":0},{"$f":"Vstupy!C1481","v":0},0,0,0,0,0,0,0,0,0,0,0,0,0,0,0,0,0,0,0,0,0,0,0,0,0,0,0,0,0,0,0,0,0,0,0,0,0,0,0,0,0,0,{"$f":"AR76","v":0},{"$f":"AS76","v":0},0,0,0,0,0,0,0,0,0,0,0,0,0,0,0,0,0,0,0,0,0,0]
[90,{"$f":"Vstupy!B1482","v":0},{"$f":"Vstupy!C1482","v":0},0,0,0,0,0,0,0,0,0,0,0,0,0,0,0,0,0,0,0,0,0,0,0,0,0,0,0,0,0,0,0,0,0,0,0,0,0,0,0,0,0,0,0,0,0,0,0,0,0,0,0,0,0,0,0,0,0,0,0,0,0,0,0,0,0,0]
[91,{"$f":"Vstupy!B1483","v":0},{"$f":"Vstupy!C1483","v":0},0,0,0,0,0,0,0,0,0,0,0,0,0,0,0,0,0,0,0,0,0,0,0,0,0,0,0,0,0,0,0,0,0,0,0,0,0,0,0,0,0,0,0,0,0,0,0,0,0,0,0,0,0,0,0,0,0,0,0,0,0,0,0,0,0,0]
[92,{"$f":"Vstupy!B1484","v":0},{"$f":"Vstupy!C1484","v":0},0,0,0,0,0,0,0,0,0,0,0,0,0,0,0,0,0,0,0,0,0,0,0,0,0,0,0,0,0,0,0,0,0,0,0,0,0,0,0,0,0,0,0,0,0,0,0,0,0,0,0,0,0,0,0,0,0,0,0,0,0,0,0,0,0,0]
[93,{"$f":"Vstupy!B1485","v":0},{"$f":"Vstupy!C1485","v":0},0,0,0,0,0,0,0,0,0,0,0,0,0,0,0,0,0,0,0,0,0,0,0,0,0,0,0,0,0,0,0,0,0,0,0,0,0,0,0,0,0,0,0,0,0,0,0,0,0,0,0,0,0,0,0,0,0,0,0,0,0,0,0,0,0,0]
[94,{"$f":"Vstupy!B1486","v":0},{"$f":"Vstupy!C1486","v":0},0,0,0,0,0,0,0,0,0,0,0,0,0,0,0,0,0,0,0,0,0,0,0,0,0,0,0,0,0,0,0,0,0,0,0,0,0,0,0,0,0,0,0,0,0,0,0,0,0,0,0,0,0,0,0,0,0,0,0,0,0,0,0,0,0,0]
[]
["Intenzita opuštění systému"]
["Věk",{"$f":"B8","v":2017},null,{"$f":"B84+1","v":2018},null,{"$f":"D84+1","v":2019},null,{"$f":"F84+1","v":2020},null,{"$f":"H84+1","v":2021},null,{"$f":"J84+1","v":2022},null,{"$f":"L84+1","v":2023},null,{"$f":"N84+1","v":2024},null,{"$f":"P84+1","v":2025},null,{"$f":"R84+1","v":2026},null,{"$f":"T84+1","v":2027},null,{"$f":"V84+1","v":2028},null,{"$f":"X84+1","v":2029},null,{"$f":"Z84+1","v":2030},null,{"$f":"AB84+1","v":2031},null,{"$f":"AD84+1","v":2032},null,{"$f":"AF84+1","v":2033},null,{"$f":"AH84+1","v":2034},null,{"$f":"AJ84+1","v":2035},null,{"$f":"AL84+1","v":2036},null,{"$f":"AN84+1","v":2037},null,{"$f":"AP84+1","v":2038},null,{"$f":"AR84+1","v":2039},null,{"$f":"AT84+1","v":2040},null,{"$f":"AV84+1","v":2041},null,{"$f":"AX84+1","v":2042},null,{"$f":"AZ84+1","v":2043},null,{"$f":"BB84+1","v":2044},null,{"$f":"BD84+1","v":2045},null,{"$f":"BF84+1","v":2046},null,{"$f":"BH84+1","v":2047},null,{"$f":"BJ84+1","v":2048},null,{"$f":"BL84+1","v":2049},null,{"$f":"BN84+1","v":2050}]
[null,"Muži","Ženy",{"$f":"B85","v":"Muži"},{"$f":"C85","v":"Ženy"},{"$f":"D85","v":"Muži"},{"$f":"E85","v":"Ženy"},{"$f":"F85","v":"Muži"},{"$f":"G85","v":"Ženy"},{"$f":"H85","v":"Muži"},{"$f":"I85","v":"Ženy"},{"$f":"J85","v":"Muži"},{"$f":"K85","v":"Ženy"},{"$f":"L85","v":"Muži"},{"$f":"M85","v":"Ženy"},{"$f":"N85","v":"Muži"},{"$f":"O85","v":"Ženy"},{"$f":"P85","v":"Muži"},{"$f":"Q85","v":"Ženy"},{"$f":"R85","v":"Muži"},{"$f":"S85","v":"Ženy"},{"$f":"T85","v":"Muži"},{"$f":"U85","v":"Ženy"},{"$f":"V85","v":"Muži"},{"$f":"W85","v":"Ženy"},{"$f":"X85","v":"Muži"},{"$f":"Y85","v":"Ženy"},{"$f":"Z85","v":"Muži"},{"$f":"AA85","v":"Ženy"},{"$f":"AB85","v":"Muži"},{"$f":"AC85","v":"Ženy"},{"$f":"AD85","v":"Muži"},{"$f":"AE85","v":"Ženy"},{"$f":"AF85","v":"Muži"},{"$f":"AG85","v":"Ženy"},{"$f":"AH85","v":"Muži"},{"$f":"AI85","v":"Ženy"},{"$f":"AJ85","v":"Muži"},{"$f":"AK85","v":"Ženy"},{"$f":"AL85","v":"Muži"},{"$f":"AM85","v":"Ženy"},{"$f":"AN85","v":"Muži"},{"$f":"AO85","v":"Ženy"},{"$f":"AP85","v":"Muži"},{"$f":"AQ85","v":"Ženy"},{"$f":"AR85","v":"Muži"},{"$f":"AS85","v":"Ženy"},{"$f":"AT85","v":"Muži"},{"$f":"AU85","v":"Ženy"},{"$f":"AV85","v":"Muži"},{"$f":"AW85","v":"Ženy"},{"$f":"AX85","v":"Muži"},{"$f":"AY85","v":"Ženy"},{"$f":"AZ85","v":"Muži"},{"$f":"BA85","v":"Ženy"},{"$f":"BB85","v":"Muži"},{"$f":"BC85","v":"Ženy"},{"$f":"BD85","v":"Muži"},{"$f":"BE85","v":"Ženy"},{"$f":"BF85","v":"Muži"},{"$f":"BG85","v":"Ženy"},{"$f":"BH85","v":"Muži"},{"$f":"BI85","v":"Ženy"},{"$f":"BJ85","v":"Muži"},{"$f":"BK85","v":"Ženy"},{"$f":"BL85","v":"Muži"},{"$f":"BM85","v":"Ženy"},{"$f":"BN85","v":"Muži"},{"$f":"BO85","v":"Ženy"}]
[23,{"$f":"Vstupy!F1415","v":0},{"$f":"Vstupy!G1415","v":0},{"$f":"B86","v":0},{"$f":"C86","v":0},{"$f":"D86","v":0},{"$f":"E86","v":0},0,0,0,0,0,0,0,0,0,0,0,0,0,0,0,0,0,0,0,0,0,0,0,0,0,0,0,0,0,0,0,0,0,0,0,0,0,0,0,0,0,0,0,0,0,0,0,0,0,0,0,0,0,0,0,0,0,0,0,0,0,0]
[24,{"$f":"Vstupy!F1416","v":0},{"$f":"Vstupy!G1416","v":0},{"$f":"B87","v":0},{"$f":"C87","v":0},0,0,0,0,0,0,0,0,0,0,0,0,0,0,0,0,0,0,0,0,0,0,0,0,0,0,0,0,0,0,0,0,0,0,0,0,0,0,0,0,0,0,0,0,0,0,0,0,0,0,0,0,0,0,0,0,0,0,0,0,0,0,0,0]
[25,{"$f":"Vstupy!F1417","v":0},{"$f":"Vstupy!G1417","v":0},0,0,0,0,0,0,0,0,0,0,0,0,0,0,0,0,0,0,0,0,0,0,0,0,0,0,0,0,0,0,0,0,0,0,0,0,0,0,0,0,0,0,0,0,0,0,0,0,0,0,0,0,0,0,0,0,0,0,0,0,0,0,0,0,0,0]
[26,{"$f":"Vstupy!F1418","v":0},{"$f":"Vstupy!G1418","v":0},0,0,0,0,0,0,0,0,0,0,0,0,0,0,0,0,0,0,0,0,0,0,0,0,0,0,0,0,0,0,0,0,0,0,0,0,0,0,0,0,0,0,0,0,0,0,0,0,0,0,0,0,0,0,0,0,0,0,0,0,0,0,0,0,0,0]
[27,{"$f":"Vstupy!F1419","v":0},{"$f":"Vstupy!G1419","v":0},0,0,0,0,0,0,0,0,0,0,0,0,0,0,0,0,0,0,0,0,0,0,0,0,0,0,0,0,0,0,0,0,0,0,0,0,0,0,0,0,0,0,0,0,0,0,0,0,0,0,0,0,0,0,0,0,0,0,0,0,0,0,0,0,0,0]
[28,{"$f":"Vstupy!F1420","v":0},{"$f":"Vstupy!G1420","v":0},0,0,0,0,0,0,0,0,0,0,0,0,0,0,0,0,0,0,0,0,0,0,0,0,0,0,0,0,0,0,0,0,0,0,0,0,0,0,0,0,0,0,0,0,0,0,0,0,0,0,0,0,0,0,0,0,0,0,0,0,0,0,0,0,0,0]
[29,{"$f":"Vstupy!F1421","v":0},{"$f":"Vstupy!G1421","v":0},0,0,0,0,0,0,0,0,0,0,0,0,0,0,0,0,0,0,0,0,0,0,0,0,0,0,0,0,0,0,0,0,0,0,0,0,0,0,0,0,0,0,0,0,0,0,0,0,0,0,0,0,0,0,0,0,0,0,0,0,0,0,0,0,0,0]
[30,{"$f":"Vstupy!F1422","v":-2.4960653806656651E-2},{"$f":"Vstupy!G1422","v":-7.657196178589315E-2},-2.4960653806656651E-2,-7.657196178589315E-2,-2.4960653806656651E-2,-7.657196178589315E-2,-2.4960653806656651E-2,-7.657196178589315E-2,-2.4960653806656651E-2,-7.657196178589315E-2,-2.4960653806656651E-2,-7.657196178589315E-2,-2.4960653806656651E-2,-7.657196178589315E-2,-2.4960653806656651E-2,-7.657196178589315E-2,-2.4960653806656651E-2,-7.657196178589315E-2,-2.4960653806656651E-2,-7.657196178589315E-2,-2.4960653806656651E-2,-7.657196178589315E-2,-2.4960653806656651E-2,-7.657196178589315E-2,-2.4960653806656651E-2,-7.657196178589315E-2,-2.4960653806656651E-2,-7.657196178589315E-2,-2.4960653806656651E-2,-7.657196178589315E-2,-2.4960653806656651E-2,-7.657196178589315E-2,-2.4960653806656651E-2,-7.657196178589315E-2,-2.4960653806656651E-2,-7.657196178589315E-2,-2.4960653806656651E-2,-7.657196178589315E-2,-2.4960653806656651E-2,-7.657196178589315E-2,-2.4960653806656651E-2,-7.657196178589315E-2,-2.4960653806656651E-2,-7.657196178589315E-2,-2.4960653806656651E-2,-7.657196178589315E-2,-2.4960653806656651E-2,-7.657196178589315E-2,-2.4960653806656651E-2,-7.657196178589315E-2,-2.4960653806656651E-2,-7.657196178589315E-2,-2.4960653806656651E-2,-7.657196178589315E-2,-2.4960653806656651E-2,-7.657196178589315E-2,-2.4960653806656651E-2,-7.657196178589315E-2,-2.4960653806656651E-2,-7.657196178589315E-2,-2.4960653806656651E-2,-7.657196178589315E-2,-2.4960653806656651E-2,-7.657196178589315E-2,-2.4960653806656651E-2,-7.657196178589315E-2,-2.4960653806656651E-2,-7.657196178589315E-2]
[31,{"$f":"Vstupy!F1423","v":-2.4654875864254522E-2},{"$f":"Vstupy!G1423","v":-7.3467418331317091E-2},-2.4654875864254522E-2,-7.3467418331317091E-2,-2.4654875864254522E-2,-7.3467418331317091E-2,-2.4654875864254522E-2,-7.3467418331317091E-2,-2.4654875864254522E-2,-7.3467418331317091E-2,-2.4654875864254522E-2,-7.3467418331317091E-2,-2.4654875864254522E-2,-7.3467418331317091E-2,-2.4654875864254522E-2,-7.3467418331317091E-2,-2.4654875864254522E-2,-7.3467418331317091E-2,-2.4654875864254522E-2,-7.3467418331317091E-2,-2.4654875864254522E-2,-7.3467418331317091E-2,-2.4654875864254522E-2,-7.3467418331317091E-2,-2.4654875864254522E-2,-7.3467418331317091E-2,-2.4654875864254522E-2,-7.3467418331317091E-2,-2.4654875864254522E-2,-7.3467418331317091E-2,-2.4654875864254522E-2,-7.3467418331317091E-2,-2.4654875864254522E-2,-7.3467418331317091E-2,-2.4654875864254522E-2,-7.3467418331317091E-2,-2.4654875864254522E-2,-7.3467418331317091E-2,-2.4654875864254522E-2,-7.3467418331317091E-2,-2.4654875864254522E-2,-7.3467418331317091E-2,-2.4654875864254522E-2,-7.3467418331317091E-2,-2.4654875864254522E-2,-7.3467418331317091E-2,-2.4654875864254522E-2,-7.3467418331317091E-2,-2.4654875864254522E-2,-7.3467418331317091E-2,-2.4654875864254522E-2,-7.3467418331317091E-2,-2.4654875864254522E-2,-7.3467418331317091E-2,-2.4654875864254522E-2,-7.3467418331317091E-2,-2.4654875864254522E-2,-7.3467418331317091E-2,-2.4654875864254522E-2,-7.3467418331317091E-2,-2.4654875864254522E-2,-7.3467418331317091E-2,-2.4654875864254522E-2,-7.3467418331317091E-2,-2.4654875864254522E-2,-7.3467418331317091E-2,-2.4654875864254522E-2,-7.3467418331317091E-2]
[32,{"$f":"Vstupy!F1424","v":-2.4323631018891054E-2},{"$f":"Vstupy!G1424","v":-7.0338259222679445E-2},-2.4323631018891054E-2,-7.0338259222679445E-2,-2.4323631018891054E-2,-7.0338259222679445E-2,-2.4323631018891054E-2,-7.0338259222679445E-2,-2.4323631018891054E-2,-7.0338259222679445E-2,-2.4323631018891054E-2,-7.0338259222679445E-2,-2.4323631018891054E-2,-7.0338259222679445E-2,-2.4323631018891054E-2,-7.0338259222679445E-2,-2.4323631018891054E-2,-7.0338259222679445E-2,-2.4323631018891054E-2,-7.0338259222679445E-2,-2.4323631018891054E-2,-7.0338259222679445E-2,-2.4323631018891054E-2,-7.0338259222679445E-2,-2.4323631018891054E-2,-7.0338259222679445E-2,-2.4323631018891054E-2,-7.0338259222679445E-2,-2.4323631018891054E-2,-7.0338259222679445E-2,-2.4323631018891054E-2,-7.0338259222679445E-2,-2.4323631018891054E-2,-7.0338259222679445E-2,-2.4323631018891054E-2,-7.0338259222679445E-2,-2.4323631018891054E-2,-7.0338259222679445E-2,-2.4323631018891054E-2,-7.0338259222679445E-2,-2.4323631018891054E-2,-7.0338259222679445E-2,-2.4323631018891054E-2,-7.0338259222679445E-2,-2.4323631018891054E-2,-7.0338259222679445E-2,-2.4323631018891054E-2,-7.0338259222679445E-2,-2.4323631018891054E-2,-7.0338259222679445E-2,-2.4323631018891054E-2,-7.0338259222679445E-2,-2.4323631018891054E-2,-7.0338259222679445E-2,-2.4323631018891054E-2,-7.0338259222679445E-2,-2.4323631018891054E-2,-7.0338259222679445E-2,-2.4323631018891054E-2,-7.0338259222679445E-2,-2.4323631018891054E-2,-7.0338259222679445E-2,-2.4323631018891054E-2,-7.0338259222679445E-2,-2.4323631018891054E-2,-7.0338259222679445E-2,-2.4323631018891054E-2,-7.0338259222679445E-2]
[33,{"$f":"Vstupy!F1425","v":-2.3964798243976331E-2},{"$f":"Vstupy!G1425","v":-6.7184289284607734E-2},-2.3964798243976331E-2,-6.7184289284607734E-2,-2.3964798243976331E-2,-6.7184289284607734E-2,-2.3964798243976331E-2,-6.7184289284607734E-2,-2.3964798243976331E-2,-6.7184289284607734E-2,-2.3964798243976331E-2,-6.7184289284607734E-2,-2.3964798243976331E-2,-6.7184289284607734E-2,-2.3964798243976331E-2,-6.7184289284607734E-2,-2.3964798243976331E-2,-6.7184289284607734E-2,-2.3964798243976331E-2,-6.7184289284607734E-2,-2.3964798243976331E-2,-6.7184289284607734E-2,-2.3964798243976331E-2,-6.7184289284607734E-2,-2.3964798243976331E-2,-6.7184289284607734E-2,-2.3964798243976331E-2,-6.7184289284607734E-2,-2.3964798243976331E-2,-6.7184289284607734E-2,-2.3964798243976331E-2,-6.7184289284607734E-2,-2.3964798243976331E-2,-6.7184289284607734E-2,-2.3964798243976331E-2,-6.7184289284607734E-2,-2.3964798243976331E-2,-6.7184289284607734E-2,-2.3964798243976331E-2,-6.7184289284607734E-2,-2.3964798243976331E-2,-6.7184289284607734E-2,-2.3964798243976331E-2,-6.7184289284607734E-2,-2.3964798243976331E-2,-6.7184289284607734E-2,-2.3964798243976331E-2,-6.7184289284607734E-2,-2.3964798243976331E-2,-6.7184289284607734E-2,-2.3964798243976331E-2,-6.7184289284607734E-2,-2.3964798243976331E-2,-6.7184289284607734E-2,-2.3964798243976331E-2,-6.7184289284607734E-2,-2.3964798243976331E-2,-6.7184289284607734E-2,-2.3964798243976331E-2,-6.7184289284607734E-2,-2.3964798243976331E-2,-6.7184289284607734E-2,-2.3964798243976331E-2,-6.7184289284607734E-2,-2.3964798243976331E-2,-6.7184289284607734E-2,-2.3964798243976331E-2,-6.7184289284607734E-2]
[34,{"$f":"Vstupy!F1426","v":-2.3576079861923588E-2},{"$f":"Vstupy!G1426","v":-6.4005311794201158E-2},-2.3576079861923588E-2,-6.4005311794201158E-2,-2.3576079861923588E-2,-6.4005311794201158E-2,-2.3576079861923588E-2,-6.4005311794201158E-2,-2.3576079861923588E-2,-6.4005311794201158E-2,-2.3576079861923588E-2,-6.4005311794201158E-2,-2.3576079861923588E-2,-6.4005311794201158E-2,-2.3576079861923588E-2,-6.4005311794201158E-2,-2.3576079861923588E-2,-6.4005311794201158E-2,-2.3576079861923588E-2,-6.4005311794201158E-2,-2.3576079861923588E-2,-6.4005311794201158E-2,-2.3576079861923588E-2,-6.4005311794201158E-2,-2.3576079861923588E-2,-6.4005311794201158E-2,-2.3576079861923588E-2,-6.4005311794201158E-2,-2.3576079861923588E-2,-6.4005311794201158E-2,-2.3576079861923588E-2,-6.4005311794201158E-2,-2.3576079861923588E-2,-6.4005311794201158E-2,-2.3576079861923588E-2,-6.4005311794201158E-2,-2.3576079861923588E-2,-6.4005311794201158E-2,-2.3576079861923588E-2,-6.4005311794201158E-2,-2.3576079861923588E-2,-6.4005311794201158E-2,-2.3576079861923588E-2,-6.4005311794201158E-2,-2.3576079861923588E-2,-6.4005311794201158E-2,-2.3576079861923588E-2,-6.4005311794201158E-2,-2.3576079861923588E-2,-6.4005311794201158E-2,-2.3576079861923588E-2,-6.4005311794201158E-2,-2.3576079861923588E-2,-6.4005311794201158E-2,-2.3576079861923588E-2,-6.4005311794201158E-2,-2.3576079861923588E-2,-6.4005311794201158E-2,-2.3576079861923588E-2,-6.4005311794201158E-2,-2.3576079861923588E-2,-6.4005311794201158E-2,-2.3576079861923588E-2,-6.4005311794201158E-2,-2.3576079861923588E-2,-6.4005311794201158E-2,-2.3576079861923588E-2,-6.4005311794201158E-2]
[35,{"$f":"Vstupy!F1427","v":-2.3154986831662873E-2},{"$f":"Vstupy!G1427","v":-6.0801128468760124E-2},-2.3154986831662873E-2,-6.0801128468760124E-2,-2.3154986831662873E-2,-6.0801128468760124E-2,-2.3154986831662873E-2,-6.0801128468760124E-2,-2.3154986831662873E-2,-6.0801128468760124E-2,-2.3154986831662873E-2,-6.0801128468760124E-2,-2.3154986831662873E-2,-6.0801128468760124E-2,-2.3154986831662873E-2,-6.0801128468760124E-2,-2.3154986831662873E-2,-6.0801128468760124E-2,-2.3154986831662873E-2,-6.0801128468760124E-2,-2.3154986831662873E-2,-6.0801128468760124E-2,-2.3154986831662873E-2,-6.0801128468760124E-2,-2.3154986831662873E-2,-6.0801128468760124E-2,-2.3154986831662873E-2,-6.0801128468760124E-2,-2.3154986831662873E-2,-6.0801128468760124E-2,-2.3154986831662873E-2,-6.0801128468760124E-2,-2.3154986831662873E-2,-6.0801128468760124E-2,-2.3154986831662873E-2,-6.0801128468760124E-2,-2.3154986831662873E-2,-6.0801128468760124E-2,-2.3154986831662873E-2,-6.0801128468760124E-2,-2.3154986831662873E-2,-6.0801128468760124E-2,-2.3154986831662873E-2,-6.0801128468760124E-2,-2.3154986831662873E-2,-6.0801128468760124E-2,-2.3154986831662873E-2,-6.0801128468760124E-2,-2.3154986831662873E-2,-6.0801128468760124E-2,-2.3154986831662873E-2,-6.0801128468760124E-2,-2.3154986831662873E-2,-6.0801128468760124E-2,-2.3154986831662873E-2,-6.0801128468760124E-2,-2.3154986831662873E-2,-6.0801128468760124E-2,-2.3154986831662873E-2,-6.0801128468760124E-2,-2.3154986831662873E-2,-6.0801128468760124E-2,-2.3154986831662873E-2,-6.0801128468760124E-2,-2.3154986831662873E-2,-6.0801128468760124E-2,-2.3154986831662873E-2,-6.0801128468760124E-2]
[36,{"$f":"Vstupy!F1428","v":-2.2698822810816303E-2},{"$f":"Vstupy!G1428","v":-5.7571539453418752E-2},-2.2698822810816303E-2,-5.7571539453418752E-2,-2.2698822810816303E-2,-5.7571539453418752E-2,-2.2698822810816303E-2,-5.7571539453418752E-2,-2.2698822810816303E-2,-5.7571539453418752E-2,-2.2698822810816303E-2,-5.7571539453418752E-2,-2.2698822810816303E-2,-5.7571539453418752E-2,-2.2698822810816303E-2,-5.7571539453418752E-2,-2.2698822810816303E-2,-5.7571539453418752E-2,-2.2698822810816303E-2,-5.7571539453418752E-2,-2.2698822810816303E-2,-5.7571539453418752E-2,-2.2698822810816303E-2,-5.7571539453418752E-2,-2.2698822810816303E-2,-5.7571539453418752E-2,-2.2698822810816303E-2,-5.7571539453418752E-2,-2.2698822810816303E-2,-5.7571539453418752E-2,-2.2698822810816303E-2,-5.7571539453418752E-2,-2.2698822810816303E-2,-5.7571539453418752E-2,-2.2698822810816303E-2,-5.7571539453418752E-2,-2.2698822810816303E-2,-5.7571539453418752E-2,-2.2698822810816303E-2,-5.7571539453418752E-2,-2.2698822810816303E-2,-5.7571539453418752E-2,-2.2698822810816303E-2,-5.7571539453418752E-2,-2.2698822810816303E-2,-5.7571539453418752E-2,-2.2698822810816303E-2,-5.7571539453418752E-2,-2.2698822810816303E-2,-5.7571539453418752E-2,-2.2698822810816303E-2,-5.7571539453418752E-2,-2.2698822810816303E-2,-5.7571539453418752E-2,-2.2698822810816303E-2,-5.7571539453418752E-2,-2.2698822810816303E-2,-5.7571539453418752E-2,-2.2698822810816303E-2,-5.7571539453418752E-2,-2.2698822810816303E-2,-5.7571539453418752E-2,-2.2698822810816303E-2,-5.7571539453418752E-2,-2.2698822810816303E-2,-5.7571539453418752E-2,-2.2698822810816303E-2,-5.7571539453418752E-2]
[37,{"$f":"Vstupy!F1429","v":-2.2204666890481846E-2},{"$f":"Vstupy!G1429","v":-5.431634330867946E-2},-2.2204666890481846E-2,-5.431634330867946E-2,-2.2204666890481846E-2,-5.431634330867946E-2,-2.2204666890481846E-2,-5.431634330867946E-2,-2.2204666890481846E-2,-5.431634330867946E-2,-2.2204666890481846E-2,-5.431634330867946E-2,-2.2204666890481846E-2,-5.431634330867946E-2,-2.2204666890481846E-2,-5.431634330867946E-2,-2.2204666890481846E-2,-5.431634330867946E-2,-2.2204666890481846E-2,-5.431634330867946E-2,-2.2204666890481846E-2,-5.431634330867946E-2,-2.2204666890481846E-2,-5.431634330867946E-2,-2.2204666890481846E-2,-5.431634330867946E-2,-2.2204666890481846E-2,-5.431634330867946E-2,-2.2204666890481846E-2,-5.431634330867946E-2,-2.2204666890481846E-2,-5.431634330867946E-2,-2.2204666890481846E-2,-5.431634330867946E-2,-2.2204666890481846E-2,-5.431634330867946E-2,-2.2204666890481846E-2,-5.431634330867946E-2,-2.2204666890481846E-2,-5.431634330867946E-2,-2.2204666890481846E-2,-5.431634330867946E-2,-2.2204666890481846E-2,-5.431634330867946E-2,-2.2204666890481846E-2,-5.431634330867946E-2,-2.2204666890481846E-2,-5.431634330867946E-2,-2.2204666890481846E-2,-5.431634330867946E-2,-2.2204666890481846E-2,-5.431634330867946E-2,-2.2204666890481846E-2,-5.431634330867946E-2,-2.2204666890481846E-2,-5.431634330867946E-2,-2.2204666890481846E-2,-5.431634330867946E-2,-2.2204666890481846E-2,-5.431634330867946E-2,-2.2204666890481846E-2,-5.431634330867946E-2,-2.2204666890481846E-2,-5.431634330867946E-2,-2.2204666890481846E-2,-5.431634330867946E-2,-2.2204666890481846E-2,-5.431634330867946E-2]
[38,{"$f":"Vstupy!F1430","v":-2.1669354892072994E-2},{"$f":"Vstupy!G1430","v":-5.1035336997848457E-2},-2.1669354892072994E-2,-5.1035336997848457E-2,-2.1669354892072994E-2,-5.1035336997848457E-2,-2.1669354892072994E-2,-5.1035336997848457E-2,-2.1669354892072994E-2,-5.1035336997848457E-2,-2.1669354892072994E-2,-5.1035336997848457E-2,-2.1669354892072994E-2,-5.1035336997848457E-2,-2.1669354892072994E-2,-5.1035336997848457E-2,-2.1669354892072994E-2,-5.1035336997848457E-2,-2.1669354892072994E-2,-5.1035336997848457E-2,-2.1669354892072994E-2,-5.1035336997848457E-2,-2.1669354892072994E-2,-5.1035336997848457E-2,-2.1669354892072994E-2,-5.1035336997848457E-2,-2.1669354892072994E-2,-5.1035336997848457E-2,-2.1669354892072994E-2,-5.1035336997848457E-2,-2.1669354892072994E-2,-5.1035336997848457E-2,-2.1669354892072994E-2,-5.1035336997848457E-2,-2.1669354892072994E-2,-5.1035336997848457E-2,-2.1669354892072994E-2,-5.1035336997848457E-2,-2.1669354892072994E-2,-5.1035336997848457E-2,-2.1669354892072994E-2,-5.1035336997848457E-2,-2.1669354892072994E-2,-5.1035336997848457E-2,-2.1669354892072994E-2,-5.1035336997848457E-2,-2.1669354892072994E-2,-5.1035336997848457E-2,-2.1669354892072994E-2,-5.1035336997848457E-2,-2.1669354892072994E-2,-5.1035336997848457E-2,-2.1669354892072994E-2,-5.1035336997848457E-2,-2.1669354892072994E-2,-5.1035336997848457E-2,-2.1669354892072994E-2,-5.1035336997848457E-2,-2.1669354892072994E-2,-5.1035336997848457E-2,-2.1669354892072994E-2,-5.1035336997848457E-2,-2.1669354892072994E-2,-5.1035336997848457E-2,-2.1669354892072994E-2,-5.1035336997848457E-2,-2.1669354892072994E-2,-5.1035336997848457E-2]
[39,{"$f":"Vstupy!F1431","v":-2.1089459106454298E-2},{"$f":"Vstupy!G1431","v":-4.7728315874371707E-2},-2.1089459106454298E-2,-4.7728315874371707E-2,-2.1089459106454298E-2,-4.7728315874371707E-2,-2.1089459106454298E-2,-4.7728315874371707E-2,-2.1089459106454298E-2,-4.7728315874371707E-2,-2.1089459106454298E-2,-4.7728315874371707E-2,-2.1089459106454298E-2,-4.7728315874371707E-2,-2.1089459106454298E-2,-4.7728315874371707E-2,-2.1089459106454298E-2,-4.7728315874371707E-2,-2.1089459106454298E-2,-4.7728315874371707E-2,-2.1089459106454298E-2,-4.7728315874371707E-2,-2.1089459106454298E-2,-4.7728315874371707E-2,-2.1089459106454298E-2,-4.7728315874371707E-2,-2.1089459106454298E-2,-4.7728315874371707E-2,-2.1089459106454298E-2,-4.7728315874371707E-2,-2.1089459106454298E-2,-4.7728315874371707E-2,-2.1089459106454298E-2,-4.7728315874371707E-2,-2.1089459106454298E-2,-4.7728315874371707E-2,-2.1089459106454298E-2,-4.7728315874371707E-2,-2.1089459106454298E-2,-4.7728315874371707E-2,-2.1089459106454298E-2,-4.7728315874371707E-2,-2.1089459106454298E-2,-4.7728315874371707E-2,-2.1089459106454298E-2,-4.7728315874371707E-2,-2.1089459106454298E-2,-4.7728315874371707E-2,-2.1089459106454298E-2,-4.7728315874371707E-2,-2.1089459106454298E-2,-4.7728315874371707E-2,-2.1089459106454298E-2,-4.7728315874371707E-2,-2.1089459106454298E-2,-4.7728315874371707E-2,-2.1089459106454298E-2,-4.7728315874371707E-2,-2.1089459106454298E-2,-4.7728315874371707E-2,-2.1089459106454298E-2,-4.7728315874371707E-2,-2.1089459106454298E-2,-4.7728315874371707E-2,-2.1089459106454298E-2,-4.7728315874371707E-2,-2.1089459106454298E-2,-4.7728315874371707E-2]
[40,{"$f":"Vstupy!F1432","v":-2.0461266345638416E-2},{"$f":"Vstupy!G1432","v":-4.4395073669070584E-2},-2.0461266345638416E-2,-4.4395073669070584E-2,-2.0461266345638416E-2,-4.4395073669070584E-2,-2.0461266345638416E-2,-4.4395073669070584E-2,-2.0461266345638416E-2,-4.4395073669070584E-2,-2.0461266345638416E-2,-4.4395073669070584E-2,-2.0461266345638416E-2,-4.4395073669070584E-2,-2.0461266345638416E-2,-4.4395073669070584E-2,-2.0461266345638416E-2,-4.4395073669070584E-2,-2.0461266345638416E-2,-4.4395073669070584E-2,-2.0461266345638416E-2,-4.4395073669070584E-2,-2.0461266345638416E-2,-4.4395073669070584E-2,-2.0461266345638416E-2,-4.4395073669070584E-2,-2.0461266345638416E-2,-4.4395073669070584E-2,-2.0461266345638416E-2,-4.4395073669070584E-2,-2.0461266345638416E-2,-4.4395073669070584E-2,-2.0461266345638416E-2,-4.4395073669070584E-2,-2.0461266345638416E-2,-4.4395073669070584E-2,-2.0461266345638416E-2,-4.4395073669070584E-2,-2.0461266345638416E-2,-4.4395073669070584E-2,-2.0461266345638416E-2,-4.4395073669070584E-2,-2.0461266345638416E-2,-4.4395073669070584E-2,-2.0461266345638416E-2,-4.4395073669070584E-2,-2.0461266345638416E-2,-4.4395073669070584E-2,-2.0461266345638416E-2,-4.4395073669070584E-2,-2.0461266345638416E-2,-4.4395073669070584E-2,-2.0461266345638416E-2,-4.4395073669070584E-2,-2.0461266345638416E-2,-4.4395073669070584E-2,-2.0461266345638416E-2,-4.4395073669070584E-2,-2.0461266345638416E-2,-4.4395073669070584E-2,-2.0461266345638416E-2,-4.4395073669070584E-2,-2.0461266345638416E-2,-4.4395073669070584E-2,-2.0461266345638416E-2,-4.4395073669070584E-2,-2.0461266345638416E-2,-4.4395073669070584E-2]
[41,{"$f":"Vstupy!F1433","v":-1.9780754166505314E-2},{"$f":"Vstupy!G1433","v":-4.103540247727594E-2},-1.9780754166505314E-2,-4.103540247727594E-2,-1.9780754166505314E-2,-4.103540247727594E-2,-1.9780754166505314E-2,-4.103540247727594E-2,-1.9780754166505314E-2,-4.103540247727594E-2,-1.9780754166505314E-2,-4.103540247727594E-2,-1.9780754166505314E-2,-4.103540247727594E-2,-1.9780754166505314E-2,-4.103540247727594E-2,-1.9780754166505314E-2,-4.103540247727594E-2,-1.9780754166505314E-2,-4.103540247727594E-2,-1.9780754166505314E-2,-4.103540247727594E-2,-1.9780754166505314E-2,-4.103540247727594E-2,-1.9780754166505314E-2,-4.103540247727594E-2,-1.9780754166505314E-2,-4.103540247727594E-2,-1.9780754166505314E-2,-4.103540247727594E-2,-1.9780754166505314E-2,-4.103540247727594E-2,-1.9780754166505314E-2,-4.103540247727594E-2,-1.9780754166505314E-2,-4.103540247727594E-2,-1.9780754166505314E-2,-4.103540247727594E-2,-1.9780754166505314E-2,-4.103540247727594E-2,-1.9780754166505314E-2,-4.103540247727594E-2,-1.9780754166505314E-2,-4.103540247727594E-2,-1.9780754166505314E-2,-4.103540247727594E-2,-1.9780754166505314E-2,-4.103540247727594E-2,-1.9780754166505314E-2,-4.103540247727594E-2,-1.9780754166505314E-2,-4.103540247727594E-2,-1.9780754166505314E-2,-4.103540247727594E-2,-1.9780754166505314E-2,-4.103540247727594E-2,-1.9780754166505314E-2,-4.103540247727594E-2,-1.9780754166505314E-2,-4.103540247727594E-2,-1.9780754166505314E-2,-4.103540247727594E-2,-1.9780754166505314E-2,-4.103540247727594E-2,-1.9780754166505314E-2,-4.103540247727594E-2,-1.9780754166505314E-2,-4.103540247727594E-2]
[42,{"$f":"Vstupy!F1434","v":-1.9043565114299395E-2},{"$f":"Vstupy!G1434","v":-3.7649092745860979E-2},-1.9043565114299395E-2,-3.7649092745860979E-2,-1.9043565114299395E-2,-3.7649092745860979E-2,-1.9043565114299395E-2,-3.7649092745860979E-2,-1.9043565114299395E-2,-3.7649092745860979E-2,-1.9043565114299395E-2,-3.7649092745860979E-2,-1.9043565114299395E-2,-3.7649092745860979E-2,-1.9043565114299395E-2,-3.7649092745860979E-2,-1.9043565114299395E-2,-3.7649092745860979E-2,-1.9043565114299395E-2,-3.7649092745860979E-2,-1.9043565114299395E-2,-3.7649092745860979E-2,-1.9043565114299395E-2,-3.7649092745860979E-2,-1.9043565114299395E-2,-3.7649092745860979E-2,-1.9043565114299395E-2,-3.7649092745860979E-2,-1.9043565114299395E-2,-3.7649092745860979E-2,-1.9043565114299395E-2,-3.7649092745860979E-2,-1.9043565114299395E-2,-3.7649092745860979E-2,-1.9043565114299395E-2,-3.7649092745860979E-2,-1.9043565114299395E-2,-3.7649092745860979E-2,-1.9043565114299395E-2,-3.7649092745860979E-2,-1.9043565114299395E-2,-3.7649092745860979E-2,-1.9043565114299395E-2,-3.7649092745860979E-2,-1.9043565114299395E-2,-3.7649092745860979E-2,-1.9043565114299395E-2,-3.7649092745860979E-2,-1.9043565114299395E-2,-3.7649092745860979E-2,-1.9043565114299395E-2,-3.7649092745860979E-2,-1.9043565114299395E-2,-3.7649092745860979E-2,-1.9043565114299395E-2,-3.7649092745860979E-2,-1.9043565114299395E-2,-3.7649092745860979E-2,-1.9043565114299395E-2,-3.7649092745860979E-2,-1.9043565114299395E-2,-3.7649092745860979E-2,-1.9043565114299395E-2,-3.7649092745860979E-2,-1.9043565114299395E-2,-3.7649092745860979E-2,-1.9043565114299395E-2,-3.7649092745860979E-2]
[43,{"$f":"Vstupy!F1435","v":-1.8244978820980508E-2},{"$f":"Vstupy!G1435","v":-3.4235933260170159E-2},-1.8244978820980508E-2,-3.4235933260170159E-2,-1.8244978820980508E-2,-3.4235933260170159E-2,-1.8244978820980508E-2,-3.4235933260170159E-2,-1.8244978820980508E-2,-3.4235933260170159E-2,-1.8244978820980508E-2,-3.4235933260170159E-2,-1.8244978820980508E-2,-3.4235933260170159E-2,-1.8244978820980508E-2,-3.4235933260170159E-2,-1.8244978820980508E-2,-3.4235933260170159E-2,-1.8244978820980508E-2,-3.4235933260170159E-2,-1.8244978820980508E-2,-3.4235933260170159E-2,-1.8244978820980508E-2,-3.4235933260170159E-2,-1.8244978820980508E-2,-3.4235933260170159E-2,-1.8244978820980508E-2,-3.4235933260170159E-2,-1.8244978820980508E-2,-3.4235933260170159E-2,-1.8244978820980508E-2,-3.4235933260170159E-2,-1.8244978820980508E-2,-3.4235933260170159E-2,-1.8244978820980508E-2,-3.4235933260170159E-2,-1.8244978820980508E-2,-3.4235933260170159E-2,-1.8244978820980508E-2,-3.4235933260170159E-2,-1.8244978820980508E-2,-3.4235933260170159E-2,-1.8244978820980508E-2,-3.4235933260170159E-2,-1.8244978820980508E-2,-3.4235933260170159E-2,-1.8244978820980508E-2,-3.4235933260170159E-2,-1.8244978820980508E-2,-3.4235933260170159E-2,-1.8244978820980508E-2,-3.4235933260170159E-2,-1.8244978820980508E-2,-3.4235933260170159E-2,-1.8244978820980508E-2,-3.4235933260170159E-2,-1.8244978820980508E-2,-3.4235933260170159E-2,-1.8244978820980508E-2,-3.4235933260170159E-2,-1.8244978820980508E-2,-3.4235933260170159E-2,-1.8244978820980508E-2,-3.4235933260170159E-2,-1.8244978820980508E-2,-3.4235933260170159E-2,-1.8244978820980508E-2,-3.4235933260170159E-2]
[44,{"$f":"Vstupy!F1436","v":-1.7379881779769069E-2},{"$f":"Vstupy!G1436","v":-3.079571113084556E-2},-1.7379881779769069E-2,-3.079571113084556E-2,-1.7379881779769069E-2,-3.079571113084556E-2,-1.7379881779769069E-2,-3.079571113084556E-2,-1.7379881779769069E-2,-3.079571113084556E-2,-1.7379881779769069E-2,-3.079571113084556E-2,-1.7379881779769069E-2,-3.079571113084556E-2,-1.7379881779769069E-2,-3.079571113084556E-2,-1.7379881779769069E-2,-3.079571113084556E-2,-1.7379881779769069E-2,-3.079571113084556E-2,-1.7379881779769069E-2,-3.079571113084556E-2,-1.7379881779769069E-2,-3.079571113084556E-2,-1.7379881779769069E-2,-3.079571113084556E-2,-1.7379881779769069E-2,-3.079571113084556E-2,-1.7379881779769069E-2,-3.079571113084556E-2,-1.7379881779769069E-2,-3.079571113084556E-2,-1.7379881779769069E-2,-3.079571113084556E-2,-1.7379881779769069E-2,-3.079571113084556E-2,-1.7379881779769069E-2,-3.079571113084556E-2,-1.7379881779769069E-2,-3.079571113084556E-2,-1.7379881779769069E-2,-3.079571113084556E-2,-1.7379881779769069E-2,-3.079571113084556E-2,-1.7379881779769069E-2,-3.079571113084556E-2,-1.7379881779769069E-2,-3.079571113084556E-2,-1.7379881779769069E-2,-3.079571113084556E-2,-1.7379881779769069E-2,-3.079571113084556E-2,-1.7379881779769069E-2,-3.079571113084556E-2,-1.7379881779769069E-2,-3.079571113084556E-2,-1.7379881779769069E-2,-3.079571113084556E-2,-1.7379881779769069E-2,-3.079571113084556E-2,-1.7379881779769069E-2,-3.079571113084556E-2,-1.7379881779769069E-2,-3.079571113084556E-2,-1.7379881779769069E-2,-3.079571113084556E-2,-1.7379881779769069E-2,-3.079571113084556E-2]
[45,{"$f":"Vstupy!F1437","v":-1.6442734602345705E-2},{"$f":"Vstupy!G1437","v":-2.7328211780548117E-2},-1.6442734602345705E-2,-2.7328211780548117E-2,-1.6442734602345705E-2,-2.7328211780548117E-2,-1.6442734602345705E-2,-2.7328211780548117E-2,-1.6442734602345705E-2,-2.7328211780548117E-2,-1.6442734602345705E-2,-2.7328211780548117E-2,-1.6442734602345705E-2,-2.7328211780548117E-2,-1.6442734602345705E-2,-2.7328211780548117E-2,-1.6442734602345705E-2,-2.7328211780548117E-2,-1.6442734602345705E-2,-2.7328211780548117E-2,-1.6442734602345705E-2,-2.7328211780548117E-2,-1.6442734602345705E-2,-2.7328211780548117E-2,-1.6442734602345705E-2,-2.7328211780548117E-2,-1.6442734602345705E-2,-2.7328211780548117E-2,-1.6442734602345705E-2,-2.7328211780548117E-2,-1.6442734602345705E-2,-2.7328211780548117E-2,-1.6442734602345705E-2,-2.7328211780548117E-2,-1.6442734602345705E-2,-2.7328211780548117E-2,-1.6442734602345705E-2,-2.7328211780548117E-2,-1.6442734602345705E-2,-2.7328211780548117E-2,-1.6442734602345705E-2,-2.7328211780548117E-2,-1.6442734602345705E-2,-2.7328211780548117E-2,-1.6442734602345705E-2,-2.7328211780548117E-2,-1.6442734602345705E-2,-2.7328211780548117E-2,-1.6442734602345705E-2,-2.7328211780548117E-2,-1.6442734602345705E-2,-2.7328211780548117E-2,-1.6442734602345705E-2,-2.7328211780548117E-2,-1.6442734602345705E-2,-2.7328211780548117E-2,-1.6442734602345705E-2,-2.7328211780548117E-2,-1.6442734602345705E-2,-2.7328211780548117E-2,-1.6442734602345705E-2,-2.7328211780548117E-2,-1.6442734602345705E-2,-2.7328211780548117E-2,-1.6442734602345705E-2,-2.7328211780548117E-2,-1.6442734602345705E-2,-2.7328211780548117E-2]
[46,{"$f":"Vstupy!F1438","v":-1.5427536549046708E-2},{"$f":"Vstupy!G1438","v":-2.3833218930573552E-2},-1.5427536549046708E-2,-2.3833218930573552E-2,-1.5427536549046708E-2,-2.3833218930573552E-2,-1.5427536549046708E-2,-2.3833218930573552E-2,-1.5427536549046708E-2,-2.3833218930573552E-2,-1.5427536549046708E-2,-2.3833218930573552E-2,-1.5427536549046708E-2,-2.3833218930573552E-2,-1.5427536549046708E-2,-2.3833218930573552E-2,-1.5427536549046708E-2,-2.3833218930573552E-2,-1.5427536549046708E-2,-2.3833218930573552E-2,-1.5427536549046708E-2,-2.3833218930573552E-2,-1.5427536549046708E-2,-2.3833218930573552E-2,-1.5427536549046708E-2,-2.3833218930573552E-2,-1.5427536549046708E-2,-2.3833218930573552E-2,-1.5427536549046708E-2,-2.3833218930573552E-2,-1.5427536549046708E-2,-2.3833218930573552E-2,-1.5427536549046708E-2,-2.3833218930573552E-2,-1.5427536549046708E-2,-2.3833218930573552E-2,-1.5427536549046708E-2,-2.3833218930573552E-2,-1.5427536549046708E-2,-2.3833218930573552E-2,-1.5427536549046708E-2,-2.3833218930573552E-2,-1.5427536549046708E-2,-2.3833218930573552E-2,-1.5427536549046708E-2,-2.3833218930573552E-2,-1.5427536549046708E-2,-2.3833218930573552E-2,-1.5427536549046708E-2,-2.3833218930573552E-2,-1.5427536549046708E-2,-2.3833218930573552E-2,-1.5427536549046708E-2,-2.3833218930573552E-2,-1.5427536549046708E-2,-2.3833218930573552E-2,-1.5427536549046708E-2,-2.3833218930573552E-2,-1.5427536549046708E-2,-2.3833218930573552E-2,-1.5427536549046708E-2,-2.3833218930573552E-2,-1.5427536549046708E-2,-2.3833218930573552E-2,-1.5427536549046708E-2,-2.3833218930573552E-2,-1.5427536549046708E-2,-2.3833218930573552E-2]
[47,{"$f":"Vstupy!F1439","v":-1.432778710493513E-2},{"$f":"Vstupy!G1439","v":-2.0310514587362827E-2},-1.432778710493513E-2,-2.0310514587362827E-2,-1.432778710493513E-2,-2.0310514587362827E-2,-1.432778710493513E-2,-2.0310514587362827E-2,-1.432778710493513E-2,-2.0310514587362827E-2,-1.432778710493513E-2,-2.0310514587362827E-2,-1.432778710493513E-2,-2.0310514587362827E-2,-1.432778710493513E-2,-2.0310514587362827E-2,-1.432778710493513E-2,-2.0310514587362827E-2,-1.432778710493513E-2,-2.0310514587362827E-2,-1.432778710493513E-2,-2.0310514587362827E-2,-1.432778710493513E-2,-2.0310514587362827E-2,-1.432778710493513E-2,-2.0310514587362827E-2,-1.432778710493513E-2,-2.0310514587362827E-2,-1.432778710493513E-2,-2.0310514587362827E-2,-1.432778710493513E-2,-2.0310514587362827E-2,-1.432778710493513E-2,-2.0310514587362827E-2,-1.432778710493513E-2,-2.0310514587362827E-2,-1.432778710493513E-2,-2.0310514587362827E-2,-1.432778710493513E-2,-2.0310514587362827E-2,-1.432778710493513E-2,-2.0310514587362827E-2,-1.432778710493513E-2,-2.0310514587362827E-2,-1.432778710493513E-2,-2.0310514587362827E-2,-1.432778710493513E-2,-2.0310514587362827E-2,-1.432778710493513E-2,-2.0310514587362827E-2,-1.432778710493513E-2,-2.0310514587362827E-2,-1.432778710493513E-2,-2.0310514587362827E-2,-1.432778710493513E-2,-2.0310514587362827E-2,-1.432778710493513E-2,-2.0310514587362827E-2,-1.432778710493513E-2,-2.0310514587362827E-2,-1.432778710493513E-2,-2.0310514587362827E-2,-1.432778710493513E-2,-2.0310514587362827E-2,-1.432778710493513E-2,-2.0310514587362827E-2,-1.432778710493513E-2,-2.0310514587362827E-2]
[48,{"$f":"Vstupy!F1440","v":-1.3136444355711483E-2},{"$f":"Vstupy!G1440","v":-1.6759879028905078E-2},-1.3136444355711483E-2,-1.6759879028905078E-2,-1.3136444355711483E-2,-1.6759879028905078E-2,-1.3136444355711483E-2,-1.6759879028905078E-2,-1.3136444355711483E-2,-1.6759879028905078E-2,-1.3136444355711483E-2,-1.6759879028905078E-2,-1.3136444355711483E-2,-1.6759879028905078E-2,-1.3136444355711483E-2,-1.6759879028905078E-2,-1.3136444355711483E-2,-1.6759879028905078E-2,-1.3136444355711483E-2,-1.6759879028905078E-2,-1.3136444355711483E-2,-1.6759879028905078E-2,-1.3136444355711483E-2,-1.6759879028905078E-2,-1.3136444355711483E-2,-1.6759879028905078E-2,-1.3136444355711483E-2,-1.6759879028905078E-2,-1.3136444355711483E-2,-1.6759879028905078E-2,-1.3136444355711483E-2,-1.6759879028905078E-2,-1.3136444355711483E-2,-1.6759879028905078E-2,-1.3136444355711483E-2,-1.6759879028905078E-2,-1.3136444355711483E-2,-1.6759879028905078E-2,-1.3136444355711483E-2,-1.6759879028905078E-2,-1.3136444355711483E-2,-1.6759879028905078E-2,-1.3136444355711483E-2,-1.6759879028905078E-2,-1.3136444355711483E-2,-1.6759879028905078E-2,-1.3136444355711483E-2,-1.6759879028905078E-2,-1.3136444355711483E-2,-1.6759879028905078E-2,-1.3136444355711483E-2,-1.6759879028905078E-2,-1.3136444355711483E-2,-1.6759879028905078E-2,-1.3136444355711483E-2,-1.6759879028905078E-2,-1.3136444355711483E-2,-1.6759879028905078E-2,-1.3136444355711483E-2,-1.6759879028905078E-2,-1.3136444355711483E-2,-1.6759879028905078E-2,-1.3136444355711483E-2,-1.6759879028905078E-2,-1.3136444355711483E-2,-1.6759879028905078E-2,-1.3136444355711483E-2,-1.6759879028905078E-2]
[49,{"$f":"Vstupy!F1441","v":-1.1845879896936674E-2},{"$f":"Vstupy!G1441","v":-1.3181090791032468E-2},-1.1845879896936674E-2,-1.3181090791032468E-2,-1.1845879896936674E-2,-1.3181090791032468E-2,-1.1845879896936674E-2,-1.3181090791032468E-2,-1.1845879896936674E-2,-1.3181090791032468E-2,-1.1845879896936674E-2,-1.3181090791032468E-2,-1.1845879896936674E-2,-1.3181090791032468E-2,-1.1845879896936674E-2,-1.3181090791032468E-2,-1.1845879896936674E-2,-1.3181090791032468E-2,-1.1845879896936674E-2,-1.3181090791032468E-2,-1.1845879896936674E-2,-1.3181090791032468E-2,-1.1845879896936674E-2,-1.3181090791032468E-2,-1.1845879896936674E-2,-1.3181090791032468E-2,-1.1845879896936674E-2,-1.3181090791032468E-2,-1.1845879896936674E-2,-1.3181090791032468E-2,-1.1845879896936674E-2,-1.3181090791032468E-2,-1.1845879896936674E-2,-1.3181090791032468E-2,-1.1845879896936674E-2,-1.3181090791032468E-2,-1.1845879896936674E-2,-1.3181090791032468E-2,-1.1845879896936674E-2,-1.3181090791032468E-2,-1.1845879896936674E-2,-1.3181090791032468E-2,-1.1845879896936674E-2,-1.3181090791032468E-2,-1.1845879896936674E-2,-1.3181090791032468E-2,-1.1845879896936674E-2,-1.3181090791032468E-2,-1.1845879896936674E-2,-1.3181090791032468E-2,-1.1845879896936674E-2,-1.3181090791032468E-2,-1.1845879896936674E-2,-1.3181090791032468E-2,-1.1845879896936674E-2,-1.3181090791032468E-2,-1.1845879896936674E-2,-1.3181090791032468E-2,-1.1845879896936674E-2,-1.3181090791032468E-2,-1.1845879896936674E-2,-1.3181090791032468E-2,-1.1845879896936674E-2,-1.3181090791032468E-2,-1.1845879896936674E-2,-1.3181090791032468E-2,-1.1845879896936674E-2,-1.3181090791032468E-2]
[50,{"$f":"Vstupy!F1442","v":-1.0447829987842008E-2},{"$f":"Vstupy!G1442","v":-9.5739266536075673E-3},-1.0447829987842008E-2,-9.5739266536075673E-3,-1.0447829987842008E-2,-9.5739266536075673E-3,-1.0447829987842008E-2,-9.5739266536075673E-3,-1.0447829987842008E-2,-9.5739266536075673E-3,-1.0447829987842008E-2,-9.5739266536075673E-3,-1.0447829987842008E-2,-9.5739266536075673E-3,-1.0447829987842008E-2,-9.5739266536075673E-3,-1.0447829987842008E-2,-9.5739266536075673E-3,-1.0447829987842008E-2,-9.5739266536075673E-3,-1.0447829987842008E-2,-9.5739266536075673E-3,-1.0447829987842008E-2,-9.5739266536075673E-3,-1.0447829987842008E-2,-9.5739266536075673E-3,-1.0447829987842008E-2,-9.5739266536075673E-3,-1.0447829987842008E-2,-9.5739266536075673E-3,-1.0447829987842008E-2,-9.5739266536075673E-3,-1.0447829987842008E-2,-9.5739266536075673E-3,-1.0447829987842008E-2,-9.5739266536075673E-3,-1.0447829987842008E-2,-9.5739266536075673E-3,-1.0447829987842008E-2,-9.5739266536075673E-3,-1.0447829987842008E-2,-9.5739266536075673E-3,-1.0447829987842008E-2,-9.5739266536075673E-3,-1.0447829987842008E-2,-9.5739266536075673E-3,-1.0447829987842008E-2,-9.5739266536075673E-3,-1.0447829987842008E-2,-9.5739266536075673E-3,-1.0447829987842008E-2,-9.5739266536075673E-3,-1.0447829987842008E-2,-9.5739266536075673E-3,-1.0447829987842008E-2,-9.5739266536075673E-3,-1.0447829987842008E-2,-9.5739266536075673E-3,-1.0447829987842008E-2,-9.5739266536075673E-3,-1.0447829987842008E-2,-9.5739266536075673E-3,-1.0447829987842008E-2,-9.5739266536075673E-3,-1.0447829987842008E-2,-9.5739266536075673E-3,-1.0447829987842008E-2,-9.5739266536075673E-3]
[51,{"$f":"Vstupy!F1443","v":-8.9333426369543403E-3},{"$f":"Vstupy!G1443","v":-5.9381616265994919E-3},-8.9333426369543403E-3,-5.9381616265994919E-3,-8.9333426369543403E-3,-5.9381616265994919E-3,-8.9333426369543403E-3,-5.9381616265994919E-3,-8.9333426369543403E-3,-5.9381616265994919E-3,-8.9333426369543403E-3,-5.9381616265994919E-3,-8.9333426369543403E-3,-5.9381616265994919E-3,-8.9333426369543403E-3,-5.9381616265994919E-3,-8.9333426369543403E-3,-5.9381616265994919E-3,-8.9333426369543403E-3,-5.9381616265994919E-3,-8.9333426369543403E-3,-5.9381616265994919E-3,-8.9333426369543403E-3,-5.9381616265994919E-3,-8.9333426369543403E-3,-5.9381616265994919E-3,-8.9333426369543403E-3,-5.9381616265994919E-3,-8.9333426369543403E-3,-5.9381616265994919E-3,-8.9333426369543403E-3,-5.9381616265994919E-3,-8.9333426369543403E-3,-5.9381616265994919E-3,-8.9333426369543403E-3,-5.9381616265994919E-3,-8.9333426369543403E-3,-5.9381616265994919E-3,-8.9333426369543403E-3,-5.9381616265994919E-3,-8.9333426369543403E-3,-5.9381616265994919E-3,-8.9333426369543403E-3,-5.9381616265994919E-3,-8.9333426369543403E-3,-5.9381616265994919E-3,-8.9333426369543403E-3,-5.9381616265994919E-3,-8.9333426369543403E-3,-5.9381616265994919E-3,-8.9333426369543403E-3,-5.9381616265994919E-3,-8.9333426369543403E-3,-5.9381616265994919E-3,-8.9333426369543403E-3,-5.9381616265994919E-3,-8.9333426369543403E-3,-5.9381616265994919E-3,-8.9333426369543403E-3,-5.9381616265994919E-3,-8.9333426369543403E-3,-5.9381616265994919E-3,-8.9333426369543403E-3,-5.9381616265994919E-3,-8.9333426369543403E-3,-5.9381616265994919E-3,-8.9333426369543403E-3,-5.9381616265994919E-3]
[52,{"$f":"Vstupy!F1444","v":-7.2927202807152869E-3},{"$f":"Vstupy!G1444","v":-2.2735689360512956E-3},-7.2927202807152869E-3,-2.2735689360512956E-3,-7.2927202807152869E-3,-2.2735689360512956E-3,-7.2927202807152869E-3,-2.2735689360512956E-3,-7.2927202807152869E-3,-2.2735689360512956E-3,-7.2927202807152869E-3,-2.2735689360512956E-3,-7.2927202807152869E-3,-2.2735689360512956E-3,-7.2927202807152869E-3,-2.2735689360512956E-3,-7.2927202807152869E-3,-2.2735689360512956E-3,-7.2927202807152869E-3,-2.2735689360512956E-3,-7.2927202807152869E-3,-2.2735689360512956E-3,-7.2927202807152869E-3,-2.2735689360512956E-3,-7.2927202807152869E-3,-2.2735689360512956E-3,-7.2927202807152869E-3,-2.2735689360512956E-3,-7.2927202807152869E-3,-2.2735689360512956E-3,-7.2927202807152869E-3,-2.2735689360512956E-3,-7.2927202807152869E-3,-2.2735689360512956E-3,-7.2927202807152869E-3,-2.2735689360512956E-3,-7.2927202807152869E-3,-2.2735689360512956E-3,-7.2927202807152869E-3,-2.2735689360512956E-3,-7.2927202807152869E-3,-2.2735689360512956E-3,-7.2927202807152869E-3,-2.2735689360512956E-3,-7.2927202807152869E-3,-2.2735689360512956E-3,-7.2927202807152869E-3,-2.2735689360512956E-3,-7.2927202807152869E-3,-2.2735689360512956E-3,-7.2927202807152869E-3,-2.2735689360512956E-3,-7.2927202807152869E-3,-2.2735689360512956E-3,-7.2927202807152869E-3,-2.2735689360512956E-3,-7.2927202807152869E-3,-2.2735689360512956E-3,-7.2927202807152869E-3,-2.2735689360512956E-3,-7.2927202807152869E-3,-2.2735689360512956E-3,-7.2927202807152869E-3,-2.2735689360512956E-3,-7.2927202807152869E-3,-2.2735689360512956E-3,-7.2927202807152869E-3,-2.2735689360512956E-3]
[53,{"$f":"Vstupy!F1445","v":-5.5154576880539208E-3},{"$f":"Vstupy!G1445","v":1.4200799900648264E-3},-5.5154576880539208E-3,1.4200799900648264E-3,-5.5154576880539208E-3,1.4200799900648264E-3,-5.5154576880539208E-3,1.4200799900648264E-3,-5.5154576880539208E-3,1.4200799900648264E-3,-5.5154576880539208E-3,1.4200799900648264E-3,-5.5154576880539208E-3,1.4200799900648264E-3,-5.5154576880539208E-3,1.4200799900648264E-3,-5.5154576880539208E-3,1.4200799900648264E-3,-5.5154576880539208E-3,1.4200799900648264E-3,-5.5154576880539208E-3,1.4200799900648264E-3,-5.5154576880539208E-3,1.4200799900648264E-3,-5.5154576880539208E-3,1.4200799900648264E-3,-5.5154576880539208E-3,1.4200799900648264E-3,-5.5154576880539208E-3,1.4200799900648264E-3,-5.5154576880539208E-3,1.4200799900648264E-3,-5.5154576880539208E-3,1.4200799900648264E-3,-5.5154576880539208E-3,1.4200799900648264E-3,-5.5154576880539208E-3,1.4200799900648264E-3,-5.5154576880539208E-3,1.4200799900648264E-3,-5.5154576880539208E-3,1.4200799900648264E-3,-5.5154576880539208E-3,1.4200799900648264E-3,-5.5154576880539208E-3,1.4200799900648264E-3,-5.5154576880539208E-3,1.4200799900648264E-3,-5.5154576880539208E-3,1.4200799900648264E-3,-5.5154576880539208E-3,1.4200799900648264E-3,-5.5154576880539208E-3,1.4200799900648264E-3,-5.5154576880539208E-3,1.4200799900648264E-3,-5.5154576880539208E-3,1.4200799900648264E-3,-5.5154576880539208E-3,1.4200799900648264E-3,-5.5154576880539208E-3,1.4200799900648264E-3,-5.5154576880539208E-3,1.4200799900648264E-3,-5.5154576880539208E-3,1.4200799900648264E-3,-5.5154576880539208E-3,1.4200799900648264E-3]
[54,{"$f":"Vstupy!F1446","v":-3.5901746933041691E-3},{"$f":"Vstupy!G1446","v":5.1430155361044672E-3},-3.5901746933041691E-3,5.1430155361044672E-3,-3.5901746933041691E-3,5.1430155361044672E-3,-3.5901746933041691E-3,5.1430155361044672E-3,-3.5901746933041691E-3,5.1430155361044672E-3,-3.5901746933041691E-3,5.1430155361044672E-3,-3.5901746933041691E-3,5.1430155361044672E-3,-3.5901746933041691E-3,5.1430155361044672E-3,-3.5901746933041691E-3,5.1430155361044672E-3,-3.5901746933041691E-3,5.1430155361044672E-3,-3.5901746933041691E-3,5.1430155361044672E-3,-3.5901746933041691E-3,5.1430155361044672E-3,-3.5901746933041691E-3,5.1430155361044672E-3,-3.5901746933041691E-3,5.1430155361044672E-3,-3.5901746933041691E-3,5.1430155361044672E-3,-3.5901746933041691E-3,5.1430155361044672E-3,-3.5901746933041691E-3,5.1430155361044672E-3,-3.5901746933041691E-3,5.1430155361044672E-3,-3.5901746933041691E-3,5.1430155361044672E-3,-3.5901746933041691E-3,5.1430155361044672E-3,-3.5901746933041691E-3,5.1430155361044672E-3,-3.5901746933041691E-3,5.1430155361044672E-3,-3.5901746933041691E-3,5.1430155361044672E-3,-3.5901746933041691E-3,5.1430155361044672E-3,-3.5901746933041691E-3,5.1430155361044672E-3,-3.5901746933041691E-3,5.1430155361044672E-3,-3.5901746933041691E-3,5.1430155361044672E-3,-3.5901746933041691E-3,5.1430155361044672E-3,-3.5901746933041691E-3,5.1430155361044672E-3,-3.5901746933041691E-3,5.1430155361044672E-3,-3.5901746933041691E-3,5.1430155361044672E-3,-3.5901746933041691E-3,5.1430155361044672E-3,-3.5901746933041691E-3,5.1430155361044672E-3,-3.5901746933041691E-3,5.1430155361044672E-3]
[55,{"$f":"Vstupy!F1447","v":-1.5045433267417141E-3},{"$f":"Vstupy!G1447","v":8.8954699131207349E-3},-1.5045433267417141E-3,8.8954699131207349E-3,-1.5045433267417141E-3,8.8954699131207349E-3,-1.5045433267417141E-3,8.8954699131207349E-3,-1.5045433267417141E-3,8.8954699131207349E-3,-1.5045433267417141E-3,8.8954699131207349E-3,-1.5045433267417141E-3,8.8954699131207349E-3,-1.5045433267417141E-3,8.8954699131207349E-3,-1.5045433267417141E-3,8.8954699131207349E-3,-1.5045433267417141E-3,8.8954699131207349E-3,-1.5045433267417141E-3,8.8954699131207349E-3,-1.5045433267417141E-3,8.8954699131207349E-3,-1.5045433267417141E-3,8.8954699131207349E-3,-1.5045433267417141E-3,8.8954699131207349E-3,-1.5045433267417141E-3,8.8954699131207349E-3,-1.5045433267417141E-3,8.8954699131207349E-3,-1.5045433267417141E-3,8.8954699131207349E-3,-1.5045433267417141E-3,8.8954699131207349E-3,-1.5045433267417141E-3,8.8954699131207349E-3,-1.5045433267417141E-3,8.8954699131207349E-3,-1.5045433267417141E-3,8.8954699131207349E-3,-1.5045433267417141E-3,8.8954699131207349E-3,-1.5045433267417141E-3,8.8954699131207349E-3,-1.5045433267417141E-3,8.8954699131207349E-3,-1.5045433267417141E-3,8.8954699131207349E-3,-1.5045433267417141E-3,8.8954699131207349E-3,-1.5045433267417141E-3,8.8954699131207349E-3,-1.5045433267417141E-3,8.8954699131207349E-3,-1.5045433267417141E-3,8.8954699131207349E-3,-1.5045433267417141E-3,8.8954699131207349E-3,-1.5045433267417141E-3,8.8954699131207349E-3,-1.5045433267417141E-3,8.8954699131207349E-3,-1.5045433267417141E-3,8.8954699131207349E-3,-1.5045433267417141E-3,8.8954699131207349E-3]
[56,{"$f":"Vstupy!F1448","v":7.5479112385653385E-4},{"$f":"Vstupy!G1448","v":1.2677677173347668E-2},7.5479112385653385E-4,1.2677677173347668E-2,7.5479112385653385E-4,1.2677677173347668E-2,7.5479112385653385E-4,1.2677677173347668E-2,7.5479112385653385E-4,1.2677677173347668E-2,7.5479112385653385E-4,1.2677677173347668E-2,7.5479112385653385E-4,1.2677677173347668E-2,7.5479112385653385E-4,1.2677677173347668E-2,7.5479112385653385E-4,1.2677677173347668E-2,7.5479112385653385E-4,1.2677677173347668E-2,7.5479112385653385E-4,1.2677677173347668E-2,7.5479112385653385E-4,1.2677677173347668E-2,7.5479112385653385E-4,1.2677677173347668E-2,7.5479112385653385E-4,1.2677677173347668E-2,7.5479112385653385E-4,1.2677677173347668E-2,7.5479112385653385E-4,1.2677677173347668E-2,7.5479112385653385E-4,1.2677677173347668E-2,7.5479112385653385E-4,1.2677677173347668E-2,7.5479112385653385E-4,1.2677677173347668E-2,7.5479112385653385E-4,1.2677677173347668E-2,7.5479112385653385E-4,1.2677677173347668E-2,7.5479112385653385E-4,1.2677677173347668E-2,7.5479112385653385E-4,1.2677677173347668E-2,7.5479112385653385E-4,1.2677677173347668E-2,7.5479112385653385E-4,1.2677677173347668E-2,7.5479112385653385E-4,1.2677677173347668E-2,7.5479112385653385E-4,1.2677677173347668E-2,7.5479112385653385E-4,1.2677677173347668E-2,7.5479112385653385E-4,1.2677677173347668E-2,7.5479112385653385E-4,1.2677677173347668E-2,7.5479112385653385E-4,1.2677677173347668E-2,7.5479112385653385E-4,1.2677677173347668E-2,7.5479112385653385E-4,1.2677677173347668E-2,7.5479112385653385E-4,1.2677677173347668E-2]
[57,{"$f":"Vstupy!F1449","v":3.2022956260896428E-3},{"$f":"Vstupy!G1449","v":1.6489873224799223E-2},3.2022956260896428E-3,1.6489873224799223E-2,3.2022956260896428E-3,1.6489873224799223E-2,3.2022956260896428E-3,1.6489873224799223E-2,3.2022956260896428E-3,1.6489873224799223E-2,3.2022956260896428E-3,1.6489873224799223E-2,3.2022956260896428E-3,1.6489873224799223E-2,3.2022956260896428E-3,1.6489873224799223E-2,3.2022956260896428E-3,1.6489873224799223E-2,3.2022956260896428E-3,1.6489873224799223E-2,3.2022956260896428E-3,1.6489873224799223E-2,3.2022956260896428E-3,1.6489873224799223E-2,3.2022956260896428E-3,1.6489873224799223E-2,3.2022956260896428E-3,1.6489873224799223E-2,3.2022956260896428E-3,1.6489873224799223E-2,3.2022956260896428E-3,1.6489873224799223E-2,3.2022956260896428E-3,1.6489873224799223E-2,3.2022956260896428E-3,1.6489873224799223E-2,3.2022956260896428E-3,1.6489873224799223E-2,3.2022956260896428E-3,1.6489873224799223E-2,3.2022956260896428E-3,1.6489873224799223E-2,3.2022956260896428E-3,1.6489873224799223E-2,3.2022956260896428E-3,1.6489873224799223E-2,3.2022956260896428E-3,1.6489873224799223E-2,3.2022956260896428E-3,1.6489873224799223E-2,3.2022956260896428E-3,1.6489873224799223E-2,3.2022956260896428E-3,1.6489873224799223E-2,3.2022956260896428E-3,1.6489873224799223E-2,3.2022956260896428E-3,1.6489873224799223E-2,3.2022956260896428E-3,1.6489873224799223E-2,3.2022956260896428E-3,1.6489873224799223E-2,3.2022956260896428E-3,1.6489873224799223E-2,3.2022956260896428E-3,1.6489873224799223E-2,3.2022956260896428E-3,1.6489873224799223E-2]
[58,{"$f":"Vstupy!F1450","v":5.8536420378017436E-3},{"$f":"Vstupy!G1450","v":2.0332295845983339E-2},5.8536420378017436E-3,2.0332295845983339E-2,5.8536420378017436E-3,2.0332295845983339E-2,5.8536420378017436E-3,2.0332295845983339E-2,5.8536420378017436E-3,2.0332295845983339E-2,5.8536420378017436E-3,2.0332295845983339E-2,5.8536420378017436E-3,2.0332295845983339E-2,5.8536420378017436E-3,2.0332295845983339E-2,5.8536420378017436E-3,2.0332295845983339E-2,5.8536420378017436E-3,2.0332295845983339E-2,5.8536420378017436E-3,2.0332295845983339E-2,5.8536420378017436E-3,2.0332295845983339E-2,5.8536420378017436E-3,2.0332295845983339E-2,5.8536420378017436E-3,2.0332295845983339E-2,5.8536420378017436E-3,2.0332295845983339E-2,5.8536420378017436E-3,2.0332295845983339E-2,5.8536420378017436E-3,2.0332295845983339E-2,5.8536420378017436E-3,2.0332295845983339E-2,5.8536420378017436E-3,2.0332295845983339E-2,5.8536420378017436E-3,2.0332295845983339E-2,5.8536420378017436E-3,2.0332295845983339E-2,5.8536420378017436E-3,2.0332295845983339E-2,5.8536420378017436E-3,2.0332295845983339E-2,5.8536420378017436E-3,2.0332295845983339E-2,5.8536420378017436E-3,2.0332295845983339E-2,5.8536420378017436E-3,2.0332295845983339E-2,5.8536420378017436E-3,2.0332295845983339E-2,5.8536420378017436E-3,2.0332295845983339E-2,5.8536420378017436E-3,2.0332295845983339E-2,5.8536420378017436E-3,2.0332295845983339E-2,5.8536420378017436E-3,2.0332295845983339E-2,5.8536420378017436E-3,2.0332295845983339E-2,5.8536420378017436E-3,2.0332295845983339E-2,5.8536420378017436E-3,2.0332295845983339E-2]
[59,{"$f":"Vstupy!F1451","v":8.7258074571032705E-3},{"$f":"Vstupy!G1451","v":2.4205184700732962E-2},8.7258074571032705E-3,2.4205184700732962E-2,8.7258074571032705E-3,2.4205184700732962E-2,8.7258074571032705E-3,2.4205184700732962E-2,8.7258074571032705E-3,2.4205184700732962E-2,8.7258074571032705E-3,2.4205184700732962E-2,8.7258074571032705E-3,2.4205184700732962E-2,8.7258074571032705E-3,2.4205184700732962E-2,8.7258074571032705E-3,2.4205184700732962E-2,8.7258074571032705E-3,2.4205184700732962E-2,8.7258074571032705E-3,2.4205184700732962E-2,8.7258074571032705E-3,2.4205184700732962E-2,8.7258074571032705E-3,2.4205184700732962E-2,8.7258074571032705E-3,2.4205184700732962E-2,8.7258074571032705E-3,2.4205184700732962E-2,8.7258074571032705E-3,2.4205184700732962E-2,8.7258074571032705E-3,2.4205184700732962E-2,8.7258074571032705E-3,2.4205184700732962E-2,8.7258074571032705E-3,2.4205184700732962E-2,8.7258074571032705E-3,2.4205184700732962E-2,8.7258074571032705E-3,2.4205184700732962E-2,8.7258074571032705E-3,2.4205184700732962E-2,8.7258074571032705E-3,2.4205184700732962E-2,8.7258074571032705E-3,2.4205184700732962E-2,8.7258074571032705E-3,2.4205184700732962E-2,8.7258074571032705E-3,2.4205184700732962E-2,8.7258074571032705E-3,2.4205184700732962E-2,8.7258074571032705E-3,2.4205184700732962E-2,8.7258074571032705E-3,2.4205184700732962E-2,8.7258074571032705E-3,2.4205184700732962E-2,8.7258074571032705E-3,2.4205184700732962E-2,8.7258074571032705E-3,2.4205184700732962E-2,8.7258074571032705E-3,2.4205184700732962E-2,8.7258074571032705E-3,2.4205184700732962E-2]
[60,{"$f":"Vstupy!F1452","v":1.1837182930104769E-2},{"$f":"Vstupy!G1452","v":2.8108781353154866E-2},1.1837182930104769E-2,2.8108781353154866E-2,1.1837182930104769E-2,2.8108781353154866E-2,1.1837182930104769E-2,2.8108781353154866E-2,1.1837182930104769E-2,2.8108781353154866E-2,1.1837182930104769E-2,2.8108781353154866E-2,1.1837182930104769E-2,2.8108781353154866E-2,1.1837182930104769E-2,2.8108781353154866E-2,1.1837182930104769E-2,2.8108781353154866E-2,1.1837182930104769E-2,2.8108781353154866E-2,1.1837182930104769E-2,2.8108781353154866E-2,1.1837182930104769E-2,2.8108781353154866E-2,1.1837182930104769E-2,2.8108781353154866E-2,1.1837182930104769E-2,2.8108781353154866E-2,1.1837182930104769E-2,2.8108781353154866E-2,1.1837182930104769E-2,2.8108781353154866E-2,1.1837182930104769E-2,2.8108781353154866E-2,1.1837182930104769E-2,2.8108781353154866E-2,1.1837182930104769E-2,2.8108781353154866E-2,1.1837182930104769E-2,2.8108781353154866E-2,1.1837182930104769E-2,2.8108781353154866E-2,1.1837182930104769E-2,2.8108781353154866E-2,1.1837182930104769E-2,2.8108781353154866E-2,1.1837182930104769E-2,2.8108781353154866E-2,1.1837182930104769E-2,2.8108781353154866E-2,1.1837182930104769E-2,2.8108781353154866E-2,1.1837182930104769E-2,2.8108781353154866E-2,1.1837182930104769E-2,2.8108781353154866E-2,1.1837182930104769E-2,2.8108781353154866E-2,1.1837182930104769E-2,2.8108781353154866E-2,1.1837182930104769E-2,2.8108781353154866E-2,1.1837182930104769E-2,2.8108781353154866E-2,1.1837182930104769E-2,2.8108781353154866E-2,1.1837182930104769E-2,2.8108781353154866E-2]
[61,{"$f":"Vstupy!F1453","v":1.5207691212440876E-2},{"$f":"Vstupy!G1453","v":3.2043329282696043E-2},1.5207691212440876E-2,3.2043329282696043E-2,1.5207691212440876E-2,3.2043329282696043E-2,1.5207691212440876E-2,3.2043329282696043E-2,1.5207691212440876E-2,3.2043329282696043E-2,1.5207691212440876E-2,3.2043329282696043E-2,1.5207691212440876E-2,3.2043329282696043E-2,1.5207691212440876E-2,3.2043329282696043E-2,1.5207691212440876E-2,3.2043329282696043E-2,1.5207691212440876E-2,3.2043329282696043E-2,1.5207691212440876E-2,3.2043329282696043E-2,1.5207691212440876E-2,3.2043329282696043E-2,1.5207691212440876E-2,3.2043329282696043E-2,1.5207691212440876E-2,3.2043329282696043E-2,1.5207691212440876E-2,3.2043329282696043E-2,1.5207691212440876E-2,3.2043329282696043E-2,1.5207691212440876E-2,3.2043329282696043E-2,1.5207691212440876E-2,3.2043329282696043E-2,1.5207691212440876E-2,3.2043329282696043E-2,1.5207691212440876E-2,3.2043329282696043E-2,1.5207691212440876E-2,3.2043329282696043E-2,1.5207691212440876E-2,3.2043329282696043E-2,1.5207691212440876E-2,3.2043329282696043E-2,1.5207691212440876E-2,3.2043329282696043E-2,1.5207691212440876E-2,3.2043329282696043E-2,1.5207691212440876E-2,3.2043329282696043E-2,1.5207691212440876E-2,3.2043329282696043E-2,1.5207691212440876E-2,3.2043329282696043E-2,1.5207691212440876E-2,3.2043329282696043E-2,1.5207691212440876E-2,3.2043329282696043E-2,1.5207691212440876E-2,3.2043329282696043E-2,1.5207691212440876E-2,3.2043329282696043E-2,1.5207691212440876E-2,3.2043329282696043E-2,1.5207691212440876E-2,3.2043329282696043E-2]
[62,{"$f":"Vstupy!F1454","v":1.8858914338635065E-2},{"$f":"Vstupy!G1454","v":3.6009073899331501E-2},1.8858914338635065E-2,3.6009073899331501E-2,1.8858914338635065E-2,3.6009073899331501E-2,1.8858914338635065E-2,3.6009073899331501E-2,1.8858914338635065E-2,3.6009073899331501E-2,1.8858914338635065E-2,3.6009073899331501E-2,1.8858914338635065E-2,3.6009073899331501E-2,1.8858914338635065E-2,3.6009073899331501E-2,1.8858914338635065E-2,3.6009073899331501E-2,1.8858914338635065E-2,3.6009073899331501E-2,1.8858914338635065E-2,3.6009073899331501E-2,1.8858914338635065E-2,3.6009073899331501E-2,1.8858914338635065E-2,3.6009073899331501E-2,1.8858914338635065E-2,3.6009073899331501E-2,1.8858914338635065E-2,3.6009073899331501E-2,1.8858914338635065E-2,3.6009073899331501E-2,1.8858914338635065E-2,3.6009073899331501E-2,1.8858914338635065E-2,3.6009073899331501E-2,1.8858914338635065E-2,3.6009073899331501E-2,1.8858914338635065E-2,3.6009073899331501E-2,1.8858914338635065E-2,3.6009073899331501E-2,1.8858914338635065E-2,3.6009073899331501E-2,1.8858914338635065E-2,3.6009073899331501E-2,1.8858914338635065E-2,3.6009073899331501E-2,1.8858914338635065E-2,3.6009073899331501E-2,1.8858914338635065E-2,3.6009073899331501E-2,1.8858914338635065E-2,3.6009073899331501E-2,1.8858914338635065E-2,3.6009073899331501E-2,1.8858914338635065E-2,3.6009073899331501E-2,1.8858914338635065E-2,3.6009073899331501E-2,1.8858914338635065E-2,3.6009073899331501E-2,1.8858914338635065E-2,3.6009073899331501E-2,1.8858914338635065E-2,3.6009073899331501E-2,1.8858914338635065E-2,3.6009073899331501E-2]
[63,{"$f":"Vstupy!F1455","v":2.2814231816156594E-2},{"$f":"Vstupy!G1455","v":4.0006262558869854E-2},2.2814231816156594E-2,4.0006262558869854E-2,2.2814231816156594E-2,4.0006262558869854E-2,2.2814231816156594E-2,4.0006262558869854E-2,2.2814231816156594E-2,4.0006262558869854E-2,2.2814231816156594E-2,4.0006262558869854E-2,2.2814231816156594E-2,4.0006262558869854E-2,2.2814231816156594E-2,4.0006262558869854E-2,2.2814231816156594E-2,4.0006262558869854E-2,2.2814231816156594E-2,4.0006262558869854E-2,2.2814231816156594E-2,4.0006262558869854E-2,2.2814231816156594E-2,4.0006262558869854E-2,2.2814231816156594E-2,4.0006262558869854E-2,2.2814231816156594E-2,4.0006262558869854E-2,2.2814231816156594E-2,4.0006262558869854E-2,2.2814231816156594E-2,4.0006262558869854E-2,2.2814231816156594E-2,4.0006262558869854E-2,2.2814231816156594E-2,4.0006262558869854E-2,2.2814231816156594E-2,4.0006262558869854E-2,2.2814231816156594E-2,4.0006262558869854E-2,2.2814231816156594E-2,4.0006262558869854E-2,2.2814231816156594E-2,4.0006262558869854E-2,2.2814231816156594E-2,4.0006262558869854E-2,2.2814231816156594E-2,4.0006262558869854E-2,2.2814231816156594E-2,4.0006262558869854E-2,2.2814231816156594E-2,4.0006262558869854E-2,2.2814231816156594E-2,4.0006262558869854E-2,2.2814231816156594E-2,4.0006262558869854E-2,2.2814231816156594E-2,4.0006262558869854E-2,2.2814231816156594E-2,4.0006262558869854E-2,2.2814231816156594E-2,4.0006262558869854E-2,2.2814231816156594E-2,4.0006262558869854E-2,2.2814231816156594E-2,4.0006262558869854E-2,2.2814231816156594E-2,4.0006262558869854E-2]
[64,{"$f":"Vstupy!F1456","v":2.7098970329054454E-2},{"$f":"Vstupy!G1456","v":4.4035144578382535E-2},2.7098970329054454E-2,4.4035144578382535E-2,2.7098970329054454E-2,4.4035144578382535E-2,2.7098970329054454E-2,4.4035144578382535E-2,2.7098970329054454E-2,4.4035144578382535E-2,2.7098970329054454E-2,4.4035144578382535E-2,2.7098970329054454E-2,4.4035144578382535E-2,2.7098970329054454E-2,4.4035144578382535E-2,2.7098970329054454E-2,4.4035144578382535E-2,2.7098970329054454E-2,4.4035144578382535E-2,2.7098970329054454E-2,4.4035144578382535E-2,2.7098970329054454E-2,4.4035144578382535E-2,2.7098970329054454E-2,4.4035144578382535E-2,2.7098970329054454E-2,4.4035144578382535E-2,2.7098970329054454E-2,4.4035144578382535E-2,2.7098970329054454E-2,4.4035144578382535E-2,2.7098970329054454E-2,4.4035144578382535E-2,2.7098970329054454E-2,4.4035144578382535E-2,2.7098970329054454E-2,4.4035144578382535E-2,2.7098970329054454E-2,4.4035144578382535E-2,2.7098970329054454E-2,4.4035144578382535E-2,2.7098970329054454E-2,4.4035144578382535E-2,2.7098970329054454E-2,4.4035144578382535E-2,2.7098970329054454E-2,4.4035144578382535E-2,2.7098970329054454E-2,4.4035144578382535E-2,2.7098970329054454E-2,4.4035144578382535E-2,2.7098970329054454E-2,4.4035144578382535E-2,2.7098970329054454E-2,4.4035144578382535E-2,2.7098970329054454E-2,4.4035144578382535E-2,2.7098970329054454E-2,4.4035144578382535E-2,2.7098970329054454E-2,4.4035144578382535E-2,2.7098970329054454E-2,4.4035144578382535E-2,2.7098970329054454E-2,4.4035144578382535E-2,2.7098970329054454E-2,4.4035144578382535E-2]
[65,{"$f":"Vstupy!F1457","v":3.1740565909749496E-2},{"$f":"Vstupy!G1457","v":4.8095971251754577E-2},3.1740565909749496E-2,4.8095971251754577E-2,3.1740565909749496E-2,4.8095971251754577E-2,3.1740565909749496E-2,4.8095971251754577E-2,3.1740565909749496E-2,4.8095971251754577E-2,3.1740565909749496E-2,4.8095971251754577E-2,3.1740565909749496E-2,4.8095971251754577E-2,3.1740565909749496E-2,4.8095971251754577E-2,3.1740565909749496E-2,4.8095971251754577E-2,3.1740565909749496E-2,4.8095971251754577E-2,3.1740565909749496E-2,4.8095971251754577E-2,3.1740565909749496E-2,4.8095971251754577E-2,3.1740565909749496E-2,4.8095971251754577E-2,3.1740565909749496E-2,4.8095971251754577E-2,3.1740565909749496E-2,4.8095971251754577E-2,3.1740565909749496E-2,4.8095971251754577E-2,3.1740565909749496E-2,4.8095971251754577E-2,3.1740565909749496E-2,4.8095971251754577E-2,3.1740565909749496E-2,4.8095971251754577E-2,3.1740565909749496E-2,4.8095971251754577E-2,3.1740565909749496E-2,4.8095971251754577E-2,3.1740565909749496E-2,4.8095971251754577E-2,3.1740565909749496E-2,4.8095971251754577E-2,3.1740565909749496E-2,4.8095971251754577E-2,3.1740565909749496E-2,4.8095971251754577E-2,3.1740565909749496E-2,4.8095971251754577E-2,3.1740565909749496E-2,4.8095971251754577E-2,3.1740565909749496E-2,4.8095971251754577E-2,3.1740565909749496E-2,4.8095971251754577E-2,3.1740565909749496E-2,4.8095971251754577E-2,3.1740565909749496E-2,4.8095971251754577E-2,3.1740565909749496E-2,4.8095971251754577E-2,3.1740565909749496E-2,4.8095971251754577E-2,3.1740565909749496E-2,4.8095971251754577E-2]
[66,{"$f":"Vstupy!F1458","v":3.6768739617404095E-2},{"$f":"Vstupy!G1458","v":5.2188995865357857E-2},3.6768739617404095E-2,5.2188995865357857E-2,3.6768739617404095E-2,5.2188995865357857E-2,3.6768739617404095E-2,5.2188995865357857E-2,3.6768739617404095E-2,5.2188995865357857E-2,3.6768739617404095E-2,5.2188995865357857E-2,3.6768739617404095E-2,5.2188995865357857E-2,3.6768739617404095E-2,5.2188995865357857E-2,3.6768739617404095E-2,5.2188995865357857E-2,3.6768739617404095E-2,5.2188995865357857E-2,3.6768739617404095E-2,5.2188995865357857E-2,3.6768739617404095E-2,5.2188995865357857E-2,3.6768739617404095E-2,5.2188995865357857E-2,3.6768739617404095E-2,5.2188995865357857E-2,3.6768739617404095E-2,5.2188995865357857E-2,3.6768739617404095E-2,5.2188995865357857E-2,3.6768739617404095E-2,5.2188995865357857E-2,3.6768739617404095E-2,5.2188995865357857E-2,3.6768739617404095E-2,5.2188995865357857E-2,3.6768739617404095E-2,5.2188995865357857E-2,3.6768739617404095E-2,5.2188995865357857E-2,3.6768739617404095E-2,5.2188995865357857E-2,3.6768739617404095E-2,5.2188995865357857E-2,3.6768739617404095E-2,5.2188995865357857E-2,3.6768739617404095E-2,5.2188995865357857E-2,3.6768739617404095E-2,5.2188995865357857E-2,3.6768739617404095E-2,5.2188995865357857E-2,3.6768739617404095E-2,5.2188995865357857E-2,3.6768739617404095E-2,5.2188995865357857E-2,3.6768739617404095E-2,5.2188995865357857E-2,3.6768739617404095E-2,5.2188995865357857E-2,3.6768739617404095E-2,5.2188995865357857E-2,3.6768739617404095E-2,5.2188995865357857E-2,3.6768739617404095E-2,5.2188995865357857E-2]
[67,{"$f":"Vstupy!F1459","v":4.2215687847771632E-2},{"$f":"Vstupy!G1459","v":5.6314473713850011E-2},4.2215687847771632E-2,5.6314473713850011E-2,4.2215687847771632E-2,5.6314473713850011E-2,4.2215687847771632E-2,5.6314473713850011E-2,4.2215687847771632E-2,5.6314473713850011E-2,4.2215687847771632E-2,5.6314473713850011E-2,4.2215687847771632E-2,5.6314473713850011E-2,4.2215687847771632E-2,5.6314473713850011E-2,4.2215687847771632E-2,5.6314473713850011E-2,4.2215687847771632E-2,5.6314473713850011E-2,4.2215687847771632E-2,5.6314473713850011E-2,4.2215687847771632E-2,5.6314473713850011E-2,4.2215687847771632E-2,5.6314473713850011E-2,4.2215687847771632E-2,5.6314473713850011E-2,4.2215687847771632E-2,5.6314473713850011E-2,4.2215687847771632E-2,5.6314473713850011E-2,4.2215687847771632E-2,5.6314473713850011E-2,4.2215687847771632E-2,5.6314473713850011E-2,4.2215687847771632E-2,5.6314473713850011E-2,4.2215687847771632E-2,5.6314473713850011E-2,4.2215687847771632E-2,5.6314473713850011E-2,4.2215687847771632E-2,5.6314473713850011E-2,4.2215687847771632E-2,5.6314473713850011E-2,4.2215687847771632E-2,5.6314473713850011E-2,4.2215687847771632E-2,5.6314473713850011E-2,4.2215687847771632E-2,5.6314473713850011E-2,4.2215687847771632E-2,5.6314473713850011E-2,4.2215687847771632E-2,5.6314473713850011E-2,4.2215687847771632E-2,5.6314473713850011E-2,4.2215687847771632E-2,5.6314473713850011E-2,4.2215687847771632E-2,5.6314473713850011E-2,4.2215687847771632E-2,5.6314473713850011E-2,4.2215687847771632E-2,5.6314473713850011E-2,4.2215687847771632E-2,5.6314473713850011E-2]
[68,{"$f":"Vstupy!F1460","v":4.8116288493118844E-2},{"$f":"Vstupy!G1460","v":6.0472662116097697E-2},4.8116288493118844E-2,6.0472662116097697E-2,4.8116288493118844E-2,6.0472662116097697E-2,4.8116288493118844E-2,6.0472662116097697E-2,4.8116288493118844E-2,6.0472662116097697E-2,4.8116288493118844E-2,6.0472662116097697E-2,4.8116288493118844E-2,6.0472662116097697E-2,4.8116288493118844E-2,6.0472662116097697E-2,4.8116288493118844E-2,6.0472662116097697E-2,4.8116288493118844E-2,6.0472662116097697E-2,4.8116288493118844E-2,6.0472662116097697E-2,4.8116288493118844E-2,6.0472662116097697E-2,4.8116288493118844E-2,6.0472662116097697E-2,4.8116288493118844E-2,6.0472662116097697E-2,4.8116288493118844E-2,6.0472662116097697E-2,4.8116288493118844E-2,6.0472662116097697E-2,4.8116288493118844E-2,6.0472662116097697E-2,4.8116288493118844E-2,6.0472662116097697E-2,4.8116288493118844E-2,6.0472662116097697E-2,4.8116288493118844E-2,6.0472662116097697E-2,4.8116288493118844E-2,6.0472662116097697E-2,4.8116288493118844E-2,6.0472662116097697E-2,4.8116288493118844E-2,6.0472662116097697E-2,4.8116288493118844E-2,6.0472662116097697E-2,4.8116288493118844E-2,6.0472662116097697E-2,4.8116288493118844E-2,6.0472662116097697E-2,4.8116288493118844E-2,6.0472662116097697E-2,4.8116288493118844E-2,6.0472662116097697E-2,4.8116288493118844E-2,6.0472662116097697E-2,4.8116288493118844E-2,6.0472662116097697E-2,4.8116288493118844E-2,6.0472662116097697E-2,4.8116288493118844E-2,6.0472662116097697E-2,4.8116288493118844E-2,6.0472662116097697E-2,4.8116288493118844E-2,6.0472662116097697E-2]
[69,{"$f":"Vstupy!F1461","v":5.4508324272302636E-2},{"$f":"Vstupy!G1461","v":6.4663820431226315E-2},5.4508324272302636E-2,6.4663820431226315E-2,5.4508324272302636E-2,6.4663820431226315E-2,5.4508324272302636E-2,6.4663820431226315E-2,5.4508324272302636E-2,6.4663820431226315E-2,5.4508324272302636E-2,6.4663820431226315E-2,5.4508324272302636E-2,6.4663820431226315E-2,5.4508324272302636E-2,6.4663820431226315E-2,5.4508324272302636E-2,6.4663820431226315E-2,5.4508324272302636E-2,6.4663820431226315E-2,5.4508324272302636E-2,6.4663820431226315E-2,5.4508324272302636E-2,6.4663820431226315E-2,5.4508324272302636E-2,6.4663820431226315E-2,5.4508324272302636E-2,6.4663820431226315E-2,5.4508324272302636E-2,6.4663820431226315E-2,5.4508324272302636E-2,6.4663820431226315E-2,5.4508324272302636E-2,6.4663820431226315E-2,5.4508324272302636E-2,6.4663820431226315E-2,5.4508324272302636E-2,6.4663820431226315E-2,5.4508324272302636E-2,6.4663820431226315E-2,5.4508324272302636E-2,6.4663820431226315E-2,5.4508324272302636E-2,6.4663820431226315E-2,5.4508324272302636E-2,6.4663820431226315E-2,5.4508324272302636E-2,6.4663820431226315E-2,5.4508324272302636E-2,6.4663820431226315E-2,5.4508324272302636E-2,6.4663820431226315E-2,5.4508324272302636E-2,6.4663820431226315E-2,5.4508324272302636E-2,6.4663820431226315E-2,5.4508324272302636E-2,6.4663820431226315E-2,5.4508324272302636E-2,6.4663820431226315E-2,5.4508324272302636E-2,6.4663820431226315E-2,5.4508324272302636E-2,6.4663820431226315E-2,5.4508324272302636E-2,6.4663820431226315E-2,5.4508324272302636E-2,6.4663820431226315E-2]
[70,{"$f":"Vstupy!F1462","v":6.1432724661029822E-2},{"$f":"Vstupy!G1462","v":6.8888210074797396E-2},6.1432724661029822E-2,6.8888210074797396E-2,6.1432724661029822E-2,6.8888210074797396E-2,6.1432724661029822E-2,6.8888210074797396E-2,6.1432724661029822E-2,6.8888210074797396E-2,6.1432724661029822E-2,6.8888210074797396E-2,6.1432724661029822E-2,6.8888210074797396E-2,6.1432724661029822E-2,6.8888210074797396E-2,6.1432724661029822E-2,6.8888210074797396E-2,6.1432724661029822E-2,6.8888210074797396E-2,6.1432724661029822E-2,6.8888210074797396E-2,6.1432724661029822E-2,6.8888210074797396E-2,6.1432724661029822E-2,6.8888210074797396E-2,6.1432724661029822E-2,6.8888210074797396E-2,6.1432724661029822E-2,6.8888210074797396E-2,6.1432724661029822E-2,6.8888210074797396E-2,6.1432724661029822E-2,6.8888210074797396E-2,6.1432724661029822E-2,6.8888210074797396E-2,6.1432724661029822E-2,6.8888210074797396E-2,6.1432724661029822E-2,6.8888210074797396E-2,6.1432724661029822E-2,6.8888210074797396E-2,6.1432724661029822E-2,6.8888210074797396E-2,6.1432724661029822E-2,6.8888210074797396E-2,6.1432724661029822E-2,6.8888210074797396E-2,6.1432724661029822E-2,6.8888210074797396E-2,6.1432724661029822E-2,6.8888210074797396E-2,6.1432724661029822E-2,6.8888210074797396E-2,6.1432724661029822E-2,6.8888210074797396E-2,6.1432724661029822E-2,6.8888210074797396E-2,6.1432724661029822E-2,6.8888210074797396E-2,6.1432724661029822E-2,6.8888210074797396E-2,6.1432724661029822E-2,6.8888210074797396E-2,6.1432724661029822E-2,6.8888210074797396E-2,6.1432724661029822E-2,6.8888210074797396E-2]
[71,{"$f":"Vstupy!F1463","v":6.8933827971425929E-2},{"$f":"Vstupy!G1463","v":7.3146094535113337E-2},6.8933827971425929E-2,7.3146094535113337E-2,6.8933827971425929E-2,7.3146094535113337E-2,6.8933827971425929E-2,7.3146094535113337E-2,6.8933827971425929E-2,7.3146094535113337E-2,6.8933827971425929E-2,7.3146094535113337E-2,6.8933827971425929E-2,7.3146094535113337E-2,6.8933827971425929E-2,7.3146094535113337E-2,6.8933827971425929E-2,7.3146094535113337E-2,6.8933827971425929E-2,7.3146094535113337E-2,6.8933827971425929E-2,7.3146094535113337E-2,6.8933827971425929E-2,7.3146094535113337E-2,6.8933827971425929E-2,7.3146094535113337E-2,6.8933827971425929E-2,7.3146094535113337E-2,6.8933827971425929E-2,7.3146094535113337E-2,6.8933827971425929E-2,7.3146094535113337E-2,6.8933827971425929E-2,7.3146094535113337E-2,6.8933827971425929E-2,7.3146094535113337E-2,6.8933827971425929E-2,7.3146094535113337E-2,6.8933827971425929E-2,7.3146094535113337E-2,6.8933827971425929E-2,7.3146094535113337E-2,6.8933827971425929E-2,7.3146094535113337E-2,6.8933827971425929E-2,7.3146094535113337E-2,6.8933827971425929E-2,7.3146094535113337E-2,6.8933827971425929E-2,7.3146094535113337E-2,6.8933827971425929E-2,7.3146094535113337E-2,6.8933827971425929E-2,7.3146094535113337E-2,6.8933827971425929E-2,7.3146094535113337E-2,6.8933827971425929E-2,7.3146094535113337E-2,6.8933827971425929E-2,7.3146094535113337E-2,6.8933827971425929E-2,7.3146094535113337E-2,6.8933827971425929E-2,7.3146094535113337E-2,6.8933827971425929E-2,7.3146094535113337E-2,6.8933827971425929E-2,7.3146094535113337E-2]
[72,{"$f":"Vstupy!F1464","v":7.7059665259060994E-2},{"$f":"Vstupy!G1464","v":7.7437739389652482E-2},7.7059665259060994E-2,7.7437739389652482E-2,7.7059665259060994E-2,7.7437739389652482E-2,7.7059665259060994E-2,7.7437739389652482E-2,7.7059665259060994E-2,7.7437739389652482E-2,7.7059665259060994E-2,7.7437739389652482E-2,7.7059665259060994E-2,7.7437739389652482E-2,7.7059665259060994E-2,7.7437739389652482E-2,7.7059665259060994E-2,7.7437739389652482E-2,7.7059665259060994E-2,7.7437739389652482E-2,7.7059665259060994E-2,7.7437739389652482E-2,7.7059665259060994E-2,7.7437739389652482E-2,7.7059665259060994E-2,7.7437739389652482E-2,7.7059665259060994E-2,7.7437739389652482E-2,7.7059665259060994E-2,7.7437739389652482E-2,7.7059665259060994E-2,7.7437739389652482E-2,7.7059665259060994E-2,7.7437739389652482E-2,7.7059665259060994E-2,7.7437739389652482E-2,7.7059665259060994E-2,7.7437739389652482E-2,7.7059665259060994E-2,7.7437739389652482E-2,7.7059665259060994E-2,7.7437739389652482E-2,7.7059665259060994E-2,7.7437739389652482E-2,7.7059665259060994E-2,7.7437739389652482E-2,7.7059665259060994E-2,7.7437739389652482E-2,7.7059665259060994E-2,7.7437739389652482E-2,7.7059665259060994E-2,7.7437739389652482E-2,7.7059665259060994E-2,7.7437739389652482E-2,7.7059665259060994E-2,7.7437739389652482E-2,7.7059665259060994E-2,7.7437739389652482E-2,7.7059665259060994E-2,7.7437739389652482E-2,7.7059665259060994E-2,7.7437739389652482E-2,7.7059665259060994E-2,7.7437739389652482E-2,7.7059665259060994E-2,7.7437739389652482E-2,7.7059665259060994E-2,7.7437739389652482E-2]
[73,{"$f":"Vstupy!F1465","v":8.5862267875346662E-2},{"$f":"Vstupy!G1465","v":8.1763412321633644E-2},8.5862267875346662E-2,8.1763412321633644E-2,8.5862267875346662E-2,8.1763412321633644E-2,8.5862267875346662E-2,8.1763412321633644E-2,8.5862267875346662E-2,8.1763412321633644E-2,8.5862267875346662E-2,8.1763412321633644E-2,8.5862267875346662E-2,8.1763412321633644E-2,8.5862267875346662E-2,8.1763412321633644E-2,8.5862267875346662E-2,8.1763412321633644E-2,8.5862267875346662E-2,8.1763412321633644E-2,8.5862267875346662E-2,8.1763412321633644E-2,8.5862267875346662E-2,8.1763412321633644E-2,8.5862267875346662E-2,8.1763412321633644E-2,8.5862267875346662E-2,8.1763412321633644E-2,8.5862267875346662E-2,8.1763412321633644E-2,8.5862267875346662E-2,8.1763412321633644E-2,8.5862267875346662E-2,8.1763412321633644E-2,8.5862267875346662E-2,8.1763412321633644E-2,8.5862267875346662E-2,8.1763412321633644E-2,8.5862267875346662E-2,8.1763412321633644E-2,8.5862267875346662E-2,8.1763412321633644E-2,8.5862267875346662E-2,8.1763412321633644E-2,8.5862267875346662E-2,8.1763412321633644E-2,8.5862267875346662E-2,8.1763412321633644E-2,8.5862267875346662E-2,8.1763412321633644E-2,8.5862267875346662E-2,8.1763412321633644E-2,8.5862267875346662E-2,8.1763412321633644E-2,8.5862267875346662E-2,8.1763412321633644E-2,8.5862267875346662E-2,8.1763412321633644E-2,8.5862267875346662E-2,8.1763412321633644E-2,8.5862267875346662E-2,8.1763412321633644E-2,8.5862267875346662E-2,8.1763412321633644E-2,8.5862267875346662E-2,8.1763412321633644E-2,8.5862267875346662E-2,8.1763412321633644E-2]
[74,{"$f":"Vstupy!F1466","v":9.539800063462138E-2},{"$f":"Vstupy!G1466","v":8.6123383136712639E-2},9.539800063462138E-2,8.6123383136712639E-2,9.539800063462138E-2,8.6123383136712639E-2,9.539800063462138E-2,8.6123383136712639E-2,9.539800063462138E-2,8.6123383136712639E-2,9.539800063462138E-2,8.6123383136712639E-2,9.539800063462138E-2,8.6123383136712639E-2,9.539800063462138E-2,8.6123383136712639E-2,9.539800063462138E-2,8.6123383136712639E-2,9.539800063462138E-2,8.6123383136712639E-2,9.539800063462138E-2,8.6123383136712639E-2,9.539800063462138E-2,8.6123383136712639E-2,9.539800063462138E-2,8.6123383136712639E-2,9.539800063462138E-2,8.6123383136712639E-2,9.539800063462138E-2,8.6123383136712639E-2,9.539800063462138E-2,8.6123383136712639E-2,9.539800063462138E-2,8.6123383136712639E-2,9.539800063462138E-2,8.6123383136712639E-2,9.539800063462138E-2,8.6123383136712639E-2,9.539800063462138E-2,8.6123383136712639E-2,9.539800063462138E-2,8.6123383136712639E-2,9.539800063462138E-2,8.6123383136712639E-2,9.539800063462138E-2,8.6123383136712639E-2,9.539800063462138E-2,8.6123383136712639E-2,9.539800063462138E-2,8.6123383136712639E-2,9.539800063462138E-2,8.6123383136712639E-2,9.539800063462138E-2,8.6123383136712639E-2,9.539800063462138E-2,8.6123383136712639E-2,9.539800063462138E-2,8.6123383136712639E-2,9.539800063462138E-2,8.6123383136712639E-2,9.539800063462138E-2,8.6123383136712639E-2,9.539800063462138E-2,8.6123383136712639E-2,9.539800063462138E-2,8.6123383136712639E-2,9.539800063462138E-2,8.6123383136712639E-2]
[75,{"$f":"Vstupy!F1467","v":0.10572792272926158},{"$f":"Vstupy!G1467","v":9.0517923779810827E-2},0.10572792272926158,9.0517923779810827E-2,0.10572792272926158,9.0517923779810827E-2,0.10572792272926158,9.0517923779810827E-2,0.10572792272926158,9.0517923779810827E-2,0.10572792272926158,9.0517923779810827E-2,0.10572792272926158,9.0517923779810827E-2,0.10572792272926158,9.0517923779810827E-2,0.10572792272926158,9.0517923779810827E-2,0.10572792272926158,9.0517923779810827E-2,0.10572792272926158,9.0517923779810827E-2,0.10572792272926158,9.0517923779810827E-2,0.10572792272926158,9.0517923779810827E-2,0.10572792272926158,9.0517923779810827E-2,0.10572792272926158,9.0517923779810827E-2,0.10572792272926158,9.0517923779810827E-2,0.10572792272926158,9.0517923779810827E-2,0.10572792272926158,9.0517923779810827E-2,0.10572792272926158,9.0517923779810827E-2,0.10572792272926158,9.0517923779810827E-2,0.10572792272926158,9.0517923779810827E-2,0.10572792272926158,9.0517923779810827E-2,0.10572792272926158,9.0517923779810827E-2,0.10572792272926158,9.0517923779810827E-2,0.10572792272926158,9.0517923779810827E-2,0.10572792272926158,9.0517923779810827E-2,0.10572792272926158,9.0517923779810827E-2,0.10572792272926158,9.0517923779810827E-2,0.10572792272926158,9.0517923779810827E-2,0.10572792272926158,9.0517923779810827E-2,0.10572792272926158,9.0517923779810827E-2,0.10572792272926158,9.0517923779810827E-2,0.10572792272926158,9.0517923779810827E-2,0.10572792272926158,9.0517923779810827E-2]
[76,{"$f":"Vstupy!F1468","v":0.11691817870382699},{"$f":"Vstupy!G1468","v":9.4947308352076987E-2},0.11691817870382699,9.4947308352076987E-2,0.11691817870382699,9.4947308352076987E-2,0.11691817870382699,9.4947308352076987E-2,0.11691817870382699,9.4947308352076987E-2,0.11691817870382699,9.4947308352076987E-2,0.11691817870382699,9.4947308352076987E-2,0.11691817870382699,9.4947308352076987E-2,0.11691817870382699,9.4947308352076987E-2,0.11691817870382699,9.4947308352076987E-2,0.11691817870382699,9.4947308352076987E-2,0.11691817870382699,9.4947308352076987E-2,0.11691817870382699,9.4947308352076987E-2,0.11691817870382699,9.4947308352076987E-2,0.11691817870382699,9.4947308352076987E-2,0.11691817870382699,9.4947308352076987E-2,0.11691817870382699,9.4947308352076987E-2,0.11691817870382699,9.4947308352076987E-2,0.11691817870382699,9.4947308352076987E-2,0.11691817870382699,9.4947308352076987E-2,0.11691817870382699,9.4947308352076987E-2,0.11691817870382699,9.4947308352076987E-2,0.11691817870382699,9.4947308352076987E-2,0.11691817870382699,9.4947308352076987E-2,0.11691817870382699,9.4947308352076987E-2,0.11691817870382699,9.4947308352076987E-2,0.11691817870382699,9.4947308352076987E-2,0.11691817870382699,9.4947308352076987E-2,0.11691817870382699,9.4947308352076987E-2,0.11691817870382699,9.4947308352076987E-2,0.11691817870382699,9.4947308352076987E-2,0.11691817870382699,9.4947308352076987E-2,0.11691817870382699,9.4947308352076987E-2,0.11691817870382699,9.4947308352076987E-2]
[77,{"$f":"Vstupy!F1469","v":0.12904042199172877},{"$f":"Vstupy!G1469","v":9.9411813127983972E-2},0.12904042199172877,9.9411813127983972E-2,0.12904042199172877,9.9411813127983972E-2,0.12904042199172877,9.9411813127983972E-2,0.12904042199172877,9.9411813127983972E-2,0.12904042199172877,9.9411813127983972E-2,0.12904042199172877,9.9411813127983972E-2,0.12904042199172877,9.9411813127983972E-2,0.12904042199172877,9.9411813127983972E-2,0.12904042199172877,9.9411813127983972E-2,0.12904042199172877,9.9411813127983972E-2,0.12904042199172877,9.9411813127983972E-2,0.12904042199172877,9.9411813127983972E-2,0.12904042199172877,9.9411813127983972E-2,0.12904042199172877,9.9411813127983972E-2,0.12904042199172877,9.9411813127983972E-2,0.12904042199172877,9.9411813127983972E-2,0.12904042199172877,9.9411813127983972E-2,0.12904042199172877,9.9411813127983972E-2,0.12904042199172877,9.9411813127983972E-2,0.12904042199172877,9.9411813127983972E-2,0.12904042199172877,9.9411813127983972E-2,0.12904042199172877,9.9411813127983972E-2,0.12904042199172877,9.9411813127983972E-2,0.12904042199172877,9.9411813127983972E-2,0.12904042199172877,9.9411813127983972E-2,0.12904042199172877,9.9411813127983972E-2,0.12904042199172877,9.9411813127983972E-2,0.12904042199172877,9.9411813127983972E-2,0.12904042199172877,9.9411813127983972E-2,0.12904042199172877,9.9411813127983972E-2,0.12904042199172877,9.9411813127983972E-2,0.12904042199172877,9.9411813127983972E-2,0.12904042199172877,9.9411813127983972E-2]
[78,{"$f":"Vstupy!F1470","v":0.14217227372640573},{"$f":"Vstupy!G1470","v":0.10391171657256104},0.14217227372640573,0.10391171657256104,0.14217227372640573,0.10391171657256104,0.14217227372640573,0.10391171657256104,0.14217227372640573,0.10391171657256104,0.14217227372640573,0.10391171657256104,0.14217227372640573,0.10391171657256104,0.14217227372640573,0.10391171657256104,0.14217227372640573,0.10391171657256104,0.14217227372640573,0.10391171657256104,0.14217227372640573,0.10391171657256104,0.14217227372640573,0.10391171657256104,0.14217227372640573,0.10391171657256104,0.14217227372640573,0.10391171657256104,0.14217227372640573,0.10391171657256104,0.14217227372640573,0.10391171657256104,0.14217227372640573,0.10391171657256104,0.14217227372640573,0.10391171657256104,0.14217227372640573,0.10391171657256104,0.14217227372640573,0.10391171657256104,0.14217227372640573,0.10391171657256104,0.14217227372640573,0.10391171657256104,0.14217227372640573,0.10391171657256104,0.14217227372640573,0.10391171657256104,0.14217227372640573,0.10391171657256104,0.14217227372640573,0.10391171657256104,0.14217227372640573,0.10391171657256104,0.14217227372640573,0.10391171657256104,0.14217227372640573,0.10391171657256104,0.14217227372640573,0.10391171657256104,0.14217227372640573,0.10391171657256104,0.14217227372640573,0.10391171657256104,0.14217227372640573,0.10391171657256104,0.14217227372640573,0.10391171657256104]
[79,{"$f":"Vstupy!F1471","v":0.15639781976487252},{"$f":"Vstupy!G1471","v":0.10844729935876207},0.15639781976487252,0.10844729935876207,0.15639781976487252,0.10844729935876207,0.15639781976487252,0.10844729935876207,0.15639781976487252,0.10844729935876207,0.15639781976487252,0.10844729935876207,0.15639781976487252,0.10844729935876207,0.15639781976487252,0.10844729935876207,0.15639781976487252,0.10844729935876207,0.15639781976487252,0.10844729935876207,0.15639781976487252,0.10844729935876207,0.15639781976487252,0.10844729935876207,0.15639781976487252,0.10844729935876207,0.15639781976487252,0.10844729935876207,0.15639781976487252,0.10844729935876207,0.15639781976487252,0.10844729935876207,0.15639781976487252,0.10844729935876207,0.15639781976487252,0.10844729935876207,0.15639781976487252,0.10844729935876207,0.15639781976487252,0.10844729935876207,0.15639781976487252,0.10844729935876207,0.15639781976487252,0.10844729935876207,0.15639781976487252,0.10844729935876207,0.15639781976487252,0.10844729935876207,0.15639781976487252,0.10844729935876207,0.15639781976487252,0.10844729935876207,0.15639781976487252,0.10844729935876207,0.15639781976487252,0.10844729935876207,0.15639781976487252,0.10844729935876207,0.15639781976487252,0.10844729935876207,0.15639781976487252,0.10844729935876207,0.15639781976487252,0.10844729935876207,0.15639781976487252,0.10844729935876207,0.15639781976487252,0.10844729935876207]
[80,{"$f":"Vstupy!F1472","v":0.17180814910617559},{"$f":"Vstupy!G1472","v":0.11301884438497234},0.17180814910617559,0.11301884438497234,0.17180814910617559,0.11301884438497234,0.17180814910617559,0.11301884438497234,0.17180814910617559,0.11301884438497234,0.17180814910617559,0.11301884438497234,0.17180814910617559,0.11301884438497234,0.17180814910617559,0.11301884438497234,0.17180814910617559,0.11301884438497234,0.17180814910617559,0.11301884438497234,0.17180814910617559,0.11301884438497234,0.17180814910617559,0.11301884438497234,0.17180814910617559,0.11301884438497234,0.17180814910617559,0.11301884438497234,0.17180814910617559,0.11301884438497234,0.17180814910617559,0.11301884438497234,0.17180814910617559,0.11301884438497234,0.17180814910617559,0.11301884438497234,0.17180814910617559,0.11301884438497234,0.17180814910617559,0.11301884438497234,0.17180814910617559,0.11301884438497234,0.17180814910617559,0.11301884438497234,0.17180814910617559,0.11301884438497234,0.17180814910617559,0.11301884438497234,0.17180814910617559,0.11301884438497234,0.17180814910617559,0.11301884438497234,0.17180814910617559,0.11301884438497234,0.17180814910617559,0.11301884438497234,0.17180814910617559,0.11301884438497234,0.17180814910617559,0.11301884438497234,0.17180814910617559,0.11301884438497234,0.17180814910617559,0.11301884438497234,0.17180814910617559,0.11301884438497234,0.17180814910617559,0.11301884438497234]
[81,{"$f":"Vstupy!F1473","v":0.18850193715236188},{"$f":"Vstupy!G1473","v":0.11762663679265395},0.18850193715236188,0.11762663679265395,0.18850193715236188,0.11762663679265395,0.18850193715236188,0.11762663679265395,0.18850193715236188,0.11762663679265395,0.18850193715236188,0.11762663679265395,0.18850193715236188,0.11762663679265395,0.18850193715236188,0.11762663679265395,0.18850193715236188,0.11762663679265395,0.18850193715236188,0.11762663679265395,0.18850193715236188,0.11762663679265395,0.18850193715236188,0.11762663679265395,0.18850193715236188,0.11762663679265395,0.18850193715236188,0.11762663679265395,0.18850193715236188,0.11762663679265395,0.18850193715236188,0.11762663679265395,0.18850193715236188,0.11762663679265395,0.18850193715236188,0.11762663679265395,0.18850193715236188,0.11762663679265395,0.18850193715236188,0.11762663679265395,0.18850193715236188,0.11762663679265395,0.18850193715236188,0.11762663679265395,0.18850193715236188,0.11762663679265395,0.18850193715236188,0.11762663679265395,0.18850193715236188,0.11762663679265395,0.18850193715236188,0.11762663679265395,0.18850193715236188,0.11762663679265395,0.18850193715236188,0.11762663679265395,0.18850193715236188,0.11762663679265395,0.18850193715236188,0.11762663679265395,0.18850193715236188,0.11762663679265395,0.18850193715236188,0.11762663679265395,0.18850193715236188,0.11762663679265395,0.18850193715236188,0.11762663679265395]
[82,{"$f":"Vstupy!F1474","v":0.20658607754669231},{"$f":"Vstupy!G1474","v":0.12227096398413051},0.20658607754669231,0.12227096398413051,0.20658607754669231,0.12227096398413051,0.20658607754669231,0.12227096398413051,0.20658607754669231,0.12227096398413051,0.20658607754669231,0.12227096398413051,0.20658607754669231,0.12227096398413051,0.20658607754669231,0.12227096398413051,0.20658607754669231,0.12227096398413051,0.20658607754669231,0.12227096398413051,0.20658607754669231,0.12227096398413051,0.20658607754669231,0.12227096398413051,0.20658607754669231,0.12227096398413051,0.20658607754669231,0.12227096398413051,0.20658607754669231,0.12227096398413051,0.20658607754669231,0.12227096398413051,0.20658607754669231,0.12227096398413051,0.20658607754669231,0.12227096398413051,0.20658607754669231,0.12227096398413051,0.20658607754669231,0.12227096398413051,0.20658607754669231,0.12227096398413051,0.20658607754669231,0.12227096398413051,0.20658607754669231,0.12227096398413051,0.20658607754669231,0.12227096398413051,0.20658607754669231,0.12227096398413051,0.20658607754669231,0.12227096398413051,0.20658607754669231,0.12227096398413051,0.20658607754669231,0.12227096398413051,0.20658607754669231,0.12227096398413051,0.20658607754669231,0.12227096398413051,0.20658607754669231,0.12227096398413051,0.20658607754669231,0.12227096398413051,0.20658607754669231,0.12227096398413051,0.20658607754669231,0.12227096398413051]
[83,{"$f":"Vstupy!F1475","v":0.22617636663488747},{"$f":"Vstupy!G1475","v":0.12695211564051401},0.22617636663488747,0.12695211564051401,0.22617636663488747,0.12695211564051401,0.22617636663488747,0.12695211564051401,0.22617636663488747,0.12695211564051401,0.22617636663488747,0.12695211564051401,0.22617636663488747,0.12695211564051401,0.22617636663488747,0.12695211564051401,0.22617636663488747,0.12695211564051401,0.22617636663488747,0.12695211564051401,0.22617636663488747,0.12695211564051401,0.22617636663488747,0.12695211564051401,0.22617636663488747,0.12695211564051401,0.22617636663488747,0.12695211564051401,0.22617636663488747,0.12695211564051401,0.22617636663488747,0.12695211564051401,0.22617636663488747,0.12695211564051401,0.22617636663488747,0.12695211564051401,0.22617636663488747,0.12695211564051401,0.22617636663488747,0.12695211564051401,0.22617636663488747,0.12695211564051401,0.22617636663488747,0.12695211564051401,0.22617636663488747,0.12695211564051401,0.22617636663488747,0.12695211564051401,0.22617636663488747,0.12695211564051401,0.22617636663488747,0.12695211564051401,0.22617636663488747,0.12695211564051401,0.22617636663488747,0.12695211564051401,0.22617636663488747,0.12695211564051401,0.22617636663488747,0.12695211564051401,0.22617636663488747,0.12695211564051401,0.22617636663488747,0.12695211564051401,0.22617636663488747,0.12695211564051401,0.22617636663488747,0.12695211564051401]
[84,{"$f":"Vstupy!F1476","v":0.24739824493214882},{"$f":"Vstupy!G1476","v":0.13167038373977191},0.24739824493214882,0.13167038373977191,0.24739824493214882,0.13167038373977191,0.24739824493214882,0.13167038373977191,0.24739824493214882,0.13167038373977191,0.24739824493214882,0.13167038373977191,0.24739824493214882,0.13167038373977191,0.24739824493214882,0.13167038373977191,0.24739824493214882,0.13167038373977191,0.24739824493214882,0.13167038373977191,0.24739824493214882,0.13167038373977191,0.24739824493214882,0.13167038373977191,0.24739824493214882,0.13167038373977191,0.24739824493214882,0.13167038373977191,0.24739824493214882,0.13167038373977191,0.24739824493214882,0.13167038373977191,0.24739824493214882,0.13167038373977191,0.24739824493214882,0.13167038373977191,0.24739824493214882,0.13167038373977191,0.24739824493214882,0.13167038373977191,0.24739824493214882,0.13167038373977191,0.24739824493214882,0.13167038373977191,0.24739824493214882,0.13167038373977191,0.24739824493214882,0.13167038373977191,0.24739824493214882,0.13167038373977191,0.24739824493214882,0.13167038373977191,0.24739824493214882,0.13167038373977191,0.24739824493214882,0.13167038373977191,0.24739824493214882,0.13167038373977191,0.24739824493214882,0.13167038373977191,0.24739824493214882,0.13167038373977191,0.24739824493214882,0.13167038373977191,0.24739824493214882,0.13167038373977191,0.24739824493214882,0.13167038373977191]
[85,{"$f":"Vstupy!F1477","v":0.27038760034371079},{"$f":"Vstupy!G1477","v":0.13642606257494005},0.27038760034371079,0.13642606257494005,0.27038760034371079,0.13642606257494005,0.27038760034371079,0.13642606257494005,0.27038760034371079,0.13642606257494005,0.27038760034371079,0.13642606257494005,0.27038760034371079,0.13642606257494005,0.27038760034371079,0.13642606257494005,0.27038760034371079,0.13642606257494005,0.27038760034371079,0.13642606257494005,0.27038760034371079,0.13642606257494005,0.27038760034371079,0.13642606257494005,0.27038760034371079,0.13642606257494005,0.27038760034371079,0.13642606257494005,0.27038760034371079,0.13642606257494005,0.27038760034371079,0.13642606257494005,0.27038760034371079,0.13642606257494005,0.27038760034371079,0.13642606257494005,0.27038760034371079,0.13642606257494005,0.27038760034371079,0.13642606257494005,0.27038760034371079,0.13642606257494005,0.27038760034371079,0.13642606257494005,0.27038760034371079,0.13642606257494005,0.27038760034371079,0.13642606257494005,0.27038760034371079,0.13642606257494005,0.27038760034371079,0.13642606257494005,0.27038760034371079,0.13642606257494005,0.27038760034371079,0.13642606257494005,0.27038760034371079,0.13642606257494005,0.27038760034371079,0.13642606257494005,0.27038760034371079,0.13642606257494005,0.27038760034371079,0.13642606257494005,0.27038760034371079,0.13642606257494005,0.27038760034371079,0.13642606257494005]
[86,{"$f":"Vstupy!F1478","v":0.29529163828211169},{"$f":"Vstupy!G1478","v":0.14121944877247805},0.29529163828211169,0.14121944877247805,0.29529163828211169,0.14121944877247805,{"$f":"F149","v":0.29529163828211169},{"$f":"G149","v":0.14121944877247805},{"$f":"H149","v":0.29529163828211169},{"$f":"I149","v":0.14121944877247805},{"$f":"J149","v":0.29529163828211169},{"$f":"K149","v":0.14121944877247805},{"$f":"L149","v":0.29529163828211169},{"$f":"M149","v":0.14121944877247805},{"$f":"N149","v":0.29529163828211169},{"$f":"O149","v":0.14121944877247805},{"$f":"P149","v":0.29529163828211169},{"$f":"Q149","v":0.14121944877247805},{"$f":"R149","v":0.29529163828211169},{"$f":"S149","v":0.14121944877247805},{"$f":"T149","v":0.29529163828211169},{"$f":"U149","v":0.14121944877247805},{"$f":"V149","v":0.29529163828211169},{"$f":"W149","v":0.14121944877247805},{"$f":"X149","v":0.29529163828211169},{"$f":"Y149","v":0.14121944877247805},{"$f":"Z149","v":0.29529163828211169},{"$f":"AA149","v":0.14121944877247805},{"$f":"AB149","v":0.29529163828211169},{"$f":"AC149","v":0.14121944877247805},{"$f":"AD149","v":0.29529163828211169},{"$f":"AE149","v":0.14121944877247805},{"$f":"AF149","v":0.29529163828211169},{"$f":"AG149","v":0.14121944877247805},{"$f":"AH149","v":0.29529163828211169},{"$f":"AI149","v":0.14121944877247805},{"$f":"AJ149","v":0.29529163828211169},{"$f":"AK149","v":0.14121944877247805},{"$f":"AL149","v":0.29529163828211169},{"$f":"AM149","v":0.14121944877247805},{"$f":"AN149","v":0.29529163828211169},{"$f":"AO149","v":0.14121944877247805},{"$f":"AP149","v":0.29529163828211169},{"$f":"AQ149","v":0.14121944877247805},{"$f":"AR149","v":0.29529163828211169},{"$f":"AS149","v":0.14121944877247805},{"$f":"AT149","v":0.29529163828211169},{"$f":"AU149","v":0.14121944877247805},{"$f":"AV149","v":0.29529163828211169},{"$f":"AW149","v":0.14121944877247805},{"$f":"AX149","v":0.29529163828211169},{"$f":"AY149","v":0.14121944877247805},{"$f":"AZ149","v":0.29529163828211169},{"$f":"BA149","v":0.14121944877247805},{"$f":"BB149","v":0.29529163828211169},{"$f":"BC149","v":0.14121944877247805},{"$f":"BD149","v":0.29529163828211169},{"$f":"BE149","v":0.14121944877247805},{"$f":"BF149","v":0.29529163828211169},{"$f":"BG149","v":0.14121944877247805},{"$f":"BH149","v":0.29529163828211169},{"$f":"BI149","v":0.14121944877247805},{"$f":"BJ149","v":0.29529163828211169},{"$f":"BK149","v":0.14121944877247805},{"$f":"BL149","v":0.29529163828211169},{"$f":"BM149","v":0.14121944877247805},{"$f":"BN149","v":0.29529163828211169},{"$f":"BO149","v":0.14121944877247805}]
[87,{"$f":"Vstupy!F1479","v":0.32226982425270989},{"$f":"Vstupy!G1479","v":0.14605084131077073},0.32226982425270989,0.14605084131077073,{"$f":"D150","v":0.32226982425270989},{"$f":"E150","v":0.14605084131077073},0.32226982425270989,0.14605084131077073,0.32226982425270989,0.14605084131077073,0.32226982425270989,0.14605084131077073,0.32226982425270989,0.14605084131077073,0.32226982425270989,0.14605084131077073,0.32226982425270989,0.14605084131077073,0.32226982425270989,0.14605084131077073,0.32226982425270989,0.14605084131077073,0.32226982425270989,0.14605084131077073,0.32226982425270989,0.14605084131077073,0.32226982425270989,0.14605084131077073,0.32226982425270989,0.14605084131077073,0.32226982425270989,0.14605084131077073,0.32226982425270989,0.14605084131077073,0.32226982425270989,0.14605084131077073,0.32226982425270989,0.14605084131077073,0.32226982425270989,0.14605084131077073,0.32226982425270989,0.14605084131077073,0.32226982425270989,0.14605084131077073,0.32226982425270989,0.14605084131077073,0.32226982425270989,0.14605084131077073,0.32226982425270989,0.14605084131077073,0.32226982425270989,0.14605084131077073,0.32226982425270989,0.14605084131077073,0.32226982425270989,0.14605084131077073,0.32226982425270989,0.14605084131077073,0.32226982425270989,0.14605084131077073,0.32226982425270989,0.14605084131077073,0.32226982425270989,0.14605084131077073,0.32226982425270989,0.14605084131077073,0.32226982425270989,0.14605084131077073]
[88,{"$f":"Vstupy!F1480","v":0.35149490494301561},{"$f":"Vstupy!G1480","v":0.15092054153877654},{"$f":"B151","v":0.35149490494301561},{"$f":"C151","v":0.15092054153877654},0.35149490494301561,0.15092054153877654,0.35149490494301561,0.15092054153877654,0.35149490494301561,0.15092054153877654,0.35149490494301561,0.15092054153877654,0.35149490494301561,0.15092054153877654,0.35149490494301561,0.15092054153877654,0.35149490494301561,0.15092054153877654,0.35149490494301561,0.15092054153877654,0.35149490494301561,0.15092054153877654,0.35149490494301561,0.15092054153877654,0.35149490494301561,0.15092054153877654,0.35149490494301561,0.15092054153877654,0.35149490494301561,0.15092054153877654,0.35149490494301561,0.15092054153877654,0.35149490494301561,0.15092054153877654,0.35149490494301561,0.15092054153877654,0.35149490494301561,0.15092054153877654,0.35149490494301561,0.15092054153877654,0.35149490494301561,0.15092054153877654,0.35149490494301561,0.15092054153877654,0.35149490494301561,0.15092054153877654,0.35149490494301561,0.15092054153877654,0.35149490494301561,0.15092054153877654,0.35149490494301561,0.15092054153877654,0.35149490494301561,0.15092054153877654,0.35149490494301561,0.15092054153877654,0.35149490494301561,0.15092054153877654,0.35149490494301561,0.15092054153877654,0.35149490494301561,0.15092054153877654,0.35149490494301561,0.15092054153877654,0.35149490494301561,0.15092054153877654,0.35149490494301561,0.15092054153877654]
[89,{"$f":"Vstupy!F1481","v":0.38315401435406693},{"$f":"Vstupy!G1481","v":0.15582885319482309},0.38315401435406693,0.15582885319482309,0.38315401435406693,0.15582885319482309,0.38315401435406693,0.15582885319482309,0.38315401435406693,0.15582885319482309,0.38315401435406693,0.15582885319482309,0.38315401435406693,0.15582885319482309,0.38315401435406693,0.15582885319482309,0.38315401435406693,0.15582885319482309,0.38315401435406693,0.15582885319482309,0.38315401435406693,0.15582885319482309,0.38315401435406693,0.15582885319482309,0.38315401435406693,0.15582885319482309,0.38315401435406693,0.15582885319482309,0.38315401435406693,0.15582885319482309,0.38315401435406693,0.15582885319482309,0.38315401435406693,0.15582885319482309,0.38315401435406693,0.15582885319482309,0.38315401435406693,0.15582885319482309,0.38315401435406693,0.15582885319482309,0.38315401435406693,0.15582885319482309,0.38315401435406693,0.15582885319482309,0.38315401435406693,0.15582885319482309,0.38315401435406693,0.15582885319482309,0.38315401435406693,0.15582885319482309,0.38315401435406693,0.15582885319482309,0.38315401435406693,0.15582885319482309,0.38315401435406693,0.15582885319482309,0.38315401435406693,0.15582885319482309,0.38315401435406693,0.15582885319482309,0.38315401435406693,0.15582885319482309,0.38315401435406693,0.15582885319482309,0.38315401435406693,0.15582885319482309,0.38315401435406693,0.15582885319482309]
[90,{"$f":"Vstupy!F1482","v":0.41744987205663991},{"$f":"Vstupy!G1482","v":0.1607760824255533},0.41744987205663991,0.1607760824255533,0.41744987205663991,0.1607760824255533,0.41744987205663991,0.1607760824255533,0.41744987205663991,0.1607760824255533,0.41744987205663991,0.1607760824255533,0.41744987205663991,0.1607760824255533,0.41744987205663991,0.1607760824255533,0.41744987205663991,0.1607760824255533,0.41744987205663991,0.1607760824255533,0.41744987205663991,0.1607760824255533,0.41744987205663991,0.1607760824255533,0.41744987205663991,0.1607760824255533,0.41744987205663991,0.1607760824255533,0.41744987205663991,0.1607760824255533,0.41744987205663991,0.1607760824255533,0.41744987205663991,0.1607760824255533,0.41744987205663991,0.1607760824255533,0.41744987205663991,0.1607760824255533,0.41744987205663991,0.1607760824255533,0.41744987205663991,0.1607760824255533,0.41744987205663991,0.1607760824255533,0.41744987205663991,0.1607760824255533,0.41744987205663991,0.1607760824255533,0.41744987205663991,0.1607760824255533,0.41744987205663991,0.1607760824255533,0.41744987205663991,0.1607760824255533,0.41744987205663991,0.1607760824255533,0.41744987205663991,0.1607760824255533,0.41744987205663991,0.1607760824255533,0.41744987205663991,0.1607760824255533,0.41744987205663991,0.1607760824255533,0.41744987205663991,0.1607760824255533,0.41744987205663991,0.1607760824255533]
[91,{"$f":"Vstupy!F1483","v":0.45460208124495444},{"$f":"Vstupy!G1483","v":0.16576253780501959},0.45460208124495444,0.16576253780501959,0.45460208124495444,0.16576253780501959,0.45460208124495444,0.16576253780501959,0.45460208124495444,0.16576253780501959,0.45460208124495444,0.16576253780501959,0.45460208124495444,0.16576253780501959,0.45460208124495444,0.16576253780501959,0.45460208124495444,0.16576253780501959,0.45460208124495444,0.16576253780501959,0.45460208124495444,0.16576253780501959,0.45460208124495444,0.16576253780501959,0.45460208124495444,0.16576253780501959,0.45460208124495444,0.16576253780501959,0.45460208124495444,0.16576253780501959,0.45460208124495444,0.16576253780501959,0.45460208124495444,0.16576253780501959,0.45460208124495444,0.16576253780501959,0.45460208124495444,0.16576253780501959,0.45460208124495444,0.16576253780501959,0.45460208124495444,0.16576253780501959,0.45460208124495444,0.16576253780501959,0.45460208124495444,0.16576253780501959,0.45460208124495444,0.16576253780501959,0.45460208124495444,0.16576253780501959,0.45460208124495444,0.16576253780501959,0.45460208124495444,0.16576253780501959,0.45460208124495444,0.16576253780501959,0.45460208124495444,0.16576253780501959,0.45460208124495444,0.16576253780501959,0.45460208124495444,0.16576253780501959,0.45460208124495444,0.16576253780501959,0.45460208124495444,0.16576253780501959,0.45460208124495444,0.16576253780501959]
[92,{"$f":"Vstupy!F1484","v":0.49484853489958164},{"$f":"Vstupy!G1484","v":0.17078853035393138},0.49484853489958164,0.17078853035393138,0.49484853489958164,0.17078853035393138,0.49484853489958164,0.17078853035393138,0.49484853489958164,0.17078853035393138,0.49484853489958164,0.17078853035393138,0.49484853489958164,0.17078853035393138,0.49484853489958164,0.17078853035393138,0.49484853489958164,0.17078853035393138,0.49484853489958164,0.17078853035393138,0.49484853489958164,0.17078853035393138,0.49484853489958164,0.17078853035393138,0.49484853489958164,0.17078853035393138,0.49484853489958164,0.17078853035393138,0.49484853489958164,0.17078853035393138,0.49484853489958164,0.17078853035393138,0.49484853489958164,0.17078853035393138,0.49484853489958164,0.17078853035393138,0.49484853489958164,0.17078853035393138,0.49484853489958164,0.17078853035393138,0.49484853489958164,0.17078853035393138,0.49484853489958164,0.17078853035393138,0.49484853489958164,0.17078853035393138,0.49484853489958164,0.17078853035393138,0.49484853489958164,0.17078853035393138,0.49484853489958164,0.17078853035393138,0.49484853489958164,0.17078853035393138,0.49484853489958164,0.17078853035393138,0.49484853489958164,0.17078853035393138,0.49484853489958164,0.17078853035393138,0.49484853489958164,0.17078853035393138,0.49484853489958164,0.17078853035393138,0.49484853489958164,0.17078853035393138,0.49484853489958164,0.17078853035393138]
[93,{"$f":"Vstupy!F1485","v":0.53844693906348629},{"$f":"Vstupy!G1485","v":0.17585437355905431},0.53844693906348629,0.17585437355905431,0.53844693906348629,0.17585437355905431,0.53844693906348629,0.17585437355905431,0.53844693906348629,0.17585437355905431,0.53844693906348629,0.17585437355905431,0.53844693906348629,0.17585437355905431,0.53844693906348629,0.17585437355905431,0.53844693906348629,0.17585437355905431,0.53844693906348629,0.17585437355905431,0.53844693906348629,0.17585437355905431,0.53844693906348629,0.17585437355905431,0.53844693906348629,0.17585437355905431,0.53844693906348629,0.17585437355905431,0.53844693906348629,0.17585437355905431,0.53844693906348629,0.17585437355905431,0.53844693906348629,0.17585437355905431,0.53844693906348629,0.17585437355905431,0.53844693906348629,0.17585437355905431,0.53844693906348629,0.17585437355905431,0.53844693906348629,0.17585437355905431,0.53844693906348629,0.17585437355905431,0.53844693906348629,0.17585437355905431,0.53844693906348629,0.17585437355905431,0.53844693906348629,0.17585437355905431,0.53844693906348629,0.17585437355905431,0.53844693906348629,0.17585437355905431,0.53844693906348629,0.17585437355905431,0.53844693906348629,0.17585437355905431,0.53844693906348629,0.17585437355905431,0.53844693906348629,0.17585437355905431,0.53844693906348629,0.17585437355905431,0.53844693906348629,0.17585437355905431,0.53844693906348629,0.17585437355905431]
[94,{"$f":"Vstupy!F1486","v":1},{"$f":"Vstupy!G1486","v":1},1,1,1,1,1,1,1,1,1,1,1,1,1,1,1,1,1,1,1,1,1,1,1,1,1,1,1,1,1,1,1,1,1,1,1,1,1,1,1,1,1,1,1,1,1,1,1,1,1,1,1,1,1,1,1,1,1,1,1,1,1,1,1,1,1,1]
[]
[]
["Očekávaná věková struktura"]
["hraniční věk"]
["muži",{"$f":"Vstupy!F1407","v":56}]
["ženy",{"$f":"Vstupy!F1408","v":53}]
["Věk",2017,null,null,null,null,null,{"$f":"B164+1","v":2018},null,null,null,null,null,{"$f":"H164+1","v":2019},null,null,null,null,null,{"$f":"N164+1","v":2020},null,null,null,null,null,{"$f":"T164+1","v":2021},null,null,null,null,null,{"$f":"Z164+1","v":2022},null,null,null,null,null,{"$f":"AF164+1","v":2023},null,null,null,null,null,{"$f":"AL164+1","v":2024},null,null,null,null,null,{"$f":"AR164+1","v":2025},null,null,null,null,null,{"$f":"AX164+1","v":2026},null,null,null,null,null,{"$f":"BD164+1","v":2027},null,null,null,null,null,{"$f":"BJ164+1","v":2028},null,null,null,null,null,{"$f":"BP164+1","v":2029},null,null,null,null,null,{"$f":"BV164+1","v":2030},null,null,null,null,null,{"$f":"CB164+1","v":2031},null,null,null,null,null,{"$f":"CH164+1","v":2032},null,null,null,null,null,{"$f":"CN164+1","v":2033},null,null,null,null,null,{"$f":"CT164+1","v":2034},null,null,null,null,null,{"$f":"CZ164+1","v":2035},null,null,null,null,null,{"$f":"DF164+1","v":2036},null,null,null,null,null,{"$f":"DL164+1","v":2037},null,null,null,null,null,{"$f":"DR164+1","v":2038},null,null,null,null,null,{"$f":"DX164+1","v":2039},null,null,null,null,null,{"$f":"ED164+1","v":2040},null,null,null,null,null,{"$f":"EJ164+1","v":2041},null,null,null,null,null,{"$f":"EP164+1","v":2042},null,null,null,null,null,{"$f":"EV164+1","v":2043},null,null,null,null,null,{"$f":"FB164+1","v":2044},null,null,null,null,null,{"$f":"FH164+1","v":2045},null,null,null,null,null,{"$f":"FN164+1","v":2046},null,null,null,null,null,{"$f":"FT164+1","v":2047},null,null,null,null,null,{"$f":"FZ164+1","v":2048},null,null,null,null,null,{"$f":"GF164+1","v":2049},null,null,null,null,null,{"$f":"GL164+1","v":2050}]
[null,"Počet lékařů 1.1.",null,"Nově příchozí",null,"Odchozí",null,"Počet lékařů 1.1.",null,"Nově příchozí",null,"Odchozí",null,"Počet lékařů 1.1.",null,"Nově příchozí",null,"Odchozí",null,"Počet lékařů 1.1.",null,"Nově příchozí",null,"Odchozí",null,"Počet lékařů 1.1.",null,"Nově příchozí",null,"Odchozí",null,"Počet lékařů 1.1.",null,"Nově příchozí",null,"Odchozí",null,"Počet lékařů 1.1.",null,"Nově příchozí",null,"Odchozí",null,"Počet lékařů 1.1.",null,"Nově příchozí",null,"Odchozí",null,"Počet lékařů 1.1.",null,"Nově příchozí",null,"Odchozí",null,"Počet lékařů 1.1.",null,"Nově příchozí",null,"Odchozí",null,"Počet lékařů 1.1.",null,"Nově příchozí",null,"Odchozí",null,"Počet lékařů 1.1.",null,"Nově příchozí",null,"Odchozí",null,"Počet lékařů 1.1.",null,"Nově příchozí",null,"Odchozí",null,"Počet lékařů 1.1.",null,"Nově příchozí",null,"Odchozí",null,"Počet lékařů 1.1.",null,"Nově příchozí",null,"Odchozí",null,"Počet lékařů 1.1.",null,"Nově příchozí",null,"Odchozí",null,"Počet lékařů 1.1.",null,"Nově příchozí",null,"Odchozí",null,"Počet lékařů 1.1.",null,"Nově příchozí",null,"Odchozí",null,"Počet lékařů 1.1.",null,"Nově příchozí",null,"Odchozí",null,"Počet lékařů 1.1.",null,"Nově příchozí",null,"Odchozí",null,"Počet lékařů 1.1.",null,"Nově příchozí",null,"Odchozí",null,"Počet lékařů 1.1.",null,"Nově příchozí",null,"Odchozí",null,"Počet lékařů 1.1.",null,"Nově příchozí",null,"Odchozí",null,"Počet lékařů 1.1.",null,"Nově příchozí",null,"Odchozí",null,"Počet lékařů 1.1.",null,"Nově příchozí",null,"Odchozí",null,"Počet lékařů 1.1.",null,"Nově příchozí",null,"Odchozí",null,"Počet lékařů 1.1.",null,"Nově příchozí",null,"Odchozí",null,"Počet lékařů 1.1.",null,"Nově příchozí",null,"Odchozí",null,"Počet lékařů 1.1.",null,"Nově příchozí",null,"Odchozí",null,"Počet lékařů 1.1.",null,"Nově příchozí",null,"Odchozí",null,"Počet lékařů 1.1.",null,"Nově příchozí",null,"Odchozí",null,"Počet lékařů 1.1.",null,"Nově příchozí",null,"Odchozí",null,"Počet lékařů 1.1.",null,"Nově příchozí",null,"Odchozí",null,"Počet lékařů 1.1."]
[null,"Muži","Ženy","Muži","Ženy","Muži","Ženy","Muži","Ženy","Muži","Ženy","Muži","Ženy","Muži","Ženy","Muži","Ženy","Muži","Ženy","Muži","Ženy","Muži","Ženy","Muži","Ženy","Muži","Ženy","Muži","Ženy","Muži","Ženy","Muži","Ženy","Muži","Ženy","Muži","Ženy","Muži","Ženy","Muži","Ženy","Muži","Ženy","Muži","Ženy","Muži","Ženy","Muži","Ženy","Muži","Ženy","Muži","Ženy","Muži","Ženy","Muži","Ženy","Muži","Ženy","Muži","Ženy","Muži","Ženy","Muži","Ženy","Muži","Ženy","Muži","Ženy","Muži","Ženy","Muži","Ženy","Muži","Ženy","Muži","Ženy","Muži","Ženy","Muži","Ženy","Muži","Ženy","Muži","Ženy","Muži","Ženy","Muži","Ženy","Muži","Ženy","Muži","Ženy","Muži","Ženy","Muži","Ženy","Muži","Ženy","Muži","Ženy","Muži","Ženy","Muži","Ženy","Muži","Ženy","Muži","Ženy","Muži","Ženy","Muži","Ženy","Muži","Ženy","Muži","Ženy","Muži","Ženy","Muži","Ženy","Muži","Ženy","Muži","Ženy","Muži","Ženy","Muži","Ženy","Muži","Ženy","Muži","Ženy","Muži","Ženy","Muži","Ženy","Muži","Ženy","Muži","Ženy","Muži","Ženy","Muži","Ženy","Muži","Ženy","Muži","Ženy","Muži","Ženy","Muži","Ženy","Muži","Ženy","Muži","Ženy","Muži","Ženy","Muži","Ženy","Muži","Ženy","Muži","Ženy","Muži","Ženy","Muži","Ženy","Muži","Ženy","Muži","Ženy","Muži","Ženy","Muži","Ženy","Muži","Ženy","Muži","Ženy","Muži","Ženy","Muži","Ženy","Muži","Ženy","Muži","Ženy","Muži","Ženy","Muži","Ženy","Muži","Ženy","Muži","Ženy","Muži","Ženy","Muži","Ženy"]
["Celkem",{"$f":"B168+C168","v":637},null,{"$f":"D168+E168","v":18.399999999999999},null,{"$f":"F168+G168","v":14.1890282416639},null,{"$f":"H168+I168","v":641.21097175833609},null,{"$f":"J168+K168","v":18.399999999999999},null,{"$f":"L168+M168","v":14.864202877526703},null,{"$f":"N168+O168","v":644.74676888080944},null,{"$f":"P168+Q168","v":18.399999999999999},null,{"$f":"R168+S168","v":15.482530675685275},null,{"$f":"T168+U168","v":647.66423820512387},null,{"$f":"V168+W168","v":18.399999999999999},null,{"$f":"X168+Y168","v":16.047458637247153},null,{"$f":"Z168+AA168","v":650.01677956787705},null,{"$f":"AB168+AC168","v":18.399999999999999},null,{"$f":"AD168+AE168","v":16.553453659440756},null,{"$f":"AF168+AG168","v":651.86332590843631},null,{"$f":"AH168+AI168","v":18.399999999999999},null,{"$f":"AJ168+AK168","v":17.005232776396408},null,{"$f":"AL168+AM168","v":653.2580931320399},null,{"$f":"AN168+AO168","v":18.399999999999999},null,{"$f":"AP168+AQ168","v":17.398823235982043},null,{"$f":"AR168+AS168","v":654.25926989605773},null,{"$f":"AT168+AU168","v":18.399999999999999},null,{"$f":"AV168+AW168","v":17.720531569305692},null,{"$f":"AX168+AY168","v":654.93873832675217},null,{"$f":"AZ168+BA168","v":18.399999999999999},null,{"$f":"BB168+BC168","v":17.986490110612703},null,{"$f":"BD168+BE168","v":655.35224821613929},null,{"$f":"BF168+BG168","v":18.399999999999999},null,{"$f":"BH168+BI168","v":18.201181149967084},null,{"$f":"BJ168+BK168","v":655.55106706617244},null,{"$f":"BL168+BM168","v":18.399999999999999},null,{"$f":"BN168+BO168","v":18.371758162036819},null,{"$f":"BP168+BQ168","v":655.57930890413547},null,{"$f":"BR168+BS168","v":18.399999999999999},null,{"$f":"BT168+BU168","v":18.47079489625408},null,{"$f":"BV168+BW168","v":655.50851400788133},null,{"$f":"BX168+BY168","v":18.399999999999999},null,{"$f":"BZ168+CA168","v":18.530545740921593},null,{"$f":"CB168+CC168","v":655.37796826695967},null,{"$f":"CD168+CE168","v":18.399999999999999},null,{"$f":"CF168+CG168","v":18.523386723383865},null,{"$f":"CH168+CI168","v":655.2545815435758},null,{"$f":"CJ168+CK168","v":18.399999999999999},null,{"$f":"CL168+CM168","v":18.636751722834557},null,{"$f":"CN168+CO168","v":655.01782982074133},null,{"$f":"CP168+CQ168","v":18.399999999999999},null,{"$f":"CR168+CS168","v":18.373179961206752},null,{"$f":"CT168+CU168","v":655.0446498595345},null,{"$f":"CV168+CW168","v":18.399999999999999},null,{"$f":"CX168+CY168","v":18.199463791863543},null,{"$f":"CZ168+DA168","v":655.24518606767128},null,{"$f":"DB168+DC168","v":18.399999999999999},null,{"$f":"DD168+DE168","v":18.062378870526764},null,{"$f":"DF168+DG168","v":655.58280719714435},null,{"$f":"DH168+DI168","v":18.399999999999999},null,{"$f":"DJ168+DK168","v":17.816283021228848},null,{"$f":"DL168+DM168","v":656.16652417591547},null,{"$f":"DN168+DO168","v":18.399999999999999},null,{"$f":"DP168+DQ168","v":17.670914515497767},null,{"$f":"DR168+DS168","v":656.89560966041768},null,{"$f":"DT168+DU168","v":18.399999999999999},null,{"$f":"DV168+DW168","v":17.3494854453551},null,{"$f":"DX168+DY168","v":657.94612421506258},null,{"$f":"DZ168+EA168","v":18.399999999999999},null,{"$f":"EB168+EC168","v":17.257095263767305},null,{"$f":"ED168+EE168","v":659.08902895129518},null,{"$f":"EF168+EG168","v":18.399999999999999},null,{"$f":"EH168+EI168","v":16.901097539638744},null,{"$f":"EJ168+EK168","v":660.58793141165654},null,{"$f":"EL168+EM168","v":18.399999999999999},null,{"$f":"EN168+EO168","v":16.81663572609602},null,{"$f":"EP168+EQ168","v":662.17129568556049},null,{"$f":"ER168+ES168","v":18.399999999999999},null,{"$f":"ET168+EU168","v":16.698037093122661},null,{"$f":"EV168+EW168","v":663.87325859243788},null,{"$f":"EX168+EY168","v":18.399999999999999},null,{"$f":"EZ168+FA168","v":16.574504659746779},null,{"$f":"FB168+FC168","v":665.69875393269103},null,{"$f":"FD168+FE168","v":18.399999999999999},null,{"$f":"FF168+FG168","v":16.495362024963761},null,{"$f":"FH168+FI168","v":667.60339190772731},null,{"$f":"FJ168+FK168","v":18.399999999999999},null,{"$f":"FL168+FM168","v":16.481800870834618},null,{"$f":"FN168+FO168","v":669.52159103689269},null,{"$f":"FP168+FQ168","v":18.399999999999999},null,{"$f":"FR168+FS168","v":16.444671972351784},null,{"$f":"FT168+FU168","v":671.47691906454099},null,{"$f":"FV168+FW168","v":18.399999999999999},null,{"$f":"FX168+FY168","v":16.636302747705965},null,{"$f":"FZ168+GA168","v":673.24061631683514},null,{"$f":"GB168+GC168","v":18.399999999999999},null,{"$f":"GD168+GE168","v":16.605235994045689},null,{"$f":"GF168+GG168","v":675.03538032278936},null,{"$f":"GH168+GI168","v":18.399999999999999},null,{"$f":"GJ168+GK168","v":16.7375451234685},null,{"$f":"GL168+GM168","v":676.69783519932082},null,{"$f":"GN168+GO168","v":18.399999999999999},null,{"$f":"GP168+GQ168","v":16.948769837357553},null,{"$f":"GR168+GS168","v":678.14906536196315}]
["Suma",{"$f":"SUM(B173:B244)","v":231},{"$f":"SUM(C173:C244)","v":406},{"$f":"B4","v":5.8},{"$f":"B5","v":12.6},{"$f":"SUM(F173:F244)","v":5.6209385835963221},{"$f":"SUM(G173:G244)","v":8.5680896580675778},{"$f":"SUM(H173:H244)","v":231.17906141640375},{"$f":"SUM(I173:I244)","v":410.03191034193236},{"$f":"C4","v":5.8},{"$f":"C5","v":12.6},{"$f":"SUM(L173:L244)","v":5.92765961376608},{"$f":"SUM(M173:M244)","v":8.9365432637606226},{"$f":"SUM(N173:N244)","v":231.05140180263757},413.69536707817184,{"$f":"D4","v":5.8},{"$f":"D5","v":12.6},{"$f":"SUM(R173:R244)","v":6.2188189842103689},9.2637116914749065,230.63258281842721,417.03165538669668,{"$f":"E4","v":5.8},{"$f":"E5","v":12.6},{"$f":"SUM(X173:X244)","v":6.4904768283341712},9.5569818089129814,229.94210599009304,420.07467357778404,{"$f":"F4","v":5.8},{"$f":"F5","v":12.6},{"$f":"SUM(AD173:AD244)","v":6.739246846718987},9.8142068127217676,229.00285914337397,422.86046676506231,{"$f":"G4","v":5.8},{"$f":"G5","v":12.6},{"$f":"SUM(AJ173:AJ244)","v":6.9650676009549937},10.040165175441414,227.83779154241904,425.42030158962081,{"$f":"H4","v":5.8},{"$f":"H5","v":12.6},{"$f":"SUM(AP173:AP244)","v":7.1573728002226007},10.241450435759441,226.48041874219649,427.77885115386124,{"$f":"I4","v":5.8},{"$f":"I5","v":12.6},{"$f":"SUM(AV173:AV244)","v":7.3115245236276003},10.409007045678093,224.96889421856889,429.96984410818322,{"$f":"J4","v":5.8},{"$f":"J5","v":12.6},{"$f":"SUM(BB173:BB244)","v":7.4270299929161467},10.559460117696556,223.34186422565264,432.01038399048662,{"$f":"K4","v":5.8},{"$f":"K5","v":12.6},{"$f":"SUM(BH173:BH244)","v":7.5037462001926531},10.697434949774433,221.63811802546013,433.91294904071225,{"$f":"L4","v":5.8},{"$f":"L5","v":12.6},{"$f":"SUM(BN173:BN244)","v":7.5434498938504584},10.828308268186362,219.89466813160956,435.68464077252594,{"$f":"M4","v":5.8},{"$f":"M5","v":12.6},{"$f":"SUM(BT173:BT244)","v":7.5224058407065595},10.948389055547521,218.17226229090301,437.33625171697827,{"$f":"N4","v":5.8},{"$f":"N5","v":12.6},{"$f":"SUM(BZ173:BZ244)","v":7.4778364396390256},11.052709301282567,216.49442585126394,438.88354241569567,{"$f":"O4","v":5.8},{"$f":"O5","v":12.6},{"$f":"SUM(CF173:CF244)","v":7.3924405033375065},11.13094622004636,214.90198534792646,440.35259619564937,{"$f":"P4","v":5.8},{"$f":"P5","v":12.6},{"$f":"SUM(CL173:CL244)","v":7.2691387766819364},11.367612946152621,213.4328465712446,441.5849832494967,{"$f":"Q4","v":5.8},{"$f":"Q5","v":12.6},{"$f":"SUM(CR173:CR244)","v":7.112324371553381},11.260855589653373,212.12052219969121,442.92412765984329,{"$f":"R4","v":5.8},{"$f":"R5","v":12.6},{"$f":"SUM(CX173:CX244)","v":6.933826737161465},11.265637054702077,210.98669546252984,444.25849060514139,{"$f":"S4","v":5.8},{"$f":"S5","v":12.6},{"$f":"SUM(DD173:DD244)","v":6.7335546803221886},11.328824190204577,210.05314078220761,445.52966641493674,{"$f":"T4","v":5.8},{"$f":"T5","v":12.6},{"$f":"SUM(DJ173:DJ244)","v":6.5185324722413824},11.297750548987466,209.33460830996614,446.83191586594933,{"$f":"U4","v":5.8},{"$f":"U5","v":12.6},{"$f":"SUM(DP173:DP244)","v":6.2901850165961433},11.380729498901625,208.84442329336997,448.05118636704765,{"$f":"V4","v":5.8},{"$f":"V5","v":12.6},{"$f":"SUM(DV173:DV244)","v":6.0622026500295068},11.287282795325595,208.58222064334041,449.36390357172212,{"$f":"W4","v":5.8},{"$f":"W5","v":12.6},{"$f":"SUM(EB173:EB244)","v":5.838140977266864},11.418954286500439,208.54407966607357,450.54494928522161,{"$f":"X4","v":5.8},{"$f":"X5","v":12.6},{"$f":"SUM(EH173:EH244)","v":5.6310664624739069},11.270031077164838,208.71301320359973,451.87491820805684,{"$f":"Y4","v":5.8},{"$f":"Y5","v":12.6},{"$f":"SUM(EN173:EN244)","v":5.4414115598496497},11.375224166246371,209.07160164375003,453.09969404181044,{"$f":"AA4","v":5.8},{"$f":"AA5","v":12.6},{"$f":"SUM(ET173:ET244)","v":5.2738539876379713},11.424183105484689,209.59774765611215,454.27551093632576,{"$f":"AB4","v":5.8},{"$f":"AB5","v":12.6},{"$f":"SUM(EZ173:EZ244)","v":5.1373865502702856},11.437118109476495,210.26036110584178,455.43839282684922,{"$f":"AC4","v":5.8},{"$f":"AC5","v":12.6},{"$f":"SUM(FF173:FF244)","v":5.0321139943772888},11.46324803058647,211.02824711146462,456.57514479626269,{"$f":"AD4","v":5.8},{"$f":"AD5","v":12.6},{"$f":"SUM(FL173:FL244)","v":4.9547199855528579},11.527080885281761,211.87352712591166,457.64806391098102,{"$f":"AE4","v":5.8},{"$f":"AE5","v":12.6},{"$f":"SUM(FR173:FR244)","v":4.9129082216028142},11.53176375074897,212.7606189043089,458.71630016023209,{"$f":"AF4","v":5.8},{"$f":"AF5","v":12.6},{"$f":"SUM(FX173:FX244)","v":4.8918973742308411},11.744405373475123,213.66872153007805,459.57189478675707,{"$f":"AG4","v":5.8},{"$f":"AG5","v":12.6},{"$f":"SUM(GD173:GD244)","v":4.8980160807272357},11.707219913318452,214.57070544935087,460.46467487343847,{"$f":"AH4","v":5.8},{"$f":"AH5","v":12.6},{"$f":"SUM(GJ173:GJ244)","v":4.916597750469144},11.820947372999358,215.45410769888176,461.24372750043904,{"$f":"AI4","v":5.8},{"$f":"AI5","v":12.6},{"$f":"SUM(GP173:GP244)","v":4.9542478158764638},11.994522021481089,216.29985988300521,461.84920547895791]
["23–39",{"$f":"SUM(B173:B189)","v":24},{"$f":"SUM(C173:C189)","v":60},4.0465116279069768,9.7187203791469194,{"$f":"SUM(F173:F189)","v":0},{"$f":"SUM(G173:G189)","v":0},25.853820598006642,66.106635071090039,4.0465116279069768,9.7187203791469194,0,0,28.514950166112953,65.466824644549774,4.0465116279069768,9.7187203791469194,0,0,29.964119601328903,67.39407582938388,4.0465116279069768,9.7187203791469194,0,0,32.16279069767441,70.365876777251188,4.0465116279069768,9.7187203791469194,0,0,31.226578073089698,72.621090047393366,4.0465116279069768,9.7187203791469194,0,0,31.982059800664452,70.189573459715632,4.0465116279069768,9.7187203791469194,0,0,33.294352159468438,69.101184834123217,4.0465116279069768,9.7187203791469194,0,0,31.259800664451824,63.311137440758301,4.0465116279069768,9.7187203791469194,0,0,29.82059800664452,63.864218009478662,4.0465116279069768,9.7187203791469194,0,0,29.861129568106307,63.6260663507109,4.0465116279069768,9.7187203791469194,0,{"$f":"SUM(BO173:BO189)","v":0},27.55481727574751,64.805687203791464,4.0465116279069768,9.7187203791469194,0,0,28.075083056478405,63.373222748815166,4.0465116279069768,9.7187203791469194,0,0,28.344850498338868,64.134597156398101,4.0465116279069768,9.7187203791469194,0,0,28.402657807308969,64.373459715639811,4.0465116279069768,9.7187203791469194,0,0,28.402657807308969,64.388388625592412,4.0465116279069768,9.7187203791469194,0,0,28.402657807308969,64.388388625592412,4.0465116279069768,9.7187203791469194,0,0,28.402657807308969,64.388388625592412,4.0465116279069768,9.7187203791469194,0,0,28.402657807308969,64.388388625592412,4.0465116279069768,9.7187203791469194,0,0,28.402657807308969,64.388388625592412,4.0465116279069768,9.7187203791469194,0,0,28.402657807308969,64.388388625592412,4.0465116279069768,9.7187203791469194,0,0,28.402657807308969,64.388388625592412,4.0465116279069768,{"$f":"SUM(EA173:EA189)","v":9.7187203791469194},0,0,28.402657807308969,64.388388625592412,4.0465116279069768,9.7187203791469194,0,0,28.402657807308969,64.388388625592412,4.0465116279069768,9.7187203791469194,0,0,28.402657807308969,64.388388625592412,4.0465116279069768,9.7187203791469194,0,0,28.402657807308969,64.388388625592412,4.0465116279069768,9.7187203791469194,0,0,28.402657807308969,64.388388625592412,4.0465116279069768,9.7187203791469194,0,0,28.402657807308969,64.388388625592412,4.0465116279069768,9.7187203791469194,0,0,28.402657807308969,64.388388625592412,4.0465116279069768,9.7187203791469194,0,0,28.402657807308969,64.388388625592412,4.0465116279069768,9.7187203791469194,0,0,28.402657807308969,64.388388625592412,4.0465116279069768,9.7187203791469194,0,0,28.402657807308969,64.388388625592412,4.0465116279069768,9.7187203791469194,0,0,28.402657807308969,{"$f":"SUM(GM173:GM189)","v":64.388388625592412},4.0465116279069768,9.7187203791469194,0,0,28.402657807308969,64.388388625592412]
["40–64",{"$f":"SUM(B190:B214)","v":142},{"$f":"SUM(C190:C214)","v":274},1.7534883720930234,2.8812796208530806,1.1715024884844814,3.5832735991596021,131.15406249811565,267.35044277553419,1.7534883720930234,2.8812796208530806,0.99369348956567571,3.5741811975580529,124.74289408003096,265.08570843707497,1.7534883720930234,2.8812796208530806,0.94308563885860719,3.4256345109262778,119.75565702974752,255.52401641379043,1.7534883720930234,2.8812796208530806,0.88172484427400977,3.0219064113633354,109.61499536066907,249.28541730862119,1.7534883720930234,2.8812796208530806,0.66233192960694842,2.7804620564202605,109.33485785039619,244.3659044897116,1.7534883720930234,2.8812796208530806,0.61861063348433865,2.5430631940327779,107.4621912235244,243.86058305661425,1.7534883720930234,2.8812796208530806,0.56390845315264937,2.2768832722110437,104.22975650675387,250.49849532769232,1.7534883720930234,2.8812796208530806,0.46833985266679434,2.3933620430801978,108.92097407599822,252.41054926532897,1.7534883720930234,2.8812796208530806,0.50097755664295029,2.080288982676743,111.22142240372217,255.42414421268532,1.7534883720930234,2.8812796208530806,0.48388923769070602,2.1156681127623171,112.11073066191227,260.78681721624838,1.7534883720930234,2.8812796208530806,0.46524551788069635,{"$f":"SUM(BO190:BO214)","v":2.2510293363093012},115.22817761164504,263.86217279422755,1.7534883720930234,2.8812796208530806,0.43992827430868298,2.3710290875252991,117.30917846248099,268.56387949020836,1.7534883720930234,2.8812796208530806,0.47469575287917709,2.4600407448914212,116.11061793289713,273.24202639453148,1.7534883720930234,2.8812796208530806,0.40487060019746607,2.6536870587335901,118.74064076038806,275.97839216796461,1.7534883720930234,2.8812796208530806,0.43822115733519246,2.7342362474913182,122.16593173832531,278.06340705639434,1.7534883720930234,2.8812796208530806,0.50505197526507661,2.771211459291262,124.56472578684783,282.37431043412278,1.7534883720930234,2.8812796208530806,0.55263743643311591,2.920710562371664,124.99660215123261,280.41630662404475,1.7534883720930234,2.8812796208530806,0.54609752731663519,2.7761228917965579,126.11998677204291,285.28991517237273,1.7534883720930234,2.8812796208530806,0.55710677029648903,2.9409116582617707,128.9113338291892,284.5832147180721,1.7534883720930234,2.8812796208530806,0.61922344357887882,2.8533144223031557,127.1341000300657,284.49766029147031,1.7534883720930234,2.8812796208530806,0.54370694736962522,2.7982277505870528,127.04267996542336,282.00349494013005,1.7534883720930234,{"$f":"SUM(EA190:EA214)","v":2.8812796208530806},0.50808538632439071,2.6368819037921245,129.591182032105,281.71420335854378,1.7534883720930234,2.8812796208530806,0.5539524777094863,2.5845415245262142,129.24915589346901,281.11386216833546,1.7534883720930234,2.8812796208530806,0.51554939449855897,2.5168075894766009,129.69917562639688,284.75915825606711,1.7534883720930234,2.8812796208530806,0.49763003233200331,2.6517558075410497,129.87524834705451,287.95153988633234,1.7534883720930234,2.8812796208530806,0.47511367597934728,2.7807520485503456,131.68413466233676,292.83133445611742,1.7534883720930234,2.8812796208530806,0.50575673669935228,3.0073925349056112,134.18168348473003,292.35268647845112,1.7534883720930234,2.8812796208530806,0.56734135053632184,2.9947232037089861,135.53780130997458,293.83938825796872,1.7534883720930234,2.8812796208530806,0.60757237782341633,3.0746161932075302,137.5214878449801,296.04075214055223,1.7534883720930234,2.8812796208530806,0.67366451435473429,3.1950710747579998,136.64592696030468,297.57657615975324,1.7534883720930234,2.8812796208530806,0.65884996887945746,3.2921449190797225,137.29246619781051,295.45028309036286,1.7534883720930234,2.8812796208530806,0.68906694431812465,3.2185701643015854,138.4049020943159,{"$f":"SUM(GM190:GM214)","v":294.41923861074508},1.7534883720930234,2.8812796208530806,0.73810253614454346,3.1884191828305819,136.48629240297436,289.84194593120714]
["65+",{"$f":"SUM(B215:B244)","v":65},{"$f":"SUM(C215:C244)","v":72},0,0,4.4494360951118415,4.9848160589079784,74.171178320281413,76.574832495308215,0,0,4.9339661242004054,5.3623620662025706,77.793557556493667,83.142833996546997,0,0,5.2757333453517612,5.8380771805486296,80.912806187350824,94.113563143522583,0,0,5.6087519840601603,6.5350753975496474,88.164319931749546,100.42337949191155,0,0,6.0769149171120391,7.0337447563015063,88.441423219888165,105.87347222795718,0,0,6.3464569674706564,7.497101981408635,88.393540518230267,111.37014507329081,0,0,6.5934643470699514,7.964567163548395,88.956310075974173,108.17917099204573,0,0,6.8431846709608042,8.0156450025978927,84.788119478118816,114.24815740209597,0,0,6.9260524362731966,8.4791711350198149,82.299843815285996,112.72202176832261,0,0,7.0198569625019474,8.581766837012113,79.666257795441496,109.50006547375295,0,0,7.0782043759697624,{"$f":"SUM(BO215:BO244)","v":8.5772789318770588},77.111673244217073,107.01678077450686,0,0,7.082477566397877,8.5773599680222237,72.7880007719437,105.39914947795479,0,0,7.0031406867598474,8.5926685563911498,72.038957420027998,101.50691886476615,0,0,6.9875699031400407,8.4772591613127695,67.758686780229482,100.00074431204504,0,0,6.8309176193467431,8.6333766986612961,62.864257025610321,99.133187567510049,0,0,6.6072723962883053,8.4896441303621124,59.153138605534416,96.161428600128161,0,0,6.3811893007283507,8.3449264923304138,57.587435503988168,99.453795355504099,0,0,6.1874571530055533,8.5527012984080191,55.530496202855666,95.851362616971585,0,0,5.9614257019448935,8.3568388907256974,52.020616673467956,97.860312522284786,0,0,5.6709615730172649,8.5274150765984675,53.307665455995348,99.165137449984996,0,0,5.5184957026598811,8.4890550447385404,53.136882870608183,102.97202000599962,0,{"$f":"SUM(EA215:EA244)","v":0},5.3300555909424734,8.7820723827083143,50.550239826659691,104.44235730108542,0,0,5.07711398476442,8.6854895526386251,51.061199502821808,106.37266741412888,0,0,4.9258621653510897,8.8584165767697716,50.969768210044251,103.95214716015089,0,0,4.7762239553059702,8.7724272979436364,51.319841501748627,101.93558242440096,0,0,4.6622728742909381,8.6563660609261479,50.173568636196094,98.218669745139323,0,0,4.5263572576779367,8.4558554956808578,48.443905819425524,99.83406969221916,0,0,4.3873786350165362,8.5323576815727709,47.933068008628133,99.420287027419917,0,0,4.3053358437793969,8.4571475575414397,46.836473252019815,98.287159394087467,0,0,4.2182328598761067,8.5493342987171257,48.620136762464384,97.606930001411286,0,0,4.2391661118477781,8.4150749942387275,48.875581444231287,100.62600315748318,0,0,4.2275308061510204,8.6023772086977743,48.646547797256765,{"$f":"SUM(GM215:GM244)","v":102.43610026410164},0,0,4.2161452797319203,8.8061028386505082,51.410909672721836,107.61887092215851]
["80+",{"$f":"SUM(B230:B244)","v":3},{"$f":"SUM(C230:C244)","v":2},0,0,0.66660463897047317,0.22603768876994468,2.3333953610295266,2.6655150118712934,0,0,0.56310413336180887,0.30942747640168855,2.4939565678182642,3.1549974645723089,0,0,0.58746691374820825,0.37470028158262059,2.536772913346788,4.2192748720389996,0,0,0.59127992937624407,0.50572162380576302,3.6152680495742975,5.015903878928623,0,0,0.7721993040830647,0.60946360078548323,3.8385575564861334,6.7753693892861655,0,0,0.82079502453473097,0.82348659952471737,4.3685442851091798,7.575564481021706,0,0,0.92370613888675179,0.93423694405308211,4.2680385251737691,9.6231754082859382,0,0,0.92403880636378155,1.1865129078545928,4.4836469687723177,9.8121326569106735,0,0,0.97474450536735679,1.2341905453209927,5.2773808008804899,10.702708588895119,0,0,1.125220962935799,1.3583005003342628,6.1439629115851702,11.718482229989178,0,0,1.3025809766676049,{"$f":"SUM(BO230:BO244)","v":1.496762957981653},7.0384873650361302,12.442276709464108,0,0,1.4762987015661422,1.6028308122854025,8.2511172124040844,12.925720315010587,0,0,1.7222217415132215,1.6810039830520587,7.9596807934838258,13.541634465922376,0,0,1.7178775702594344,1.7724576940062926,8.722522092537039,13.635214728745233,0,0,1.8820069749807282,1.9891537617287791,8.4418347499147544,15.198639064822084,0,0,1.8656132457549641,2.0674354252822518,10.211381048852068,15.961320145908799,0,0,2.1921242277907922,2.1626372906203861,10.302830788872601,17.330645214334279,0,0,2.2460112289995493,2.3953612858574176,10.29732780183949,19.911500362595113,0,0,2.2772404933295518,2.6914534632662401,11.452319973231219,21.0227536564377,0,0,2.4967996013198488,2.9419676396272432,10.651322721316516,21.776603321133535,0,0,2.3916058748763538,2.9779713863160793,9.9407219510591016,22.645415256259358,0,{"$f":"SUM(EA230:EA244)","v":0},2.2816482602882036,3.2274533641280359,9.5689766650255006,20.831175411466923,0,0,2.2164784569544231,2.8897930488787735,8.066418295688786,22.111111785274709,0,0,1.9494559877526452,3.1214790394763043,7.3013454864918765,21.048066215381176,0,0,1.7870400690379262,3.0391244898364493,6.6849423796740721,19.595703854000455,0,0,1.643240600854966,2.8670454995433023,6.2489953179341962,18.5327742243737,0,0,1.5284468085795593,2.7345580183085447,5.45683663586665,17.858631176476372,0,0,1.3518372456903158,2.6739029725157968,5.774134197670767,16.576284277886895,0,0,1.367806598596274,2.4807811094032499,5.1288695092508894,16.159280043353025,0,0,1.2290700118562645,2.5799012696222121,4.4166221699966428,15.87843559710841,0,0,1.0829473550776221,2.458875006403241,4.1066195183260037,15.053120422056013,0,0,0.99830491929935705,2.4151391719089275,4.3935033640435588,{"$f":"SUM(GM230:GM244)","v":16.083180675942327},0,0,1.023200632635088,2.6438622910944014,4.4726826194103646,14.904836356853712]
[23,{"$f":"Vstupy!J1415","v":0},{"$f":"Vstupy!K1415","v":0},{"$f":"D$168*B10/100","v":0},{"$f":"E$168*C10/100","v":0},{"$f":"IF($A173<$B$162,0,B173*B86)","v":0},{"$f":"IF($A173<$B$163,0,C173*C86)","v":0},{"$f":"0","v":0},0,{"$f":"J$168*D10/100","v":0},{"$f":"K$168*E10/100","v":0},{"$f":"IF($A173<$B$162,0,H173*D86)","v":0},{"$f":"IF($A173<$B$163,0,I173*E86)","v":0},{"$f":"0","v":0},0,{"$f":"P$168*F10/100","v":0},{"$f":"Q$168*G10/100","v":0},{"$f":"IF($A173<$B$162,0,N173*F86)","v":0},{"$f":"IF($A173<$B$163,0,O173*G86)","v":0},{"$f":"0","v":0},0,{"$f":"V$168*H10/100","v":0},{"$f":"W$168*I10/100","v":0},{"$f":"IF($A173<$B$162,0,T173*H86)","v":0},{"$f":"IF($A173<$B$163,0,U173*I86)","v":0},{"$f":"0","v":0},0,{"$f":"AB$168*J10/100","v":0},{"$f":"AC$168*K10/100","v":0},{"$f":"IF($A173<$B$162,0,Z173*J86)","v":0},{"$f":"IF($A173<$B$163,0,AA173*K86)","v":0},{"$f":"0","v":0},0,{"$f":"AH$168*L10/100","v":0},{"$f":"AI$168*M10/100","v":0},{"$f":"IF($A173<$B$162,0,AF173*L86)","v":0},{"$f":"IF($A173<$B$163,0,AG173*M86)","v":0},{"$f":"0","v":0},0,{"$f":"AN$168*N10/100","v":0},{"$f":"AO$168*O10/100","v":0},{"$f":"IF($A173<$B$162,0,AL173*N86)","v":0},{"$f":"IF($A173<$B$163,0,AM173*O86)","v":0},{"$f":"0","v":0},0,{"$f":"AT$168*P10/100","v":0},{"$f":"AU$168*Q10/100","v":0},{"$f":"IF($A173<$B$162,0,AR173*P86)","v":0},{"$f":"IF($A173<$B$163,0,AS173*Q86)","v":0},{"$f":"0","v":0},0,{"$f":"AZ$168*R10/100","v":0},{"$f":"BA$168*S10/100","v":0},{"$f":"IF($A173<$B$162,0,AX173*R86)","v":0},{"$f":"IF($A173<$B$163,0,AY173*S86)","v":0},{"$f":"0","v":0},0,{"$f":"BF$168*T10/100","v":0},{"$f":"BG$168*U10/100","v":0},{"$f":"IF($A173<$B$162,0,BD173*T86)","v":0},{"$f":"IF($A173<$B$163,0,BE173*U86)","v":0},{"$f":"0","v":0},0,{"$f":"BL$168*V10/100","v":0},{"$f":"BM$168*W10/100","v":0},{"$f":"IF($A173<$B$162,0,BJ173*V86)","v":0},{"$f":"IF($A173<$B$163,0,BK173*W86)","v":0},{"$f":"0","v":0},0,{"$f":"BR$168*X10/100","v":0},{"$f":"BS$168*Y10/100","v":0},{"$f":"IF($A173<$B$162,0,BP173*X86)","v":0},{"$f":"IF($A173<$B$163,0,BQ173*Y86)","v":0},{"$f":"0","v":0},0,{"$f":"BX$168*Z10/100","v":0},{"$f":"BY$168*AA10/100","v":0},{"$f":"IF($A173<$B$162,0,BV173*Z86)","v":0},{"$f":"IF($A173<$B$163,0,BW173*AA86)","v":0},{"$f":"0","v":0},0,{"$f":"CD$168*AB10/100","v":0},{"$f":"CE$168*AC10/100","v":0},{"$f":"IF($A173<$B$162,0,CB173*AB86)","v":0},{"$f":"IF($A173<$B$163,0,CC173*AC86)","v":0},{"$f":"0","v":0},0,{"$f":"CJ$168*AD10/100","v":0},{"$f":"CK$168*AE10/100","v":0},{"$f":"IF($A173<$B$162,0,CH173*AD86)","v":0},{"$f":"IF($A173<$B$163,0,CI173*AE86)","v":0},{"$f":"0","v":0},0,{"$f":"CP$168*AF10/100","v":0},{"$f":"CQ$168*AG10/100","v":0},{"$f":"IF($A173<$B$162,0,CN173*AF86)","v":0},{"$f":"IF($A173<$B$163,0,CO173*AG86)","v":0},{"$f":"0","v":0},0,{"$f":"CV$168*AH10/100","v":0},{"$f":"CW$168*AI10/100","v":0},{"$f":"IF($A173<$B$162,0,CT173*AH86)","v":0},{"$f":"IF($A173<$B$163,0,CU173*AI86)","v":0},{"$f":"0","v":0},0,{"$f":"DB$168*AJ10/100","v":0},{"$f":"DC$168*AK10/100","v":0},{"$f":"IF($A173<$B$162,0,CZ173*AJ86)","v":0},{"$f":"IF($A173<$B$163,0,DA173*AK86)","v":0},{"$f":"0","v":0},0,{"$f":"DH$168*AL10/100","v":0},{"$f":"DI$168*AM10/100","v":0},{"$f":"IF($A173<$B$162,0,DF173*AL86)","v":0},{"$f":"IF($A173<$B$163,0,DG173*AM86)","v":0},{"$f":"0","v":0},0,{"$f":"DN$168*AN10/100","v":0},{"$f":"DO$168*AO10/100","v":0},{"$f":"IF($A173<$B$162,0,DL173*AN86)","v":0},{"$f":"IF($A173<$B$163,0,DM173*AO86)","v":0},{"$f":"0","v":0},0,{"$f":"DT$168*AP10/100","v":0},{"$f":"DU$168*AQ10/100","v":0},{"$f":"IF($A173<$B$162,0,DR173*AP86)","v":0},{"$f":"IF($A173<$B$163,0,DS173*AQ86)","v":0},{"$f":"0","v":0},0,{"$f":"DZ$168*AR10/100","v":0},{"$f":"EA$168*AS10/100","v":0},{"$f":"IF($A173<$B$162,0,DX173*AR86)","v":0},{"$f":"IF($A173<$B$163,0,DY173*AS86)","v":0},{"$f":"0","v":0},0,{"$f":"EF$168*AT10/100","v":0},{"$f":"EG$168*AU10/100","v":0},{"$f":"IF($A173<$B$162,0,ED173*AT86)","v":0},{"$f":"IF($A173<$B$163,0,EE173*AU86)","v":0},{"$f":"0","v":0},0,{"$f":"EL$168*AV10/100","v":0},{"$f":"EM$168*AW10/100","v":0},{"$f":"IF($A173<$B$162,0,EJ173*AV86)","v":0},{"$f":"IF($A173<$B$163,0,EK173*AW86)","v":0},{"$f":"0","v":0},0,{"$f":"ER$168*AX10/100","v":0},{"$f":"ES$168*AY10/100","v":0},{"$f":"IF($A173<$B$162,0,EP173*AX86)","v":0},{"$f":"IF($A173<$B$163,0,EQ173*AY86)","v":0},{"$f":"0","v":0},0,{"$f":"EX$168*AZ10/100","v":0},{"$f":"EY$168*BA10/100","v":0},{"$f":"IF($A173<$B$162,0,EV173*AZ86)","v":0},{"$f":"IF($A173<$B$163,0,EW173*BA86)","v":0},{"$f":"0","v":0},0,{"$f":"FD$168*BB10/100","v":0},{"$f":"FE$168*BC10/100","v":0},{"$f":"IF($A173<$B$162,0,FB173*BB86)","v":0},{"$f":"IF($A173<$B$163,0,FC173*BC86)","v":0},{"$f":"0","v":0},0,{"$f":"FJ$168*BD10/100","v":0},{"$f":"FK$168*BE10/100","v":0},{"$f":"IF($A173<$B$162,0,FH173*BD86)","v":0},{"$f":"IF($A173<$B$163,0,FI173*BE86)","v":0},{"$f":"0","v":0},0,{"$f":"FP$168*BF10/100","v":0},{"$f":"FQ$168*BG10/100","v":0},{"$f":"IF($A173<$B$162,0,FN173*BF86)","v":0},{"$f":"IF($A173<$B$163,0,FO173*BG86)","v":0},{"$f":"0","v":0},0,{"$f":"FV$168*BH10/100","v":0},{"$f":"FW$168*BI10/100","v":0},{"$f":"IF($A173<$B$162,0,FT173*BH86)","v":0},{"$f":"IF($A173<$B$163,0,FU173*BI86)","v":0},{"$f":"0","v":0},0,{"$f":"GB$168*BJ10/100","v":0},{"$f":"GC$168*BK10/100","v":0},{"$f":"IF($A173<$B$162,0,FZ173*BJ86)","v":0},{"$f":"IF($A173<$B$163,0,GA173*BK86)","v":0},{"$f":"0","v":0},0,{"$f":"GH$168*BL10/100","v":0},{"$f":"GI$168*BM10/100","v":0},{"$f":"IF($A173<$B$162,0,GF173*BL86)","v":0},{"$f":"IF($A173<$B$163,0,GG173*BM86)","v":0},{"$f":"0","v":0},0,{"$f":"GN$168*BN10/100","v":0},{"$f":"GO$168*BO10/100","v":0},{"$f":"IF($A173<$B$162,0,GL173*BN86)","v":0},{"$f":"IF($A173<$B$163,0,GM173*BO86)","v":0},{"$f":"0","v":0},0]
[24,{"$f":"Vstupy!J1416","v":0},{"$f":"Vstupy!K1416","v":0},0,1.4928909952606635E-2,0,0,{"$f":"B173+D173-F173","v":0},{"$f":"C173+E173-G173","v":0},0,1.4928909952606635E-2,0,0,{"$f":"H173+J173-L173","v":0},0,0,1.4928909952606635E-2,0,0,{"$f":"N173+P173-R173","v":0},0,0,1.4928909952606635E-2,0,0,{"$f":"T173+V173-X173","v":0},0,0,1.4928909952606635E-2,0,0,{"$f":"Z173+AB173-AD173","v":0},0,0,1.4928909952606635E-2,0,0,{"$f":"AF173+AH173-AJ173","v":0},0,0,1.4928909952606635E-2,0,0,{"$f":"AL173+AN173-AP173","v":0},0,0,1.4928909952606635E-2,0,0,{"$f":"AR173+AT173-AV173","v":0},0,0,1.4928909952606635E-2,0,0,{"$f":"AX173+AZ173-BB173","v":0},0,0,1.4928909952606635E-2,0,0,{"$f":"BD173+BF173-BH173","v":0},0,0,1.4928909952606635E-2,0,0,{"$f":"BJ173+BL173-BN173","v":0},0,0,1.4928909952606635E-2,0,0,{"$f":"BP173+BR173-BT173","v":0},0,0,1.4928909952606635E-2,0,0,{"$f":"BV173+BX173-BZ173","v":0},0,0,1.4928909952606635E-2,0,0,{"$f":"CB173+CD173-CF173","v":0},0,0,1.4928909952606635E-2,0,0,{"$f":"CH173+CJ173-CL173","v":0},0,0,1.4928909952606635E-2,0,0,{"$f":"CN173+CP173-CR173","v":0},0,0,1.4928909952606635E-2,0,0,{"$f":"CT173+CV173-CX173","v":0},0,0,1.4928909952606635E-2,0,0,{"$f":"CZ173+DB173-DD173","v":0},0,0,1.4928909952606635E-2,0,0,{"$f":"DF173+DH173-DJ173","v":0},0,0,1.4928909952606635E-2,0,0,{"$f":"DL173+DN173-DP173","v":0},0,0,1.4928909952606635E-2,0,0,{"$f":"DR173+DT173-DV173","v":0},0,0,1.4928909952606635E-2,0,0,{"$f":"DX173+DZ173-EB173","v":0},0,0,1.4928909952606635E-2,0,0,{"$f":"ED173+EF173-EH173","v":0},0,0,1.4928909952606635E-2,0,0,{"$f":"EJ173+EL173-EN173","v":0},0,0,1.4928909952606635E-2,0,0,{"$f":"EP173+ER173-ET173","v":0},0,0,1.4928909952606635E-2,0,0,{"$f":"EV173+EX173-EZ173","v":0},0,0,1.4928909952606635E-2,0,0,{"$f":"FB173+FD173-FF173","v":0},0,0,1.4928909952606635E-2,0,0,{"$f":"FH173+FJ173-FL173","v":0},0,0,1.4928909952606635E-2,0,0,{"$f":"FN173+FP173-FR173","v":0},0,0,1.4928909952606635E-2,0,0,{"$f":"FT173+FV173-FX173","v":0},0,0,1.4928909952606635E-2,0,0,{"$f":"FZ173+GB173-GD173","v":0},0,0,1.4928909952606635E-2,0,0,{"$f":"GF173+GH173-GJ173","v":0},0,0,1.4928909952606635E-2,0,0,{"$f":"GL173+GN173-GP173","v":0},0]
[25,{"$f":"Vstupy!J1417","v":0},{"$f":"Vstupy!K1417","v":0},5.7807308970099669E-2,0.22393364928909953,0,0,{"$f":"B174+D174-F174","v":0},1.4928909952606635E-2,5.7807308970099669E-2,0.22393364928909953,0,0,0,1.4928909952606635E-2,5.7807308970099669E-2,0.22393364928909953,0,0,0,1.4928909952606635E-2,5.7807308970099669E-2,0.22393364928909953,0,0,0,1.4928909952606635E-2,5.7807308970099669E-2,0.22393364928909953,0,0,0,1.4928909952606635E-2,5.7807308970099669E-2,0.22393364928909953,0,0,0,1.4928909952606635E-2,5.7807308970099669E-2,0.22393364928909953,0,0,0,1.4928909952606635E-2,5.7807308970099669E-2,0.22393364928909953,0,0,0,1.4928909952606635E-2,5.7807308970099669E-2,0.22393364928909953,0,0,0,1.4928909952606635E-2,5.7807308970099669E-2,0.22393364928909953,0,0,0,1.4928909952606635E-2,5.7807308970099669E-2,0.22393364928909953,0,0,0,1.4928909952606635E-2,5.7807308970099669E-2,0.22393364928909953,0,0,0,1.4928909952606635E-2,5.7807308970099669E-2,0.22393364928909953,0,0,0,1.4928909952606635E-2,5.7807308970099669E-2,0.22393364928909953,0,0,0,1.4928909952606635E-2,5.7807308970099669E-2,0.22393364928909953,0,0,0,1.4928909952606635E-2,5.7807308970099669E-2,0.22393364928909953,0,0,0,1.4928909952606635E-2,5.7807308970099669E-2,0.22393364928909953,0,0,0,1.4928909952606635E-2,5.7807308970099669E-2,0.22393364928909953,0,0,0,1.4928909952606635E-2,5.7807308970099669E-2,0.22393364928909953,0,0,0,1.4928909952606635E-2,5.7807308970099669E-2,0.22393364928909953,0,0,0,1.4928909952606635E-2,5.7807308970099669E-2,0.22393364928909953,0,0,0,1.4928909952606635E-2,5.7807308970099669E-2,0.22393364928909953,0,0,0,1.4928909952606635E-2,5.7807308970099669E-2,0.22393364928909953,0,0,0,1.4928909952606635E-2,5.7807308970099669E-2,0.22393364928909953,0,0,0,1.4928909952606635E-2,5.7807308970099669E-2,0.22393364928909953,0,0,0,1.4928909952606635E-2,5.7807308970099669E-2,0.22393364928909953,0,0,0,1.4928909952606635E-2,5.7807308970099669E-2,0.22393364928909953,0,0,0,1.4928909952606635E-2,5.7807308970099669E-2,0.22393364928909953,0,0,0,1.4928909952606635E-2,5.7807308970099669E-2,0.22393364928909953,0,0,0,1.4928909952606635E-2,5.7807308970099669E-2,0.22393364928909953,0,0,0,1.4928909952606635E-2,5.7807308970099669E-2,0.22393364928909953,0,0,0,1.4928909952606635E-2,5.7807308970099669E-2,0.22393364928909953,0,0,0,1.4928909952606635E-2,5.7807308970099669E-2,0.22393364928909953,0,0,0,1.4928909952606635E-2]
[26,{"$f":"Vstupy!J1418","v":0},{"$f":"Vstupy!K1418","v":0},0.21196013289036547,0.5225118483412321,0,0,5.7807308970099669E-2,0.22393364928909953,0.21196013289036547,0.5225118483412321,0,0,5.7807308970099669E-2,0.23886255924170616,0.21196013289036547,0.5225118483412321,0,0,5.7807308970099669E-2,0.23886255924170616,0.21196013289036547,0.5225118483412321,0,0,5.7807308970099669E-2,0.23886255924170616,0.21196013289036547,0.5225118483412321,0,0,5.7807308970099669E-2,0.23886255924170616,0.21196013289036547,0.5225118483412321,0,0,5.7807308970099669E-2,0.23886255924170616,0.21196013289036547,0.5225118483412321,0,0,5.7807308970099669E-2,0.23886255924170616,0.21196013289036547,0.5225118483412321,0,0,5.7807308970099669E-2,0.23886255924170616,0.21196013289036547,0.5225118483412321,0,0,5.7807308970099669E-2,0.23886255924170616,0.21196013289036547,0.5225118483412321,0,0,5.7807308970099669E-2,0.23886255924170616,0.21196013289036547,0.5225118483412321,0,0,5.7807308970099669E-2,0.23886255924170616,0.21196013289036547,0.5225118483412321,0,0,5.7807308970099669E-2,0.23886255924170616,0.21196013289036547,0.5225118483412321,0,0,5.7807308970099669E-2,0.23886255924170616,0.21196013289036547,0.5225118483412321,0,0,5.7807308970099669E-2,0.23886255924170616,0.21196013289036547,0.5225118483412321,0,0,5.7807308970099669E-2,0.23886255924170616,0.21196013289036547,0.5225118483412321,0,0,5.7807308970099669E-2,0.23886255924170616,0.21196013289036547,0.5225118483412321,0,0,5.7807308970099669E-2,0.23886255924170616,0.21196013289036547,0.5225118483412321,0,0,5.7807308970099669E-2,0.23886255924170616,0.21196013289036547,0.5225118483412321,0,0,5.7807308970099669E-2,0.23886255924170616,0.21196013289036547,0.5225118483412321,0,0,5.7807308970099669E-2,0.23886255924170616,0.21196013289036547,0.5225118483412321,0,0,5.7807308970099669E-2,0.23886255924170616,0.21196013289036547,0.5225118483412321,0,0,5.7807308970099669E-2,0.23886255924170616,0.21196013289036547,0.5225118483412321,0,0,5.7807308970099669E-2,0.23886255924170616,0.21196013289036547,0.5225118483412321,0,0,5.7807308970099669E-2,0.23886255924170616,0.21196013289036547,0.5225118483412321,0,0,5.7807308970099669E-2,0.23886255924170616,0.21196013289036547,0.5225118483412321,0,0,5.7807308970099669E-2,0.23886255924170616,0.21196013289036547,0.5225118483412321,0,0,5.7807308970099669E-2,0.23886255924170616,0.21196013289036547,0.5225118483412321,0,0,5.7807308970099669E-2,0.23886255924170616,0.21196013289036547,0.5225118483412321,0,0,5.7807308970099669E-2,0.23886255924170616,0.21196013289036547,0.5225118483412321,0,0,5.7807308970099669E-2,0.23886255924170616,0.21196013289036547,0.5225118483412321,0,0,5.7807308970099669E-2,0.23886255924170616,0.21196013289036547,0.5225118483412321,0,0,5.7807308970099669E-2,0.23886255924170616,0.21196013289036547,0.5225118483412321,0,0,5.7807308970099669E-2,0.23886255924170616]
[27,{"$f":"Vstupy!J1419","v":0},{"$f":"Vstupy!K1419","v":0},0.25049833887043182,0.80616113744075824,0,0,0.21196013289036547,0.5225118483412321,0.25049833887043182,0.80616113744075824,0,0,0.26976744186046514,0.74644549763033163,0.25049833887043182,0.80616113744075824,0,0,0.26976744186046514,0.76137440758293828,0.25049833887043182,0.80616113744075824,0,0,0.26976744186046514,0.76137440758293828,0.25049833887043182,0.80616113744075824,0,0,0.26976744186046514,0.76137440758293828,0.25049833887043182,0.80616113744075824,0,0,0.26976744186046514,0.76137440758293828,0.25049833887043182,0.80616113744075824,0,0,0.26976744186046514,0.76137440758293828,0.25049833887043182,0.80616113744075824,0,0,0.26976744186046514,0.76137440758293828,0.25049833887043182,0.80616113744075824,0,0,0.26976744186046514,0.76137440758293828,0.25049833887043182,0.80616113744075824,0,0,0.26976744186046514,0.76137440758293828,0.25049833887043182,0.80616113744075824,0,0,0.26976744186046514,0.76137440758293828,0.25049833887043182,0.80616113744075824,0,0,0.26976744186046514,0.76137440758293828,0.25049833887043182,0.80616113744075824,0,0,0.26976744186046514,0.76137440758293828,0.25049833887043182,0.80616113744075824,0,0,0.26976744186046514,0.76137440758293828,0.25049833887043182,0.80616113744075824,0,0,0.26976744186046514,0.76137440758293828,0.25049833887043182,0.80616113744075824,0,0,0.26976744186046514,0.76137440758293828,0.25049833887043182,0.80616113744075824,0,0,0.26976744186046514,0.76137440758293828,0.25049833887043182,0.80616113744075824,0,0,0.26976744186046514,0.76137440758293828,0.25049833887043182,0.80616113744075824,0,0,0.26976744186046514,0.76137440758293828,0.25049833887043182,0.80616113744075824,0,0,0.26976744186046514,0.76137440758293828,0.25049833887043182,0.80616113744075824,0,0,0.26976744186046514,0.76137440758293828,0.25049833887043182,0.80616113744075824,0,0,0.26976744186046514,0.76137440758293828,0.25049833887043182,0.80616113744075824,0,0,0.26976744186046514,0.76137440758293828,0.25049833887043182,0.80616113744075824,0,0,0.26976744186046514,0.76137440758293828,0.25049833887043182,0.80616113744075824,0,0,0.26976744186046514,0.76137440758293828,0.25049833887043182,0.80616113744075824,0,0,0.26976744186046514,0.76137440758293828,0.25049833887043182,0.80616113744075824,0,0,0.26976744186046514,0.76137440758293828,0.25049833887043182,0.80616113744075824,0,0,0.26976744186046514,0.76137440758293828,0.25049833887043182,0.80616113744075824,0,0,0.26976744186046514,0.76137440758293828,0.25049833887043182,0.80616113744075824,0,0,0.26976744186046514,0.76137440758293828,0.25049833887043182,0.80616113744075824,0,0,0.26976744186046514,0.76137440758293828,0.25049833887043182,0.80616113744075824,0,0,0.26976744186046514,0.76137440758293828,0.25049833887043182,0.80616113744075824,0,0,0.26976744186046514,0.76137440758293828]
[28,{"$f":"Vstupy!J1420","v":0},{"$f":"Vstupy!K1420","v":3},0.17342192691029901,0.61208530805687211,0,0,0.25049833887043182,0.80616113744075824,0.17342192691029901,0.61208530805687211,0,0,0.4624584717607973,1.3286729857819903,0.17342192691029901,0.61208530805687211,0,0,0.52026578073089702,1.5526066350710899,0.17342192691029901,0.61208530805687211,0,0,0.52026578073089702,1.5675355450236965,0.17342192691029901,0.61208530805687211,0,0,0.52026578073089702,1.5675355450236965,0.17342192691029901,0.61208530805687211,0,0,0.52026578073089702,1.5675355450236965,0.17342192691029901,0.61208530805687211,0,0,0.52026578073089702,1.5675355450236965,0.17342192691029901,0.61208530805687211,0,0,0.52026578073089702,1.5675355450236965,0.17342192691029901,0.61208530805687211,0,0,0.52026578073089702,1.5675355450236965,0.17342192691029901,0.61208530805687211,0,0,0.52026578073089702,1.5675355450236965,0.17342192691029901,0.61208530805687211,0,0,0.52026578073089702,1.5675355450236965,0.17342192691029901,0.61208530805687211,0,0,0.52026578073089702,1.5675355450236965,0.17342192691029901,0.61208530805687211,0,0,0.52026578073089702,1.5675355450236965,0.17342192691029901,0.61208530805687211,0,0,0.52026578073089702,1.5675355450236965,0.17342192691029901,0.61208530805687211,0,0,0.52026578073089702,1.5675355450236965,0.17342192691029901,0.61208530805687211,0,0,0.52026578073089702,1.5675355450236965,0.17342192691029901,0.61208530805687211,0,0,0.52026578073089702,1.5675355450236965,0.17342192691029901,0.61208530805687211,0,0,0.52026578073089702,1.5675355450236965,0.17342192691029901,0.61208530805687211,0,0,0.52026578073089702,1.5675355450236965,0.17342192691029901,0.61208530805687211,0,0,0.52026578073089702,1.5675355450236965,0.17342192691029901,0.61208530805687211,0,0,0.52026578073089702,1.5675355450236965,0.17342192691029901,0.61208530805687211,0,0,0.52026578073089702,1.5675355450236965,0.17342192691029901,0.61208530805687211,0,0,0.52026578073089702,1.5675355450236965,0.17342192691029901,0.61208530805687211,0,0,0.52026578073089702,1.5675355450236965,0.17342192691029901,0.61208530805687211,0,0,0.52026578073089702,1.5675355450236965,0.17342192691029901,0.61208530805687211,0,0,0.52026578073089702,1.5675355450236965,0.17342192691029901,0.61208530805687211,0,0,0.52026578073089702,1.5675355450236965,0.17342192691029901,0.61208530805687211,0,0,0.52026578073089702,1.5675355450236965,0.17342192691029901,0.61208530805687211,0,0,0.52026578073089702,1.5675355450236965,0.17342192691029901,0.61208530805687211,0,0,0.52026578073089702,1.5675355450236965,0.17342192691029901,0.61208530805687211,0,0,0.52026578073089702,1.5675355450236965,0.17342192691029901,0.61208530805687211,0,0,0.52026578073089702,1.5675355450236965,0.17342192691029901,0.61208530805687211,0,0,0.52026578073089702,1.5675355450236965]
[29,{"$f":"Vstupy!J1421","v":3},{"$f":"Vstupy!K1421","v":1},0.34684385382059801,0.5822274881516587,0,0,0.17342192691029901,3.612085308056872,0.34684385382059801,0.5822274881516587,0,0,0.42392026578073083,1.4182464454976302,0.34684385382059801,0.5822274881516587,0,0,0.63588039867109636,1.9407582938388623,0.34684385382059801,0.5822274881516587,0,0,0.69368770764119603,2.1646919431279619,0.34684385382059801,0.5822274881516587,0,0,0.69368770764119603,2.1796208530805687,0.34684385382059801,0.5822274881516587,0,0,0.69368770764119603,2.1796208530805687,0.34684385382059801,0.5822274881516587,0,0,0.69368770764119603,2.1796208530805687,0.34684385382059801,0.5822274881516587,0,0,0.69368770764119603,2.1796208530805687,0.34684385382059801,0.5822274881516587,0,0,0.69368770764119603,2.1796208530805687,0.34684385382059801,0.5822274881516587,0,0,0.69368770764119603,2.1796208530805687,0.34684385382059801,0.5822274881516587,0,0,0.69368770764119603,2.1796208530805687,0.34684385382059801,0.5822274881516587,0,0,0.69368770764119603,2.1796208530805687,0.34684385382059801,0.5822274881516587,0,0,0.69368770764119603,2.1796208530805687,0.34684385382059801,0.5822274881516587,0,0,0.69368770764119603,2.1796208530805687,0.34684385382059801,0.5822274881516587,0,0,0.69368770764119603,2.1796208530805687,0.34684385382059801,0.5822274881516587,0,0,0.69368770764119603,2.1796208530805687,0.34684385382059801,0.5822274881516587,0,0,0.69368770764119603,2.1796208530805687,0.34684385382059801,0.5822274881516587,0,0,0.69368770764119603,2.1796208530805687,0.34684385382059801,0.5822274881516587,0,0,0.69368770764119603,2.1796208530805687,0.34684385382059801,0.5822274881516587,0,0,0.69368770764119603,2.1796208530805687,0.34684385382059801,0.5822274881516587,0,0,0.69368770764119603,2.1796208530805687,0.34684385382059801,0.5822274881516587,0,0,0.69368770764119603,2.1796208530805687,0.34684385382059801,0.5822274881516587,0,0,0.69368770764119603,2.1796208530805687,0.34684385382059801,0.5822274881516587,0,0,0.69368770764119603,2.1796208530805687,0.34684385382059801,0.5822274881516587,0,0,0.69368770764119603,2.1796208530805687,0.34684385382059801,0.5822274881516587,0,0,0.69368770764119603,2.1796208530805687,0.34684385382059801,0.5822274881516587,0,0,0.69368770764119603,2.1796208530805687,0.34684385382059801,0.5822274881516587,0,0,0.69368770764119603,2.1796208530805687,0.34684385382059801,0.5822274881516587,0,0,0.69368770764119603,2.1796208530805687,0.34684385382059801,0.5822274881516587,0,0,0.69368770764119603,2.1796208530805687,0.34684385382059801,0.5822274881516587,0,0,0.69368770764119603,2.1796208530805687,0.34684385382059801,0.5822274881516587,0,0,0.69368770764119603,2.1796208530805687,0.34684385382059801,0.5822274881516587,0,0,0.69368770764119603,2.1796208530805687]
[30,{"$f":"Vstupy!J1422","v":1},{"$f":"Vstupy!K1422","v":3},0.52026578073089691,0.7912322274881517,0,0,3.346843853820598,1.5822274881516587,0.52026578073089691,0.7912322274881517,0,0,0.52026578073089702,4.1943127962085303,0.52026578073089691,0.7912322274881517,0,0,0.77076411960132885,2.0004739336492889,0.52026578073089691,0.7912322274881517,0,0,0.98272425249169437,2.522985781990521,0.52026578073089691,0.7912322274881517,0,0,1.040531561461794,2.7469194312796206,0.52026578073089691,0.7912322274881517,0,0,1.040531561461794,2.7618483412322274,0.52026578073089691,0.7912322274881517,0,0,1.040531561461794,2.7618483412322274,0.52026578073089691,0.7912322274881517,0,0,1.040531561461794,2.7618483412322274,0.52026578073089691,0.7912322274881517,0,0,1.040531561461794,2.7618483412322274,0.52026578073089691,0.7912322274881517,0,0,1.040531561461794,2.7618483412322274,0.52026578073089691,0.7912322274881517,0,0,1.040531561461794,2.7618483412322274,0.52026578073089691,0.7912322274881517,0,0,1.040531561461794,2.7618483412322274,0.52026578073089691,0.7912322274881517,0,0,1.040531561461794,2.7618483412322274,0.52026578073089691,0.7912322274881517,0,0,1.040531561461794,2.7618483412322274,0.52026578073089691,0.7912322274881517,0,0,1.040531561461794,2.7618483412322274,0.52026578073089691,0.7912322274881517,0,0,1.040531561461794,2.7618483412322274,0.52026578073089691,0.7912322274881517,0,0,1.040531561461794,2.7618483412322274,0.52026578073089691,0.7912322274881517,0,0,1.040531561461794,2.7618483412322274,0.52026578073089691,0.7912322274881517,0,0,1.040531561461794,2.7618483412322274,0.52026578073089691,0.7912322274881517,0,0,1.040531561461794,2.7618483412322274,0.52026578073089691,0.7912322274881517,0,0,1.040531561461794,2.7618483412322274,0.52026578073089691,0.7912322274881517,0,0,1.040531561461794,2.7618483412322274,0.52026578073089691,0.7912322274881517,0,0,1.040531561461794,2.7618483412322274,0.52026578073089691,0.7912322274881517,0,0,1.040531561461794,2.7618483412322274,0.52026578073089691,0.7912322274881517,0,0,1.040531561461794,2.7618483412322274,0.52026578073089691,0.7912322274881517,0,0,1.040531561461794,2.7618483412322274,0.52026578073089691,0.7912322274881517,0,0,1.040531561461794,2.7618483412322274,0.52026578073089691,0.7912322274881517,0,0,1.040531561461794,2.7618483412322274,0.52026578073089691,0.7912322274881517,0,0,1.040531561461794,2.7618483412322274,0.52026578073089691,0.7912322274881517,0,0,1.040531561461794,2.7618483412322274,0.52026578073089691,0.7912322274881517,0,0,1.040531561461794,2.7618483412322274,0.52026578073089691,0.7912322274881517,0,0,1.040531561461794,2.7618483412322274,0.52026578073089691,0.7912322274881517,0,0,1.040531561461794,2.7618483412322274]
[31,{"$f":"Vstupy!J1423","v":3},{"$f":"Vstupy!K1423","v":3},0.40465116279069768,0.65687203791469184,0,0,1.520265780730897,{"$f":"C180+E180-G180","v":3.7912322274881518},0.40465116279069768,0.65687203791469184,0,0,3.867109634551495,2.3734597156398105,0.40465116279069768,0.65687203791469184,0,0,1.040531561461794,4.9855450236966821,0.40465116279069768,0.65687203791469184,0,0,1.2910299003322256,2.7917061611374407,0.40465116279069768,0.65687203791469184,0,0,1.5029900332225914,3.3142180094786728,0.40465116279069768,0.65687203791469184,0,0,1.5607973421926911,3.5381516587677724,0.40465116279069768,0.65687203791469184,0,0,1.5607973421926911,3.5530805687203793,0.40465116279069768,0.65687203791469184,0,0,1.5607973421926911,3.5530805687203793,0.40465116279069768,0.65687203791469184,0,0,1.5607973421926911,3.5530805687203793,0.40465116279069768,0.65687203791469184,0,0,1.5607973421926911,3.5530805687203793,0.40465116279069768,0.65687203791469184,0,0,1.5607973421926911,3.5530805687203793,0.40465116279069768,0.65687203791469184,0,0,1.5607973421926911,3.5530805687203793,0.40465116279069768,0.65687203791469184,0,0,1.5607973421926911,3.5530805687203793,0.40465116279069768,0.65687203791469184,0,0,1.5607973421926911,3.5530805687203793,0.40465116279069768,0.65687203791469184,0,0,1.5607973421926911,3.5530805687203793,0.40465116279069768,0.65687203791469184,0,0,1.5607973421926911,3.5530805687203793,0.40465116279069768,0.65687203791469184,0,0,1.5607973421926911,3.5530805687203793,0.40465116279069768,0.65687203791469184,0,0,1.5607973421926911,3.5530805687203793,0.40465116279069768,0.65687203791469184,0,0,1.5607973421926911,3.5530805687203793,0.40465116279069768,0.65687203791469184,0,0,1.5607973421926911,3.5530805687203793,0.40465116279069768,0.65687203791469184,0,0,1.5607973421926911,3.5530805687203793,0.40465116279069768,0.65687203791469184,0,0,1.5607973421926911,3.5530805687203793,0.40465116279069768,0.65687203791469184,0,0,1.5607973421926911,3.5530805687203793,0.40465116279069768,0.65687203791469184,0,0,1.5607973421926911,3.5530805687203793,0.40465116279069768,0.65687203791469184,0,0,1.5607973421926911,3.5530805687203793,0.40465116279069768,0.65687203791469184,0,0,1.5607973421926911,3.5530805687203793,0.40465116279069768,0.65687203791469184,0,0,1.5607973421926911,3.5530805687203793,0.40465116279069768,0.65687203791469184,0,0,1.5607973421926911,3.5530805687203793,0.40465116279069768,0.65687203791469184,0,0,1.5607973421926911,3.5530805687203793,0.40465116279069768,0.65687203791469184,0,0,1.5607973421926911,3.5530805687203793,0.40465116279069768,0.65687203791469184,0,0,1.5607973421926911,3.5530805687203793,0.40465116279069768,0.65687203791469184,0,0,1.5607973421926911,3.5530805687203793,0.40465116279069768,0.65687203791469184,0,0,1.5607973421926911,3.5530805687203793]
[32,{"$f":"Vstupy!J1424","v":4},{"$f":"Vstupy!K1424","v":10},0.34684385382059801,0.7016587677725119,0,0,3.4046511627906977,3.6568720379146917,0.34684385382059801,0.7016587677725119,0,0,1.9249169435215947,4.4481042654028435,0.34684385382059801,0.7016587677725119,0,0,4.2717607973421927,3.0303317535545022,0.34684385382059801,0.7016587677725119,0,0,1.4451827242524917,5.6424170616113738,0.34684385382059801,0.7016587677725119,0,0,1.6956810631229233,3.4485781990521325,0.34684385382059801,0.7016587677725119,0,0,1.9076411960132891,3.9710900473933646,0.34684385382059801,0.7016587677725119,0,0,1.9654485049833887,4.1950236966824646,0.34684385382059801,0.7016587677725119,0,0,1.9654485049833887,4.2099526066350714,0.34684385382059801,0.7016587677725119,0,0,1.9654485049833887,4.2099526066350714,0.34684385382059801,0.7016587677725119,0,0,1.9654485049833887,4.2099526066350714,0.34684385382059801,0.7016587677725119,0,0,1.9654485049833887,4.2099526066350714,0.34684385382059801,0.7016587677725119,0,0,1.9654485049833887,4.2099526066350714,0.34684385382059801,0.7016587677725119,0,0,1.9654485049833887,4.2099526066350714,0.34684385382059801,0.7016587677725119,0,0,1.9654485049833887,4.2099526066350714,0.34684385382059801,0.7016587677725119,0,0,1.9654485049833887,4.2099526066350714,0.34684385382059801,0.7016587677725119,0,0,1.9654485049833887,4.2099526066350714,0.34684385382059801,0.7016587677725119,0,0,1.9654485049833887,4.2099526066350714,0.34684385382059801,0.7016587677725119,0,0,1.9654485049833887,4.2099526066350714,0.34684385382059801,0.7016587677725119,0,0,1.9654485049833887,4.2099526066350714,0.34684385382059801,0.7016587677725119,0,0,1.9654485049833887,4.2099526066350714,0.34684385382059801,0.7016587677725119,0,0,1.9654485049833887,4.2099526066350714,0.34684385382059801,0.7016587677725119,0,0,1.9654485049833887,4.2099526066350714,0.34684385382059801,0.7016587677725119,0,0,1.9654485049833887,4.2099526066350714,0.34684385382059801,0.7016587677725119,0,0,1.9654485049833887,4.2099526066350714,0.34684385382059801,0.7016587677725119,0,0,1.9654485049833887,4.2099526066350714,0.34684385382059801,0.7016587677725119,0,0,1.9654485049833887,4.2099526066350714,0.34684385382059801,0.7016587677725119,0,0,1.9654485049833887,4.2099526066350714,0.34684385382059801,0.7016587677725119,0,0,1.9654485049833887,4.2099526066350714,0.34684385382059801,0.7016587677725119,0,0,1.9654485049833887,4.2099526066350714,0.34684385382059801,0.7016587677725119,0,0,1.9654485049833887,4.2099526066350714,0.34684385382059801,0.7016587677725119,0,0,1.9654485049833887,4.2099526066350714,0.34684385382059801,0.7016587677725119,0,0,1.9654485049833887,4.2099526066350714,0.34684385382059801,0.7016587677725119,0,0,1.9654485049833887,4.2099526066350714]
[33,{"$f":"Vstupy!J1425","v":1},{"$f":"Vstupy!K1425","v":6},0.44318936877076409,0.65687203791469184,0,0,4.346843853820598,10.701658767772512,0.44318936877076409,0.65687203791469184,0,0,3.7514950166112957,4.3585308056872041,0.44318936877076409,0.65687203791469184,0,0,2.2717607973421927,5.1497630331753559,0.44318936877076409,0.65687203791469184,0,0,4.6186046511627907,3.7319905213270141,0.44318936877076409,0.65687203791469184,0,0,1.7920265780730897,6.3440758293838861,0.44318936877076409,0.65687203791469184,0,0,2.0425249169435213,4.1502369668246448,0.44318936877076409,0.65687203791469184,0,0,2.2544850498338871,4.6727488151658765,0.44318936877076409,0.65687203791469184,0,0,2.3122923588039868,4.896682464454976,0.44318936877076409,0.65687203791469184,0,0,2.3122923588039868,4.9116113744075829,0.44318936877076409,0.65687203791469184,0,0,2.3122923588039868,4.9116113744075829,0.44318936877076409,0.65687203791469184,0,0,2.3122923588039868,4.9116113744075829,0.44318936877076409,0.65687203791469184,0,0,2.3122923588039868,4.9116113744075829,0.44318936877076409,0.65687203791469184,0,0,2.3122923588039868,4.9116113744075829,0.44318936877076409,0.65687203791469184,0,0,2.3122923588039868,4.9116113744075829,0.44318936877076409,0.65687203791469184,0,0,2.3122923588039868,4.9116113744075829,0.44318936877076409,0.65687203791469184,0,0,2.3122923588039868,4.9116113744075829,0.44318936877076409,0.65687203791469184,0,0,2.3122923588039868,4.9116113744075829,0.44318936877076409,0.65687203791469184,0,0,2.3122923588039868,4.9116113744075829,0.44318936877076409,0.65687203791469184,0,0,2.3122923588039868,4.9116113744075829,0.44318936877076409,0.65687203791469184,0,0,2.3122923588039868,4.9116113744075829,0.44318936877076409,0.65687203791469184,0,0,2.3122923588039868,4.9116113744075829,0.44318936877076409,0.65687203791469184,0,0,2.3122923588039868,4.9116113744075829,0.44318936877076409,0.65687203791469184,0,0,2.3122923588039868,4.9116113744075829,0.44318936877076409,0.65687203791469184,0,0,2.3122923588039868,4.9116113744075829,0.44318936877076409,0.65687203791469184,0,0,2.3122923588039868,4.9116113744075829,0.44318936877076409,0.65687203791469184,0,0,2.3122923588039868,4.9116113744075829,0.44318936877076409,0.65687203791469184,0,0,2.3122923588039868,4.9116113744075829,0.44318936877076409,0.65687203791469184,0,0,2.3122923588039868,4.9116113744075829,0.44318936877076409,0.65687203791469184,0,0,2.3122923588039868,4.9116113744075829,0.44318936877076409,0.65687203791469184,0,0,2.3122923588039868,4.9116113744075829,0.44318936877076409,0.65687203791469184,0,0,2.3122923588039868,4.9116113744075829,0.44318936877076409,0.65687203791469184,0,0,2.3122923588039868,4.9116113744075829,0.44318936877076409,0.65687203791469184,0,0,2.3122923588039868,4.9116113744075829]
[34,{"$f":"Vstupy!J1426","v":2},{"$f":"Vstupy!K1426","v":8},0.30830564784053155,0.68672985781990514,0,0,1.443189368770764,6.6568720379146917,0.30830564784053155,0.68672985781990514,0,0,4.7900332225913624,11.358530805687204,0.30830564784053155,0.68672985781990514,0,0,4.1946843853820601,5.0154028436018958,0.30830564784053155,0.68672985781990514,0,0,2.7149501661129567,5.8066350710900476,0.30830564784053155,0.68672985781990514,0,0,5.0617940199335552,4.3888625592417059,0.30830564784053155,0.68672985781990514,0,0,2.2352159468438537,7.0009478672985779,0.30830564784053155,0.68672985781990514,0,0,2.4857142857142853,4.8071090047393366,0.30830564784053155,0.68672985781990514,0,0,2.6976744186046511,5.3296208530805682,0.30830564784053155,0.68672985781990514,0,0,2.7554817275747507,5.5535545023696677,0.30830564784053155,0.68672985781990514,0,0,2.7554817275747507,5.5684834123222746,0.30830564784053155,0.68672985781990514,0,0,2.7554817275747507,5.5684834123222746,0.30830564784053155,0.68672985781990514,0,0,2.7554817275747507,5.5684834123222746,0.30830564784053155,0.68672985781990514,0,0,2.7554817275747507,5.5684834123222746,0.30830564784053155,0.68672985781990514,0,0,2.7554817275747507,5.5684834123222746,0.30830564784053155,0.68672985781990514,0,0,2.7554817275747507,5.5684834123222746,0.30830564784053155,0.68672985781990514,0,0,2.7554817275747507,5.5684834123222746,0.30830564784053155,0.68672985781990514,0,0,2.7554817275747507,5.5684834123222746,0.30830564784053155,0.68672985781990514,0,0,2.7554817275747507,5.5684834123222746,0.30830564784053155,0.68672985781990514,0,0,2.7554817275747507,5.5684834123222746,0.30830564784053155,0.68672985781990514,0,0,2.7554817275747507,5.5684834123222746,0.30830564784053155,0.68672985781990514,0,0,2.7554817275747507,5.5684834123222746,0.30830564784053155,0.68672985781990514,0,0,2.7554817275747507,5.5684834123222746,0.30830564784053155,0.68672985781990514,0,0,2.7554817275747507,5.5684834123222746,0.30830564784053155,0.68672985781990514,0,0,2.7554817275747507,5.5684834123222746,0.30830564784053155,0.68672985781990514,0,0,2.7554817275747507,5.5684834123222746,0.30830564784053155,0.68672985781990514,0,0,2.7554817275747507,5.5684834123222746,0.30830564784053155,0.68672985781990514,0,0,2.7554817275747507,5.5684834123222746,0.30830564784053155,0.68672985781990514,0,0,2.7554817275747507,5.5684834123222746,0.30830564784053155,0.68672985781990514,0,0,2.7554817275747507,5.5684834123222746,0.30830564784053155,0.68672985781990514,0,0,2.7554817275747507,5.5684834123222746,0.30830564784053155,0.68672985781990514,0,0,2.7554817275747507,5.5684834123222746,0.30830564784053155,0.68672985781990514,0,0,2.7554817275747507,5.5684834123222746,0.30830564784053155,0.68672985781990514,0,0,2.7554817275747507,5.5684834123222746]
[35,{"$f":"Vstupy!J1427","v":4},{"$f":"Vstupy!K1427","v":4},0.13488372093023257,0.71658767772511855,0,0,2.3083056478405317,8.6867298578199055,0.13488372093023257,0.71658767772511855,0,0,1.7514950166112955,7.3436018957345972,0.13488372093023257,0.71658767772511855,0,0,5.0983388704318937,12.04526066350711,0.13488372093023257,0.71658767772511855,0,0,4.5029900332225914,5.7021327014218013,0.13488372093023257,0.71658767772511855,0,0,3.0232558139534884,6.4933649289099531,0.13488372093023257,0.71658767772511855,0,0,5.3700996677740864,5.0755924170616113,0.13488372093023257,0.71658767772511855,0,0,2.5435215946843854,7.6876777251184834,0.13488372093023257,0.71658767772511855,0,0,2.794019933554817,5.493838862559242,0.13488372093023257,0.71658767772511855,0,0,3.0059800664451828,6.0163507109004737,0.13488372093023257,0.71658767772511855,0,0,3.0637873754152825,6.2402843601895732,0.13488372093023257,0.71658767772511855,0,0,3.0637873754152825,6.2552132701421801,0.13488372093023257,0.71658767772511855,0,0,3.0637873754152825,6.2552132701421801,0.13488372093023257,0.71658767772511855,0,0,3.0637873754152825,6.2552132701421801,0.13488372093023257,0.71658767772511855,0,0,3.0637873754152825,6.2552132701421801,0.13488372093023257,0.71658767772511855,0,0,3.0637873754152825,6.2552132701421801,0.13488372093023257,0.71658767772511855,0,0,3.0637873754152825,6.2552132701421801,0.13488372093023257,0.71658767772511855,0,0,3.0637873754152825,6.2552132701421801,0.13488372093023257,0.71658767772511855,0,0,3.0637873754152825,6.2552132701421801,0.13488372093023257,0.71658767772511855,0,0,3.0637873754152825,6.2552132701421801,0.13488372093023257,0.71658767772511855,0,0,3.0637873754152825,6.2552132701421801,0.13488372093023257,0.71658767772511855,0,0,3.0637873754152825,6.2552132701421801,0.13488372093023257,0.71658767772511855,0,0,3.0637873754152825,6.2552132701421801,0.13488372093023257,0.71658767772511855,0,0,3.0637873754152825,6.2552132701421801,0.13488372093023257,0.71658767772511855,0,0,3.0637873754152825,6.2552132701421801,0.13488372093023257,0.71658767772511855,0,0,3.0637873754152825,6.2552132701421801,0.13488372093023257,0.71658767772511855,0,0,3.0637873754152825,6.2552132701421801,0.13488372093023257,0.71658767772511855,0,0,3.0637873754152825,6.2552132701421801,0.13488372093023257,0.71658767772511855,0,0,3.0637873754152825,6.2552132701421801,0.13488372093023257,0.71658767772511855,0,0,3.0637873754152825,6.2552132701421801,0.13488372093023257,0.71658767772511855,0,0,3.0637873754152825,6.2552132701421801,0.13488372093023257,0.71658767772511855,0,0,3.0637873754152825,6.2552132701421801,0.13488372093023257,0.71658767772511855,0,0,3.0637873754152825,6.2552132701421801,0.13488372093023257,0.71658767772511855,0,0,3.0637873754152825,6.2552132701421801]
[36,{"$f":"Vstupy!J1428","v":1},{"$f":"Vstupy!K1428","v":4},0.25049833887043182,0.95545023696682463,0,0,4.1348837209302323,4.7165876777251183,0.25049833887043182,0.95545023696682463,0,0,2.4431893687707644,9.4033175355450247,0.25049833887043182,0.95545023696682463,0,0,1.886378737541528,8.0601895734597164,0.25049833887043182,0.95545023696682463,0,0,5.233222591362126,12.761848341232229,0.25049833887043182,0.95545023696682463,0,0,4.6378737541528237,6.4187203791469196,0.25049833887043182,0.95545023696682463,0,0,3.1581395348837211,7.2099526066350714,0.25049833887043182,0.95545023696682463,0,0,5.5049833887043187,5.7921800947867297,0.25049833887043182,0.95545023696682463,0,0,2.6784053156146181,8.4042654028436026,0.25049833887043182,0.95545023696682463,0,0,2.9289036544850497,6.2104265402843604,0.25049833887043182,0.95545023696682463,0,0,3.1408637873754155,6.732938388625592,0.25049833887043182,0.95545023696682463,0,0,3.1986710963455152,6.9568720379146916,0.25049833887043182,0.95545023696682463,0,0,3.1986710963455152,6.9718009478672984,0.25049833887043182,0.95545023696682463,0,0,3.1986710963455152,6.9718009478672984,0.25049833887043182,0.95545023696682463,0,0,3.1986710963455152,6.9718009478672984,0.25049833887043182,0.95545023696682463,0,0,3.1986710963455152,6.9718009478672984,0.25049833887043182,0.95545023696682463,0,0,3.1986710963455152,6.9718009478672984,0.25049833887043182,0.95545023696682463,0,0,3.1986710963455152,6.9718009478672984,0.25049833887043182,0.95545023696682463,0,0,3.1986710963455152,6.9718009478672984,0.25049833887043182,0.95545023696682463,0,0,3.1986710963455152,6.9718009478672984,0.25049833887043182,0.95545023696682463,0,0,3.1986710963455152,6.9718009478672984,0.25049833887043182,0.95545023696682463,0,0,3.1986710963455152,6.9718009478672984,0.25049833887043182,0.95545023696682463,0,0,3.1986710963455152,6.9718009478672984,0.25049833887043182,0.95545023696682463,0,0,3.1986710963455152,6.9718009478672984,0.25049833887043182,0.95545023696682463,0,0,3.1986710963455152,6.9718009478672984,0.25049833887043182,0.95545023696682463,0,0,3.1986710963455152,6.9718009478672984,0.25049833887043182,0.95545023696682463,0,0,3.1986710963455152,6.9718009478672984,0.25049833887043182,0.95545023696682463,0,0,3.1986710963455152,6.9718009478672984,0.25049833887043182,0.95545023696682463,0,0,3.1986710963455152,6.9718009478672984,0.25049833887043182,0.95545023696682463,0,0,3.1986710963455152,6.9718009478672984,0.25049833887043182,0.95545023696682463,0,0,3.1986710963455152,6.9718009478672984,0.25049833887043182,0.95545023696682463,0,0,3.1986710963455152,6.9718009478672984,0.25049833887043182,0.95545023696682463,0,0,3.1986710963455152,6.9718009478672984,0.25049833887043182,0.95545023696682463,0,0,3.1986710963455152,6.9718009478672984]
[37,{"$f":"Vstupy!J1429","v":2},{"$f":"Vstupy!K1429","v":6},0.21196013289036547,0.43293838862559242,0,0,1.2504983388704318,4.9554502369668247,0.21196013289036547,0.43293838862559242,0,0,4.3853820598006639,5.6720379146919431,0.21196013289036547,0.43293838862559242,0,0,2.693687707641196,10.358767772511849,0.21196013289036547,0.43293838862559242,0,0,2.1368770764119596,9.0156398104265403,0.21196013289036547,0.43293838862559242,0,0,5.4837209302325576,13.717298578199053,0.21196013289036547,0.43293838862559242,0,0,4.8883720930232553,7.3741706161137444,0.21196013289036547,0.43293838862559242,0,0,3.4086378737541532,8.1654028436018962,0.21196013289036547,0.43293838862559242,0,0,5.7554817275747503,6.7476303317535544,0.21196013289036547,0.43293838862559242,0,0,2.9289036544850502,9.3597156398104264,0.21196013289036547,0.43293838862559242,0,0,3.1794019933554818,7.1658767772511851,0.21196013289036547,0.43293838862559242,0,0,3.3913621262458475,7.6883886255924168,0.21196013289036547,0.43293838862559242,0,0,3.4491694352159472,7.9123222748815163,0.21196013289036547,0.43293838862559242,0,0,3.4491694352159472,7.9272511848341232,0.21196013289036547,0.43293838862559242,0,0,3.4491694352159472,7.9272511848341232,0.21196013289036547,0.43293838862559242,0,0,3.4491694352159472,7.9272511848341232,0.21196013289036547,0.43293838862559242,0,0,3.4491694352159472,7.9272511848341232,0.21196013289036547,0.43293838862559242,0,0,3.4491694352159472,7.9272511848341232,0.21196013289036547,0.43293838862559242,0,0,3.4491694352159472,7.9272511848341232,0.21196013289036547,0.43293838862559242,0,0,3.4491694352159472,7.9272511848341232,0.21196013289036547,0.43293838862559242,0,0,3.4491694352159472,7.9272511848341232,0.21196013289036547,0.43293838862559242,0,0,3.4491694352159472,7.9272511848341232,0.21196013289036547,0.43293838862559242,0,0,3.4491694352159472,7.9272511848341232,0.21196013289036547,0.43293838862559242,0,0,3.4491694352159472,7.9272511848341232,0.21196013289036547,0.43293838862559242,0,0,3.4491694352159472,7.9272511848341232,0.21196013289036547,0.43293838862559242,0,0,3.4491694352159472,7.9272511848341232,0.21196013289036547,0.43293838862559242,0,0,3.4491694352159472,7.9272511848341232,0.21196013289036547,0.43293838862559242,0,0,3.4491694352159472,7.9272511848341232,0.21196013289036547,0.43293838862559242,0,0,3.4491694352159472,7.9272511848341232,0.21196013289036547,0.43293838862559242,0,0,3.4491694352159472,7.9272511848341232,0.21196013289036547,0.43293838862559242,0,0,3.4491694352159472,7.9272511848341232,0.21196013289036547,0.43293838862559242,0,0,3.4491694352159472,7.9272511848341232,0.21196013289036547,0.43293838862559242,0,0,3.4491694352159472,7.9272511848341232,0.21196013289036547,0.43293838862559242,0,0,3.4491694352159472,7.9272511848341232]
[38,{"$f":"Vstupy!J1430","v":1},{"$f":"Vstupy!K1430","v":9},0.19269102990033227,0.74644549763033163,0,0,2.2119601328903653,{"$f":"C187+E187-G187","v":6.4329383886255922},0.19269102990033227,0.74644549763033163,0,0,1.4624584717607974,5.3883886255924169,0.19269102990033227,0.74644549763033163,0,0,4.5973421926910296,6.1049763033175353,0.19269102990033227,0.74644549763033163,0,0,2.9056478405315613,10.791706161137441,0.19269102990033227,0.74644549763033163,0,0,2.3488372093023249,9.4485781990521325,0.19269102990033227,0.74644549763033163,0,0,5.6956810631229233,14.150236966824645,0.19269102990033227,0.74644549763033163,0,0,5.100332225913621,7.8071090047393366,0.19269102990033227,0.74644549763033163,0,0,3.6205980066445185,8.5983412322274884,0.19269102990033227,0.74644549763033163,0,0,5.967441860465116,7.1805687203791466,0.19269102990033227,0.74644549763033163,0,0,3.1408637873754155,9.7926540284360186,0.19269102990033227,0.74644549763033163,0,0,3.3913621262458471,7.5988151658767773,0.19269102990033227,0.74644549763033163,0,0,3.6033222591362128,8.121327014218009,0.19269102990033227,0.74644549763033163,0,0,3.6611295681063125,8.3452606635071085,0.19269102990033227,0.74644549763033163,0,0,3.6611295681063125,8.3601895734597154,0.19269102990033227,0.74644549763033163,0,0,3.6611295681063125,8.3601895734597154,0.19269102990033227,0.74644549763033163,0,0,3.6611295681063125,8.3601895734597154,0.19269102990033227,0.74644549763033163,0,0,3.6611295681063125,8.3601895734597154,0.19269102990033227,0.74644549763033163,0,0,3.6611295681063125,8.3601895734597154,0.19269102990033227,0.74644549763033163,0,0,3.6611295681063125,8.3601895734597154,0.19269102990033227,0.74644549763033163,0,0,3.6611295681063125,8.3601895734597154,0.19269102990033227,0.74644549763033163,0,0,3.6611295681063125,8.3601895734597154,0.19269102990033227,0.74644549763033163,0,0,3.6611295681063125,8.3601895734597154,0.19269102990033227,0.74644549763033163,0,0,3.6611295681063125,8.3601895734597154,0.19269102990033227,0.74644549763033163,0,0,3.6611295681063125,8.3601895734597154,0.19269102990033227,0.74644549763033163,0,0,3.6611295681063125,8.3601895734597154,0.19269102990033227,0.74644549763033163,0,0,3.6611295681063125,8.3601895734597154,0.19269102990033227,0.74644549763033163,0,0,3.6611295681063125,8.3601895734597154,0.19269102990033227,0.74644549763033163,0,0,3.6611295681063125,8.3601895734597154,0.19269102990033227,0.74644549763033163,0,0,3.6611295681063125,8.3601895734597154,0.19269102990033227,0.74644549763033163,0,0,3.6611295681063125,8.3601895734597154,0.19269102990033227,0.74644549763033163,0,0,3.6611295681063125,8.3601895734597154,0.19269102990033227,0.74644549763033163,0,0,3.6611295681063125,8.3601895734597154,0.19269102990033227,0.74644549763033163,0,0,3.6611295681063125,8.3601895734597154]
[39,{"$f":"Vstupy!J1431","v":2},{"$f":"Vstupy!K1431","v":3},0.19269102990033227,0.61208530805687211,0,0,1.1926910299003324,9.7464454976303312,0.19269102990033227,0.61208530805687211,0,0,2.4046511627906977,7.1793838862559234,0.19269102990033227,0.61208530805687211,0,0,1.6551495016611297,6.134834123222749,0.19269102990033227,0.61208530805687211,0,0,4.7900332225913616,6.8514218009478665,0.19269102990033227,0.61208530805687211,0,0,3.0983388704318937,11.538151658767772,0.19269102990033227,0.61208530805687211,0,0,2.5415282392026572,10.195023696682464,0.19269102990033227,0.61208530805687211,0,0,5.8883720930232553,14.896682464454976,0.19269102990033227,0.61208530805687211,0,0,5.2930232558139529,8.5535545023696677,0.19269102990033227,0.61208530805687211,0,0,3.8132890365448509,9.3447867298578196,0.19269102990033227,0.61208530805687211,0,0,6.160132890365448,7.9270142180094787,0.19269102990033227,0.61208530805687211,0,0,3.3335548172757479,10.53909952606635,0.19269102990033227,0.61208530805687211,0,0,3.5840531561461795,8.3452606635071085,0.19269102990033227,0.61208530805687211,0,0,3.7960132890365452,8.8677725118483401,0.19269102990033227,0.61208530805687211,0,0,3.8538205980066449,9.0917061611374397,0.19269102990033227,0.61208530805687211,0,0,3.8538205980066449,9.1066350710900466,0.19269102990033227,0.61208530805687211,0,0,3.8538205980066449,9.1066350710900466,0.19269102990033227,0.61208530805687211,0,0,3.8538205980066449,9.1066350710900466,0.19269102990033227,0.61208530805687211,0,0,3.8538205980066449,9.1066350710900466,0.19269102990033227,0.61208530805687211,0,0,3.8538205980066449,9.1066350710900466,0.19269102990033227,0.61208530805687211,0,0,3.8538205980066449,9.1066350710900466,0.19269102990033227,0.61208530805687211,0,0,3.8538205980066449,9.1066350710900466,0.19269102990033227,0.61208530805687211,0,0,3.8538205980066449,9.1066350710900466,0.19269102990033227,0.61208530805687211,0,0,3.8538205980066449,9.1066350710900466,0.19269102990033227,0.61208530805687211,0,0,3.8538205980066449,9.1066350710900466,0.19269102990033227,0.61208530805687211,0,0,3.8538205980066449,9.1066350710900466,0.19269102990033227,0.61208530805687211,0,0,3.8538205980066449,9.1066350710900466,0.19269102990033227,0.61208530805687211,0,0,3.8538205980066449,9.1066350710900466,0.19269102990033227,0.61208530805687211,0,0,3.8538205980066449,9.1066350710900466,0.19269102990033227,0.61208530805687211,0,0,3.8538205980066449,9.1066350710900466,0.19269102990033227,0.61208530805687211,0,0,3.8538205980066449,9.1066350710900466,0.19269102990033227,0.61208530805687211,0,0,3.8538205980066449,9.1066350710900466,0.19269102990033227,0.61208530805687211,0,0,3.8538205980066449,9.1066350710900466,0.19269102990033227,0.61208530805687211,0,0,3.8538205980066449,9.1066350710900466]
[40,{"$f":"Vstupy!J1432","v":4},{"$f":"Vstupy!K1432","v":6},0.32757475083056475,0.41800947867298577,0,0,2.1926910299003324,3.612085308056872,0.32757475083056475,0.41800947867298577,0,0,{"$f":"H189+J189-L189","v":1.3853820598006648},10.358530805687204,0.32757475083056475,0.41800947867298577,0,0,{"$f":"N189+P189-R189","v":2.5973421926910301},7.7914691943127954,0.32757475083056475,0.41800947867298577,0,0,{"$f":"T189+V189-X189","v":1.8478405315614621},6.746919431279621,0.32757475083056475,0.41800947867298577,0,0,{"$f":"Z189+AB189-AD189","v":4.9827242524916935},7.4635071090047385,0.32757475083056475,0.41800947867298577,0,0,{"$f":"AF189+AH189-AJ189","v":3.2910299003322261},12.150236966824645,0.32757475083056475,0.41800947867298577,0,0,{"$f":"AL189+AN189-AP189","v":2.7342192691029896},10.807109004739337,0.32757475083056475,0.41800947867298577,0,0,{"$f":"AR189+AT189-AV189","v":6.0810631229235872},15.508767772511849,0.32757475083056475,0.41800947867298577,0,0,{"$f":"AX189+AZ189-BB189","v":5.4857142857142849},9.1656398104265406,0.32757475083056475,0.41800947867298577,0,0,{"$f":"BD189+BF189-BH189","v":4.0059800664451828},9.9568720379146924,0.32757475083056475,0.41800947867298577,0,0,{"$f":"BJ189+BL189-BN189","v":6.3528239202657799},8.5390995260663516,0.32757475083056475,0.41800947867298577,0,0,{"$f":"BP189+BR189-BT189","v":3.5262458471760803},11.151184834123223,0.32757475083056475,0.41800947867298577,0,0,{"$f":"BV189+BX189-BZ189","v":3.7767441860465119},8.9573459715639814,0.32757475083056475,0.41800947867298577,0,0,{"$f":"CB189+CD189-CF189","v":3.9887043189368776},9.479857819905213,0.32757475083056475,0.41800947867298577,0,0,{"$f":"CH189+CJ189-CL189","v":4.0465116279069768},9.7037914691943126,0.32757475083056475,0.41800947867298577,0,0,{"$f":"CN189+CP189-CR189","v":4.0465116279069768},9.7187203791469194,0.32757475083056475,0.41800947867298577,0,0,{"$f":"CT189+CV189-CX189","v":4.0465116279069768},9.7187203791469194,0.32757475083056475,0.41800947867298577,0,0,{"$f":"CZ189+DB189-DD189","v":4.0465116279069768},9.7187203791469194,0.32757475083056475,0.41800947867298577,0,0,{"$f":"DF189+DH189-DJ189","v":4.0465116279069768},9.7187203791469194,0.32757475083056475,0.41800947867298577,0,0,{"$f":"DL189+DN189-DP189","v":4.0465116279069768},9.7187203791469194,0.32757475083056475,0.41800947867298577,0,0,{"$f":"DR189+DT189-DV189","v":4.0465116279069768},9.7187203791469194,0.32757475083056475,0.41800947867298577,0,0,{"$f":"DX189+DZ189-EB189","v":4.0465116279069768},9.7187203791469194,0.32757475083056475,0.41800947867298577,0,0,{"$f":"ED189+EF189-EH189","v":4.0465116279069768},9.7187203791469194,0.32757475083056475,0.41800947867298577,0,0,{"$f":"EJ189+EL189-EN189","v":4.0465116279069768},9.7187203791469194,0.32757475083056475,0.41800947867298577,0,0,{"$f":"EP189+ER189-ET189","v":4.0465116279069768},9.7187203791469194,0.32757475083056475,0.41800947867298577,0,0,{"$f":"EV189+EX189-EZ189","v":4.0465116279069768},9.7187203791469194,0.32757475083056475,0.41800947867298577,0,0,{"$f":"FB189+FD189-FF189","v":4.0465116279069768},9.7187203791469194,0.32757475083056475,0.41800947867298577,0,0,{"$f":"FH189+FJ189-FL189","v":4.0465116279069768},9.7187203791469194,0.32757475083056475,0.41800947867298577,0,0,{"$f":"FN189+FP189-FR189","v":4.0465116279069768},9.7187203791469194,0.32757475083056475,0.41800947867298577,0,0,{"$f":"FT189+FV189-FX189","v":4.0465116279069768},9.7187203791469194,0.32757475083056475,0.41800947867298577,0,0,{"$f":"FZ189+GB189-GD189","v":4.0465116279069768},9.7187203791469194,0.32757475083056475,0.41800947867298577,0,0,{"$f":"GF189+GH189-GJ189","v":4.0465116279069768},9.7187203791469194,0.32757475083056475,0.41800947867298577,0,0,{"$f":"GL189+GN189-GP189","v":4.0465116279069768},9.7187203791469194]
[41,{"$f":"Vstupy!J1433","v":4},{"$f":"Vstupy!K1433","v":6},0.15415282392026577,0.50758293838862556,0,0,4.3275747508305651,6.4180094786729853,0.15415282392026577,0.50758293838862556,0,0,2.520265780730897,4.0300947867298582,0.15415282392026577,0.50758293838862556,0,0,1.7129568106312294,10.776540284360189,0.15415282392026577,0.50758293838862556,0,0,2.9249169435215947,8.2094786729857816,0.15415282392026577,0.50758293838862556,0,0,2.1754152823920268,7.1649289099526072,0.15415282392026577,0.50758293838862556,0,0,5.3102990033222586,7.8815165876777247,0.15415282392026577,0.50758293838862556,0,0,3.6186046511627907,12.56824644549763,0.15415282392026577,0.50758293838862556,0,0,3.0617940199335543,11.225118483412322,0.15415282392026577,0.50758293838862556,0,0,6.4086378737541523,15.926777251184834,0.15415282392026577,0.50758293838862556,0,0,5.81328903654485,9.583649289099526,0.15415282392026577,0.50758293838862556,0,0,4.3335548172757479,10.374881516587678,0.15415282392026577,0.50758293838862556,0,0,6.680398671096345,8.9571090047393369,0.15415282392026577,0.50758293838862556,0,0,3.8538205980066449,11.569194312796208,0.15415282392026577,0.50758293838862556,0,0,4.1043189368770765,9.3753554502369667,0.15415282392026577,0.50758293838862556,0,0,4.3162790697674422,9.8978672985781984,0.15415282392026577,0.50758293838862556,0,0,4.3740863787375419,10.121800947867298,0.15415282392026577,0.50758293838862556,0,0,4.3740863787375419,10.136729857819905,0.15415282392026577,0.50758293838862556,0,0,4.3740863787375419,10.136729857819905,0.15415282392026577,0.50758293838862556,0,0,4.3740863787375419,10.136729857819905,0.15415282392026577,0.50758293838862556,0,0,4.3740863787375419,10.136729857819905,0.15415282392026577,0.50758293838862556,0,0,4.3740863787375419,10.136729857819905,0.15415282392026577,0.50758293838862556,0,0,4.3740863787375419,10.136729857819905,0.15415282392026577,0.50758293838862556,0,0,4.3740863787375419,10.136729857819905,0.15415282392026577,0.50758293838862556,0,0,4.3740863787375419,10.136729857819905,0.15415282392026577,0.50758293838862556,0,0,4.3740863787375419,10.136729857819905,0.15415282392026577,0.50758293838862556,0,0,4.3740863787375419,10.136729857819905,0.15415282392026577,0.50758293838862556,0,0,4.3740863787375419,10.136729857819905,0.15415282392026577,0.50758293838862556,0,0,4.3740863787375419,10.136729857819905,0.15415282392026577,0.50758293838862556,0,0,4.3740863787375419,10.136729857819905,0.15415282392026577,0.50758293838862556,0,0,4.3740863787375419,10.136729857819905,0.15415282392026577,0.50758293838862556,0,0,4.3740863787375419,10.136729857819905,0.15415282392026577,0.50758293838862556,0,0,4.3740863787375419,10.136729857819905,0.15415282392026577,0.50758293838862556,0,0,4.3740863787375419,10.136729857819905]
[42,{"$f":"Vstupy!J1434","v":5},{"$f":"Vstupy!K1434","v":12},0.19269102990033227,0.47772511848341231,0,0,4.1541528239202661,6.5075829383886257,0.19269102990033227,0.47772511848341231,0,0,4.4817275747508312,6.925592417061611,0.19269102990033227,0.47772511848341231,0,0,2.6744186046511627,4.5376777251184839,0.19269102990033227,0.47772511848341231,0,0,1.8671096345514953,11.284123222748814,0.19269102990033227,0.47772511848341231,0,0,3.0790697674418603,8.7170616113744064,0.19269102990033227,0.47772511848341231,0,0,2.3295681063122924,7.6725118483412329,0.19269102990033227,0.47772511848341231,0,0,5.4644518272425247,8.3890995260663495,0.19269102990033227,0.47772511848341231,0,0,3.7727574750830564,13.075829383886255,0.19269102990033227,0.47772511848341231,0,0,3.2159468438538199,11.732701421800947,0.19269102990033227,0.47772511848341231,0,0,6.5627906976744184,16.434360189573461,0.19269102990033227,0.47772511848341231,0,0,5.967441860465116,10.091232227488151,0.19269102990033227,0.47772511848341231,0,0,4.487707641196014,10.882464454976303,0.19269102990033227,0.47772511848341231,0,0,6.8345514950166111,9.4646919431279617,0.19269102990033227,0.47772511848341231,0,0,4.007973421926911,12.076777251184833,0.19269102990033227,0.47772511848341231,0,0,4.2584717607973426,9.8829383886255915,0.19269102990033227,0.47772511848341231,0,0,4.4704318936877083,10.405450236966823,0.19269102990033227,0.47772511848341231,0,0,4.528239202657808,10.629383886255923,0.19269102990033227,0.47772511848341231,0,0,4.528239202657808,10.64431279620853,0.19269102990033227,0.47772511848341231,0,0,4.528239202657808,10.64431279620853,0.19269102990033227,0.47772511848341231,0,0,4.528239202657808,10.64431279620853,0.19269102990033227,0.47772511848341231,0,0,4.528239202657808,10.64431279620853,0.19269102990033227,0.47772511848341231,0,0,4.528239202657808,10.64431279620853,0.19269102990033227,0.47772511848341231,0,0,4.528239202657808,10.64431279620853,0.19269102990033227,0.47772511848341231,0,0,4.528239202657808,10.64431279620853,0.19269102990033227,0.47772511848341231,0,0,4.528239202657808,10.64431279620853,0.19269102990033227,0.47772511848341231,0,0,4.528239202657808,10.64431279620853,0.19269102990033227,0.47772511848341231,0,0,4.528239202657808,10.64431279620853,0.19269102990033227,0.47772511848341231,0,0,4.528239202657808,10.64431279620853,0.19269102990033227,0.47772511848341231,0,0,4.528239202657808,10.64431279620853,0.19269102990033227,0.47772511848341231,0,0,4.528239202657808,10.64431279620853,0.19269102990033227,0.47772511848341231,0,0,4.528239202657808,10.64431279620853,0.19269102990033227,0.47772511848341231,0,0,4.528239202657808,10.64431279620853,0.19269102990033227,0.47772511848341231,0,0,4.528239202657808,10.64431279620853]
[43,{"$f":"Vstupy!J1435","v":2},{"$f":"Vstupy!K1435","v":12},7.7076411960132887E-2,0.31350710900473933,0,0,5.1926910299003319,12.477725118483413,7.7076411960132887E-2,0.31350710900473933,0,0,4.346843853820598,6.9853080568720376,7.7076411960132887E-2,0.31350710900473933,0,0,4.6744186046511631,7.4033175355450229,7.7076411960132887E-2,0.31350710900473933,0,0,2.867109634551495,5.0154028436018958,7.7076411960132887E-2,0.31350710900473933,0,0,2.0598006644518274,11.761848341232227,7.7076411960132887E-2,0.31350710900473933,0,0,3.2717607973421927,9.1947867298578192,7.7076411960132887E-2,0.31350710900473933,0,0,2.5222591362126248,8.1502369668246448,7.7076411960132887E-2,0.31350710900473933,0,0,5.6571428571428566,8.8668246445497623,7.7076411960132887E-2,0.31350710900473933,0,0,3.9654485049833887,13.553554502369668,7.7076411960132887E-2,0.31350710900473933,0,0,3.4086378737541523,12.210426540284359,7.7076411960132887E-2,0.31350710900473933,0,0,6.7554817275747503,16.912085308056874,7.7076411960132887E-2,0.31350710900473933,0,0,6.160132890365448,10.568957345971564,7.7076411960132887E-2,0.31350710900473933,0,0,4.6803986710963459,11.360189573459715,7.7076411960132887E-2,0.31350710900473933,0,0,7.027242524916943,9.9424170616113745,7.7076411960132887E-2,0.31350710900473933,0,0,4.2006644518272429,12.554502369668246,7.7076411960132887E-2,0.31350710900473933,0,0,4.4511627906976745,10.360663507109004,7.7076411960132887E-2,0.31350710900473933,0,0,4.6631229235880403,10.883175355450236,7.7076411960132887E-2,0.31350710900473933,0,0,4.7209302325581399,11.107109004739335,7.7076411960132887E-2,0.31350710900473933,0,0,4.7209302325581399,11.122037914691942,7.7076411960132887E-2,0.31350710900473933,0,0,4.7209302325581399,11.122037914691942,7.7076411960132887E-2,0.31350710900473933,0,0,4.7209302325581399,11.122037914691942,7.7076411960132887E-2,0.31350710900473933,0,0,4.7209302325581399,11.122037914691942,7.7076411960132887E-2,0.31350710900473933,0,0,4.7209302325581399,11.122037914691942,7.7076411960132887E-2,0.31350710900473933,0,0,4.7209302325581399,11.122037914691942,7.7076411960132887E-2,0.31350710900473933,0,0,4.7209302325581399,11.122037914691942,7.7076411960132887E-2,0.31350710900473933,0,0,4.7209302325581399,11.122037914691942,7.7076411960132887E-2,0.31350710900473933,0,0,4.7209302325581399,11.122037914691942,7.7076411960132887E-2,0.31350710900473933,0,0,4.7209302325581399,11.122037914691942,7.7076411960132887E-2,0.31350710900473933,0,0,4.7209302325581399,11.122037914691942,7.7076411960132887E-2,0.31350710900473933,0,0,4.7209302325581399,11.122037914691942,7.7076411960132887E-2,0.31350710900473933,0,0,4.7209302325581399,11.122037914691942,7.7076411960132887E-2,0.31350710900473933,0,0,4.7209302325581399,11.122037914691942,7.7076411960132887E-2,0.31350710900473933,0,0,4.7209302325581399,11.122037914691942]
[44,{"$f":"Vstupy!J1436","v":5},{"$f":"Vstupy!K1436","v":15},0.19269102990033227,0.23886255924170616,0,0,2.077076411960133,12.313507109004739,0.19269102990033227,0.23886255924170616,0,0,5.2697674418604645,12.791232227488152,0.19269102990033227,0.23886255924170616,0,0,4.4239202657807306,7.2988151658767766,0.19269102990033227,0.23886255924170616,0,0,4.7514950166112957,7.7168246445497619,0.19269102990033227,0.23886255924170616,0,0,2.9441860465116281,5.3289099526066348,0.19269102990033227,0.23886255924170616,0,0,2.1368770764119605,12.075355450236966,0.19269102990033227,0.23886255924170616,0,0,3.3488372093023258,9.5082938388625582,0.19269102990033227,0.23886255924170616,0,0,2.5993355481727578,8.4637440758293838,0.19269102990033227,0.23886255924170616,0,0,5.7342192691029892,9.1803317535545013,0.19269102990033227,0.23886255924170616,0,0,4.0425249169435213,13.867061611374407,0.19269102990033227,0.23886255924170616,0,0,3.4857142857142853,12.523933649289098,0.19269102990033227,0.23886255924170616,0,0,6.8325581395348829,17.225592417061613,0.19269102990033227,0.23886255924170616,0,0,6.2372093023255806,10.882464454976303,0.19269102990033227,0.23886255924170616,0,0,4.7574750830564785,11.673696682464454,0.19269102990033227,0.23886255924170616,0,0,7.1043189368770756,10.255924170616113,0.19269102990033227,0.23886255924170616,0,0,4.2777408637873755,12.868009478672985,0.19269102990033227,0.23886255924170616,0,0,4.5282392026578071,10.674170616113743,0.19269102990033227,0.23886255924170616,0,0,4.7401993355481729,11.196682464454975,0.19269102990033227,0.23886255924170616,0,0,4.7980066445182725,11.420616113744074,0.19269102990033227,0.23886255924170616,0,0,4.7980066445182725,11.435545023696681,0.19269102990033227,0.23886255924170616,0,0,4.7980066445182725,11.435545023696681,0.19269102990033227,0.23886255924170616,0,0,4.7980066445182725,11.435545023696681,0.19269102990033227,0.23886255924170616,0,0,4.7980066445182725,11.435545023696681,0.19269102990033227,0.23886255924170616,0,0,4.7980066445182725,11.435545023696681,0.19269102990033227,0.23886255924170616,0,0,4.7980066445182725,11.435545023696681,0.19269102990033227,0.23886255924170616,0,0,4.7980066445182725,11.435545023696681,0.19269102990033227,0.23886255924170616,0,0,4.7980066445182725,11.435545023696681,0.19269102990033227,0.23886255924170616,0,0,4.7980066445182725,11.435545023696681,0.19269102990033227,0.23886255924170616,0,0,4.7980066445182725,11.435545023696681,0.19269102990033227,0.23886255924170616,0,0,4.7980066445182725,11.435545023696681,0.19269102990033227,0.23886255924170616,0,0,4.7980066445182725,11.435545023696681,0.19269102990033227,0.23886255924170616,0,0,4.7980066445182725,11.435545023696681,0.19269102990033227,0.23886255924170616,0,0,4.7980066445182725,11.435545023696681]
[45,{"$f":"Vstupy!J1437","v":7},{"$f":"Vstupy!K1437","v":12},5.7807308970099669E-2,0.29857819905213268,0,0,5.1926910299003319,15.238862559241706,5.7807308970099669E-2,0.29857819905213268,0,0,2.2697674418604654,12.552369668246445,5.7807308970099669E-2,0.29857819905213268,0,0,5.4624584717607965,13.030094786729858,5.7807308970099669E-2,0.29857819905213268,0,0,4.6166112956810625,7.537677725118483,5.7807308970099669E-2,0.29857819905213268,0,0,4.9441860465116276,7.9556872037914683,5.7807308970099669E-2,0.29857819905213268,0,0,3.1368770764119605,5.5677725118483412,5.7807308970099669E-2,0.29857819905213268,0,0,2.3295681063122928,12.314218009478672,5.7807308970099669E-2,0.29857819905213268,0,0,3.5415282392026581,9.7471563981042646,5.7807308970099669E-2,0.29857819905213268,0,0,2.7920265780730902,8.7026066350710902,5.7807308970099669E-2,0.29857819905213268,0,0,5.9269102990033211,9.4191943127962077,5.7807308970099669E-2,0.29857819905213268,0,0,4.2352159468438533,14.105924170616113,5.7807308970099669E-2,0.29857819905213268,0,0,3.6784053156146177,12.762796208530805,5.7807308970099669E-2,0.29857819905213268,0,0,7.0252491694352148,17.464454976303319,5.7807308970099669E-2,0.29857819905213268,0,0,6.4299003322259125,11.121327014218009,5.7807308970099669E-2,0.29857819905213268,0,0,4.9501661129568104,11.912559241706161,5.7807308970099669E-2,0.29857819905213268,0,0,7.2970099667774075,10.49478672985782,5.7807308970099669E-2,0.29857819905213268,0,0,4.4704318936877074,13.106872037914691,5.7807308970099669E-2,0.29857819905213268,0,0,4.720930232558139,10.91303317535545,5.7807308970099669E-2,0.29857819905213268,0,0,4.9328903654485048,11.435545023696681,5.7807308970099669E-2,0.29857819905213268,0,0,4.9906976744186045,11.659478672985781,5.7807308970099669E-2,0.29857819905213268,0,0,4.9906976744186045,11.674407582938388,5.7807308970099669E-2,0.29857819905213268,0,0,4.9906976744186045,11.674407582938388,5.7807308970099669E-2,0.29857819905213268,0,0,4.9906976744186045,11.674407582938388,5.7807308970099669E-2,0.29857819905213268,0,0,4.9906976744186045,11.674407582938388,5.7807308970099669E-2,0.29857819905213268,0,0,4.9906976744186045,11.674407582938388,5.7807308970099669E-2,0.29857819905213268,0,0,4.9906976744186045,11.674407582938388,5.7807308970099669E-2,0.29857819905213268,0,0,4.9906976744186045,11.674407582938388,5.7807308970099669E-2,0.29857819905213268,0,0,4.9906976744186045,11.674407582938388,5.7807308970099669E-2,0.29857819905213268,0,0,4.9906976744186045,11.674407582938388,5.7807308970099669E-2,0.29857819905213268,0,0,4.9906976744186045,11.674407582938388,5.7807308970099669E-2,0.29857819905213268,0,0,4.9906976744186045,11.674407582938388,5.7807308970099669E-2,0.29857819905213268,0,0,4.9906976744186045,11.674407582938388,5.7807308970099669E-2,0.29857819905213268,0,0,4.9906976744186045,11.674407582938388]
[46,{"$f":"Vstupy!J1438","v":2},{"$f":"Vstupy!K1438","v":13},0.11561461794019934,0.11943127962085308,0,0,7.0578073089700997,12.298578199052132,0.11561461794019934,0.11943127962085308,0,0,5.2504983388704316,15.537440758293839,0.11561461794019934,0.11943127962085308,0,0,2.3275747508305651,12.850947867298578,0.11561461794019934,0.11943127962085308,0,0,5.5202657807308961,13.32867298578199,0.11561461794019934,0.11943127962085308,0,0,4.6744186046511622,7.836255924170616,0.11561461794019934,0.11943127962085308,0,0,5.0019933554817273,8.2542654028436004,0.11561461794019934,0.11943127962085308,0,0,3.1946843853820601,5.8663507109004742,0.11561461794019934,0.11943127962085308,0,0,2.3873754152823925,12.612796208530805,0.11561461794019934,0.11943127962085308,0,0,3.5993355481727578,10.045734597156397,0.11561461794019934,0.11943127962085308,0,0,2.8498338870431899,9.0011848341232223,0.11561461794019934,0.11943127962085308,0,0,5.9847176079734208,9.7177725118483398,0.11561461794019934,0.11943127962085308,0,0,4.2930232558139529,14.404502369668245,0.11561461794019934,0.11943127962085308,0,0,3.7362126245847174,13.061374407582937,0.11561461794019934,0.11943127962085308,0,0,7.0830564784053145,17.763033175355453,0.11561461794019934,0.11943127962085308,0,0,6.4877076411960122,11.419905213270141,0.11561461794019934,0.11943127962085308,0,0,5.0079734219269101,12.211137440758293,0.11561461794019934,0.11943127962085308,0,0,7.3548172757475072,10.793364928909952,0.11561461794019934,0.11943127962085308,0,0,4.5282392026578071,13.405450236966823,0.11561461794019934,0.11943127962085308,0,0,4.7787375415282387,11.211611374407582,0.11561461794019934,0.11943127962085308,0,0,4.9906976744186045,11.734123222748813,0.11561461794019934,0.11943127962085308,0,0,5.0485049833887041,11.958056872037913,0.11561461794019934,0.11943127962085308,0,0,5.0485049833887041,11.97298578199052,0.11561461794019934,0.11943127962085308,0,0,5.0485049833887041,11.97298578199052,0.11561461794019934,0.11943127962085308,0,0,5.0485049833887041,11.97298578199052,0.11561461794019934,0.11943127962085308,0,0,5.0485049833887041,11.97298578199052,0.11561461794019934,0.11943127962085308,0,0,5.0485049833887041,11.97298578199052,0.11561461794019934,0.11943127962085308,0,0,5.0485049833887041,11.97298578199052,0.11561461794019934,0.11943127962085308,0,0,5.0485049833887041,11.97298578199052,0.11561461794019934,0.11943127962085308,0,0,5.0485049833887041,11.97298578199052,0.11561461794019934,0.11943127962085308,0,0,5.0485049833887041,11.97298578199052,0.11561461794019934,0.11943127962085308,0,0,5.0485049833887041,11.97298578199052,0.11561461794019934,0.11943127962085308,0,0,5.0485049833887041,11.97298578199052,0.11561461794019934,0.11943127962085308,0,0,5.0485049833887041,11.97298578199052]
[47,{"$f":"Vstupy!J1439","v":4},{"$f":"Vstupy!K1439","v":6},0.23122923588039868,0.20900473933649288,0,0,2.1156146179401993,13.119431279620853,0.23122923588039868,0.20900473933649288,0,0,7.173421926910299,12.418009478672985,0.23122923588039868,0.20900473933649288,0,0,5.3661129568106309,15.656872037914692,0.23122923588039868,0.20900473933649288,0,0,2.4431893687707644,12.970379146919431,0.23122923588039868,0.20900473933649288,0,0,5.6358803986710955,13.448104265402844,0.23122923588039868,0.20900473933649288,0,0,4.7900332225913616,7.9556872037914692,0.23122923588039868,0.20900473933649288,0,0,5.1176079734219266,8.3736966824644536,0.23122923588039868,0.20900473933649288,0,0,3.3102990033222595,5.9857819905213274,0.23122923588039868,0.20900473933649288,0,0,2.5029900332225918,12.732227488151658,0.23122923588039868,0.20900473933649288,0,0,3.7149501661129571,10.16516587677725,0.23122923588039868,0.20900473933649288,0,0,2.9654485049833892,9.1206161137440755,0.23122923588039868,0.20900473933649288,0,0,6.1003322259136201,9.837203791469193,0.23122923588039868,0.20900473933649288,0,0,4.4086378737541523,14.523933649289098,0.23122923588039868,0.20900473933649288,0,0,3.8518272425249167,13.18080568720379,0.23122923588039868,0.20900473933649288,0,0,7.1986710963455138,17.882464454976304,0.23122923588039868,0.20900473933649288,0,0,6.6033222591362115,11.539336492890994,0.23122923588039868,0.20900473933649288,0,0,5.1235880398671094,12.330568720379146,0.23122923588039868,0.20900473933649288,0,0,7.4704318936877065,10.912796208530805,0.23122923588039868,0.20900473933649288,0,0,4.6438538205980064,13.524881516587676,0.23122923588039868,0.20900473933649288,0,0,4.894352159468438,11.331042654028435,0.23122923588039868,0.20900473933649288,0,0,5.1063122923588038,11.853554502369667,0.23122923588039868,0.20900473933649288,0,0,5.1641196013289035,12.077488151658766,0.23122923588039868,0.20900473933649288,0,0,5.1641196013289035,12.092417061611373,0.23122923588039868,0.20900473933649288,0,0,5.1641196013289035,12.092417061611373,0.23122923588039868,0.20900473933649288,0,0,5.1641196013289035,12.092417061611373,0.23122923588039868,0.20900473933649288,0,0,5.1641196013289035,12.092417061611373,0.23122923588039868,0.20900473933649288,0,0,5.1641196013289035,12.092417061611373,0.23122923588039868,0.20900473933649288,0,0,5.1641196013289035,12.092417061611373,0.23122923588039868,0.20900473933649288,0,0,5.1641196013289035,12.092417061611373,0.23122923588039868,0.20900473933649288,0,0,5.1641196013289035,12.092417061611373,0.23122923588039868,0.20900473933649288,0,0,5.1641196013289035,12.092417061611373,0.23122923588039868,0.20900473933649288,0,0,5.1641196013289035,12.092417061611373,0.23122923588039868,0.20900473933649288,0,0,5.1641196013289035,12.092417061611373]
[48,{"$f":"Vstupy!J1440","v":5},{"$f":"Vstupy!K1440","v":15},0.15415282392026577,4.478672985781991E-2,0,0,4.2312292358803987,6.2090047393364927,0.15415282392026577,4.478672985781991E-2,0,0,2.346843853820598,13.328436018957346,0.15415282392026577,4.478672985781991E-2,0,0,7.4046511627906977,12.627014218009478,0.15415282392026577,4.478672985781991E-2,0,0,5.5973421926910296,15.865876777251184,0.15415282392026577,4.478672985781991E-2,0,0,2.6744186046511631,13.179383886255923,0.15415282392026577,4.478672985781991E-2,0,0,5.8671096345514941,13.657109004739336,0.15415282392026577,4.478672985781991E-2,0,0,5.0212624584717602,8.1646919431279628,0.15415282392026577,4.478672985781991E-2,0,0,5.3488372093023253,8.5827014218009463,0.15415282392026577,4.478672985781991E-2,0,0,3.5415282392026581,6.1947867298578201,0.15415282392026577,4.478672985781991E-2,0,0,2.7342192691029905,12.94123222748815,0.15415282392026577,4.478672985781991E-2,0,0,3.9461794019933558,10.374170616113743,0.15415282392026577,4.478672985781991E-2,0,0,3.1966777408637879,9.3296208530805682,0.15415282392026577,4.478672985781991E-2,0,0,6.3315614617940188,10.046208530805686,0.15415282392026577,4.478672985781991E-2,0,0,4.639867109634551,14.732938388625591,0.15415282392026577,4.478672985781991E-2,0,0,4.0830564784053154,13.389810426540283,0.15415282392026577,4.478672985781991E-2,0,0,7.4299003322259125,18.091469194312797,0.15415282392026577,4.478672985781991E-2,0,0,6.8345514950166102,11.748341232227487,0.15415282392026577,4.478672985781991E-2,0,0,5.3548172757475081,12.539573459715639,0.15415282392026577,4.478672985781991E-2,0,0,7.7016611295681052,11.121800947867298,0.15415282392026577,4.478672985781991E-2,0,0,4.8750830564784051,13.733886255924169,0.15415282392026577,4.478672985781991E-2,0,0,5.1255813953488367,11.540047393364928,0.15415282392026577,4.478672985781991E-2,0,0,5.3375415282392025,12.062559241706159,0.15415282392026577,4.478672985781991E-2,0,0,5.3953488372093021,12.286492890995259,0.15415282392026577,4.478672985781991E-2,0,0,5.3953488372093021,12.301421800947866,0.15415282392026577,4.478672985781991E-2,0,0,5.3953488372093021,12.301421800947866,0.15415282392026577,4.478672985781991E-2,0,0,5.3953488372093021,12.301421800947866,0.15415282392026577,4.478672985781991E-2,0,0,5.3953488372093021,12.301421800947866,0.15415282392026577,4.478672985781991E-2,0,0,5.3953488372093021,12.301421800947866,0.15415282392026577,4.478672985781991E-2,0,0,5.3953488372093021,12.301421800947866,0.15415282392026577,4.478672985781991E-2,0,0,5.3953488372093021,12.301421800947866,0.15415282392026577,4.478672985781991E-2,0,0,5.3953488372093021,12.301421800947866,0.15415282392026577,4.478672985781991E-2,0,0,5.3953488372093021,12.301421800947866,0.15415282392026577,4.478672985781991E-2,0,0,5.3953488372093021,12.301421800947866]
[49,{"$f":"Vstupy!J1441","v":3},{"$f":"Vstupy!K1441","v":7},7.7076411960132887E-2,4.478672985781991E-2,0,0,5.1541528239202661,15.044786729857821,7.7076411960132887E-2,4.478672985781991E-2,0,0,4.3853820598006648,6.2537914691943124,7.7076411960132887E-2,4.478672985781991E-2,0,0,2.5009966777408636,13.373222748815166,7.7076411960132887E-2,4.478672985781991E-2,0,0,7.5588039867109638,12.671800947867299,7.7076411960132887E-2,4.478672985781991E-2,0,0,5.7514950166112957,15.910663507109005,7.7076411960132887E-2,4.478672985781991E-2,0,0,2.8285714285714287,13.224170616113744,7.7076411960132887E-2,4.478672985781991E-2,0,0,6.0212624584717602,13.701895734597157,7.7076411960132887E-2,4.478672985781991E-2,0,0,5.1754152823920263,8.2094786729857834,7.7076411960132887E-2,4.478672985781991E-2,0,0,5.5029900332225914,8.6274881516587669,7.7076411960132887E-2,4.478672985781991E-2,0,0,3.6956810631229238,6.2395734597156398,7.7076411960132887E-2,4.478672985781991E-2,0,0,2.8883720930232561,12.986018957345971,7.7076411960132887E-2,4.478672985781991E-2,0,0,4.1003322259136219,10.418957345971563,7.7076411960132887E-2,4.478672985781991E-2,0,0,3.3508305647840535,9.3744075829383888,7.7076411960132887E-2,4.478672985781991E-2,0,0,6.4857142857142849,10.090995260663506,7.7076411960132887E-2,4.478672985781991E-2,0,0,4.794019933554817,14.777725118483412,7.7076411960132887E-2,4.478672985781991E-2,0,0,4.2372093023255815,13.434597156398103,7.7076411960132887E-2,4.478672985781991E-2,0,0,7.5840531561461786,18.136255924170616,7.7076411960132887E-2,4.478672985781991E-2,0,0,6.9887043189368763,11.793127962085308,7.7076411960132887E-2,4.478672985781991E-2,0,0,5.5089700996677742,12.584360189573459,7.7076411960132887E-2,4.478672985781991E-2,0,0,7.8558139534883713,11.166587677725119,7.7076411960132887E-2,4.478672985781991E-2,0,0,5.0292358803986712,13.77867298578199,7.7076411960132887E-2,4.478672985781991E-2,0,0,5.2797342192691028,11.584834123222748,7.7076411960132887E-2,4.478672985781991E-2,0,0,5.4916943521594686,12.10734597156398,7.7076411960132887E-2,4.478672985781991E-2,0,0,5.5495016611295682,12.331279620853079,7.7076411960132887E-2,4.478672985781991E-2,0,0,5.5495016611295682,12.346208530805686,7.7076411960132887E-2,4.478672985781991E-2,0,0,5.5495016611295682,12.346208530805686,7.7076411960132887E-2,4.478672985781991E-2,0,0,5.5495016611295682,12.346208530805686,7.7076411960132887E-2,4.478672985781991E-2,0,0,5.5495016611295682,12.346208530805686,7.7076411960132887E-2,4.478672985781991E-2,0,0,5.5495016611295682,12.346208530805686,7.7076411960132887E-2,4.478672985781991E-2,0,0,5.5495016611295682,12.346208530805686,7.7076411960132887E-2,4.478672985781991E-2,0,0,5.5495016611295682,12.346208530805686,7.7076411960132887E-2,4.478672985781991E-2,0,0,5.5495016611295682,12.346208530805686,7.7076411960132887E-2,4.478672985781991E-2,0,0,5.5495016611295682,12.346208530805686]
[50,{"$f":"Vstupy!J1442","v":2},{"$f":"Vstupy!K1442","v":10},0.13488372093023257,4.478672985781991E-2,0,0,3.077076411960133,7.0447867298578197,0.13488372093023257,4.478672985781991E-2,0,0,5.2312292358803987,15.089573459715641,0.13488372093023257,4.478672985781991E-2,0,0,4.4624584717607974,6.2985781990521321,0.13488372093023257,4.478672985781991E-2,0,0,2.5780730897009967,13.418009478672987,0.13488372093023257,4.478672985781991E-2,0,0,7.6358803986710964,12.716587677725119,0.13488372093023257,4.478672985781991E-2,0,0,5.8285714285714283,15.955450236966826,0.13488372093023257,4.478672985781991E-2,0,0,2.9056478405315618,13.268957345971565,0.13488372093023257,4.478672985781991E-2,0,0,6.0983388704318928,13.746682464454977,0.13488372093023257,4.478672985781991E-2,0,0,5.2524916943521589,8.254265402843604,0.13488372093023257,4.478672985781991E-2,0,0,5.580066445182724,8.6722748815165875,0.13488372093023257,4.478672985781991E-2,0,0,3.7727574750830568,6.2843601895734595,0.13488372093023257,4.478672985781991E-2,0,0,2.9654485049833892,13.030805687203792,0.13488372093023257,4.478672985781991E-2,0,0,4.1774086378737545,10.463744075829384,0.13488372093023257,4.478672985781991E-2,0,0,3.4279069767441865,9.4191943127962094,0.13488372093023257,4.478672985781991E-2,0,0,6.5627906976744175,10.135781990521327,0.13488372093023257,4.478672985781991E-2,0,0,4.8710963455149496,14.822511848341232,0.13488372093023257,4.478672985781991E-2,0,0,4.3142857142857141,13.479383886255924,0.13488372093023257,4.478672985781991E-2,0,0,7.6611295681063112,18.181042654028435,0.13488372093023257,4.478672985781991E-2,0,0,7.0657807308970089,11.837914691943128,0.13488372093023257,4.478672985781991E-2,0,0,5.5860465116279068,12.62914691943128,0.13488372093023257,4.478672985781991E-2,0,0,7.9328903654485039,11.211374407582939,0.13488372093023257,4.478672985781991E-2,0,0,5.1063122923588038,13.82345971563981,0.13488372093023257,4.478672985781991E-2,0,0,5.3568106312292354,11.629620853080569,0.13488372093023257,4.478672985781991E-2,0,0,5.5687707641196011,12.152132701421801,0.13488372093023257,4.478672985781991E-2,0,0,5.6265780730897008,12.3760663507109,0.13488372093023257,4.478672985781991E-2,0,0,5.6265780730897008,12.390995260663507,0.13488372093023257,4.478672985781991E-2,0,0,5.6265780730897008,12.390995260663507,0.13488372093023257,4.478672985781991E-2,0,0,5.6265780730897008,12.390995260663507,0.13488372093023257,4.478672985781991E-2,0,0,5.6265780730897008,12.390995260663507,0.13488372093023257,4.478672985781991E-2,0,0,5.6265780730897008,12.390995260663507,0.13488372093023257,4.478672985781991E-2,0,0,5.6265780730897008,12.390995260663507,0.13488372093023257,4.478672985781991E-2,0,0,5.6265780730897008,12.390995260663507,0.13488372093023257,4.478672985781991E-2,0,0,5.6265780730897008,12.390995260663507]
[51,{"$f":"Vstupy!J1443","v":3},{"$f":"Vstupy!K1443","v":9},1.9269102990033222E-2,-1.4928909952606635E-2,0,0,2.1348837209302327,10.044786729857821,1.9269102990033222E-2,-1.4928909952606635E-2,0,0,3.2119601328903657,7.0895734597156395,1.9269102990033222E-2,-1.4928909952606635E-2,0,0,5.3661129568106309,15.134360189573462,1.9269102990033222E-2,-1.4928909952606635E-2,0,0,4.5973421926910296,6.3433649289099518,1.9269102990033222E-2,-1.4928909952606635E-2,0,0,2.7129568106312294,13.462796208530808,1.9269102990033222E-2,-1.4928909952606635E-2,0,0,7.7707641196013286,12.76137440758294,1.9269102990033222E-2,-1.4928909952606635E-2,0,0,5.9634551495016606,16.000236966824644,1.9269102990033222E-2,-1.4928909952606635E-2,0,0,3.0405315614617945,13.313744075829385,1.9269102990033222E-2,-1.4928909952606635E-2,0,0,6.2332225913621251,13.791469194312798,1.9269102990033222E-2,-1.4928909952606635E-2,0,0,5.3873754152823912,8.2990521327014246,1.9269102990033222E-2,-1.4928909952606635E-2,0,0,5.7149501661129563,8.7170616113744082,1.9269102990033222E-2,-1.4928909952606635E-2,0,0,3.9076411960132895,6.3291469194312793,1.9269102990033222E-2,-1.4928909952606635E-2,0,0,3.1003322259136219,13.075592417061612,1.9269102990033222E-2,-1.4928909952606635E-2,0,0,4.3122923588039868,10.508530805687204,1.9269102990033222E-2,-1.4928909952606635E-2,0,0,3.5627906976744192,9.4639810426540301,1.9269102990033222E-2,-1.4928909952606635E-2,0,0,6.6976744186046497,10.180568720379148,1.9269102990033222E-2,-1.4928909952606635E-2,0,0,5.0059800664451819,14.867298578199053,1.9269102990033222E-2,-1.4928909952606635E-2,0,0,4.4491694352159463,13.524170616113745,1.9269102990033222E-2,-1.4928909952606635E-2,0,0,7.7960132890365434,18.225829383886254,1.9269102990033222E-2,-1.4928909952606635E-2,0,0,7.2006644518272411,11.882701421800949,1.9269102990033222E-2,-1.4928909952606635E-2,0,0,5.720930232558139,12.673933649289101,1.9269102990033222E-2,-1.4928909952606635E-2,0,0,8.0677740863787371,11.25616113744076,1.9269102990033222E-2,-1.4928909952606635E-2,0,0,5.2411960132890361,13.868246445497631,1.9269102990033222E-2,-1.4928909952606635E-2,0,0,5.4916943521594677,11.67440758293839,1.9269102990033222E-2,-1.4928909952606635E-2,0,0,5.7036544850498334,12.196919431279621,1.9269102990033222E-2,-1.4928909952606635E-2,0,0,5.7614617940199331,12.420853080568721,1.9269102990033222E-2,-1.4928909952606635E-2,0,0,5.7614617940199331,12.435781990521328,1.9269102990033222E-2,-1.4928909952606635E-2,0,0,5.7614617940199331,12.435781990521328,1.9269102990033222E-2,-1.4928909952606635E-2,0,0,5.7614617940199331,12.435781990521328,1.9269102990033222E-2,-1.4928909952606635E-2,0,0,5.7614617940199331,12.435781990521328,1.9269102990033222E-2,-1.4928909952606635E-2,0,0,5.7614617940199331,12.435781990521328,1.9269102990033222E-2,-1.4928909952606635E-2,0,0,5.7614617940199331,12.435781990521328,1.9269102990033222E-2,-1.4928909952606635E-2,0,0,5.7614617940199331,12.435781990521328]
[52,{"$f":"Vstupy!J1444","v":7},{"$f":"Vstupy!K1444","v":6},-7.7076411960132887E-2,2.985781990521327E-2,0,0,3.0192691029900334,8.9850710900473931,-7.7076411960132887E-2,2.985781990521327E-2,0,0,2.1541528239202661,10.029857819905214,-7.7076411960132887E-2,2.985781990521327E-2,0,0,3.2312292358803991,7.0746445497630326,-7.7076411960132887E-2,2.985781990521327E-2,0,0,5.3853820598006639,15.119431279620855,-7.7076411960132887E-2,2.985781990521327E-2,0,0,4.6166112956810625,6.328436018957345,-7.7076411960132887E-2,2.985781990521327E-2,0,0,2.7322259136212628,13.447867298578201,-7.7076411960132887E-2,2.985781990521327E-2,0,0,7.7900332225913616,12.746445497630333,-7.7076411960132887E-2,2.985781990521327E-2,0,0,5.9827242524916935,15.985308056872038,-7.7076411960132887E-2,2.985781990521327E-2,0,0,3.0598006644518279,13.298815165876778,-7.7076411960132887E-2,2.985781990521327E-2,0,0,6.252491694352158,13.776540284360191,-7.7076411960132887E-2,2.985781990521327E-2,0,0,5.4066445182724241,8.2841232227488177,-7.7076411960132887E-2,2.985781990521327E-2,0,0,5.7342192691029892,8.7021327014218013,-7.7076411960132887E-2,2.985781990521327E-2,0,0,3.9269102990033229,6.3142180094786724,-7.7076411960132887E-2,2.985781990521327E-2,0,0,3.1196013289036553,13.060663507109005,-7.7076411960132887E-2,2.985781990521327E-2,0,0,4.3315614617940197,10.493601895734598,-7.7076411960132887E-2,2.985781990521327E-2,0,0,3.5820598006644526,9.4490521327014232,-7.7076411960132887E-2,2.985781990521327E-2,0,0,6.7169435215946827,10.165639810426541,-7.7076411960132887E-2,2.985781990521327E-2,0,0,5.0252491694352148,14.852369668246446,-7.7076411960132887E-2,2.985781990521327E-2,0,0,4.4684385382059792,13.509241706161138,-7.7076411960132887E-2,2.985781990521327E-2,0,0,7.8152823920265764,18.210900473933648,-7.7076411960132887E-2,2.985781990521327E-2,0,0,7.2199335548172741,11.867772511848342,-7.7076411960132887E-2,2.985781990521327E-2,0,0,5.740199335548172,12.659004739336494,-7.7076411960132887E-2,2.985781990521327E-2,0,0,8.0870431893687709,11.241232227488153,-7.7076411960132887E-2,2.985781990521327E-2,0,0,5.260465116279069,13.853317535545024,-7.7076411960132887E-2,2.985781990521327E-2,0,0,5.5109634551495006,11.659478672985783,-7.7076411960132887E-2,2.985781990521327E-2,0,0,5.7229235880398663,12.181990521327014,-7.7076411960132887E-2,2.985781990521327E-2,0,0,5.780730897009966,12.405924170616114,-7.7076411960132887E-2,2.985781990521327E-2,0,0,5.780730897009966,12.420853080568721,-7.7076411960132887E-2,2.985781990521327E-2,0,0,5.780730897009966,12.420853080568721,-7.7076411960132887E-2,2.985781990521327E-2,0,0,5.780730897009966,12.420853080568721,-7.7076411960132887E-2,2.985781990521327E-2,0,0,5.780730897009966,12.420853080568721,-7.7076411960132887E-2,2.985781990521327E-2,0,0,5.780730897009966,12.420853080568721,-7.7076411960132887E-2,2.985781990521327E-2,0,0,5.780730897009966,12.420853080568721]
[53,{"$f":"Vstupy!J1445","v":3},{"$f":"Vstupy!K1445","v":9},1.9269102990033222E-2,0.14928909952606634,0,1.2780719910583438E-2,6.9229235880398674,6.0298578199052129,1.9269102990033222E-2,0.14928909952606634,0,8.5628804329833108E-3,2.9421926910299003,9.0149289099526069,1.9269102990033222E-2,0.14928909952606634,0,1.2801920156880614E-2,2.077076411960133,10.059715639810427,1.9269102990033222E-2,0.14928909952606634,0,1.428560088583697E-2,3.1541528239202661,7.1045023696682454,1.9269102990033222E-2,0.14928909952606634,0,1.0088961654534018E-2,5.3083056478405313,15.149289099526069,1.9269102990033222E-2,0.14928909952606634,0,2.1513202313944164E-2,4.5395348837209299,6.3582938388625578,1.9269102990033222E-2,0.14928909952606634,0,9.0292858515211884E-3,2.6551495016611297,13.477725118483415,1.9269102990033222E-2,0.14928909952606634,0,1.9139447752352389E-2,7.712956810631229,12.776303317535547,1.9269102990033222E-2,0.14928909952606634,0,1.8143372688231088E-2,5.9056478405315609,16.01516587677725,1.9269102990033222E-2,0.14928909952606634,0,2.2742816599180385E-2,2.9827242524916948,13.328672985781992,1.9269102990033222E-2,0.14928909952606634,0,1.8927781801226611E-2,6.1754152823920254,13.806398104265405,1.9269102990033222E-2,0.14928909952606634,0,1.9606189682736256E-2,5.3295681063122915,8.3139810426540315,1.9269102990033222E-2,0.14928909952606634,0,1.1806518116451292E-2,5.6571428571428566,8.731990521327015,1.9269102990033222E-2,0.14928909952606634,0,1.2400125012772226E-2,3.8498338870431899,6.3440758293838853,1.9269102990033222E-2,0.14928909952606634,0,9.0090951407619732E-3,3.0425249169435222,13.090521327014219,1.9269102990033222E-2,0.14928909952606634,0,1.858958739600975E-2,4.2544850498338871,10.523459715639811,1.9269102990033222E-2,0.14928909952606634,0,1.4944154568433385E-2,3.5049833887043196,9.4789099526066369,1.9269102990033222E-2,0.14928909952606634,0,1.3460810351323018E-2,6.6398671096345501,10.195497630331754,1.9269102990033222E-2,0.14928909952606634,0,1.4478422173587479E-2,4.9481727574750822,14.88222748815166,1.9269102990033222E-2,0.14928909952606634,0,2.1133953463516895E-2,4.3913621262458467,13.539099526066352,1.9269102990033222E-2,0.14928909952606634,0,1.9226604320463001E-2,7.7382059800664438,18.240758293838862,1.9269102990033222E-2,0.14928909952606634,0,2.590333585668959E-2,7.1428571428571415,11.897630331753556,1.9269102990033222E-2,0.14928909952606634,0,1.6895586763311567E-2,5.6631229235880394,12.688862559241707,1.9269102990033222E-2,0.14928909952606634,0,1.8019199817061911E-2,8.0099667774086374,11.271090047393367,1.9269102990033222E-2,0.14928909952606634,0,1.6005849442522136E-2,5.1833887043189364,13.883175355450238,1.9269102990033222E-2,0.14928909952606634,0,1.9715219520836016E-2,5.433887043189368,11.689336492890996,1.9269102990033222E-2,0.14928909952606634,0,1.6599792850689059E-2,5.6458471760797337,12.211848341232228,1.9269102990033222E-2,0.14928909952606634,0,1.734180147109023E-2,5.7036544850498334,12.435781990521328,1.9269102990033222E-2,0.14928909952606634,0,1.7659805165547875E-2,5.7036544850498334,12.450710900473934,1.9269102990033222E-2,0.14928909952606634,0,1.7681005411845051E-2,5.7036544850498334,12.450710900473934,1.9269102990033222E-2,0.14928909952606634,0,1.7681005411845051E-2,5.7036544850498334,12.450710900473934,1.9269102990033222E-2,0.14928909952606634,0,1.7681005411845051E-2,5.7036544850498334,12.450710900473934,1.9269102990033222E-2,0.14928909952606634,0,1.7681005411845051E-2,5.7036544850498334,12.450710900473934]
[54,{"$f":"Vstupy!J1446","v":5},{"$f":"Vstupy!K1446","v":8},0.15415282392026577,0,0,4.1144124288835737E-2,3.0192691029900334,9.1365083796154831,0.15415282392026577,0,0,4.6989204542111078E-2,6.9421926910299003,6.170584038998296,0.15415282392026577,0,0,3.1735409579406487E-2,2.9614617940199337,9.1514160893217937,0.15415282392026577,0,0,4.7065875124738372E-2,2.0963455149501664,10.194719138450658,0.15415282392026577,0,0,5.2431598915273284E-2,3.1734219269102995,7.2437025075397772,0.15415282392026577,0,0,3.725447453519596E-2,5.3275747508305642,15.277064996738192,0.15415282392026577,0,0,7.8570182624302265E-2,4.5588039867109629,6.4985536525371028,0.15415282392026577,0,0,3.3422162397206752E-2,2.6744186046511631,13.60787477025713,0.15415282392026577,0,0,6.9985511356796426E-2,7.7322259136212619,12.907449044373383,0.15415282392026577,0,0,6.638321096668906E-2,5.9249169435215938,16.141712159704134,0.15415282392026577,0,0,8.3017076416684751E-2,3.0019933554817282,13.459034303506833,0.15415282392026577,0,0,6.9220022523898611E-2,6.1946843853820583,13.936081014108735,0.15415282392026577,0,0,7.1673481167971717E-2,5.3488372093023244,8.4514636240636474,0.15415282392026577,0,0,4.3466008721381101E-2,5.6764119601328895,8.868879495840309,0.15415282392026577,0,0,4.5612785034945064E-2,3.8691029900332232,6.4843558337691896,0.15415282392026577,0,0,3.3349142794704578E-2,3.0617940199335556,13.221220839144276,0.15415282392026577,0,0,6.7996944181987151E-2,4.27375415282392,10.657804660597446,0.15415282392026577,0,0,5.4813254950219263E-2,3.524252491694353,9.6147382417813816,0.15415282392026577,0,0,4.9448748153059392E-2,6.659136212624583,10.330308307684234,0.15415282392026577,0,0,5.3128936119169065E-2,4.9674418604651152,15.01038263421421,0.15415282392026577,0,0,7.7198631090636377E-2,4.4106312292358796,13.669162021271955,0.15415282392026577,0,0,7.030071264093081E-2,7.7574750830564767,18.364144057508238,0.15415282392026577,0,0,9.4447078195025388E-2,7.1621262458471744,12.030023844516311,0.15415282392026577,0,0,6.1870599532054579E-2,5.6823920265780723,12.820132458950713,0.15415282392026577,0,0,6.5934140411300676E-2,8.0292358803986712,11.404373297476912,0.15415282392026577,0,0,5.8652869048458692E-2,5.2026578073089693,14.012749235455468,0.15415282392026577,0,0,7.2067787021483462E-2,5.4531561461794009,11.822025799566374,0.15415282392026577,0,0,6.0800862355397695E-2,5.6651162790697667,12.343795639287205,0.15415282392026577,0,0,6.348433274735267E-2,5.7229235880398663,12.567411284881846,0.15415282392026577,0,0,6.4634391486761936E-2,5.7229235880398663,12.582318994588157,0.15415282392026577,0,0,6.471106206938923E-2,5.7229235880398663,12.582318994588157,0.15415282392026577,0,0,6.471106206938923E-2,5.7229235880398663,12.582318994588157,0.15415282392026577,0,0,6.471106206938923E-2,5.7229235880398663,12.582318994588157]
[55,{"$f":"Vstupy!J1447","v":5},{"$f":"Vstupy!K1447","v":7},{"$f":"D$168*B42/100","v":-5.7807308970099669E-2},{"$f":"E$168*C42/100","v":0},{"$f":"IF($A205<$B$162,0,B205*B118)","v":0},{"$f":"IF($A205<$B$163,0,C205*C118)","v":6.2268289391845144E-2},5.1541528239202661,7.9588558757111638,{"$f":"J$168*D42/100","v":-5.7807308970099669E-2},{"$f":"K$168*E42/100","v":0},{"$f":"IF($A205<$B$162,0,H205*D118)","v":0},{"$f":"IF($A205<$B$163,0,I205*E118)","v":7.0797762985252838E-2},3.173421926910299,9.0895191750733719,{"$f":"P$168*F42/100","v":-5.7807308970099669E-2},{"$f":"Q$168*G42/100","v":0},{"$f":"IF($A205<$B$162,0,N205*F118)","v":0},{"$f":"IF($A205<$B$163,0,O205*G118)","v":8.0855544346599181E-2},7.0963455149501664,6.1388486294188898,{"$f":"V$168*H42/100","v":-5.7807308970099669E-2},{"$f":"W$168*I42/100","v":0},{"$f":"IF($A205<$B$162,0,T205*H118)","v":0},{"$f":"IF($A205<$B$163,0,U205*I118)","v":5.4607943284198192E-2},3.1156146179401993,9.1043502141970549,{"$f":"AB$168*J42/100","v":-5.7807308970099669E-2},{"$f":"AC$168*K42/100","v":0},{"$f":"IF($A205<$B$162,0,Z205*J118)","v":0},{"$f":"IF($A205<$B$163,0,AA205*K118)","v":8.098747340890422E-2},2.250498338870432,10.142287539535385,{"$f":"AH$168*L42/100","v":-5.7807308970099669E-2},{"$f":"AI$168*M42/100","v":0},{"$f":"IF($A205<$B$162,0,AF205*L118)","v":0},{"$f":"IF($A205<$B$163,0,AG205*M118)","v":9.0220413658156348E-2},3.3275747508305651,7.2064480330045813,{"$f":"AN$168*N42/100","v":-5.7807308970099669E-2},{"$f":"AO$168*O42/100","v":0},{"$f":"IF($A205<$B$162,0,AL205*N118)","v":0},{"$f":"IF($A205<$B$163,0,AM205*O118)","v":6.4104741658060349E-2},5.4817275747508303,15.198494814113889,{"$f":"AT$168*P42/100","v":-5.7807308970099669E-2},{"$f":"AU$168*Q42/100","v":0},{"$f":"IF($A205<$B$162,0,AR205*P118)","v":0},{"$f":"IF($A205<$B$163,0,AS205*Q118)","v":0.13519775334367162},4.712956810631229,6.4651314901398962,{"$f":"AZ$168*R42/100","v":-5.7807308970099669E-2},{"$f":"BA$168*S42/100","v":0},{"$f":"IF($A205<$B$162,0,AX205*R118)","v":0},{"$f":"IF($A205<$B$163,0,AY205*S118)","v":5.7510382654908869E-2},2.8285714285714287,13.537889258900334,{"$f":"BF$168*T42/100","v":-5.7807308970099669E-2},{"$f":"BG$168*U42/100","v":0},{"$f":"IF($A205<$B$162,0,BD205*T118)","v":0},{"$f":"IF($A205<$B$163,0,BE205*U118)","v":0.12042588658970828},7.886378737541528,12.841065833406693,{"$f":"BL$168*V42/100","v":-5.7807308970099669E-2},{"$f":"BM$168*W42/100","v":0},{"$f":"IF($A205<$B$162,0,BJ205*V118)","v":0},{"$f":"IF($A205<$B$163,0,BK205*W118)","v":0.11422731477347188},6.0790697674418599,16.05869508328745,{"$f":"BR$168*X42/100","v":-5.7807308970099669E-2},{"$f":"BS$168*Y42/100","v":0},{"$f":"IF($A205<$B$162,0,BP205*X118)","v":0},{"$f":"IF($A205<$B$163,0,BQ205*Y118)","v":0.14284963895736338},3.1561461794019938,13.389814280982934,{"$f":"BX$168*Z42/100","v":-5.7807308970099669E-2},{"$f":"BY$168*AA42/100","v":0},{"$f":"IF($A205<$B$162,0,BV205*Z118)","v":0},{"$f":"IF($A205<$B$163,0,BW205*AA118)","v":0.11910869007875803},6.3488372093023244,13.864407532940763,{"$f":"CD$168*AB42/100","v":-5.7807308970099669E-2},{"$f":"CE$168*AC42/100","v":0},{"$f":"IF($A205<$B$162,0,CB205*AB118)","v":0},{"$f":"IF($A205<$B$163,0,CC205*AC118)","v":0.12333042007251903},5.5029900332225905,8.407997615342266,{"$f":"CJ$168*AD42/100","v":-5.7807308970099669E-2},{"$f":"CK$168*AE42/100","v":0},{"$f":"IF($A205<$B$162,0,CH205*AD118)","v":0},{"$f":"IF($A205<$B$163,0,CI205*AE118)","v":7.4793089816868011E-2},5.8305647840531556,8.8232667108053633,{"$f":"CP$168*AF42/100","v":-5.7807308970099669E-2},{"$f":"CQ$168*AG42/100","v":0},{"$f":"IF($A205<$B$162,0,CN205*AF118)","v":0},{"$f":"IF($A205<$B$163,0,CO205*AG118)","v":7.8487103561408852E-2},4.0232558139534893,6.4510066909744852,{"$f":"CV$168*AH42/100","v":-5.7807308970099669E-2},{"$f":"CW$168*AI42/100","v":0},{"$f":"IF($A205<$B$162,0,CT205*AH118)","v":0},{"$f":"IF($A205<$B$163,0,CU205*AI118)","v":5.7384735928904085E-2},3.2159468438538212,13.15322389496229,{"$f":"DB$168*AJ42/100","v":-5.7807308970099669E-2},{"$f":"DC$168*AK42/100","v":0},{"$f":"IF($A205<$B$162,0,CZ205*AJ118)","v":0},{"$f":"IF($A205<$B$163,0,DA205*AK118)","v":0.11700410741817778},4.4279069767441861,10.602991405647227,{"$f":"DH$168*AL42/100","v":-5.7807308970099669E-2},{"$f":"DI$168*AM42/100","v":0},{"$f":"IF($A205<$B$162,0,DF205*AL118)","v":0},{"$f":"IF($A205<$B$163,0,DG205*AM118)","v":9.4318591038012642E-2},3.6784053156146186,9.5652894936283221,{"$f":"DN$168*AN42/100","v":-5.7807308970099669E-2},{"$f":"DO$168*AO42/100","v":0},{"$f":"IF($A205<$B$162,0,DL205*AN118)","v":0},{"$f":"IF($A205<$B$163,0,DM205*AO118)","v":8.5087744900860615E-2},6.8132890365448491,10.277179371565065,{"$f":"DT$168*AP42/100","v":-5.7807308970099669E-2},{"$f":"DU$168*AQ42/100","v":0},{"$f":"IF($A205<$B$162,0,DR205*AP118)","v":0},{"$f":"IF($A205<$B$163,0,DS205*AQ118)","v":9.1420339891502098E-2},5.1215946843853812,14.933184003123573,{"$f":"DZ$168*AR42/100","v":-5.7807308970099669E-2},{"$f":"EA$168*AS42/100","v":0},{"$f":"IF($A205<$B$162,0,DX205*AR118)","v":0},{"$f":"IF($A205<$B$163,0,DY205*AS118)","v":0.13283768900688159},4.5647840531561457,13.598861308631024,{"$f":"EF$168*AT42/100","v":-5.7807308970099669E-2},{"$f":"EG$168*AU42/100","v":0},{"$f":"IF($A205<$B$162,0,ED205*AT118)","v":0},{"$f":"IF($A205<$B$163,0,EE205*AU118)","v":0.12096826162362893},7.9116279069767428,18.269696979313213,{"$f":"EL$168*AV42/100","v":-5.7807308970099669E-2},{"$f":"EM$168*AW42/100","v":0},{"$f":"IF($A205<$B$162,0,EJ205*AV118)","v":0},{"$f":"IF($A205<$B$163,0,EK205*AW118)","v":0.16251753980131345},7.3162790697674405,11.968153244984256,{"$f":"ER$168*AX42/100","v":-5.7807308970099669E-2},{"$f":"ES$168*AY42/100","v":0},{"$f":"IF($A205<$B$162,0,EP205*AX118)","v":0},{"$f":"IF($A205<$B$163,0,EQ205*AY118)","v":0.10646234710637574},5.8365448504983384,12.754198318539412,{"$f":"EX$168*AZ42/100","v":-5.7807308970099669E-2},{"$f":"EY$168*BA42/100","v":0},{"$f":"IF($A205<$B$162,0,EV205*AZ118)","v":0},{"$f":"IF($A205<$B$163,0,EW205*BA118)","v":0.1134545874085424},8.1833887043189364,11.345720428428454,{"$f":"FD$168*BB42/100","v":-5.7807308970099669E-2},{"$f":"FE$168*BC42/100","v":0},{"$f":"IF($A205<$B$162,0,FB205*BB118)","v":0},{"$f":"IF($A205<$B$163,0,FC205*BC118)","v":0.1009255147137646},5.3568106312292354,13.940681448433985,{"$f":"FJ$168*BD42/100","v":-5.7807308970099669E-2},{"$f":"FK$168*BE42/100","v":0},{"$f":"IF($A205<$B$162,0,FH205*BD118)","v":0},{"$f":"IF($A205<$B$163,0,FI205*BE118)","v":0.1240089123929449},5.607308970099667,11.761224937210976,{"$f":"FP$168*BF42/100","v":-5.7807308970099669E-2},{"$f":"FQ$168*BG42/100","v":0},{"$f":"IF($A205<$B$162,0,FN205*BF118)","v":0},{"$f":"IF($A205<$B$163,0,FO205*BG118)","v":0.10462162257040554},5.8192691029900327,12.280311306539852,{"$f":"FV$168*BH42/100","v":-5.7807308970099669E-2},{"$f":"FW$168*BI42/100","v":0},{"$f":"IF($A205<$B$162,0,FT205*BH118)","v":0},{"$f":"IF($A205<$B$163,0,FU205*BI118)","v":0.10923913975108164},5.8770764119601324,12.502776893395085,{"$f":"GB$168*BJ42/100","v":-5.7807308970099669E-2},{"$f":"GC$168*BK42/100","v":0},{"$f":"IF($A205<$B$162,0,FZ205*BJ118)","v":0},{"$f":"IF($A205<$B$163,0,GA205*BK118)","v":0.11121807568565711},5.8770764119601324,12.517607932518768,{"$f":"GH$168*BL42/100","v":-5.7807308970099669E-2},{"$f":"GI$168*BM42/100","v":0},{"$f":"IF($A205<$B$162,0,GF205*BL118)","v":0},{"$f":"IF($A205<$B$163,0,GG205*BM118)","v":0.11135000474796215},5.8770764119601324,12.517607932518768,{"$f":"GN$168*BN42/100","v":-5.7807308970099669E-2},{"$f":"GO$168*BO42/100","v":0},{"$f":"IF($A205<$B$162,0,GL205*BN118)","v":0},{"$f":"IF($A205<$B$163,0,GM205*BO118)","v":0.11135000474796215},5.8770764119601324,12.517607932518768]
[56,{"$f":"Vstupy!J1448","v":5},{"$f":"Vstupy!K1448","v":9},-1.9269102990033222E-2,0,3.7739556192826693E-3,0.11409909456012901,4.9421926910299003,6.9377317106081549,-1.9269102990033222E-2,0,3.7303231755780059E-3,8.7954322942387267E-2,5.0963455149501664,7.8880581127259113,-1.9269102990033222E-2,0,3.8466763587904421E-3,0.10000225427774517,3.1156146179401993,9.0086636307267725,-1.9269102990033222E-2,0,2.3516382589789282E-3,0.11420892927363213,7.0385382059800667,6.0842406861346916,-1.9269102990033222E-2,0,5.3126261627988464E-3,7.713403926376293E-2,3.0578073089700997,9.0233627407881514,-1.9269102990033222E-2,0,2.3080058152742649E-3,0.1143952798457258,2.1926910299003324,10.052067125877228,-1.9269102990033222E-2,0,1.6550237267286124E-3,0.12743686194669224,3.2697674418604654,7.1423432913465206,-1.9269102990033222E-2,0,2.4679914421913644E-3,9.0548322508916632E-2,5.4239202657807306,15.063297060770218,-1.9269102990033222E-2,0,4.0939268731168673E-3,0.19096761730268161,4.6551495016611293,6.4076211074849869,-1.9269102990033222E-2,0,3.5136655240789873E-3,8.1233751849823121E-2,2.7707641196013291,13.417463372310626,-1.9269102990033222E-2,0,2.0913481637752467E-3,0.17010226911937085,7.8285714285714283,12.726838518633221,-1.9269102990033222E-2,0,5.9089362267625792E-3,0.16134675017655822,6.0212624584717602,15.915845444330087,-1.9269102990033222E-2,0,4.5447954580650563E-3,0.20177595048411301,3.0983388704318942,13.270705590904177,-1.9269102990033222E-2,0,2.3385986781016728E-3,0.16824172134402315,6.2910299003322248,13.741077112868245,-1.9269102990033222E-2,0,4.7484135286868182E-3,0.17420493965101982,5.4451827242524908,8.3332045255253977,-1.9269102990033222E-2,0,4.1099755880427205E-3,0.10564567679409081,5.7727574750830559,8.7447796072439541,-1.9269102990033222E-2,0,4.3572261023691466E-3,0.11086349281271286,3.9654485049833896,6.3936219550455808,-1.9269102990033222E-2,0,2.9930853336716245E-3,8.1056275114495854E-2,3.1581395348837216,13.036219787544113,-1.9269102990033222E-2,0,2.3837356888306354E-3,0.16526898602729118,4.3700996677740864,10.508672814609215,-1.9269102990033222E-2,0,3.2985124396042679E-3,0.13322556146395043,3.6205980066445189,9.4802017487274615,-1.9269102990033222E-2,0,2.7327952384679425E-3,0.12018693730857279,6.7554817275747494,10.185759031673562,-1.9269102990033222E-2,0,5.0989776453484242E-3,0.12913176476906776,5.0637873754152816,14.800346314116691,-1.9269102990033222E-2,0,3.8221017640602283E-3,0.18763401262411747,4.506976744186046,13.477893047007395,-1.9269102990033222E-2,0,3.4018260419394477E-3,0.17086837702686691,7.8538205980066431,18.107179439511899,-1.9269102990033222E-2,0,5.9279940757370293E-3,0.22955697545401021,7.2584717607973408,11.86169089787788,-1.9269102990033222E-2,0,5.4786300578131388E-3,0.1503786879333322,5.7787375415282387,12.64074373113087,-1.9269102990033222E-2,0,4.3617398034420428E-3,0.16025526825429545,8.1255813953488367,11.244794913714689,-1.9269102990033222E-2,0,6.1331167133830914E-3,0.14255787979657666,5.2990033222591357,13.81667253604104,-1.9269102990033222E-2,0,3.9996406729274799E-3,0.17516331402178711,5.5495016611295673,11.65660331464057,-1.9269102990033222E-2,0,4.1887145956476879E-3,0.14777865376078753,5.7614617940199331,12.17107216678877,-1.9269102990033222E-2,0,4.3487002225647874E-3,0.15430092378406512,5.8192691029900327,12.391558817709427,-1.9269102990033222E-2,0,4.3923326662694507E-3,0.15709618236546982,5.8192691029900327,12.406257927770806,-1.9269102990033222E-2,0,4.3923326662694507E-3,0.15728253293756347,5.8192691029900327,12.406257927770806]
[57,{"$f":"Vstupy!J1449","v":3},{"$f":"Vstupy!K1449","v":18},0,0,9.6068868782689283E-3,0.29681771804638601,4.976956941390684,8.8859009054398719,0,0,1.5937687444651873E-2,0.14652737941883212,4.9191932648642895,6.8497773876657675,0,0,1.5752711075964543E-2,0.1129519607407049,5.0732297356013429,7.7880558584481658,0,0,1.6245981392464096E-2,0.12842405377346514,3.093993876691187,8.8944547014531405,0,0,9.9078830584763255E-3,0.1466684304306817,7.0139564768272349,6.0071066468709287,0,0,2.2460762147326976E-2,9.9056427054750373E-2,3.0362302001647921,8.9089674609424261,0,0,9.7229066897889949E-3,0.14690774399480203,2.1717669031835705,9.9246302639305348,0,0,6.9546396549509965E-3,0.16365589485522017,3.2480303474282408,7.051794968837604,0,0,1.0401153374975878E-2,0.11628320504340908,5.4005572359175806,14.872329443467535,0,0,1.729418081502564E-2,0.24524282708022843,4.6323667331470171,6.3263873556351635,0,0,1.483420772799986E-2,0.10432132546539664,2.7494036684475205,13.247361103191256,0,0,8.8044033418243125E-3,0.21844730515476019,7.8033933893546328,12.565491768456662,0,0,2.4988772519387175E-2,0.20720336626910854,5.9974485600236624,15.714069493845974,0,0,1.9205603291461402E-2,0.25912301379920499,3.0767311687637591,13.102463869560154,0,0,9.8526027643858604E-3,0.2160579681415592,6.2670123838135048,13.566872173217225,0,0,2.0068826345335612E-2,0.22371600219340837,5.421803645674415,8.2275588487313076,0,0,1.736221810006006E-2,0.13567140236515432,5.7491311459906536,8.6339161144312406,0,0,1.8410417522621604E-2,0.14237218216052225,3.9431863166596846,6.312565679931085,0,0,1.2627248294695836E-2,0.1040934077852821,3.1364866962048574,12.870950801516821,0,0,1.004395762854517E-2,0.21224034699964034,4.3475320523444489,10.375447253145264,0,0,1.3922082875507157E-2,0.17108980985495673,3.5985961084160176,9.360014811418889,0,0,1.1523768578043823E-2,0.15434545762254048,6.7311136469393684,10.056627266904494,0,0,2.1555015790306244E-2,0.16583250870031421,5.0406961706611888,14.612712301492573,0,0,1.6141799299755136E-2,0.24096177332207661,4.484305815154074,13.307024669980528,0,0,1.4360072897916241E-2,0.21943114980725462,7.8286235009408731,17.87762246405789,0,0,2.5069566795365546E-2,0.29479972799313731,7.2337240277494947,11.711312209944548,0,0,2.3164522814401761E-2,0.19311805363802884,5.7551066987347639,12.480488462876576,0,0,1.8429553009037539E-2,0.20580167253640405,8.1001791756454207,11.102237033918112,0,0,2.593916834471174E-2,0.1830744812009806,5.2757345785961753,13.641509222019252,0,0,1.6894461765448416E-2,0.22494675766602695,5.5260438435438868,11.508824660879782,0,0,1.7696026029760187E-2,0.18977905962435052,5.7378439908073355,12.016771243004705,0,0,1.8374272714947071E-2,0.19815503436856055,5.79560766733373,12.234462635343958,0,0,1.8559249083634401E-2,0.20174473783036487,5.79560766733373,12.248975394833243]
[58,{"$f":"Vstupy!J1450","v":8},{"$f":"Vstupy!K1450","v":6},0,0,4.6829136302413948E-2,0.12199377507590003,2.9903931131217312,17.703182281953612,0,0,1.7504690836522192E-2,0.3599463395720513,4.9610192539460325,8.7393735260210406,0,0,2.904003085524234E-2,0.17769152803961438,4.9034405537883252,6.7368254269250629,0,0,2.8702985755517201E-2,0.13697512764298339,5.0569837542088791,7.6596318046747003,0,0,2.9601772688117575E-2,0.15573789992394926,3.0840859936327107,8.7477862710224592,0,0,1.8053135420523996E-2,0.17786257845986003,6.9914957146799077,5.908050219816178,0,0,4.0925713222561055E-2,0.12012422494222944,3.026507293475003,8.7620597169476238,0,0,1.7716090320798857E-2,0.17815279038515211,2.1648122635286193,9.7609743690753152,0,0,1.2672036069739873E-2,0.19846301861709989,3.2376291940532651,6.935511763794195,0,0,1.8951922353124373E-2,0.14101487702476129,5.3832630551025549,14.627086616387308,0,0,3.1511694919893356E-2,0.29740225244921015,4.6175325254190174,6.222066030169767,0,0,2.7029382501709609E-2,0.12650888729865481,2.7405992651056961,13.028913798036497,0,0,1.6042487066991268E-2,0.26490772989349248,7.7784046168352452,12.358288402187553,0,0,4.5531996252137955E-2,0.25127237594326207,5.9782429567322009,15.45494648004677,0,0,3.4994494283719799E-2,0.31423454411614976,3.0668785659993731,12.886405901418595,0,0,1.7952409298767059E-2,0.26201021717906847,6.2469435574681693,13.343156171023818,0,0,3.6567371415770447E-2,0.27129699878841451,5.4044414275743549,8.0918874463661528,0,0,3.1635665531286508E-2,0.16452664951191526,5.7307207284680324,8.4915439322707176,0,0,3.3545587763062303E-2,0.17265258342009293,3.9305590683649889,6.2084722721458032,0,0,2.3008085794644157E-2,0.12623249498885286,3.1264427385763121,12.65871045451718,0,0,1.8301076643310307E-2,0.25738064598988553,4.3336099694689416,10.204357443290307,0,0,2.5367401492720126E-2,0.20747801445514069,3.5870723398379738,9.205669353796349,0,0,2.0997437441111426E-2,0.18717239276168965,6.7095586311490623,9.89079475820418,0,0,3.9275354458389672E-2,0.20110256517570863,5.0245543713614333,14.371750528170496,0,0,2.9411942689421801E-2,0.29221068356342983,4.4699457422561579,13.087593520173273,0,0,2.6165462303563564E-2,0.26610082336413754,7.8035539341455076,17.582822736064752,0,0,4.5679211353167319E-2,0.35749915367715079,7.2105595049350928,11.518194156306519,0,0,4.2208034234158989E-2,0.2341913311975006,5.736677145725726,12.274686790340171,0,0,3.3580454497516628E-2,0.24957256323798002,8.074240007300709,10.919162552717131,0,0,4.7263710730036088E-2,0.22201164341222734,5.2588401168307266,13.416562464353225,0,0,3.0783367577958572E-2,0.27278951726134509,5.5083478175141263,11.31904560125543,0,0,3.2243896343434178E-2,0.23014218385890178,5.7194697180923884,11.818616208636143,0,0,3.3479728375759694E-2,0.24029960124412403,5.7770484182500956,12.032717897513592]
[59,{"$f":"Vstupy!J1451","v":7},{"$f":"Vstupy!K1451","v":16},0,0,6.108065219972289E-2,0.3872829552117274,7.9531708636975864,5.8780062249240999,0,0,6.9397837630068862E-2,0.14227822634634593,2.9728884222852088,17.343235942381561,0,0,2.5940851964312252E-2,0.41979622929373617,4.9319792230907904,8.5616819979814256,0,0,4.3035501083124011E-2,0.20723709411008082,4.874737568032808,6.5998502992820791,0,0,4.2536021422562138E-2,0.15975059549131043,5.0273819815207617,7.5038939047507514,0,0,4.3867967184060476E-2,0.18163313793919622,3.066032858212187,8.5699236925625986,0,0,2.6753612377911556E-2,0.20743658584966515,6.950570001457347,5.7879259948739481,0,0,6.0649335549834808E-2,0.1400978177400975,3.0087912031542041,8.5839069265624719,0,0,2.6254132717349676E-2,0.20777505261134566,2.1521402274588795,9.562511350458216,0,0,1.8779161245492618E-2,0.23146235344069652,3.2186772717001406,6.7944968867694335,0,0,2.8085558139409897E-2,0.16446205209280923,5.3517513601826616,14.329684363938098,0,0,4.669835192724444E-2,0.34685265673232679,4.5905031429173082,6.0955571428711126,0,0,4.0055846556323847E-2,0.14754408649706738,2.7245567780387048,12.764006068143004,0,0,2.3773957851111392E-2,0.30895512440067774,7.7328726205831071,12.10701602624429,0,0,6.7475557577513792E-2,0.29305255908997707,5.9432484624484809,15.14071193593062,0,0,5.1859641753050502E-2,0.36648372890979281,3.0489261567006061,12.624395684239527,0,0,2.6604342594295362E-2,0.30557582927215382,6.2103761860523985,13.071859172235403,0,0,5.4190546835672586E-2,0.31640676564592823,5.3728057620430683,7.9273607968542379,0,0,4.6882068584002824E-2,0.19188323227720647,5.69717514070497,8.3188913488506238,0,0,4.9712453327186802E-2,0.20136030160425891,3.9075509825703447,6.0822397771569507,0,0,3.4096537502723526E-2,0.14722173720022888,3.1081416619330016,12.401329808527295,0,0,2.7121045691428338E-2,0.30017647855010854,4.3082425679762215,9.9968794288351663,0,0,3.7592895126656659E-2,0.24197631300591305,3.5660749023968625,9.0184969610346588,0,0,3.1116882975923361E-2,0.21829438466484283,6.6702832766906726,9.6896921930284705,0,0,5.8203607556738708E-2,0.23454078922550436,4.9951424286720112,14.079539844607066,0,0,4.3586651053399178E-2,0.34079786244004312,4.4437802799525947,12.821492696809136,0,0,3.877557110453881E-2,0.31034659886536392,7.7578747227923399,17.225323582387603,0,0,6.7693721107414367E-2,0.4169421388415831,7.1683514707009337,11.284002825109019,0,0,6.2549654718179401E-2,0.27313137254535635,5.7030966912282093,12.025114227102192,0,0,4.9764123636900096E-2,0.29107011091442025,8.0269762965706732,10.697150909304904,0,0,7.0041849626607575E-2,0.25892651353133878,5.2280567492527679,13.143772947091881,0,0,4.5619016568788882E-2,0.31814745184885618,5.4761039211706919,11.088903417396528,0,0,4.7783428431223685E-2,0.26840895534667192,5.6859899897166288,11.57831660739202]
[60,{"$f":"Vstupy!J1452","v":7},{"$f":"Vstupy!K1452","v":15},0,0,8.2860280510733381E-2,0.42163172029732299,6.9389193478002769,15.612717044788273,0,0,8.2137257657155155E-2,0.43885444974062776,7.8837730260675176,5.7357279985777536,0,0,9.3321663488986836E-2,0.16122432421319063,2.9469475703208965,16.923439713087824,0,0,3.488355747531624E-2,0.47569726663848355,4.8889437220076664,8.3544449038713449,0,0,5.7871321172392021E-2,0.23483326512989855,4.8322015466102455,6.4400997037907688,0,0,5.7199653662360662E-2,0.18102335446637213,4.9835140143367012,7.3222607668115547,0,0,5.8990767022444296E-2,0.20581982690509007,3.0392792458342752,8.3624871067129334,0,0,3.5976504408611179E-2,0.23505932165117049,6.8899206659075123,5.6478281771338503,0,0,8.1557251296256489E-2,0.1587535673512426,2.9825370704368543,8.3761318739511257,0,0,3.5304836898579821E-2,0.23544285943008353,2.1333610662133866,9.3310489970175201,0,0,2.525298519673121E-2,0.2622844160527405,3.1905917135607309,6.630034834676624,0,0,3.7767617768694806E-2,0.1863621995317255,5.3050530082554168,13.98283170720577,0,0,6.2796882912621976E-2,0.39304035915580815,4.5504472963609848,5.9480130563740454,0,0,5.3864477060825644E-2,0.16719139848732845,2.7007828201875932,12.455050943742327,0,0,3.1969660297044795E-2,0.35009630372005823,7.6653970630055932,11.813963467154313,0,0,9.0736707266685035E-2,0.33207611601239995,5.8913888206954308,14.774228207020826,0,0,6.9737447182946014E-2,0.41528555033276165,3.0223218141063106,12.318819854967373,0,0,3.5775776187222497E-2,0.34626701383218084,6.1561856392167256,12.755452406589475,0,0,7.2871895563092343E-2,0.35854022275739661,5.3259236934590657,7.7354775645770317,0,0,6.3043933031254204E-2,0.2174348475249307,5.6474626873777831,8.1175310472463647,0,0,6.6850048921431898E-2,0.2281739053344943,3.8734544450676212,5.9350180399567218,0,0,4.5850788837692884E-2,0.16682612441217323,3.0810206162415734,12.101153329977187,0,0,3.6470604645875628E-2,0.34014867307333069,4.2706496728495651,9.7549031158292525,0,0,5.0552461407912391E-2,0.27419843880405359,3.5349580194209391,8.8002025763698164,0,0,4.1843944726126507E-2,0.24736297008264929,6.6120796691339336,9.4551514038029669,0,0,7.8268396591964995E-2,0.2657727834704729,4.9515557776186121,13.738741982167022,0,0,5.8612471528288683E-2,0.38617929444414234,4.4050047088480557,12.511146097943772,0,0,5.2142846546607335E-2,0.35167307014447818,7.6901810016849259,16.808381443546018,0,0,9.1030079282560794E-2,0.47246311889706061,7.1058018159827547,11.010871452563663,0,0,8.4112675960858529E-2,0.30950217816780673,5.6533325675913089,11.734044116187771,0,0,6.6919531767297202E-2,0.32982968045019539,7.9569344469440653,10.438224395773565,0,0,9.4187688611328924E-2,0.29340576725596618,5.1824377326839786,12.825625495243024,0,0,6.1345463465657654E-2,0.36051270276323477,5.4283204927394682,10.820494462049856]
[61,{"$f":"Vstupy!J1453","v":14},{"$f":"Vstupy!K1453","v":15},0,0,0.21290767697417226,0.48064993924044064,6.917139719489267,14.578368279702676,0,0,0.10519372492730267,0.46713945519092392,6.8567820901431213,15.173862595047645,0,0,0.10427582473789153,0.48622107562349637,7.7904513625785308,5.5745036743645633,0,0,0.11847477872763357,0.17862565682526269,2.9120640128455801,16.44774244644934,0,0,4.4285770298217043E-2,0.52704042716855282,4.8310724008352741,8.1196116387414463,0,0,7.3469457296848242E-2,0.26017938938780338,4.775001892947885,6.2590763493243964,0,0,7.2616754326772101E-2,0.20056164446693667,4.9245232473142568,7.1164409399064645,0,0,7.489062891364183E-2,0.22803446035828176,3.0033027414256641,8.1274277850617622,0,0,4.5673300709078664E-2,0.26042984473806702,6.8083634146112555,5.489074609782608,0,0,0.10353948847148754,0.17588822517855041,2.9472322335382746,8.1406890145210422,0,0,4.4820597739002516E-2,0.26085477868032408,2.1081080810166553,9.0687645809647801,0,0,3.2059456738552587E-2,0.29059340965510544,3.1528240957920359,6.4436726351448987,0,0,4.7947175295948399E-2,0.2064767240378457,5.2422561253427951,13.589791348049962,0,0,7.9722612410739982E-2,0.43546215904869867,4.4965828193001594,5.7808216578867171,0,0,6.8382643027083648E-2,0.18523677190820492,2.6688131598905485,12.104954640022269,0,0,4.0586486439314062E-2,0.38788304748233293,7.5746603557389083,11.481887351141912,0,0,0.11519309572919488,0.36791789717946294,5.8216513735124851,14.358942656688065,0,0,8.8533876434860173E-2,0.46010832769960597,2.986546037919088,11.972552841135192,0,0,4.5418469936412229E-2,0.38364045304297301,6.0833137436536333,12.396912183832079,0,0,9.251315696188217E-2,0.3972383391951978,5.2628797604278112,7.5180427170521007,0,0,8.0036250284790972E-2,0.24090311834387529,5.5806126384563512,7.8893571419118702,0,0,8.4868233781889152E-2,0.25280126872707182,3.8276036562299285,5.7681919155445485,0,0,5.8209014487554452E-2,0.18483207291557921,3.0445500115956978,11.761004656903856,0,0,4.6300576457180664E-2,0.37686174491649183,4.2200972114416526,9.4807046770251997,0,0,6.4177935278087461E-2,0.3037933417979149,3.4931140746948128,8.5528396062871668,0,0,5.312220021778985E-2,0.27406145580634406,6.5338112725419686,9.1893786203324943,0,0,9.9364184273183637E-2,0.29445828503468119,4.8929433060903236,13.35256268772288,0,0,7.4410370919001226E-2,0.42786056297054514,4.3528618623014488,12.159473027799294,0,0,6.6196979092290775E-2,0.38962999813383381,7.599150922402365,16.335918324648958,0,0,0.11556554070463043,0.52345721001195478,7.0216891400218966,10.701369274395857,0,0,0.10678368023120254,0.34290749943519244,5.5864130358240116,11.404214435737575,0,0,8.495644443396598E-2,0.3654289983748148,7.8627467583327366,10.1448186285176,0,0,0.11957422478234475,0.3250737638268183,5.1210922692183205,12.46511279247979]
[62,{"$f":"Vstupy!J1454","v":9},{"$f":"Vstupy!K1454","v":19},0,0,0.16973022904771559,0.68417240408729851,13.787092323025828,14.51935006075956,0,0,0.26000959309879723,0.52282834930815436,6.811945994561964,14.111228824511752,0,0,0.12846590599085234,0.50813228155222046,6.7525062654052297,14.687641519424147,0,0,0.12734493723037379,0.5288883688798337,7.6719765838508973,5.3958780175393004,0,0,0.14468514920285816,0.19430057028535103,2.867778242547363,15.920702019280787,0,0,5.4083184218402136E-2,0.57328973554151808,4.7576029435384255,7.8594322493536426,0,0,8.9723226369429213E-2,0.28301087667376451,4.7023851386211133,6.0585147048574601,0,0,8.8681878516526147E-2,0.21816150372739887,4.8496326184006149,6.8884064795481832,0,0,9.1458806124267669E-2,0.24804513797068448,2.9576294407165853,7.8669979403236949,0,0,5.577768026789922E-2,0.28328331019900466,6.7048239261397677,5.3131863846040579,0,0,0.12644570007870071,0.19132292116412949,2.9024116357992722,7.8798342358407183,0,0,5.4736332414996147E-2,0.28374553331287078,2.0760486242781027,8.7781711713096744,0,0,3.9152023168101908E-2,0.3160938144086714,3.1048769204960873,6.2371959111070527,0,0,5.8554607875640749E-2,0.22459564848766214,5.1625335129320549,13.154329189001263,0,0,9.7359777290718388E-2,0.47367521186287992,4.4282001762730756,5.5955848859785124,0,0,8.3511047798662627E-2,0.20149182966918269,2.6282266734512345,11.717071592539936,0,0,4.9565501697132627E-2,0.42192089685952838,7.4594672600097134,11.113969453962449,0,0,0.14067745406837601,0.4002037473826468,5.7331174970776253,13.898834328988459,0,0,0.1081203717707168,0.50048415246711098,2.9411275679826758,11.588912388092218,0,0,5.546647286358336E-2,0.41730600259569101,5.9908005866917513,11.999673844636881,0,0,0.11297999508426443,0.43209714223940476,5.1828435101430204,7.2771395987082252,0,0,9.7742801788337899E-2,0.26204305758563606,5.4957444046744621,7.6365558731847987,0,0,0.10364377295478865,0.27498530477388539,3.769394641742374,5.583359842628969,0,0,7.1086690657129442E-2,0.20105161717978645,2.9982494351385172,11.384142911987364,0,0,5.6543729263138269E-2,0.40993244339830393,4.1559192761635648,9.1769113352272846,0,0,7.8376125627450915E-2,0.33045207843781221,3.4399918744770228,8.2787781504808233,0,0,6.4874512086362843E-2,0.29811113421683494,6.4344470882687848,8.8949203352978135,0,0,0.12134668645414083,0.32029784368240549,4.818532935171322,12.924702124752335,0,0,9.0872299862287759E-2,0.46540655393705366,4.2866648832091583,11.769843029665459,0,0,8.0841845830876599E-2,0.42382114743875526,7.4835853816977345,15.812461114637003,0,0,0.14113229565929916,0.56939208080726955,6.9149054597906945,10.358461774960665,0,0,0.13040760972595264,0.3729986155379591,5.5014565913900455,11.03878543736276,0,0,0.10375149859474413,0.39749644057286004,7.7431725335503918,9.8197448646907812]
[63,{"$f":"Vstupy!J1455","v":9},{"$f":"Vstupy!K1455","v":13},0,0,0.20532808634540936,0.5200814132653081,8.8302697709522846,18.315827595912701,0,0,0.20145582155370542,0.73274780778507753,13.527082729927031,13.996521711451406,0,0,0.30861000119688364,0.55994852249924743,6.6834800885711116,13.603096542959531,0,0,0.15247846407932816,0.54420905191129376,6.6251613281748556,14.158753150544314,0,0,0.15114796636041708,0.56643879604690162,7.5272914346480393,5.2015774472539498,0,0,0.17172937173783032,0.20809567307513752,2.8136950583289608,15.347412283739269,0,0,6.4192291320691167E-2,0.61399260542249756,4.6678797171689963,7.5764213726798779,0,0,0.10649408995742896,0.30310430269206434,4.6137032601045869,5.8403532011300614,0,0,0.10525809570698347,0.23365070360094528,4.7581738122763468,6.6403613415774991,0,0,0.10855408037483814,0.26565603931691872,2.901851760448686,7.5837146301246907,0,0,6.6203518758998436E-2,0.30339607866431095,6.5783782260610675,5.1218634634399285,0,0,0.15008064582371419,0.20490661450906028,2.8476753033842761,7.5960887025278474,0,0,6.4967524508552935E-2,0.30389111905379412,2.0368966011100009,8.4620773569010037,0,0,4.6470231243265013E-2,0.33853608853364903,3.0463223126204464,6.0126002626193902,0,0,6.9499503426853126E-2,0.24054166476788116,5.0651737356413369,12.680653977138384,0,0,0.11555804779402934,0.50730557242757546,4.3446891284744131,5.3940930563093294,0,0,9.9120744946150627E-2,0.21579750307768777,2.5786611717541019,11.295150695680407,0,0,5.883017374772008E-2,0.45187676437339186,7.3187898059413374,10.713765706579801,0,0,0.16697256724646942,0.42861772385164731,5.6249971253069084,13.398350176521348,0,0,0.12832998838196624,0.53601791501759333,2.8856610951190924,11.171606385496528,0,0,6.5834141166911275E-2,0.44693421826252111,5.8778205916074873,11.567576702397476,0,0,0.13409796155071191,0.46277551072597933,5.0851007083546822,7.0150965411225892,0,0,0.11601266636890582,0.28064779409997004,5.3921006317196731,7.3615705684109134,0,0,0.12301663378809703,0.2945089250054958,3.6983079510852446,5.382308225449183,0,0,8.43740549235939E-2,0.21532603604008491,2.9417057058753788,10.97421046858906,0,0,6.7112755908751459E-2,0.43903714538267213,4.0775431505361137,8.8464592567894726,0,0,9.3026014676712399E-2,0.35391377174346433,3.3751173623906601,7.9806670162639888,0,0,7.7000709912315529E-2,0.3192766600475696,6.3131004018146442,8.5746224916154077,0,0,0.14402853604567065,0.34303859874275683,4.727660635309034,12.45929557081528,0,0,0.10785794568205846,0.49844984990460034,4.2058230373782814,11.346021882226704,0,0,9.5952621752479955E-2,0.45391193041904426,7.3424530860384349,15.243069033829734,0,0,0.16751242680413522,0.60981822197037094,6.7844978500647422,9.9854631594227055,0,0,0.15478310670759304,0.39948106092778685,5.3977050927953014,10.6412889967899]
[64,{"$f":"Vstupy!J1456","v":14},{"$f":"Vstupy!K1456","v":10},0,0,0.37938558460676236,0.44035144578382535,8.7946719136545912,12.479918586734692,0,0,0.23832655324189433,0.54955501929330564,8.6288139493985785,17.583079788127623,0,0,0.23383197318968327,0.7742734606034356,13.218472728730147,13.436573188952158,0,0,0.35820700027127372,0.59168144301352676,6.5310016244917835,13.058887491048237,0,0,0.17698341924110927,0.57504999870114026,6.4740133618144382,13.592314354497413,0,0,0.17543909600171154,0.59853952775511787,7.3555620629102094,4.9934817741788127,0,0,0.19932815809632234,0.21988869187548216,2.7495027670082695,14.733419678316771,0,0,7.4508693902810216E-2,0.64878826566866532,4.5613856272115676,7.2733170699878134,0,0,0.12360885377118171,0.32028156874133101,4.5084451643976031,5.606702497529116,0,0,0.12217422174017968,0.24689195508667305,4.6496197319015087,6.3747053022605806,0,0,0.12599990715618511,0.28071106962962639,2.8356482416896878,7.2803185514603799,0,0,7.6843147565184275E-2,0.32058987999023836,6.428297580237353,4.9169568489308686,0,0,0.17420024539318457,0.21651890572833901,2.7827077788757233,7.2921975834740529,0,0,7.5408515534182249E-2,0.32111297488241164,1.9904263698667359,8.1235412683673545,0,0,5.3938505139186244E-2,0.3577213142410135,2.9768228091935933,5.7720585978515091,0,0,8.0668832981189709E-2,0.25417343487128718,4.9496156878473077,12.173348404710808,0,0,0.13412948866519664,0.53605515700446282,4.2455683835282629,5.1782955532316413,0,0,0.11505053165520408,0.2280269933561507,2.5198309980063818,10.843273931307015,0,0,6.828482544920661E-2,0.47748513526811082,7.1518172386948677,10.285147982728153,0,0,0.19380688315021238,0.45290797842949371,5.496667136924942,12.862332261503754,0,0,0.14895401965221769,0.56639466075051181,2.8198269539521812,10.724672167234006,0,0,7.6414406958218162E-2,0.47226248943990462,5.7437226300567756,11.104801191671497,0,0,0.15564896913022716,0.48900152598944902,4.9690880419857768,6.7344487470226193,0,0,0.13465716941223185,0.29655242423084816,5.2690839979315758,7.0670616434054176,0,0,0.1427867509212434,0.31119908121169926,3.6139338961616505,5.1669821894090981,0,0,9.7933887423248725E-2,0.22752880774455717,2.8745929499666274,10.535173323206388,0,0,7.7898509059254745E-2,0.46391788044571208,3.9845171358594014,8.4925454850460085,0,0,0.10797631164026295,0.37397046827249081,3.2981166524783445,7.661390356216419,0,0,8.937556530727106E-2,0.33737043200741568,6.1690718657689736,8.231583892872651,0,0,0.16717549544827801,0.36247898683173213,4.6198026896269759,11.96084572091068,0,0,0.12519189601228739,0.52669757060002986,4.1098704156258012,10.89210995180766,0,0,0.11137325644930228,0.47963563649148955,7.1749406592342995,14.633250811859362,0,0,0.19443350403731668,0.64437731515196062,6.6297147433571491,9.5859820984949184]
[65,{"$f":"Vstupy!J1457","v":6},{"$f":"Vstupy!K1457","v":12},0,0,0.19044339545849698,0.57715165502105492,13.620614415393238,9.5596485542161744,0,0,0.43232600958307316,0.45978058204045835,8.5563453604126973,11.930363567441386,0,0,0.27158324385875854,0.57380242316264107,8.3949819762088946,16.808806327524188,0,0,0.26646147872701748,0.80843586590491379,12.860265728458874,12.84489174593863,0,0,0.40819211197104149,0.61778754414456405,6.3540182052506742,12.483837492347098,0,0,0.20168013363550721,0.60042228914350193,6.2985742658127268,12.993774826742294,0,0,0.19992031162148091,0.62494822051876975,7.1562339048138872,4.7735930823033303,0,0,0.22714291392132918,0.2295905956540355,2.6749940731054593,14.084631412648106,0,0,8.49058256855931E-2,0.6774140275142827,4.4377767734403859,6.9530355012464824,0,0,0.14085754617014001,0.33441299558037979,4.3862709426574238,5.3598105424424425,0,0,0.13922272195343702,0.25778529376416282,4.5236198247453236,6.093994232630954,0,0,0.1435822531979784,0.29309657142097656,2.7588050941245035,6.9597286714701418,0,0,8.7566034922211461E-2,0.33473491010304002,6.2540973348441682,4.7004379432025294,0,0,0.19850858866260998,0.22607212818692526,2.7072992633415409,6.9710846085916414,0,0,8.5931210705508437E-2,0.33528108492837239,1.9364878647275496,7.7658199541263411,0,0,6.1465220703814855E-2,0.37350465325996257,2.8961539762124038,5.5178851629802219,0,0,9.1925566166752876E-2,0.26538804616917988,4.8154861991821107,11.637293247706346,0,0,0.15284625709262889,0.55970692148992207,4.1305178518730585,4.9502685598754903,0,0,0.13110497411877373,0.23808797434423612,2.4515461725571752,10.365788796038904,0,0,7.7813462870845132E-2,0.49855267993604685,6.9580103555446557,9.8322400042986597,0,0,0.22085118629088468,0.47289113258709964,5.3477131172727246,12.295937600753243,0,0,0.16973944066522687,0.59138506135919611,2.7434125469939632,10.252409677794102,0,0,8.7077466765495631E-2,0.49309960112439555,5.5880736609265487,10.615799665682047,0,0,0.17736862034317427,0.51057719553502956,4.8344308725735452,6.4378963227917714,0,0,0.15344757174704837,0.30963687646276955,5.1262972470103323,6.7558625621937187,0,0,0.16271157564169886,0.32492977157207409,3.5160000087384016,4.9394533816645412,0,0,0.11159983001604104,0.2375678078439197,2.7966944409073728,10.071255442760677,0,0,8.8768664231050481E-2,0.4843868122440943,3.8765408242191386,8.1185750167735176,0,0,0.12304359953296221,0.39047075061195202,3.2087410871710733,7.3240199242090034,0,0,0.10184725796467471,0.35225585172203394,6.0018963703206953,7.8691049060409188,0,0,0.19050358732565031,0.37847224333798496,4.4946107936146884,11.43414815031065,0,0,0.14266149013339852,0.54993646072564373,3.9984971591764991,10.412474315316171,0,0,0.12691456262078779,0.50079806532907944,6.9805071551969826,13.988873496707402]
[66,{"$f":"Vstupy!J1458","v":9},{"$f":"Vstupy!K1458","v":6},0,0,0.33091865655663688,0.31313397519214714,5.8095566045415028,11.422848344978945,0,0,0.21361007408495677,0.59614698504671604,13.188288405810164,9.0998679721757156,0,0,0.4849167423924633,0.47491297197518079,8.2847621165539387,11.356561144278745,0,0,0.30462026105570539,0.59268752260344715,8.1285204974818779,16.000370461619273,0,0,0.29887545364664314,0.8350432678656422,12.452073616487832,12.227104201794067,0,0,0.45784705250138841,0.63812029063273024,6.1523380716151665,11.883415203203596,0,0,0.2262137165934601,0.62018350690632318,6.0986539541912457,12.368826606223525,0,0,0.2242398192583098,0.6455166406115278,6.9290909908925578,4.544002486649295,0,0,0.25477394242942897,0.23714692698791587,2.5900882474198661,13.407217385133823,0,0,9.5234280355479567E-2,0.69970921267870301,4.2969192272702461,6.618622505666103,0,0,0.15799230422451688,0.34541926258257272,4.247048220703987,5.10202524867828,0,0,0.15615861016962426,0.26626957460822215,4.3800375715473452,5.8008976612099774,0,0,0.16104846098267128,0.30274302405625159,2.6712390592022919,6.6249937613671017,0,0,9.8218093423648553E-2,0.34575177202000928,6.0555887461815585,4.474365815015604,0,0,0.22265636583843226,0.23351265901994789,2.6213680526360323,6.6358035236632693,0,0,9.638439936875591E-2,0.34631592265978944,1.8750226440237348,7.3923153008663789,0,0,6.8942219374845265E-2,0.38579751267233708,2.8042284100456509,5.2524971168110417,0,0,0.10310794423669561,0.27412255031205551,4.6626399420894815,11.077586326216423,0,0,0.17143939396039626,0.57812810697705364,3.9994128777542848,4.7121805855312537,0,0,0.14705337072464009,0.24592397309511016,2.3737327096863301,9.8672361161028572,0,0,8.7279159923771735E-2,0.51496114486580169,6.7371591692537711,9.3593488717115605,0,0,0.24771685125529838,0.48845501956819637,5.1779736766074977,11.704552539394047,0,0,0.19038756586095365,0.61084884408429974,2.6563350802284678,9.7593100766697063,0,0,9.7670092901496752E-2,0.50932859324006052,5.4107050405833741,10.105222470147018,0,0,0.19894480478378593,0.52738141371302405,4.6809833008264965,6.1282594463290021,0,0,0.17211385614150621,0.31982770690630452,4.9635856713686337,6.4309327906216449,0,0,0.18250478911923118,0.3356239248201473,3.4044001787223603,4.7018855738206211,0,0,0.12517550372488642,0.24538668677151015,2.7079257766763223,9.586868630516582,0,0,9.9567017785868447E-2,0.5003290473197588,3.7534972246861762,7.7281042661615658,0,0,0.13801136210913492,0.40332200159376036,3.1068938292063986,6.9717640724869696,0,0,0.11423657022500962,0.36384936635327292,5.8113927829950454,7.490632662702934,0,0,0.21367758805240616,0.39092859706271793,4.3519493034812902,10.884211689585007,0,0,0.16001569076784666,0.5680360788654315,3.8715825965557111,9.9116762499870923]
[67,{"$f":"Vstupy!J1459","v":5},{"$f":"Vstupy!K1459","v":7},0,0,0.21107843923885816,0.39420131599695007,8.6690813434433629,5.6868660248078529,0,0,0.36597123192174574,0.32025286726822855,5.5959465304565459,10.82670135993223,0,0,0.23623673194257425,0.60969998914160772,12.7033716634177,8.6249550002005346,0,0,0.53628157275706911,0.48570980164193223,7.9801418554982337,10.763873621675298,0,0,0.33688717755265057,0.60616187812703715,7.8296450438352352,15.165327193753631,0,0,0.33053385112940054,0.85402741961457362,11.994226563986443,11.588983911161336,0,0,0.50634452460070212,0.65262752983532568,5.9261243550217069,11.263231696297272,0,0,0.25017541591867337,0.63428296529413497,5.8744141349329357,11.723309965611998,0,0,0.24799243340886623,0.66019203089777267,6.6743170484631289,4.3068555596613791,0,0,0.28176088511497993,0.24253830420389952,2.4948539670643863,12.707508172455119,0,0,0.10532197629936486,0.71561663494625805,4.1389269230457293,6.2732032430835307,0,0,0.17472764700803642,0.35327213913426614,4.0908896105343624,4.8357556740700582,0,0,0.17269971881801072,0.27232303579401934,4.2189891105646735,5.4981546371537258,0,0,0.17810752732474594,0.30962568478867603,2.5730209657786434,6.2792419893470921,0,0,0.10862184991708311,0.35361220795199005,5.8329323803431263,4.2408531559956559,0,0,0.24624125260572499,0.23882141357761522,2.5249836532672765,6.2894876010034801,0,0,0.10659392172705738,0.35418918418029605,1.8060804246488895,7.0065177881940421,0,0,7.6244927434948359E-2,0.39456836180887589,2.7011204658089554,4.978374566498986,0,0,0.11402965842381838,0.2803545436628066,4.4912005481290853,10.499458219239369,0,0,0.18959912040155832,0.5912714638970219,3.8523595070296448,4.466256612436144,0,0,0.16263000642615888,0.25151489060034404,2.2864535497625584,9.3522749712370548,0,0,9.6524209335205544E-2,0.52666844303242644,6.4894423179984724,8.8708938521433645,0,0,0.27395627120274307,0.49955971865488114,4.9875861107465438,11.093703695309747,0,0,0.21055437836515745,0.62473608513876144,2.5586649873269711,9.2499814834296465,0,0,0.10801580241201797,0.52090783910219818,5.2117602357995878,9.5778410564339929,0,0,0.22001804325194407,0.53937107840798548,4.50886944468499,5.8084317394226979,0,0,0.19034502502317696,0.32709877650841163,4.7810808822494026,6.0953088658014973,0,0,0.20183661809998937,0.34325411090097535,3.2792246749974741,4.4564988870491113,0,0,0.13843472526240375,0.25096538943052898,2.608358758890454,9.0865395831968225,0,0,0.11011365916032044,0.51170369450779507,3.6154858625770414,7.3247822645678058,0,0,0.15263022259258374,0.41249125829767846,2.9926572589813891,6.6079147061336965,0,0,0.12633708468052618,0.37212123902192895,5.5977151949426389,7.0997040656402159,0,0,0.23631139733042658,0.39981609798061002,4.1919336127134432,10.316175610719576]
[68,{"$f":"Vstupy!J1460","v":9},{"$f":"Vstupy!K1460","v":6},0,0,0.43304659643806959,0.36283597269658618,4.7889215607611417,6.6057986840030498,0,0,0.23042513138850007,0.39947023182467928,8.303110111521617,5.3666131575396241,0,0,0.39951484151610633,0.32453338418369787,5.3597097985139719,10.217001370790623,0,0,0.25788934290469412,0.61784927173552839,12.167090090660631,8.1392451985586032,0,0,0.58543521692399447,0.4922018247725049,7.643254677945583,10.15771174354826,0,0,0.36776504711040986,0.61426387014031159,7.4991111927058345,14.311299774139059,0,0,0.36082939759021049,0.86544239568369663,11.48788203938574,10.936356381326011,0,0,0.55275424638200277,0.66135058422915671,5.6759489391030336,10.628948731003137,0,0,0.27310559662609341,0.64276082525927802,5.6264217015240696,11.063117934714224,0,0,0.27072252977447675,0.66901619281651392,6.3925561633481491,4.06431725545748,0,0,0.30758607656412451,0.24578008412190572,2.3895319907650214,11.991891537508861,0,0,0.11497541063118637,0.72518160508066465,3.964199276037693,5.9199311039492644,0,0,0.1907425560100425,0.35799399339970112,3.9181898917163518,4.5634326382760388,0,0,0.18852875520064608,0.27596292002403916,4.0408815832399272,5.1885289523650497,0,0,0.19443222402570318,0.31376415821596204,2.4643991158615601,5.9256297813951022,0,0,0.11857773882098184,0.35833860759539188,5.5866911277374012,4.0020317424180405,0,0,0.26881084202416028,0.24201351333714388,2.418389731540219,5.9352984168231844,0,0,0.11636393801158541,0.35892329571875803,1.7298354972139411,6.6119494263851664,0,0,8.3233263829583667E-2,0.39984218359051615,2.5870908073851369,4.6980200228361797,0,0,0.124481207646039,0.28410177745563386,4.301601427727527,9.9081867553423475,0,0,0.20697709527894959,0.59917442983901215,3.689729500603486,4.2147417218358001,0,0,0.17753608911260865,0.25487665205119614,2.1899293404273528,8.825606528204629,0,0,0.10537127192354798,0.53370792154974456,6.2154860467957294,8.3713341334884834,0,0,0.29906611975257807,0.50623686051540451,4.7770317323813867,10.468967610170985,0,0,0.22985303697604609,0.63308634099424077,2.450649184914953,8.7290736443274479,0,0,0.11791614317679443,0.52787032107994736,4.991742192547644,9.0384699780260078,0,0,0.24018410741989604,0.54658034102765973,4.3185244196618129,5.4813329629142862,0,0,0.20779136684102642,0.33147079621214431,4.5792442641494135,5.7520547549005219,0,0,0.22033623809427288,0.34784206366639242,3.1407899497350704,4.2055334976185828,0,0,0.15112315531774087,0.25431980621941913,2.4982450997301338,8.5748358886890266,0,0,0.12020628194513558,0.51854315339767987,3.4628556399844577,6.9122910062701273,0,0,0.16661976098351586,0.41800463847031438,2.8663201743008631,6.2357934671117672,0,0,0.13791668842030702,0.37709503136241929,5.361403797612212,6.6998879676596061]
[69,{"$f":"Vstupy!J1461","v":7},{"$f":"Vstupy!K1461","v":6},0,0,0.38155826990611846,0.38798292258735789,8.5669534035619304,5.637164027303414,0,0,0.46697027414706044,0.36452056240291653,4.5584964293726413,6.2063284521783704,0,0,0.24847600156637764,0.40132490856887287,7.9035952700055105,5.0420797733559262,0,0,0.43081173389449767,0.32604014106420587,5.1018204556092774,9.5991520990550949,0,0,0.27809168377341725,0.62071784762532778,11.581654873736637,7.6470433737860981,0,0,0.63129659946753081,0.49448703955230333,7.2754896308351729,9.5434478734079491,0,0,0.396574748037339,0.6171157995808203,7.1382817951156241,13.445857378455361,0,0,0.38909577883523699,0.86946050706431688,10.935127793003737,10.275005797096854,0,0,0.59605549170011674,0.66442112979328039,5.40284334247694,9.9861879057438578,0,0,0.29449993690418447,0.64574506152950484,5.3556991717495928,10.39410174189771,0,0,0.29193018715862945,0.67212232858197019,6.0849700867840246,3.8185371713355742,0,0,0.33168152267768514,0.24692120195720646,2.2745565801338352,11.266709932428197,0,0,0.1239822676456348,0.72854850792125092,3.7734567200276503,5.5619371105495636,0,0,0.20568480252276666,0.35965610256635072,3.7296611365157055,4.2874697182519999,0,0,0.20329757865500286,0.27724417196536782,3.8464493592142239,4.8747647941490877,0,0,0.2096635089690396,0.31522091529332052,2.3458213770405782,5.5672911737997106,0,0,0.12786679230462733,0.36000231675093564,5.3178802857132412,3.7600182290808966,0,0,0.28986874305494276,0.24313714358342467,2.3020257935286335,5.5763751211044266,0,0,0.12547956843686356,0.36058971948825452,1.6466022333843575,6.2121072427946498,0,0,8.9753528484812301E-2,0.40169858724759366,2.462609599739098,4.4139182453805459,0,0,0.13423272261866415,0.28542081681740117,4.0946243324485776,9.3090123255033355,0,0,0.22319111088636778,0.60195630140842016,3.5121934114908773,3.9598650697846041,0,0,0.1914437773805896,0.25606000380443711,2.0845580685038048,8.2918986066548843,0,0,0.11362576716245024,0.53618584253466717,5.916419927043151,7.8650972729730793,0,0,0.3224941359143812,0.50858723773365899,4.547178695405341,9.8358812691767437,0,0,0.24785909085326038,0.63602566017290729,2.3327330417381584,8.2012033232475012,0,0,0.12715336907977842,0.53032113901445288,4.7515580851277477,8.4918896369983479,0,0,0.25899946890282466,0.54911802660865283,4.1107330528207866,5.1498621667021416,0,0,0.22406917024002798,0.33300976239319335,4.3589080260551407,5.4042126912341297,0,0,0.2375967721573562,0.34945703903811809,2.9896667944173294,3.9512136913991638,0,0,0.16296172709623533,0.25550057262603837,2.378038817784998,8.0562927352913469,0,0,0.12962291101194787,0.52095066677627277,3.2962358790009416,6.4942863677998126,0,0,0.17967229417058184,0.41994536751636807,2.7284034858805559,5.8586984357493481]
[70,{"$f":"Vstupy!J1462","v":6},{"$f":"Vstupy!K1462","v":6},0,0,0.36859634796617891,0.41332926044878437,6.6184417300938811,5.6120170774126423,0,0,0.40658890848992724,0.3866018113721526,8.0999831294148699,5.2726434649004972,0,0,0.49760403334833037,0.3632229706595731,4.3100204278062639,5.8050035436094971,0,0,0.26477629822483617,0.39989630359711437,7.4727835361110131,4.7160396322917206,0,0,0.45907345342538469,0.3248795289103823,4.8237287718358601,8.9784342514297677,0,0,0.29633480147967994,0.61850826485525012,10.950358274269107,7.152556334233795,0,0,0.67271034480280367,0.49272680332452046,6.8789148827978339,8.9263320738271297,0,0,0.42259048396157955,0.6149190390992052,6.7491860162803867,12.576396871391044,0,0,0.41462088622422572,0.86636546966041095,10.33907230130362,9.6105846673035735,0,0,0.6351573819364652,0.66205597550283546,5.1083434055727555,9.340442844214353,0,0,0.31381945390853849,0.64344638884387639,5.063768984590963,9.72197941331574,0,0,0.31108112577743918,0.6697297601673502,5.7532885641063398,3.5716159693783678,0,0,0.35344019225419637,0.24604223120503815,2.1505743124882004,10.538161424506946,0,0,0.13211563960217113,0.72595507801356063,3.5677719175048836,5.2022810079832134,0,0,0.21917794986143191,0.35837582694607634,3.5263635578607024,4.0102255462866321,0,0,0.21663412150474604,0.27625725987991268,3.6367858502451842,4.5595438788557674,0,0,0.22341766378924163,0.31409881657187266,2.217954584735951,5.2072888570487752,0,0,0.13625499331475241,0.35872080870452766,5.0280115426582981,3.5168810854974719,0,0,0.30888444869260701,0.24227164302583135,2.1765462250917698,5.2157854016161718,0,0,0.13371116495806654,0.35930612045159632,1.5568487048995452,5.8104086555470564,0,0,9.5641457826974627E-2,0.40026865208374673,2.3283768771204336,4.1284974285631444,0,0,0.14303853559924806,0.28440479815211872,3.87143322156221,8.707056024094916,0,0,0.23783269114379491,0.59981350452088078,3.3207496341102876,3.7038050659801671,0,0,0.20400269794051282,0.2551485014613406,1.9709323013413544,7.7557127641202168,0,0,0.12107974139383329,0.53427717017450105,5.5939257911287701,7.3565100352394204,0,0,0.34365010290064713,0.50677680872492836,4.299319604552081,9.199855609003837,0,0,0.26411891749621563,0.63376158585085951,2.2055796726583798,7.6708821842330481,0,0,0.13549476874838653,0.52843334336646697,4.4925586162249234,7.9427716103896948,0,0,0.27599011649408284,0.54716331927266215,3.8866638825807587,4.816852404308948,0,0,0.23876835214855288,0.33182434032732772,4.121311253897785,5.054755652196012,0,0,0.25318337950310621,0.34821306924524842,2.8267050673210941,3.6957131187731256,0,0,0.17365219409867455,0.25459106170222773,2.24841590677305,7.5353420685150745,0,0,0.13812631532426847,0.51909622740132477,3.1165635848303599,6.0743410002834448]
[71,{"$f":"Vstupy!J1463","v":5},{"$f":"Vstupy!K1463","v":5},0,0,0.34466913985712966,0.36573047267556669,5.6314036520338213,5.5866707395512156,0,0,0.38819421058695919,0.40864314605176477,6.2118528216039541,5.22541526604049,0,0,0.42820679378826371,0.38221871903502208,7.6023790960665396,4.9094204942409245,0,0,0.52406109278181545,0.35910493558436951,4.0452441295814277,5.4051072400123825,0,0,0.27885416293098675,0.39536248515037126,7.0137100826856287,4.3911601033813383,0,0,0.48348188428130667,0.32119621204074944,4.5273939703561803,8.3599259865745168,0,0,0.31209059711140397,0.61149593652053025,10.277647929466303,6.6598295309092741,0,0,0.70847761432071199,0.48714052045562928,6.4563243988362542,8.3114130347279236,0,0,0.44505915543709829,0.6079474035585819,6.334565130056161,11.710031401730634,0,0,0.43666582294908474,0.85654306392013468,9.7039149193671541,8.948528691800739,0,0,0.66892800170100897,0.65454992564063097,4.7945239516642166,8.6969964553704759,0,0,0.33050488928890237,0.6361513248960744,4.7526878588135242,9.0522496531483903,0,0,0.3276209672613361,0.66213670888463905,5.3998483718521433,3.3255737381733295,0,0,0.37223221873704004,0.2432527310359166,2.0184586728860294,9.8122063464933849,0,0,0.13914008292415825,0.71772457301864423,3.3485939676434517,4.8439051810371367,0,0,0.23083140051168829,0.35431274629126769,3.3097294363559566,3.7339682864067196,0,0,0.22815231959772603,0.27312519726862106,3.4133681864559424,4.2454450622838946,0,0,0.23529653536829204,0.31053772586944789,2.0816995914211986,4.8485680483442479,0,0,0.14349952152321654,0.35465381682411834,4.7191270939656906,3.2746094424716405,0,0,0.32530749527072611,0.2395248918446054,2.0428350601337031,4.8564792811645754,0,0,0.14082044060925422,0.35523249260788331,1.4612072470725705,5.4101400034633098,0,0,0.10072660900030145,0.39573061214152566,2.1853383415211853,3.8440926304110254,0,0,0.15064373729378264,0.28118036294577736,3.6336005304184154,8.1072425195740347,0,0,0.25047799388074504,0.5930131277558528,3.1167469361697746,3.4486565645188265,0,0,0.21484929712839607,0.25225575908743325,1.8498525599475211,7.2214355939457153,0,0,0.12751741813992429,0.5282198106339856,5.2502756882281227,6.8497332265144921,0,0,0.36192160109487731,0.50103123412693595,4.0352006870558652,8.5660940231529779,0,0,0.2781618299916887,0.62657632321421708,2.0700849039099931,7.1424488408665816,0,0,0.14269887665237724,0.52244223812623769,4.2165684997308404,7.3956082911170329,0,0,0.29066420759017925,0.54095986320671452,3.6478955304322058,4.4850280639816207,0,0,0.25146340295254721,0.32806228676063598,3.8681278743946788,4.7065425829507639,0,0,0.26664486146500022,0.34426520870605309,2.6530528732224194,3.4411220570708978,0,0,0.18288509036181155,0.25170463929337156,2.1102895914487814,7.0162458411137498]
[72,{"$f":"Vstupy!J1464","v":3},{"$f":"Vstupy!K1464","v":3},0,0,0.23117899577718298,0.23231321816895745,4.65533086014287,4.6342695273244336,0,0,0.35873823775278607,0.3588673559183575,5.2432094414468624,5.1780275934994506,0,0,0.4040399644410434,0.40097475133783989,5.7836460278156903,4.8431965470054683,0,0,0.44568582688037489,0.37504619201987427,7.0783180032847239,4.5503155586565551,0,0,0.54545281593030581,0.35236615037192726,3.7663899666504408,5.0097447548620115,0,0,0.29023675006516886,0.38794330873568289,6.5302281984043216,4.0699638913405884,0,0,0.50321719903431794,0.31516880314292839,4.215303373244776,7.7484300500539867,0,0,0.3248298669076331,0.60002090689503251,9.5691703151455911,6.1726890104536452,0,0,0.73739706129206251,0.47799908292488125,6.0112652433991558,7.7034656311693421,0,0,0.46322608743976673,0.59653896394363626,5.8978993071070764,10.853488337810498,0,0,0.4544901463373191,0.84046960137200188,9.0349869176661457,8.2939787661601088,0,0,0.69623306749534841,0.6422669661972179,4.4640190623753142,8.0608451304744015,0,0,0.34399581465670903,0.62421362447402595,4.4250668915521878,8.3901129442637519,0,0,0.34099417341196514,0.64971137962764625,5.0276161531151029,3.0823210071374127,0,0,0.38742641781009779,0.23868797086595814,1.8793185899618712,9.0944817734747403,0,0,0.14481966145759229,0.70425610945828143,3.1177625671317633,4.4895924347458687,0,0,0.24025373978040435,0.34766388892760597,3.0815771167582304,3.4608430891380983,0,0,0.23746530108737154,0.2679998652051559,3.1780716510876506,3.9349073364144469,0,0,0.24490113760212565,0.30471032883969357,1.9382000698979822,4.4939142315201295,0,0,0.14935704859142712,0.34799855909990618,4.3938195986949644,3.035084550627035,0,0,0.33858626748413567,0.23503008645701684,1.9020146195244489,4.501246788556692,0,0,0.14656860989839429,0.34856637574076327,1.3604806380722692,5.0144093913217844,0,0,0.10483818256128277,0.38830452763820228,2.0346946042274028,3.562912267465248,0,0,0.15679288510618125,0.2759038716361697,3.3831225365376705,7.5142293918181817,0,0,0.26070229019597824,0.58188493735768321,2.9018976390413784,3.1964008054313933,0,0,0.22361926068058802,0.24752205255587154,1.7223351418075967,6.6932157833117296,0,0,0.13272256949161076,0.51830749950680244,4.8883540871332452,6.3487019923875563,0,0,0.37669492962225054,0.49162913034907507,3.7570388570641766,7.9395176999387607,0,0,0.28951615669065056,0.61481830252739089,1.927386027257616,6.6200066027403439,0,0,0.1485237220854633,0.5126383460607854,3.9259042921406611,6.8546484279103179,0,0,0.30252887059147016,0.53080847856821034,3.3964321274796587,4.1569657772209849,0,0,0.26172792281870288,0.32190603250814281,3.6014830129296787,4.3622773742447105,0,0,0.27752907541255545,0.3378048984521394,2.4701677828606079,3.1894174177775261]
[73,{"$f":"Vstupy!J1465","v":2},{"$f":"Vstupy!K1465","v":6},0,0,0.17172453575069332,0.49058047392980186,2.7688210042228172,2.7676867818310424,0,0,0.23773725076346588,0.22629551551998683,4.2965926223900839,4.2754021714060766,0,0,0.36891518669489559,0.34957147058148286,4.8391694770058189,4.777052842161611,0,0,0.41550206592887484,0.39058814121589169,5.3379602009353153,4.4681503549855943,0,0,0.45832936868064733,0.36533121978974087,6.5328651873544183,4.1979494082846278,0,0,0.56092662071015187,0.343238668374934,3.476153216585272,4.6218014461263284,0,0,0.29847039865819258,0.37789425730834963,6.0270109993700034,3.7547950881976599,0,0,0.51749283291556802,0.30700485897955004,3.890473506337143,7.148409143158954,0,0,0.33404487836305896,0.58447832421584145,8.8317732538535285,5.6946899275287635,0,0,0.75831608093669367,0.4656172805883883,5.5480391559593887,7.1069266672257054,0,0,0.47636722419189725,0.58108657543198894,5.4434091607697574,10.013018736438497,0,0,0.4673834555171289,0.81869857953166392,8.3387538501707965,7.6517117999628912,0,0,0.71598431682994323,0.62563006686667544,4.1200232477186054,7.436631506000376,0,0,0.35375453974827065,0.60804436810916007,4.0840727181402228,7.7404015646361053,0,0,0.35066774574735099,0.63288164466436003,4.6401897353050048,2.8436330362714548,0,0,0.39841721404519226,0.23250514043608195,1.7344989285042789,8.3902256640164588,0,0,0.14892801162873615,0.68601348043853017,2.8775088273513587,4.1419285458182626,0,0,0.247069433747717,0.33865821149848307,2.8441118156708587,3.1928432239329423,0,0,0.24420189058456984,0.2610577569967632,2.9331705134855248,3.6301970075747532,0,0,0.25184867235296227,0.29681729473909518,1.7888430213065551,4.1459156724202231,0,0,0.15359411868236789,0.3389842125748177,4.0552333312108289,2.8000544641700182,0,0,0.34819153058145857,0.22894200767696415,1.7554460096260547,4.1526804128159291,0,0,0.1507265755192207,0.33953732083304061,1.2556424555109864,4.6261048636835822,0,0,0.10781230887074236,0.37824611941247555,1.8779017191212215,3.2870083958290781,0,0,0.16124090045076034,0.26875702277284447,3.1224202463416924,6.9323444544604982,0,0,0.26809808361079629,0.56681213798564412,2.6782783783607904,2.9488787528755216,0,0,0.22996305556756325,0.24111038935786608,1.589612572315986,6.1749082838049274,0,0,0.13648774050221404,0.50488157205701345,4.5116591575109943,5.8570728620384811,0,0,0.38738128714446984,0.47889426341670316,3.4675227003735261,7.3246993974113694,0,0,0.29772936296331709,0.59889241696256734,1.7788623051721526,6.1073682566795586,0,0,0.15273715176004804,0.49935926897094762,3.6233754215491909,6.3238399493421076,0,0,0.31111123105800376,0.51705873323407758,3.1347042046609559,3.8350597447128423,0,0,0.26915281213057451,0.31356757118505518,3.323953937517123,4.0244724757925709]
[74,{"$f":"Vstupy!J1466","v":3},{"$f":"Vstupy!K1466","v":3},0,0,0.28619400190386413,0.25837014941013792,1.8282754642493066,5.5094195260701984,0,0,0.17441382389871804,0.47448984870462946,2.5310837534593511,2.5413912663110558,0,0,0.24146032951879504,0.21887321372880236,3.9276774356951885,3.9258307008245938,0,0,0.37469257450303767,0.3381058215769856,4.4236674110769441,4.3864647009457194,0,0,0.42200902648927224,0.37777718005521382,4.8796308322546675,4.1028191351958538,0,0,0.46550702523214882,0.35334866432110851,5.9719385666442664,3.8547107399096938,0,0,0.5697109991706496,0.33198072993444361,3.1776828179270793,4.2439071888179791,0,0,0.30314458748123296,0.36549964481921987,5.509518166454435,3.4477902292181097,0,0,0.5255970175398782,0.29693535888596556,3.5564286279740838,6.5639308189431125,0,0,0.33927618050845726,0.56530792880271363,8.0734571729168341,5.2290726469403754,0,0,0.77019167250550868,0.45034542702215008,5.0716719317674919,6.5258400917937163,0,0,0.48382736216534661,0.56202742651447024,4.9760257052526287,9.1943201569068336,0,0,0.47470290338758259,0.79184595755488707,7.6227695333408532,7.0260817330962162,0,0,0.72719697277922324,0.60510992904930339,3.766268707970335,6.8285871378912155,0,0,0.35929450459310869,0.58810102635903316,3.7334049723928717,7.1075199199717449,0,0,0.3561593699256338,0.61212366121954376,4.2417725212598123,2.6111278958353727,0,0,0.40465661767506311,0.22487916819198811,1.5855709168755427,7.7042121835779289,0,0,0.15126029533433022,0.66351281765281145,2.6304393936036417,3.8032703343197793,0,0,0.25093865894033329,0.32755050817511555,2.5999099250862887,2.9317854669361791,0,0,0.24802620868334019,0.25249528304359053,2.6813218411325623,3.3333797128356579,0,0,0.25579274270198837,0.28708193814869054,1.6352489026241872,3.8069314598454054,0,0,0.15599947585030613,0.32786581669147064,3.7070418006293702,2.5711124564930543,0,0,0.35364437604900861,0.22143290317812572,1.604719434106834,3.8131430919828886,0,0,0.15308702559331303,0.32840078346595142,1.1478301466402441,4.2478587442711069,0,0,0.10950070105762355,0.36583996614349557,1.7166608186704613,3.0182513730562337,0,0,0.16376600986895432,0.25994201940463102,2.8543221627308961,6.3655323164748543,0,0,0.27229662749161587,0.54822117856088981,2.4483153227932273,2.7077683635176557,0,0,0.23356438671758153,0.23320217221670045,1.4531248318137719,5.670026711747914,0,0,0.13862520362755429,0.48832188289126049,4.1242778703665248,5.3781785986217781,0,0,0.39344786289458067,0.46318693602677163,3.169793337410209,6.7258069804488017,0,0,0.30239194681387771,0.57924925148076845,1.6261251534121046,5.6080089877086108,0,0,0.15512908841718173,0.48298070668255666,3.3122641904911871,5.8067812161080301,0,0,0.31598338134651194,0.50009964346593805,2.8655513925303815,3.5214921735277871]
[75,{"$f":"Vstupy!J1467","v":2},{"$f":"Vstupy!K1467","v":4},0,0,0.21145584545852317,0.36207169511924331,2.7138059980961358,2.7416298505898622,0,0,0.28692507086891483,0.2481666418481473,1.6538616403505886,5.034929677365569,0,0,0.17485935571587685,0.45575138077248412,2.2896234239405562,2.3225180525822533,0,0,0.24207712844549445,0.21022951206087509,3.5529848611921508,3.5877248792476082,0,0,0.37564970886235993,0.32475340716266599,4.0016583845876719,4.008687520890506,0,0,0.42308702847458712,0.36285807147304566,4.4141238070225191,3.7494704708747455,0,0,0.46669614078627086,0.33939428229729163,5.4022275674736164,3.5227300099752501,0,0,0.57116629881973724,0.31887020653979192,2.8745382304458462,3.8784075439987591,0,0,0.30391895591088675,0.35106539845472295,4.9839211489145567,3.150854870332144,0,0,0.52693963012117084,0.28520884099397076,3.2171524474656263,5.9986228901403988,0,0,0.34014284537390055,0.54298288955355711,7.3032655004113254,4.7787272199182258,0,0,0.77215909049877052,0.43256046625706523,4.5878445696021455,5.9638126652792458,0,0,0.48506327614875799,0.53983194027281722,4.5013228018650464,8.4024741993519463,0,0,0.47591550937505089,0.7605745191387665,6.8955725605616296,6.4209718040469124,0,0,0.72905456285707637,0.58121303635103283,3.4069742033772261,6.2404861115321824,0,0,0.36021230531525489,0.56487584619263809,3.3772456024672382,6.4953962587522014,0,0,0.35706916209539463,0.58794978346940019,3.8371159035847491,2.3862487276433848,0,0,0.4056902937574291,0.21599828044849448,1.4343106215412125,7.0406993659251178,0,0,0.15164668256406846,0.63730948856137226,2.3795007346633081,3.4757198261446636,0,0,0.25157966980870339,0.31461494230294001,2.3518837164029485,2.6792901838925887,0,0,0.2486597798360595,0.24252378464958468,2.425529098430574,3.0462977746869675,0,0,0.25644615309644325,0.27574454977972224,1.4792494267738812,3.4790656431539349,0,0,0.15639796909125339,0.3149177987119664,3.3533974245803617,2.3496795533149286,0,0,0.35454774378653731,0.21268811471394067,1.451632408513521,3.4847423085169371,0,0,0.15347807911860945,0.31543163867461815,1.0383294455826206,3.8820187781276112,0,0,0.10978041539007634,0.35139227987034949,1.5528948088015069,2.7583093536516028,0,0,0.16418434235163715,0.24967643583497504,2.5820255352392802,5.8173111379139648,0,0,0.2729921962747589,0.5265709261851409,2.2147509360756459,2.4745661913009553,0,0,0.23416101583396565,0.22399259389227666,1.3144996281862176,5.1817048288566534,0,0,0.13897931511651548,0.46903716274792429,3.730830007471944,4.9149916625950061,0,0,0.39445290674600414,0.44489484069318047,2.8674013905963314,6.1465577289680331,0,0,0.30316439265874612,0.55637364401893552,1.470996064994923,5.1250282810260543,0,0,0.15552535829483108,0.4639069193112913,2.9962808091446753,5.3066815726420922]
[76,{"$f":"Vstupy!J1468","v":3},{"$f":"Vstupy!K1468","v":2},0,0,0.350754536111481,0.18989461670415397,1.7885441545414769,3.6379283048807567,0,0,0.20911332508036556,0.34541150052626196,2.4268809272272209,2.4934632087417148,0,0,0.2837464979424616,0.2367476201449589,1.4790022846347117,4.579178296593085,0,0,0.17292225341828962,0.4347806537257623,2.0475462954950618,2.1122885405213783,0,0,0.23939538368105059,0.20055611138544197,3.1773351523297908,3.2629714720849421,0,0,0.37148823914204587,0.30981035850407956,3.578571356113085,3.6458294494174601,0,0,0.41840004531842617,0.34616169293292265,3.9474276662362482,3.4100761885774538,0,0,0.46152605330144042,0.32377755538093894,4.8310612686538796,3.2038598034354582,0,0,0.56483888473761146,0.30419786467361121,2.5706192745349594,3.5273421455440364,0,0,0.30055212371958051,0.33491164235624643,4.4569815187933859,2.8656460293381731,0,0,0.5211021616939393,0.27208537717547659,2.877009602091726,5.4556400005868415,0,0,0.33637472278998659,0.51799833339364432,6.5311064099125549,4.3461667536611603,0,0,0.76360506636786607,0.41265683490941163,4.1027812934533872,5.4239807250064285,0,0,0.47968971645070158,0.51499237039290746,4.0254072924899953,7.6418996802131796,0,0,0.47064328917903364,0.72557780533283933,6.1665179977045534,5.83975876769588,0,0,0.7209780532359864,0.55446937641816585,3.0467618980619711,5.6756102653395439,0,0,0.35622185206562068,0.53888391794940715,3.0201764403718436,5.9074464752828009,0,0,0.35311352877248331,0.56089614206206639,3.4314256098273201,2.1702504471948902,0,0,0.40119603265867915,0.20605943841104621,1.2826639389771439,6.4033898773637459,0,0,0.14996673163428437,0.60798463318462403,2.127921064854605,3.1611048838417237,0,0,0.24879265532830855,0.30013840013937665,2.1032239365668888,2.436766399243004,0,0,0.24590511206969398,0.23136441069090583,2.1690829453341305,2.7705532249072453,0,0,0.25360522742599928,0.26305657135110955,1.3228514576826278,3.1641478444419686,0,0,0.1546653831279555,0.3004273210577913,2.9988496807938243,2.1369914386009881,0,0,0.3506200428849669,0.20290158506659661,1.2981543293949116,3.1693106698423188,0,0,0.15177783986934096,0.30091751743304629,0.92854903019254431,3.5306264982572619,0,0,0.10856426144731714,0.33522348280604602,1.3887104664498697,2.5086329178166276,0,0,0.16236549848426082,0.23818794319010594,2.3090333389645212,5.2907402117288242,0,0,0.26996797255814825,0.50234154229374972,1.9805899202416803,2.2505735974086787,0,0,0.23156696623381523,0.21368590532220499,1.1755203130697021,4.7126676661087288,0,0,0.13743969403346207,0.44745511005488847,3.3363771007259397,4.4700968219018256,0,0,0.39008313408603162,0.424423661312752,2.5642369979375852,5.5901840849490974,0,0,0.29980591956383146,0.53077293205853526,1.3154707067000919,4.6611213617147627]
[77,{"$f":"Vstupy!J1469","v":1},{"$f":"Vstupy!K1469","v":2},0,0,0.12904042199172877,0.19882362625596794,2.6492454638885192,1.810105383295846,0,0,0.34185975261984775,0.17994585810616445,1.5794308294611112,3.2925168043544946,0,0,0.203810420740408,0.32731506527523596,2.1431344292847592,2.256715588596756,0,0,0.27655097113990812,0.22434418837658907,1.306080031216422,4.1443976428673226,0,0,0.1685371183831374,0.41200208400078353,1.8081509118140113,1.9117324291359363,0,0,0.23332455668520918,0.19004878699596855,2.8058469131877448,2.9531611135808626,0,0,0.36206766972193616,0.29357910076012977,3.160171310794659,3.2996677564845376,0,0,0.40778983951109743,0.32802595439207499,3.4859016129348079,3.086298633196515,0,0,0.44982221515475557,0.30681454298048427,4.2662223839162685,2.899661938761847,0,0,0.55051513673111441,0.28826065079052043,2.2700671508153789,3.19243050318779,0,0,0.29293042309077788,0.31736530460698043,3.9358793570994468,2.5935606521626964,0,0,0.50788753314864676,0.25783056688889022,2.5406348793017393,4.9376416671931969,0,0,0.3278445969520013,0.49085991071195734,5.7675013435446889,3.9335099187517488,0,0,0.74424080720886931,0.39103735298002029,3.6230915770026857,4.9089883546135207,0,0,0.46752526601110461,0.48801143295628885,3.5547640033109618,6.9163218748803406,0,0,0.45870824706825364,0.68756409775859217,5.4455399444685675,5.2852893912777139,0,0,0.70269477240703926,0.52542020129301625,2.6905400459963502,5.1367263473901366,0,0,0.34718842292101437,0.51065127973633995,2.6670629115993605,5.3465503332207343,0,0,0.34415892359127026,0.53151026260550005,3.0302295771686412,1.9641910087838441,0,0,0.39102210336965931,0.19526378951288584,1.1326972073428596,5.795405244179122,0,0,0.1461637256243753,0.57613174313527316,1.8791284095262963,2.860966483702347,0,0,0.24248352294191941,0.2844138654432431,1.8573188244971948,2.2054019885520981,0,0,0.23966920488629964,0.21924301035802543,1.9154777179081313,2.5074966535561356,0,0,0.24717405303461887,0.24927478874236772,1.1681860745546724,2.8637205233841772,0,0,0.15074322402539606,0.28468764952144027,2.6482296379088575,1.9340898535343913,0,0,0.34172867000676205,0.19227137909229081,1.1463764895255706,2.8683931524092725,0,0,0.14792890596977626,0.28515216404489946,0.81998476874522719,3.1954030154512161,0,0,0.10581118058567425,0.3176608074406328,1.2263449679656089,2.2704449746265216,0,0,0.15824807217371528,0.22570905153494208,2.0390653664063731,4.7883986694350744,0,0,0.26312185534979743,0.47602339370816671,1.7490229540078652,2.0368876920864736,0,0,0.22569466005839495,0.20249069860839106,1.0380806190362399,4.2652125560538403,0,0,0.13395436114187143,0.42401251357355524,2.9462939666399079,4.0456731605890734,0,0,0.38019101676689815,0.40218770421738126,2.2644310783737538,5.0594111528905623]
[78,{"$f":"Vstupy!J1470","v":1},{"$f":"Vstupy!K1470","v":1},0,0,0.14217227372640573,0.10391171657256104,0.87095957800827128,1.8011763737440321,0,0,0.12382630352922677,0.18716332884568312,2.3073857112686715,1.6301595251896817,0,0,0.32804627293488697,0.16939267454957088,1.3756204087207031,2.9652017390792587,0,0,0.19557508129226994,0.30811920269166904,1.866583458144851,2.0323714002201672,0,0,0.26537641434455078,0.21118720090985704,1.1375429128332846,3.7323955588665392,0,0,0.16172706237886664,0.38783962944962541,1.5748263551288022,1.7216836421399677,0,0,0.22389664363292991,0.17890310264966294,2.4437792434658085,2.6595820128207328,0,0,0.34743765152892964,0.27636173231770939,2.7523814712835617,2.9716418020924626,0,0,0.39131233193481385,0.30878840069420649,3.0360793977800524,2.7794840902160307,0,0,0.43164631119628666,0.28882096300047089,3.7157072471851542,2.6114012879713266,0,0,0.52827054783399729,0.27135519049289736,1.977136727724601,2.8750651985808098,0,0,0.28109402404859207,0.29875296004256302,3.4279918239508,2.3357300852738061,0,0,0.48736539192661399,0.24270972261097556,2.2127902823497378,4.44678175648124,0,0,0.31459742572135757,0.46207272553951378,5.0232605363358198,3.5424725657717286,0,0,0.71416837197098781,0.36810440522054499,3.1555663109915812,4.4209769216572319,0,0,0.44863403732811946,0.45939130085707969,3.0960557562427082,6.2287577771217482,0,0,0.44017328644875242,0.6472409127354104,4.7428451720615286,4.7598691899846974,0,0,0.67430108204429351,0.49460617819215558,2.343351623075336,4.6260750676537965,0,0,0.33315962839308383,0.48070340127343247,2.3229039880080902,4.8150400706152343,0,0,0.33025254162324569,0.50033907910329456,2.6392074737989817,1.7689272192709582,0,0,0.37522212738572458,0.18381226384637234,0.98653348171848432,5.2192735010438485,0,0,0.14025770820314443,0.54234366875514672,1.636644886584377,2.5765526182591039,0,0,0.2326855248083963,0.26773400540283004,1.6176496196108952,1.9861589781940727,0,0,0.22998492451273628,0.20638518881014994,1.6683036648735123,2.258221864813768,0,0,0.23718652530116285,0.23465571037448851,1.0174428505292763,2.5790328738627371,0,0,0.14465216344642279,0.26799173302014229,2.3065009679020956,1.7418184744421006,0,0,0.3279204869587965,0.18099534763707822,0.99844758355579433,2.583240988364373,0,0,0.14195156315076274,0.26842900542154119,0.7141735881595529,2.8777422080105834,0,0,0.10153568286398931,0.29903113268769177,1.0680968957918937,2.0447359230915794,0,0,0.15185376423484936,0.21247201970602617,1.7759435110565758,4.3123752757269074,0,0,0.25248992697656952,0.44810631740585416,1.5233282939494703,1.8343969934780826,0,0,0.21657504718256274,0.19061534046785261,0.90412625789436851,3.8412000424802852,0,0,0.12854168582058906,0.39914569011272083,2.5661029498730099,3.6434854563716921]
[79,{"$f":"Vstupy!J1471","v":0},{"$f":"Vstupy!K1471","v":1},0,0,0,0.10844729935876207,0.85782772627359427,0.89608828342743896,0,0,0.13416238612304798,9.7178354324734706E-2,0.74713327447904454,1.614013044898349,0,0,0.11685001520231264,0.17503535584903834,1.9793394383337846,1.4607668506401108,0,0,0.30956437273003123,0.15841621994472418,1.1800453274284333,2.6570825363875894,0,0,0.18455651643353208,0.28815342524456372,1.6012070438003003,1.8211841993103102,0,0,0.25042529064252372,0.19750250805005262,0.97581585045441788,3.3445559294169138,0,0,0.15261547150307583,0.36270805809959877,1.3509297114958723,1.5427805394903047,0,0,0.21128246153354266,0.16731038301097753,2.0963415919368789,2.3832202805030236,0,0,0.3278632544613499,0.25845380319758432,2.3610691393487477,2.6628534013982561,0,0,0.36926606570826814,0.28877925996993448,2.6044330865837657,2.4906631272155599,0,0,0.40732765646519842,0.27010568975897631,3.1874366993511569,2.3400460974784294,0,0,0.49850815041706242,0.25377167964654618,1.6960427036760088,2.5763122385382466,0,0,0.26525738108304753,0.27939410457439967,2.9406264320241862,2.0930203626628305,0,0,0.45990756271153882,0.22698240583368073,1.8981928566283803,3.9847090309417261,0,0,0.29687322426993396,0.43213093313610007,4.3090921643648317,3.1743681605511838,0,0,0.67393261967255536,0.34425165418221715,2.7069322736634618,3.9615856208001521,0,0,0.42335830585213469,0.42962326175428139,2.6558824697939558,5.5815168643863373,0,0,0.41537422782751959,0.60530043026808411,4.0685440900172347,4.2652630117925421,0,0,0.63631142529595275,0.46255625468372091,2.010191994682252,4.1453716663803641,0,0,0.31438964527710445,0.44955436205728172,1.9926514463848446,4.3147009915119394,0,0,0.31164634176590944,0.46791767007004281,2.2639853464132571,1.5851149554245858,0,0,0.35408237215865307,0.17190143608898087,0.84627577351533989,4.6769298322887014,0,0,0.13235568589763019,0.50720040960213775,1.4039593617759807,2.3088186128562738,0,0,0.21957618322024527,0.25038514327350614,1.3876646950981588,1.7797737893839227,0,0,0.21702773287803862,0.19301166092819663,1.4311171395723494,2.0235661544392793,0,0,0.22382360045725622,0.21945028452273549,0.87279068708285346,2.3110411408425948,0,0,0.13650256057084337,0.25062617043137192,1.978580480943299,1.5608231268050223,0,0,0.30944567344886487,0.16926705287870331,0.85649602040503159,2.3148119829428317,0,0,0.13395411022863671,0.25103510807345092,0.61263790529556361,2.5787110753228917,0,0,9.5815232693544597E-2,0.27965425194529686,0.91624313155704429,1.8322639033855532,0,0,0.143298428150061,0.198704072034707,1.5234535840800063,3.8642689583210532,0,0,0.23826481906309388,0.41906953252581491,1.3067532467669076,1.64378165301023,0,0,0.20437335876501281,0.17826368100444118,0.77558457207377951,3.4420543523675642]
[80,{"$f":"Vstupy!J1472","v":1},{"$f":"Vstupy!K1472","v":2},0,0,0.17180814910617559,0.22603768876994468,0,0.89155270064123793,0,0,0,0.10076225593477389,0.72366534015054629,0.7989099291027042,0,0,0.12433160266355633,9.0291876954867803E-2,0.6302832592767319,1.4389776890493107,0,0,0.10828780018894309,0.16263159551211115,1.6697750656037533,1.3023506306953867,0,0,0.28688096344502378,0.14719016326523249,0.99548881099490116,2.3689291111430255,0,0,0.17103309007294143,0.26773363057130445,1.3507817531577766,1.6236816912602576,0,0,0.23207531285643254,0.18350662839527176,0.82320037895134202,2.9818478713173149,0,0,0.14143253345113241,0.33700500054807264,1.1396472499623296,1.3754701564793272,0,0,0.19580068464997089,0.15545404757131065,1.7684783374755288,2.1247664773054393,0,0,0.30383898989603719,0.2401386518529893,1.9918030736404795,2.3740741414283217,0,0,0.34220799946616232,0.26831511594847429,2.1971054301185671,2.2205574374565837,0,0,0.37748061733979882,0.2509648354717986,2.6889285489340944,2.0862744178318833,0,0,0.46197983707112128,0.23578832377329037,1.4307853225929614,2.2969181339638469,0,0,0.24582057804297905,0.25959503314748106,2.4807188693126472,1.8660379568291499,0,0,0.42620771738937058,0.21089745345932542,1.6013196323584464,3.5525780978056263,0,0,0.27511976216288625,0.40150827120135513,3.6351595446922764,2.8301165063689666,0,0,0.62455003307922796,0.31985649702465579,2.2835739678113272,3.5319623590458709,0,0,0.3923366167567095,0.39917830423058509,2.2405082419664364,4.9762164341182533,0,0,0.38493757410938484,0.56240623079355279,3.432232664721282,3.8027067571088211,0,0,0.58968554142752039,0.42977752322336465,1.6958023494051475,3.6958173043230822,0,0,0.29135266290120249,0.41769700079257838,1.6810051046189352,3.8467833214418965,0,0,0.28881037566261231,0.43475900558874875,1.9099029742546041,1.413213519335605,0,0,0.32813689497906323,0.15971975882452985,0.71392008761770964,4.1697294226865633,0,0,0.12265728886331739,0.47125800075005325,1.1843831785557355,2.0584334695827677,0,0,0.20348668174015,0.23264177197559352,1.1706369622201203,1.5867621284557261,0,0,0.20112496975431488,0.17933402207190519,1.2072935391150932,1.8041158699165438,0,0,0.20742286838320836,0.20389909075455687,0.73628812651201003,2.0604149704112231,0,0,0.1265003002248821,0.23286571890937341,1.6691348074944341,1.3915560739263191,0,0,0.28677096188431145,0.15727205937204172,0.72254191017639491,2.0637768748693808,0,0,0.12413858823904698,0.23324567746616709,0.51682267260201897,2.2990568233775948,0,0,8.8794346795859846E-2,0.25983674535352119,0.77294470340698329,1.6335598313508461,0,0,0.13279819885377564,0.18462304437298294,1.2851887650169125,3.4451994257952383,0,0,0.22080590296960736,0.38937245777914808,1.1023798880018949,1.4655179720057889]
[81,{"$f":"Vstupy!J1473","v":0},{"$f":"Vstupy!K1473","v":0},0,0,0,0,0.82819185089382441,1.7739623112300553,0,0,0.15611576822728596,0.20866522046691466,0,0.79079044470646398,0,0,0,9.3018020418588532E-2,0.59933373748698993,0.70861805214783635,0,0,0.11297557051706272,8.3352358244711461E-2,0.52199545908778877,1.2763460935371995,0,0,9.8397155222784652E-2,0.15013229836622288,1.3828941021587295,1.1551604674301541,0,0,0.26067821713349676,0.13587764073963909,0.82445572092195973,2.1011954805717212,0,0,0.15541150049013647,0.24715655762357583,1.118706440301344,1.4401750628649859,0,0,0.21087833110162643,0.16940294903745726,0.68176784550020963,2.6448428707692422,0,0,0.12851455956498167,0.31110397173361382,0.94384656531235867,1.2200161089080166,0,0,0.17791690593598286,0.14350639172371021,1.4646393475794917,1.88462782545245,0,0,0.27608735424830566,0.22168243271382457,1.6495950741743171,2.1057590254798475,0,0,0.31095186699885285,0.24769335206297097,1.8196248127787682,1.9695926019847851,0,0,0.34300280209930162,0.23167655362316256,2.2269487118629732,1.850486094058593,0,0,0.41978414612512743,0.21766645567568699,1.1849647445499825,2.0373231008163657,0,0,0.22336814980492534,0.23964346440901016,2.0545111519232764,1.6551405033698243,0,0,0.38727933203866804,0.19468861083069275,1.3261998701955602,3.1510698266042709,0,0,0.24999124458307398,0.37064974600227163,3.0106095116130485,2.5102600093443108,0,0,0.5675057249483858,0.29527344237426734,1.8912373510546177,3.1327840548152857,0,0,0.35650190428869688,0.36849885216557532,1.8555706678570516,4.4138102033247009,0,0,0.34977866541415609,0.5191816496581847,2.8425471232937616,3.3729292338854564,0,0,0.53582563918774773,0.39674632192156911,1.4044496865039451,3.2781203035305038,0,0,0.26474148653902102,0.38559426630600707,1.3921947289563228,3.4120243158531478,0,0,0.26243140330157422,0.40134494492856182,1.5817660792755408,1.2534937605110752,0,0,0.29816597006533585,0.1474442552894942,0.59126279875439225,3.6984714219365102,0,0,0.11145418293133004,0.43503875463613628,0.98089649681558555,1.8257916976071742,0,0,0.18490088979570343,0.21476173687348216,0.96951199246580533,1.4074281063838208,0,0,0.18275488867225037,0.16555103468138241,0.99987067073188485,1.600216779161987,0,0,0.18847755833479168,0.18822811787199759,0.60978782628712791,1.8275492515018497,0,0,0.11494618650705155,0.21496847202709465,1.3823638456101226,1.2342840145542773,0,0,0.26057826274689661,0.14518467747895478,0.59840332193734791,1.8305311974032137,0,0,0.11280018538359853,0.21531922829456973,0.42802832580615913,2.0392200780240737,0,0,8.068416857054328E-2,0.23986659945802516,0.64014650455320765,1.4489367869778631,0,0,0.12066885616959289,0.17043356117736011,1.064382862047305,3.0558269680160901]
[82,{"$f":"Vstupy!J1474","v":0},{"$f":"Vstupy!K1474","v":0},0,0,0,0,0,0,0,0,0,0,0.6720760826665384,1.5652970907631407,0,0,0.13884156173102669,0.19139038420916424,0,0.69777242428787545,0,0,0,8.5317306959222253E-2,0.48635816696992717,0.62526569390312492,0,0,0.1004748259971165,7.6451839139741365E-2,0.42359830386500413,1.1262137951709765,0,0,8.7509512050903071E-2,0.13770324638778142,1.1222158850252328,1.019282826690515,0,0,0.23183417784795268,0.1246286937919187,0.66904422043182321,1.8540389229481453,0,0,0.13821522120429494,0.22669512637296879,0.90782810919971757,1.2707721138275285,0,0,0.1875446481661999,0.15537853136184313,0.55325328593522793,2.3337388990356285,0,0,0.11429442623117733,0.2853485048723497,0.7659296593763758,1.0765097171843063,0,0,0.15823040400723959,0.13162588085840884,1.1885519933311861,1.6629453927386255,0,0,0.24553829426259213,0.20332993622312023,1.3386432071754641,1.8580656734168766,0,0,0.27654504940490332,0.22718748103450412,1.4766220106794665,1.7379160483616225,0,0,0.30504954920538097,0.21249667055666635,1.8071645657378457,1.6328196383829061,0,0,0.3733350391171531,0.1996464311972973,0.9615965947450571,1.7976796364073555,0,0,0.19865246869063763,0.2198040220781686,1.6672318198846083,1.4604518925391317,0,0,0.34442688203099464,0.17857086075320741,1.0762086256124861,2.7804200806019992,0,0,0.22232971858720021,0.33996464353604028,2.4431037866646625,2.2149865669700435,0,0,0.5047112283265236,0.27082854275532708,1.5347354467659207,2.7642852026497104,0,0,0.31705497601924193,0.33799181645504767,1.5057920024428955,3.8946285536665162,0,0,0.31107566338585707,0.47619998761692489,2.306721484106014,2.9761829119638872,0,0,0.47653654339414619,0.3639007536389211,1.1397081999649241,2.8925260372244965,0,0,0.23544784657855491,0.35367194692063614,1.1297633256547486,3.0106793709245858,0,0,0.23339337400312088,0.36811866893008471,1.283600109210205,1.1060495052215811,0,0,0.26517391170024213,0.13523773921761331,0.47980861582306222,3.263432667300374,0,0,9.9121779915994232E-2,0.399023058128119,0.79599560701988215,1.611029960733692,0,0,0.16444161019863579,0.19698218630622444,0.78675710379355501,1.2418770717024383,0,0,0.16253306405470641,0.15184550670684629,0.81139311239709322,1.4119886612899895,0,0,0.16762252043851794,0.17264521475058894,0.49484163978007634,1.6125807794747551,0,0,0.10222739336893923,0.19717180640865889,1.1217855828632259,1.0890993370753226,0,0,0.23174528341214382,0.13316522581867718,0.48560313655374937,1.615211969108644,0,0,0.10031884722500989,0.19749352450161953,0.34734415723561585,1.7993534785660485,0,0,7.175646700206742E-2,0.22000868437246926,0.51947764838361477,1.2785032258005029]
[83,{"$f":"Vstupy!J1475","v":0},{"$f":"Vstupy!K1475","v":0},0,0,0,0,0,0,0,0,0,0,0,0,0,0,0,0,0.53323452093551171,1.3739067065539765,0,0,0.12060504650948888,0.17442036308971817,0,0.61245511732865321,0,0,0,7.7752472879731763E-2,0.38588334097281068,0.54881385476338351,0,0,8.7277692006161728E-2,6.9673079955037326E-2,0.33608879181410106,0.98851054878319511,0,0,7.6015341799222494E-2,0.12549350550099214,0.89038170717728016,0.8946541328985963,0,0,0.20138329944752553,0.11357823493800638,0.53082899922752824,1.6273437965751765,0,0,0.12006097434971583,0.20659473784968491,0.7202834610335177,1.1153935824656853,0,0,0.16291109616376259,0.14160157506587087,0.43895885970405057,2.0483903941632788,0,0,9.928211999005547E-2,0.26004749419673462,0.60769925536913627,0.94488383632589745,0,0,0.13744720958611786,0.11995500205609784,0.943013699068594,1.4596154565155053,0,0,0.21328741214225974,0.18530127022623807,1.0620981577705608,1.6308781923823725,0,0,0.2402215023341529,0.20704343687491941,1.1715724614740854,1.5254193778049561,0,0,0.26498200258570032,0.19365521725137572,1.4338295266206926,1.4331732071856087,0,0,0.32429835270488894,0.18194437073151373,0.76294412605441941,1.577875614329187,0,0,0.17255993037641817,0.20031464745666602,1.3228049378536137,1.2818810317859242,0,0,0.29918721461041847,0.16273750898466804,0.8538789070252859,2.440455437065959,0,0,0.19312722873714805,0.30982098086191878,1.9383925583381389,1.9441580242147163,0,0,0.43841858595702443,0.24681497431353988,1.2176804707466786,2.4262933861946627,0,0,0.27541054459574316,0.30802307854199912,1.1947163390570383,3.4184285660495912,0,0,0.27021660072725523,0.4339767386259642,1.8301849407118678,2.612282158324966,0,0,0.41394458016009716,0.33163474664932263,0.90426035338636923,2.5388540903038606,0,0,0.20452232122090835,0.3223128980666477,0.89636995165162769,2.6425607019945012,0,0,0.20273769882525489,0.33547867182668378,1.0184261975099629,0.97081176600396779,0,0,0.23034393703858769,0.12324660758290734,0.38068683590706798,2.8644096091722551,0,0,8.6102365371192244E-2,0.36364285994543566,0.63155399682124636,1.4140477744274675,0,0,0.14284258833477076,0.17951635658032733,0.62422403973884855,1.0900315649955921,0,0,0.14118472527428438,0.13838181329113086,0.64377059195857522,1.2393434465394004,0,0,0.14560569343558125,0.15733727254338314,0.39261424641113712,1.4154089730660961,0,0,8.8800063742365404E-2,0.17968916362730822,0.8900402994510821,0.9559341112566454,0,0,0.20130608108847298,0.12135785783696564,0.38528428932873948,1.4177184446070243,0,0,8.7142200681879042E-2,0.1799823559254406,0.27558769023354845,1.5793447941935792]
[84,{"$f":"Vstupy!J1476","v":2},{"$f":"Vstupy!K1476","v":0},0,0,0.49479648986429764,0,0,0,0,0,0,0,0,0,0,0,0,0,0,0,0,0,0,0,0.41262947442602282,1.1994863434642584,0,0,0.10208380778027303,0.15793682713455476,0,0.53470264444892146,0,0,0,7.0404502381260309E-2,0.29860564896664898,0.47914077480834616,0,0,7.387451348117427E-2,6.3088649684386572E-2,0.26007345001487858,0.86301704328220297,0,0,6.4341715087129894E-2,0.11363378526293101,0.68899840772975462,0.78107589796058996,0,0,0.17045699683338639,0.10284456321435781,0.41076802487781239,1.4207490587254916,0,0,0.10162328842901602,0.18707057376030523,0.55737236486975505,0.97379200739981442,0,0,0.13789294484245868,0.12821956729705639,0.33967673971399509,1.7883428999665443,0,0,8.4035429249516722E-2,0.23547179589689141,0.47025204578301838,0.82492883426979957,0,0,0.11633953080247124,0.10861869616630722,0.72972628692633423,1.2743141862892673,0,0,0.18053300266642874,0.16778943791374301,0.82187665543640787,1.4238347555074531,0,0,0.20333084210567171,0.18747686863969068,0.90659045888838508,1.3317641605535804,0,0,0.22428888840121788,0.17535389807096513,1.1095311739158036,1.2512288364540949,0,0,0.2744960651242766,0.16474978104217899,0.59038419567800127,1.3775609668725211,0,0,0.14606001384641584,0.18138398113303608,1.0236177232431953,1.1191435228012561,0,0,0.25324122821180856,0.14735805710712158,0.66075167828813786,2.1306344562040405,0,0,0.16346880554445714,0.28054145645756629,1.4999739723811145,1.6973430499011763,0,0,0.37109092821099121,0.22348981071852272,0.94226992615093552,2.1182703076526637,0,0,0.23311592598208691,0.27891346427319091,0.92449973832978305,2.9844518274236269,0,0,0.22871961270301916,0.39296391736973252,1.4162403605517706,2.2806474116756434,0,0,0.35037537960258169,0.30029371987044956,0.69973803216546093,2.2165411922372127,0,0,0.17311396107001054,0.29185282935688533,0.69363225282637275,2.3070820301678174,0,0,0.17160340197757715,0.30377437623132858,0.7880822604713752,0.84756515842106039,0,0,0.19497016810277878,0.11159922965376159,0.29458447053587572,2.5007667492268193,0,0,7.2879680994841961E-2,0.32927691751435723,0.4887114084864756,1.2345314178471403,0,0,0.12090634473787253,0.16255122552673767,0.48303931446456416,0.9516497517044612,0,0,0.1195030786317615,0.12530408799278506,0.49816489852299395,1.0820061739960174,0,0,0.12324512158139071,0.14246816813885801,0.30381418266877169,1.235719809438788,0,0,7.5163095577749375E-2,0.16270770150364303,0.68873421836260906,0.83457625341967978,0,0,0.17039163684762482,0.10988897554787037,0.29814208864686043,1.2377360886815838]
[85,{"$f":"Vstupy!J1477","v":0},{"$f":"Vstupy!K1477","v":0},0,0,0,0,1.5052035101357024,0,0,0,0.40698836513452291,0,0,0,0,0,0,0,0,0,0,0,0,0,0,0,0,0,0,0,0.31054566664574978,1.0415495163297037,0,0,8.3967697601482233E-2,0.14209449948969471,0,0.46429814206766118,0,0,0,6.3342367383151146E-2,0.22473113548547471,0.41605212512395962,0,0,6.0764512446434861E-2,5.6760353256598103E-2,0.1957317349277487,0.74938325801927197,0,0,5.2923434118225254E-2,0.10223540725114964,0.51854141089636818,0.6782313347462321,0,0,0.14020716777111111,9.2528430514374579E-2,0.30914473644879636,1.2336784849651865,0,0,8.3588903447278956E-2,0.16830589818721778,0.41947942002729638,0.84557244010275801,0,0,0.1134220337747522,0.11535811862510362,0.25564131046447836,1.5528711040696528,0,0,6.9122240485211858E-2,0.21185209041462269,0.35391251498054715,0.71631013810349231,0,0,9.569355565719774E-2,9.7723371723970998E-2,0.54919328425990543,1.1065247483755243,0,0,0.14849505425591727,0.15095881456259908,0.61854581333073622,1.2363578868677625,0,0,0.16724711816914664,0.16867143843884203,0.68230157048716722,1.1564102624826154,0,0,0.1844858843547704,0.15776449883175614,0.83503510879152698,1.0864790554119159,0,0,0.22578313926889046,0.1482240595999878,0.4443241818315854,1.1961769857394851,0,0,0.120139749300125,0.16318971630719817,0.77037649503138672,0.97178546569413449,0,0,0.20830025185273529,0.13257686475220526,0.49728287274368072,1.8500929997464741,0,0,0.13445912265319074,0.25240090335287102,1.1288830441701232,1.4738532391826535,0,0,0.30523597738186287,0.20107199423501079,0.70915400016884855,1.8393568433794727,0,0,0.19174644837979843,0.25093621181253217,0.69578012562676395,2.5914879100538943,0,0,0.18813031853506634,0.35354649177921321,1.0658649809491889,1.9803536918051938,0,0,0.28819667448924619,0.27017185667872895,0.5266240710954504,1.9246883628803273,0,0,0.14239261886673457,0.26257765503157049,0.52202885084879558,2.0033076539364889,0,0,0.14115012829119075,0.27330337535279581,0.59311209236859641,0.73596592876729883,0,0,0.16037015539038213,0.10040493385103139,0.22170478954103376,2.1714898317124622,0,0,5.9946226028707549E-2,0.29624780766205044,0.36780506374860306,1.0719801923204026,0,0,9.9449928581250346E-2,0.14624603679659953,0.36353623583280265,0.82634566371167617,0,0,9.8295690444816841E-2,0.1127350852260595,0.37491977694160322,0.93953800585715941,0,0,0.10137365880863941,0.12817747077860323,0.22865108709102233,1.0730121079351449,0,0,6.1824418754522353E-2,0.14638681698082842,0.51834258151498425,0.72468727787180942]
[86,{"$f":"Vstupy!J1478","v":0},{"$f":"Vstupy!K1478","v":0},0,0,0,0,0,0,0,0,0,0,1.0982151450011794,0,0,0,0.32429374935362515,0,0,0,0,0,0,0,0,0,0,0,0,0,0,0,0,0,0,0,0.22657796904426755,0.89945501684000906,0,0,6.690657967771535E-2,0.12702054167378604,0,0.40095577468451005,0,0,0,5.6622753483088421E-2,0.16396662303903986,0.3592917718673615,0,0,4.8417972740783521E-2,5.0738985971595728E-2,0.14280830080952345,0.64714785076812231,0,0,4.2170097106328797E-2,9.1389862759768126E-2,0.3783342431252571,0.58570290423185756,0,0,0.11171893847067992,8.2712641280062421E-2,0.22555583300151741,1.0653725867779686,0,0,6.6604751451104463E-2,0.15045132944209377,0.30605738625254419,0.73021432147765442,0,0,9.0376186994854821E-2,0.10312046396484344,0.18651906997926648,1.3410190136550302,0,0,5.5077521745033435E-2,0.18937796590177558,0.25821895932334943,0.61858676637952126,0,0,7.6249899534093807E-2,8.7356482166065647E-2,0.40069823000398819,0.95556593381292521,0,0,0.11832283679462008,0.13494449443881953,0.4512986951615896,1.0676864484289204,0,0,0.13326473104884512,0.15077809170897694,0.4978156861323968,0.99864576365085922,0,0,0.14700080952056896,0.14102820426174473,0.60925196952263649,0.93825499581192817,0,0,0.17990701220694252,0.1324998533165842,0.3241844325314604,1.0329872694322868,0,0,9.5728952187771651E-2,0.14587789277821481,0.56207624317865146,0.83920860094192928,0,0,0.1659764146876786,0.11851257603014176,0.36282375009048995,1.5976920963936032,0,0,0.10713881957188025,0.2256251971608495,0.82364706678826027,1.2727812449476428,0,0,0.24321609171816125,0.17974146581945447,0.51740755178905018,1.5884206315669405,0,0,0.15278612362732519,0.22431588600871477,0.5076498070916976,2.2379414182746813,0,0,0.14990474320970534,0.31604085347384825,0.77766830645994278,1.7101818351264648,0,0,0.2296389482546318,0.24151093605726431,0.3842314522287158,1.6621107078487567,0,0,0.11346033500813242,0.23472235796123472,0.3808787225576048,1.7300042785836931,0,0,0.11247030197083301,0.2443102505956177,0.43274193697821428,0.6355609949162675,0,0,0.12778507552367122,8.9753573363363023E-2,0.1617585635123262,1.8752420240504117,0,0,4.7765951225715822E-2,0.26482064495138519,0.26835513516735271,0.92573415552380311,0,0,7.9243027504985103E-2,0.13073166715292694,0.2652405453879858,0.71361057848561671,0,0,7.832331518645913E-2,0.10077569253194797,0.27354611813296381,0.81136053507855621,0,0,8.0775881369194946E-2,0.11457988751953654,0.16682666833649998,0.92662529095431645]
[87,{"$f":"Vstupy!J1479","v":0},{"$f":"Vstupy!K1479","v":0},{"$f":"D$168*B74/100","v":0},{"$f":"E$168*C74/100","v":0},{"$f":"IF($A237<$B$162,0,B237*B150)","v":0},{"$f":"IF($A237<$B$163,0,C237*C150)","v":0},0,0,{"$f":"J$168*D74/100","v":0},{"$f":"K$168*E74/100","v":0},{"$f":"IF($A237<$B$162,0,H237*D150)","v":0},{"$f":"IF($A237<$B$163,0,I237*E150)","v":0},0,0,{"$f":"P$168*F74/100","v":0},{"$f":"Q$168*G74/100","v":0},{"$f":"IF($A237<$B$162,0,N237*F150)","v":0},{"$f":"IF($A237<$B$163,0,O237*G150)","v":0},0.77392139564755436,0,{"$f":"V$168*H74/100","v":0},{"$f":"W$168*I74/100","v":0},{"$f":"IF($A237<$B$162,0,T237*H150)","v":0.2494115121607493},{"$f":"IF($A237<$B$163,0,U237*I150)","v":0},0,0,{"$f":"AB$168*J74/100","v":0},{"$f":"AC$168*K74/100","v":0},{"$f":"IF($A237<$B$162,0,Z237*J150)","v":0},{"$f":"IF($A237<$B$163,0,AA237*K150)","v":0},0,0,{"$f":"AH$168*L74/100","v":0},{"$f":"AI$168*M74/100","v":0},{"$f":"IF($A237<$B$162,0,AF237*L150)","v":0},{"$f":"IF($A237<$B$163,0,AG237*M150)","v":0},0,0,{"$f":"AN$168*N74/100","v":0},{"$f":"AO$168*O74/100","v":0},{"$f":"IF($A237<$B$162,0,AL237*N150)","v":0},{"$f":"IF($A237<$B$163,0,AM237*O150)","v":0},0.1596713893665522,0.77243447516622299,{"$f":"AT$168*P74/100","v":0},{"$f":"AU$168*Q74/100","v":0},{"$f":"IF($A237<$B$162,0,AR237*P150)","v":5.1457270589344788E-2},{"$f":"IF($A237<$B$163,0,AS237*Q150)","v":0.11281470495547051},0,0.34433302120142162,{"$f":"AZ$168*R74/100","v":0},{"$f":"BA$168*S74/100","v":0},{"$f":"IF($A237<$B$162,0,AX237*R150)","v":0},{"$f":"IF($A237<$B$163,0,AY237*S150)","v":5.0290127437547079E-2},0.11554865029825634,0.30855278589576579,{"$f":"BF$168*T74/100","v":0},{"$f":"BG$168*U74/100","v":0},{"$f":"IF($A237<$B$162,0,BD237*T150)","v":3.7237843224256904E-2},{"$f":"IF($A237<$B$163,0,BE237*U150)","v":4.506439396885871E-2},0.10063820370319465,0.55575798800835419,{"$f":"BL$168*V74/100","v":0},{"$f":"BM$168*W74/100","v":0},{"$f":"IF($A237<$B$162,0,BJ237*V150)","v":3.2432656220536961E-2},{"$f":"IF($A237<$B$163,0,BK237*W150)","v":8.1168921713801356E-2},0.26661530465457717,0.50299026295179516,{"$f":"BR$168*X74/100","v":0},{"$f":"BS$168*Y74/100","v":0},{"$f":"IF($A237<$B$162,0,BP237*X150)","v":8.5922067374113287E-2},{"$f":"IF($A237<$B$163,0,BQ237*Y150)","v":7.3462151075235474E-2},0.15895108155041293,0.91492125733587493,{"$f":"BX$168*Z74/100","v":0},{"$f":"BY$168*AA74/100","v":0},{"$f":"IF($A237<$B$162,0,BV237*Z150)","v":5.1225137116029731E-2},{"$f":"IF($A237<$B$163,0,BW237*AA150)","v":0.13362501936701271},0.21568119925768936,0.62709385751281099,{"$f":"CD$168*AB74/100","v":0},{"$f":"CE$168*AC74/100","v":0},{"$f":"IF($A237<$B$162,0,CB237*AB150)","v":6.9507542179389259E-2},{"$f":"IF($A237<$B$163,0,CC237*AC150)","v":9.158758547056263E-2},0.13144154823423304,1.1516410477532546,{"$f":"CJ$168*AD74/100","v":0},{"$f":"CK$168*AE74/100","v":0},{"$f":"IF($A237<$B$162,0,CH237*AD150)","v":4.2359644648950374E-2},{"$f":"IF($A237<$B$163,0,CI237*AE150)","v":0.16819814391238033},0.18196905978925562,0.53123028421345564,{"$f":"CP$168*AF74/100","v":0},{"$f":"CQ$168*AG74/100","v":0},{"$f":"IF($A237<$B$162,0,CN237*AF150)","v":5.8643136917714264E-2},{"$f":"IF($A237<$B$163,0,CO237*AG150)","v":7.7586629939135038E-2},0.28237539320936811,0.8206214393741057,{"$f":"CV$168*AH74/100","v":0},{"$f":"CW$168*AI74/100","v":0},{"$f":"IF($A237<$B$162,0,CT237*AH150)","v":9.1001068342872915E-2},{"$f":"IF($A237<$B$163,0,CU237*AI150)","v":0.11985245161824377},0.31803396411274448,0.91690835671994342,{"$f":"DB$168*AJ74/100","v":0},{"$f":"DC$168*AK74/100","v":0},{"$f":"IF($A237<$B$162,0,CZ237*AJ150)","v":0.1024927497210068},{"$f":"IF($A237<$B$163,0,DA237*AK150)","v":0.13391523690382401},0.35081487661182786,0.85761755938911444,{"$f":"DH$168*AL74/100","v":0},{"$f":"DI$168*AM74/100","v":0},{"$f":"IF($A237<$B$162,0,DF237*AL150)","v":0.11305704863092987},{"$f":"IF($A237<$B$163,0,DG237*AM150)","v":0.12525576607167005},0.429344957315694,0.80575514249534397,{"$f":"DN$168*AN74/100","v":0},{"$f":"DO$168*AO74/100","v":0},{"$f":"IF($A237<$B$162,0,DL237*AN150)","v":0.13836492393791594},{"$f":"IF($A237<$B$163,0,DM237*AO150)","v":0.11768121645192493},0.22845548034368873,0.88710937665407197,{"$f":"DT$168*AP74/100","v":0},{"$f":"DU$168*AQ74/100","v":0},{"$f":"IF($A237<$B$162,0,DR237*AP150)","v":7.3624307499928987E-2},{"$f":"IF($A237<$B$163,0,DS237*AQ150)","v":0.1295630707950006},0.39609982849097286,0.72069602491178753,{"$f":"DZ$168*AR74/100","v":0},{"$f":"EA$168*AS74/100","v":0},{"$f":"IF($A237<$B$162,0,DX237*AR150)","v":0.12765102211431437},{"$f":"IF($A237<$B$163,0,DY237*AS150)","v":0.10525826076769475},0.25568493051860969,1.3720668992327538,{"$f":"EF$168*AT74/100","v":0},{"$f":"EG$168*AU74/100","v":0},{"$f":"IF($A237<$B$162,0,ED237*AT150)","v":8.239953762229868E-2},{"$f":"IF($A237<$B$163,0,EE237*AU150)","v":0.20039152496760418},0.580430975070099,1.0930397791281883,{"$f":"EL$168*AV74/100","v":0},{"$f":"EM$168*AW74/100","v":0},{"$f":"IF($A237<$B$162,0,EJ237*AV150)","v":0.18705538832666985},{"$f":"IF($A237<$B$163,0,EK237*AW150)","v":0.15963937932781092},0.36462142816172499,1.3641047455582256,{"$f":"ER$168*AX74/100","v":0},{"$f":"ES$168*AY74/100","v":0},{"$f":"IF($A237<$B$162,0,EP237*AX150)","v":0.11750648357245119},{"$f":"IF($A237<$B$163,0,EQ237*AY150)","v":0.19922864572479368},0.35774506388199223,1.9219005648008332,{"$f":"EX$168*AZ74/100","v":0},{"$f":"EY$168*BA74/100","v":0},{"$f":"IF($A237<$B$162,0,EV237*AZ150)","v":0.11529043886452411},{"$f":"IF($A237<$B$163,0,EW237*BA150)","v":0.28069519440480711},0.54802935820531096,1.4686708990692006,{"$f":"FD$168*BB74/100","v":0},{"$f":"FE$168*BC74/100","v":0},{"$f":"IF($A237<$B$162,0,FB237*BB150)","v":0.17661332495415097},{"$f":"IF($A237<$B$163,0,FC237*BC150)","v":0.21450062041770279},0.27077111722058339,1.4273883498875219,{"$f":"FJ$168*BD74/100","v":0},{"$f":"FK$168*BE74/100","v":0},{"$f":"IF($A237<$B$162,0,FH237*BD150)","v":8.7261360359387322E-2},{"$f":"IF($A237<$B$163,0,FI237*BE150)","v":0.20847126937826535},0.26840842058677178,1.4856940279880755,{"$f":"FP$168*BF74/100","v":0},{"$f":"FQ$168*BG74/100","v":0},{"$f":"IF($A237<$B$162,0,FN237*BF150)","v":8.6499934530446382E-2},{"$f":"IF($A237<$B$163,0,FO237*BG150)","v":0.21698686271804618},0.30495686145454304,0.54580742155290451,{"$f":"FV$168*BH74/100","v":0},{"$f":"FW$168*BI74/100","v":0},{"$f":"IF($A237<$B$162,0,FT237*BH150)","v":9.8278394145613582E-2},{"$f":"IF($A237<$B$163,0,FU237*BI150)","v":7.9715633111464207E-2},0.11399261228661038,1.6104213790990265,{"$f":"GB$168*BJ74/100","v":0},{"$f":"GC$168*BK74/100","v":0},{"$f":"IF($A237<$B$162,0,FZ237*BJ150)","v":3.6736379127713228E-2},{"$f":"IF($A237<$B$163,0,GA237*BK150)","v":0.23520339728226447},0.18911210766236761,0.79500248837087617,{"$f":"GH$168*BL74/100","v":0},{"$f":"GI$168*BM74/100","v":0},{"$f":"IF($A237<$B$162,0,GF237*BL150)","v":6.094512570041076E-2},{"$f":"IF($A237<$B$163,0,GG237*BM150)","v":0.11611078227072269},0.18691723020152667,0.61283488595366875,{"$f":"GN$168*BN74/100","v":0},{"$f":"GO$168*BO74/100","v":0},{"$f":"IF($A237<$B$162,0,GL237*BN150)","v":6.0237782926849316E-2},{"$f":"IF($A237<$B$163,0,GM237*BO150)","v":8.9505050678123546E-2},0.19277023676376887,0.69678064755901969]
[88,{"$f":"Vstupy!J1480","v":0},{"$f":"Vstupy!K1480","v":0},0,0,0,0,0,0,0,0,0,0,0,0,0,0,0,0,0,0,0,0,0,0,0.52450988348680505,0,0,0,0.18436255163786675,0,0,0,0,0,0,0,0,0,0,0,0,0,0,0,0,0,0,0,0.10821411877720741,0.65961977021075247,0,0,3.8036711393086717E-2,9.9550172929890102E-2,0,0.29404289376387455,0,0,0,4.4377112762472887E-2,7.8310807073999428E-2,0.2634883919269071,0,0,2.7525849688486263E-2,3.9765810798790213E-2,6.8205547482657697E-2,0.47458906629455283,0,0,2.3973902429003106E-2,7.1625238893556237E-2,0.18069323728046388,0.4295281118765597,0,0,6.3512752261742411E-2,6.4824615250538592E-2,0.1077259444343832,0.78129623796886216,0,0,3.7865120598860103E-2,0.1179136513364695,0.1461736570783001,0.53550627204224832,0,0,5.1379295699910052E-2,8.0818896574027507E-2,8.9081903585282673E-2,0.98344290384087429,0,0,3.1311835232851817E-2,0.1484217356201317,0.12332592287154136,0.45364365427432063,0,0,4.3348433536742101E-2,6.8464145968709991E-2,0.19137432486649519,0.70076898775586194,0,0,6.7267100127482521E-2,0.10576043512569495,0.21554121439173768,0.78299311981611941,0,0,7.576163866392599E-2,0.11816974566378488,0.23775782798089801,0.73236179331744444,0,0,8.3570665145603601E-2,0.11052843844977825,0.29098003337777806,0.68807392604341899,0,0,0.1022779991724376,0.10384448953718488,0.15483117284375975,0.75754630585907134,0,0,5.4422368380932951E-2,0.1143292987209507,0.26844880637665847,0.61543776414409279,0,0,9.435838767942957E-2,9.2882200648040314E-2,0.17328539289631101,1.1716753742651496,0,0,6.0908932704101949E-2,0.17682988199174507,0.39337558674342915,0.93340039980037737,0,0,0.13826951446928462,0.14086929381038349,0.2471149445892738,1.164876099833432,0,0,8.6859643958405369E-2,0.1758037318124395,0.24245462501746812,1.6412053703960261,0,0,8.5221565373509445E-2,0.2476916032765166,0.37141603325116002,1.2541702786514977,0,0,0.13055084330192843,0.18928005763592232,0.18350975686119608,1.2189170805092566,0,0,6.4502744544042021E-2,0.1839596258813215,0.1819084860563254,1.2687071652700292,0,0,6.3939906014695971E-2,0.19147397243667888,0.20667846730892947,0.46609178844144028,0,0,7.2646428220520323E-2,7.0342825118359043E-2,7.7256233158897153E-2,1.375217981816762,0,0,2.7155172330442005E-2,0.20754864254964908,0.12816698196195686,0.67889170610015348,0,0,4.5050041141551221E-2,0.10245870393081909,0.12667944727467736,0.52332983527554522]
[89,{"$f":"Vstupy!J1481","v":0},{"$f":"Vstupy!K1481","v":0},0,0,0,0,{"$f":"B238+D238-F238","v":0},0,0,0,0,0,0,0,0,0,0,0,0,0,0,0,0,0,0,0,0,0,0,0,0.34014733184893831,0,0,0,0.13032881566974566,0,0,0,0,0,0,0,0,0,0,0,0,0,0,0,0,0,0,0,7.0177407384120691E-2,0.56006959728086236,0,0,2.6888755356186581E-2,8.7275003053563185E-2,0,0.24966578100140166,0,0,0,3.8905132335438269E-2,5.0784957385513169E-2,0.22372258112811688,0,0,1.945846029105959E-2,3.4862433250980228E-2,4.4231645053654595E-2,0.40296382740099657,0,0,1.6947532363791967E-2,6.279339110289392E-2,0.11718048501872147,0.36470349662602108,0,0,4.4898173238879728E-2,5.6831327635374899E-2,6.9860823835523098E-2,0.66338258663239269,0,0,2.6767455098662959E-2,0.10337414770434113,9.4794361378390049E-2,0.4546873754682208,0,0,3.6320840100260265E-2,7.0853412281376787E-2,5.7770068352430856E-2,0.83502116822074257,0,0,2.2134833598742718E-2,0.13012039103723977,7.9977489334799257E-2,0.38517950830561065,0,0,3.0643696096587909E-2,6.0022081053409143E-2,0.12410722473901267,0.59500855263016694,0,0,4.7552181369095073E-2,9.2719500397470456E-2,0.13977957572781169,0.6648233741523345,0,0,5.3557105564819345E-2,0.10359866397127107,0.15418716283529441,0.62183335486766622,0,0,5.9077430402207247E-2,9.6899578567317887E-2,0.18870203420534046,0.58422943650623416,0,0,7.2301941922554652E-2,9.1039803093424188E-2,0.1004088044628268,0.64321700713812069,0,0,3.8472036506424639E-2,0.10023176857773969,0.17409041869722891,0.52255556349605248,0,0,6.6703442784423569E-2,8.1429234190164415E-2,0.11237646019220907,0.99484549227340446,0,0,4.3057491841544906E-2,0.15502563216700385,0.2551060722741445,0.79253110598999388,0,0,9.7744915677937194E-2,0.12349921336764554,0.16025530063086843,0.98907236802099252,0,0,6.140246175823507E-2,0.15412601283539928,0.15723305964395867,1.3935137671195095,0,0,6.0244477991755203E-2,0.21714965224143093,0.24086518994923159,1.0648902210155753,0,0,9.2288464447202942E-2,0.16594062191923881,0.11900701231715406,1.0349574546279352,0,0,4.559801450560147E-2,0.16127623326010429,0.11796858004162943,1.0772331928333503,0,0,4.5200135010599371E-2,0.16786401306261869,0.13403203908840916,0.39574896332308124,0,0,5.1354913828785181E-2,6.1669107107675855E-2,5.0101060828455148E-2,1.1676693392671129,0,0,1.9196422579819884E-2,0.18195657404875101,8.3116940820405633E-2,0.57643300216933435]
[90,{"$f":"Vstupy!J1482","v":0},{"$f":"Vstupy!K1482","v":0},0,0,0,0,0,0,0,0,0,0,0,0,0,0,0,0,0,0,0,0,0,0,0,0,0,0,0,0,0,0,0,0,0,0,0.20981851617919264,0,0,0,8.7588712734118002E-2,0,0,0,0,0,0,0,0,0,0,0,0,0,0,0,0,0,0,0,4.328865202793411E-2,0.47279459422729919,0,0,1.8070842250565499E-2,7.601406265184428E-2,0,0.21076064866596339,0,0,0,3.3885271421982013E-2,3.1326497094453579E-2,0.18886014787713665,0,0,1.3077242204062348E-2,3.0364194701996708E-2,2.7284112689862628E-2,0.34017043629810262,0,0,1.13897493515621E-2,5.4691270105000175E-2,7.2282311779841735E-2,0.30787216899064618,0,0,3.0174241804453088E-2,4.9498481218174004E-2,4.3093368736860135E-2,0.56000843892805152,0,0,1.798932126569187E-2,9.0035962936101846E-2,5.8473521278129784E-2,0.38383396318684404,0,0,2.440976397625649E-2,6.1711320903054832E-2,3.5635234753688141E-2,0.70490077718350275,0,0,1.4875924188635443E-2,0.11333118545429142,4.9333793238211347E-2,0.32515742725220154,0,0,2.0594385675360056E-2,5.2277537325180805E-2,7.65550433699176E-2,0.50228905223269649,0,0,3.1957893060062623E-2,8.0756066063217058E-2,8.6222470162992337E-2,0.56122471018106346,0,0,3.5993559137948605E-2,9.0231510263327916E-2,9.5109732433087152E-2,0.52493377630034832,0,0,3.9703545635533487E-2,8.4396796086421755E-2,0.11640009228278581,0.49318963341280997,0,0,4.8591203630830013E-2,7.9293097153006351E-2,6.1936767956402156E-2,0.54298523856038106,0,0,2.5855495859001876E-2,8.7299039470642548E-2,0.10738697591280534,0.44112632930588808,0,0,4.4828679355350065E-2,7.0922563080565229E-2,6.9318968350664159E-2,0.83981986010640064,0,0,2.8937194469083025E-2,0.13502294705108331,0.15736115659620731,0.6690318926223483,0,0,6.5690394687771617E-2,0.10756432671357459,9.8852838872633353E-2,0.83494635518559324,0,0,4.1266104939816431E-2,0.13423940402223425,9.6988581652203476E-2,1.1763641148780786,0,0,4.0487871001667314E-2,0.18913121389610102,0.14857672550202866,0.89894959909633654,0,0,6.202333505141637E-2,0.14452959484073069,7.3408997811552593E-2,0.87368122136783088,0,0,3.0644576744238788E-2,0.14046704406029245,7.2768445031030055E-2,0.90936917977073162,0,0,3.0377178067964132E-2,0.14620481420207695,8.2677125259623979E-2,0.33407985621540537,0,0,3.4513555361640823E-2,5.3712050499605007E-2,3.0904638248635263E-2,0.98571276521836193]
[91,{"$f":"Vstupy!J1483","v":0},{"$f":"Vstupy!K1483","v":0},0,0,0,0,0,0,0,0,0,0,0,0,0,0,0,0,0,0,0,0,0,0,0,0,0,0,0,0,0,0,0,0,0,0,0,0,0,0,0,0,0.12222980344507464,0,0,0,5.5565923036292632E-2,0,0,0,0,0,0,0,0,0,0,0,0,0,0,0,0,0,0,0,2.5217809777368611E-2,0.3967805315754549,0,0,1.1464068809231131E-2,6.5771347865572108E-2,0,0.17687537724398139,0,0,0,2.9319311407182566E-2,1.8249254890391232E-2,0.15849595317513993,0,0,8.2961492543415175E-3,2.6272691430136746E-2,1.5894363338300528E-2,0.28547916619310243,0,0,7.2256106536549222E-3,4.7321751078629612E-2,4.2108069975388643E-2,0.25837368777247216,0,0,1.9142416248019854E-2,4.2828678187206745E-2,2.5104047471168265E-2,0.46997247599194969,0,0,1.1412352228065229E-2,7.790383031893422E-2,3.406375730187329E-2,0.32212264228378923,0,0,1.5485454964454611E-2,5.3395866669419416E-2,2.0759310565052699E-2,0.59156959172921131,0,0,9.4372257880833282E-3,9.8060076813313399E-2,2.8739407562851291E-2,0.27287988992702072,0,0,1.3064994491819181E-2,4.5233263070257358E-2,4.4597150309854977E-2,0.42153298616947943,0,0,2.0273957348454136E-2,6.9874377555981138E-2,5.0228911025043732E-2,0.47099319991773553,0,0,2.2834167490652518E-2,7.8073028107270792E-2,5.5406186797553665E-2,0.44053698021392657,0,0,2.5187767832014613E-2,7.3024527837220174E-2,6.7808888651955793E-2,0.4138965362598036,0,0,3.0826061908086476E-2,6.8608540239132362E-2,3.608127209740028E-2,0.45568619908973851,0,0,1.6402621389443671E-2,7.5535700803838465E-2,6.2558296557455276E-2,0.37020376622532286,0,0,2.8439131814158237E-2,6.1365915794485713E-2,4.0381773881581137E-2,0.70479691305531733,0,0,1.8357638450929928E-2,0.11682892494519315,9.1670761908435691E-2,0.56146756590877367,0,0,4.1673719152885556E-2,9.3070288620245425E-2,5.7586733932816922E-2,0.70070695116335902,0,0,2.6179049097958013E-2,0.11615096248245632,5.6500710650536162E-2,0.98723290098197758,0,0,2.5685340653552702E-2,0.16364623107138423,8.6553390450612291E-2,0.75442000425560585,0,0,3.9347351437655512E-2,0.1250545744762829,4.2764421067313804E-2,0.73321417730753846,0,0,1.9440794820436431E-2,0.12153944278511718,4.2391266963065923E-2,0.76316436556865463,0,0,1.9271158188020249E-2,0.1265040619990179,4.8163569897983156E-2,0.28036780571580033]
[92,{"$f":"Vstupy!J1484","v":0},{"$f":"Vstupy!K1484","v":0},0,0,0,0,0,0,0,0,0,0,0,0,0,0,0,0,0,0,0,0,0,0,0,0,0,0,0,0,0,0,0,0,0,0,0,0,0,0,0,0,0,0,0,0,0,0,6.6663880408782017E-2,0,0,0,3.2988523551006704E-2,0,0,0,0,0,0,0,0,0,0,0,0,0,0,0,0,0,0,0,1.375374096813748E-2,0.3310091837098828,0,0,6.806018567471186E-3,5.653257201946537E-2,0,0.14755606583679881,0,0,0,2.520088362907481E-2,9.9531056360497149E-3,0.13222326174500318,0,0,4.92527974169997E-3,2.258221655203229E-2,8.6687526846456059E-3,0.2381574151144728,0,0,4.2897195654036935E-3,4.0674554920291976E-2,2.2965653727368789E-2,0.2155450095852654,0,0,1.1364520099999562E-2,3.6812615412191531E-2,1.3691695243103036E-2,0.39206864567301547,0,0,6.7753153313411087E-3,6.6960827792350575E-2,1.8578302337418681E-2,0.26872677561436981,0,0,9.1934456925931076E-3,4.5895451073928901E-2,1.132208477696937E-2,0.4935095149158979,0,0,5.6027170638921495E-3,8.4285764768167779E-2,1.5674413071032109E-2,0.22764662685676337,0,0,7.7564603436110907E-3,3.887943284089642E-2,2.4323192961400841E-2,0.35165860861349829,0,0,1.2036296401029023E-2,6.0059256951407729E-2,2.7394743534391214E-2,0.39292017181046474,0,0,1.3556248701943279E-2,6.7106258689923495E-2,3.0218418965539052E-2,0.36751245237670638,0,0,1.495354035207873E-2,6.2766911628186872E-2,3.6982826743869317E-2,0.34528799602067123,0,0,1.8300897630648797E-2,5.8971229389224548E-2,1.9678650707956609E-2,0.38015049828590003,0,0,9.7379514716329427E-3,6.4925344915563579E-2,3.4119164743297042E-2,0.30883785043083717,0,0,1.6883818685218002E-2,5.2745962592749954E-2,2.2024135430651209E-2,0.58796798811012418,0,0,1.0898611150287717E-2,0.10041818858448591,4.9997042755550135E-2,0.46839727728852826,0,0,2.4740963356895726E-2,7.9996882609890616E-2,3.1407684834858909E-2,0.58455598868090264,0,0,1.554204682511774E-2,9.9835458216400705E-2,3.081536999698346E-2,0.82358666991059337,0,0,1.524894069539579E-2,0.14065915697311865,4.720603901295678E-2,0.62936542977932297,0,0,2.3359839243974154E-2,0.10748839680758097,2.3323626246877373E-2,0.61167473452242127,0,0,1.1541662276812695E-2,0.10446702896371546,2.3120108775045674E-2,0.63666030356963677]
[93,{"$f":"Vstupy!J1485","v":0},{"$f":"Vstupy!K1485","v":0},0,0,0,0,0,0,0,0,0,0,0,0,0,0,0,0,0,0,0,0,0,0,0,0,0,0,0,0,0,0,0,0,0,0,0,0,0,0,0,0,0,0,0,0,0,0,0,0,0,0,0,0,3.3675356857775313E-2,0,0,0,1.8132392821939698E-2,0,0,0,0,0,0,0,0,0,0,0,0,0,0,0,0,0,0,0,6.9477224006662943E-3,0.27447661169041743,0,0,3.740979860101583E-3,4.826791260543016E-2,0,0.122355182207724,0,0,0,2.1516693918843251E-2,5.027825894349745E-3,0.10964104519297088,0,0,2.7072174629567554E-3,1.9280857318769856E-2,4.3790331192419124E-3,0.19748286019418082,0,0,2.3578769791134384E-3,3.4728224668097968E-2,1.1601133627369227E-2,0.17873239417307388,0,0,6.2465948913234398E-3,3.1430873212015875E-2,6.9163799117619275E-3,0.3251078178806649,0,0,3.7241035928883954E-3,5.7171631652555441E-2,9.3848566448255736E-3,0.22283132454044091,0,0,5.05324733395595E-3,3.9185862986393559E-2,5.7193677130772209E-3,0.4092237501477301,0,0,3.0795760384849614E-3,7.1963786227716042E-2,7.9179527274210182E-3,0.18876719401586695,0,0,4.2633974097292301E-3,3.3195536652160747E-2,1.2286896560371819E-2,0.29159935166209056,0,0,6.6158418435218842E-3,5.1279021316763318E-2,1.3838494832447935E-2,0.32581391312054125,0,0,7.451295183777463E-3,5.7295801588636931E-2,1.5264878613460322E-2,0.30474554074851951,0,0,8.2193271645933843E-3,5.3590836163246156E-2,1.868192911322052E-2,0.28631676663144667,0,0,1.005922754681462E-2,5.0350055635427E-2,9.9406992363236663E-3,0.31522515337033646,0,0,5.3525390759492138E-3,5.5433721875997335E-2,1.723534605807904E-2,0.25609188783808723,0,0,9.2803193286725844E-3,4.5034878509322432E-2,1.1125524280363492E-2,0.48754979952563826,0,0,5.9905044942382187E-3,8.5737764574423628E-2,2.5256079398654409E-2,0.38840039467863763,0,0,1.3599058644949842E-2,6.8301908096301267E-2,1.5865638009741168E-2,0.48472053046450192,0,0,8.5428042226344345E-3,8.524022523604749E-2,1.5566429301587669E-2,0.68292751293747478,0,0,8.3816962095880441E-3,0.12009578997386258,2.3846199768982626E-2,0.52187703297174204,0,0,1.2839913273905108E-2,9.1774358708103632E-2,1.1781963970064677E-2,0.50720770555870587]
[94,{"$f":"Vstupy!J1486","v":0},{"$f":"Vstupy!K1486","v":0},0,0,0,0,0,0,0,0,0,0,0,0,0,0,0,0,0,0,0,0,0,0,0,0,0,0,0,0,0,0,0,0,0,0,0,0,0,0,0,0,0,0,0,0,0,0,0,0,0,0,0,0,0,0,0,0,0,0,1.5542964035835615E-2,0,0,0,1.5542964035835615E-2,0,0,0,0,0,0,0,0,0,0,0,0,0,0,0,0,0,0,0,3.2067425405647113E-3,0.22620869908498725,0,0,3.2067425405647113E-3,0.22620869908498725,0,0.10083848828888074,0,0,0,0.10083848828888074,2.3206084313929895E-3,9.0360187874201026E-2,0,0,2.3206084313929895E-3,9.0360187874201026E-2,2.021156140128474E-3,0.16275463552608285,0,0,2.021156140128474E-3,0.16275463552608285,5.3545387360457875E-3,0.147301520961058,0,0,5.3545387360457875E-3,0.147301520961058,3.1922763188735321E-3,0.26793618622810944,0,0,3.1922763188735321E-3,0.26793618622810944,4.3316093108696236E-3,0.18364546155404735,0,0,4.3316093108696236E-3,0.18364546155404735,2.6397916745922595E-3,0.33725996392001406,0,0,2.6397916745922595E-3,0.33725996392001406,3.6545553176917881E-3,0.15557165736370621,0,0,3.6545553176917881E-3,0.15557165736370621,5.6710547168499345E-3,0.24032033034532724,0,0,5.6710547168499345E-3,0.24032033034532724,6.387199648670472E-3,0.2685181115319043,0,0,6.387199648670472E-3,0.2685181115319043,7.0455514488669373E-3,0.25115470458527334,0,0,7.0455514488669373E-3,0.25115470458527334,8.6227015664058996E-3,0.23596671099601968,0,0,8.6227015664058996E-3,0.23596671099601968,4.5881601603744524E-3,0.25979143149433914,0,0,4.5881601603744524E-3,0.25979143149433914,7.9550267294064558E-3,0.21105700932876481,0,0,7.9550267294064558E-3,0.21105700932876481,5.1350197861252736E-3,0.40181203495121465,0,0,5.1350197861252736E-3,0.40181203495121465,1.1657020753704566E-2,0.32009848658233636,0,0,1.1657020753704566E-2,0.32009848658233636,7.322833787106733E-3,0.39948030522845446,0,0,7.322833787106733E-3,0.39948030522845446,7.1847330919996254E-3,0.56283172296361217,0,0,7.1847330919996254E-3,0.56283172296361217,1.1006286495077518E-2,0.43010267426363841]
[]
[]
["Výpočet průměrného věku"]
[null,2017,null,null,{"$f":"B248+1","v":2018},null,null,{"$f":"E248+1","v":2019},null,null,{"$f":"H248+1","v":2020},null,null,{"$f":"K248+1","v":2021},null,null,{"$f":"N248+1","v":2022},null,null,{"$f":"Q248+1","v":2023},null,null,{"$f":"T248+1","v":2024},null,null,{"$f":"W248+1","v":2025},null,null,{"$f":"Z248+1","v":2026},null,null,{"$f":"AC248+1","v":2027},null,null,{"$f":"AF248+1","v":2028},null,null,{"$f":"AI248+1","v":2029},null,null,{"$f":"AL248+1","v":2030},null,null,{"$f":"AO248+1","v":2031},null,null,{"$f":"AR248+1","v":2032},null,null,{"$f":"AU248+1","v":2033},null,null,{"$f":"AX248+1","v":2034},null,null,{"$f":"BA248+1","v":2035},null,null,{"$f":"BD248+1","v":2036},null,null,{"$f":"BG248+1","v":2037},null,null,{"$f":"BJ248+1","v":2038},null,null,{"$f":"BM248+1","v":2039},null,null,{"$f":"BP248+1","v":2040},null,null,{"$f":"BS248+1","v":2041},null,null,{"$f":"BV248+1","v":2042},null,null,{"$f":"BY248+1","v":2043},null,null,{"$f":"CB248+1","v":2044},null,null,{"$f":"CE248+1","v":2045},null,null,{"$f":"CH248+1","v":2046},null,null,{"$f":"CK248+1","v":2047},null,null,{"$f":"CN248+1","v":2048},null,null,{"$f":"CQ248+1","v":2049},null,null,{"$f":"CT248+1","v":2050}]
[null,"Celkem","Muži","Ženy","Celkem","Muži","Ženy","Celkem","Muži","Ženy","Celkem","Muži","Ženy","Celkem","Muži","Ženy","Celkem","Muži","Ženy","Celkem","Muži","Ženy","Celkem","Muži","Ženy","Celkem","Muži","Ženy","Celkem","Muži","Ženy","Celkem","Muži","Ženy","Celkem","Muži","Ženy","Celkem","Muži","Ženy","Celkem","Muži","Ženy","Celkem","Muži","Ženy","Celkem","Muži","Ženy","Celkem","Muži","Ženy","Celkem","Muži","Ženy","Celkem","Muži","Ženy","Celkem","Muži","Ženy","Celkem","Muži","Ženy","Celkem","Muži","Ženy","Celkem","Muži","Ženy","Celkem","Muži","Ženy","Celkem","Muži","Ženy","Celkem","Muži","Ženy","Celkem","Muži","Ženy","Celkem","Muži","Ženy","Celkem","Muži","Ženy","Celkem","Muži","Ženy","Celkem","Muži","Ženy","Celkem","Muži","Ženy","Celkem","Muži","Ženy","Celkem","Muži","Ženy"]
["Průměr",{"$f":"B251/(B168+C168)","v":54.981946624803768},{"$f":"C251/B168","v":57.31818181818182},{"$f":"D251/C168","v":53.652709359605915},{"$f":"E251/(H168+I168)","v":55.124431392906729},{"$f":"F251/H168","v":57.457030918580081},{"$f":"G251/I168","v":53.809294313561317},{"$f":"H251/(N168+O168)","v":55.24735175356637},{"$f":"I251/N168","v":57.570512180843117},{"$f":"J251/O168","v":53.949852395220276},{"$f":"K251/(T168+U168)","v":55.350515382301509},{"$f":"L251/T168","v":57.657358830622975},{"$f":"M251/U168","v":54.074753085190451},{"$f":"N251/(Z168+AA168)","v":55.433912911386535},{"$f":"O251/Z168","v":57.716305211631848},{"$f":"P251/AA168","v":54.184568151455935},{"$f":"Q251/(AF168+AG168)","v":55.497716609759458},{"$f":"R251/AF168","v":57.746203704629451},{"$f":"S251/AG168","v":54.280033676636513},{"$f":"T251/(AL168+AM168)","v":55.542327217702898},{"$f":"U251/AL168","v":57.746109194589039},{"$f":"V251/AM168","v":54.362071323053421},{"$f":"W251/(AR168+AS168)","v":55.568393357982885},{"$f":"X251/AR168","v":57.715416586650967},{"$f":"Y251/AS168","v":54.431687514376151},{"$f":"Z251/(AX168+AY168)","v":55.576861150938406},{"$f":"AA251/AX168","v":57.654094403497282},{"$f":"AB251/AY168","v":54.490010818837881},{"$f":"AC251/(BD168+BE168)","v":55.569023544853792},{"$f":"AD251/BD168","v":57.562842117873871},{"$f":"AE251/BE168","v":54.538253976509701},{"$f":"AF251/(BJ168+BK168)","v":55.546454000476331},{"$f":"AG251/BJ168","v":57.443164872662898},{"$f":"AH251/BK168","v":54.577634265828522},{"$f":"AI251/(BP168+BQ168)","v":55.51058669530579},{"$f":"AJ251/BP168","v":57.296314484974609},{"$f":"AK251/BQ168","v":54.60931090328716},{"$f":"AL251/(BV168+BW168)","v":55.464498180784886},{"$f":"AM251/BV168","v":57.128531627462408},{"$f":"AN251/BW168","v":54.634368183182247},{"$f":"AO251/(CB168+CC168)","v":55.409589167552276},{"$f":"AP251/CB168","v":56.941715475727136},{"$f":"AQ251/CC168","v":54.653815087726414},{"$f":"AR251/(CH168+CI168)","v":55.348269127420522},{"$f":"AS251/CH168","v":56.740882938785532},{"$f":"AT251/CI168","v":54.668642220549089},{"$f":"AU251/(CN168+CO168)","v":55.271588491692533},{"$f":"AV251/CN168","v":56.531287527041243},{"$f":"AW251/CO168","v":54.662733659358672},{"$f":"AX251/(CT168+CU168)","v":55.201850088734624},{"$f":"AY251/CT168","v":56.319334685922819},{"$f":"AZ251/CU168","v":54.666676225982833},{"$f":"BA251/(CZ168+DA168)","v":55.134244159600605},{"$f":"BB251/CZ168","v":56.110169471943493},{"$f":"BC251/DA168","v":54.670758911656335},{"$f":"BD251/(DF168+DG168)","v":55.066814885749409},{"$f":"BE251/DF168","v":55.909759295622898},{"$f":"BF251/DG168","v":54.669393267962434},{"$f":"BG251/(DL168+DM168)","v":55.00650125994477},{"$f":"BH251/DL168","v":55.722961765089117},{"$f":"BI251/DM168","v":54.670849365152698},{"$f":"BJ251/(DR168+DS168)","v":54.948164960000724},{"$f":"BK251/DR168","v":55.55493273021478},{"$f":"BL251/DS168","v":54.665339986205133},{"$f":"BM251/(DX168+DY168)","v":54.90436440426982},{"$f":"BN251/DX168","v":55.408905732758818},{"$f":"BO251/DY168","v":54.670170358272586},{"$f":"BP251/(ED168+EE168)","v":54.863245586050645},{"$f":"BQ251/ED168","v":55.287845346073027},{"$f":"BR251/EE168","v":54.666710775659887},{"$f":"BS251/(EJ168+EK168)","v":54.843315278795373},{"$f":"BT251/EJ168","v":55.192891181615714},{"$f":"BU251/EK168","v":54.681852367088894},{"$f":"BV251/(EP168+EQ168)","v":54.829372894165786},{"$f":"BW251/EP168","v":55.124364862466173},{"$f":"BX251/EQ168","v":54.693256176155117},{"$f":"BY251/(EV168+EW168)","v":54.824686986906244},{"$f":"BZ251/EV168","v":55.081692613189844},{"$f":"CA251/EW168","v":54.706107404456453},{"$f":"CB251/(FB168+FC168)","v":54.830974198666446},{"$f":"CC251/FB168","v":55.063064002938809},{"$f":"CD251/FC168","v":54.723826257641079},{"$f":"CE251/(FH168+FI168)","v":54.846850049300357},{"$f":"CF251/FH168","v":55.065830498093426},{"$f":"CG251/FI168","v":54.745637662276756},{"$f":"CH251/(FN168+FO168)","v":54.869144794094126},{"$f":"CI251/FN168","v":55.087404029049253},{"$f":"CJ251/FO168","v":54.7680991269442},{"$f":"CK251/(FT168+FU168)","v":54.900054637932364},{"$f":"CL251/FT168","v":55.12354971921269},{"$f":"CM251/FU168","v":54.796393722027126},{"$f":"CN251/(FZ168+GA168)","v":54.926199358817257},{"$f":"CO251/FZ168","v":55.171623721327911},{"$f":"CP251/GA168","v":54.812094231056314},{"$f":"CQ251/(GF168+GG168)","v":54.961075648422607},{"$f":"CR251/GF168","v":55.227482294412589},{"$f":"CS251/GG168","v":54.836933526158489},{"$f":"CT251/(GL168+GM168)","v":54.995069153821227},{"$f":"CU251/GL168","v":55.289439737644415},{"$f":"CV251/GM168","v":54.857564082881595},{"$f":"CW251/(GR168+GS168)","v":55.023380749526524},{"$f":"CX251/GR168","v":55.354290046258079},{"$f":"CY251/GS168","v":54.868404550221825}]
["Suma",{"$f":"SUM(B252:B323)","v":35023.5},{"$f":"SUM(C252:C323)","v":13240.5},21783,{"$f":"SUM(E252:E323)","v":35346.390221071451},{"$f":"SUM(F252:F323)","v":13282.862479530633},{"$f":"SUM(G252:G323)","v":22063.527741540824},{"$f":"SUM(H252:H323)","v":35620.55153233344},{"$f":"SUM(I252:I323)","v":13301.747541879624},{"$f":"SUM(J252:J323)","v":22318.803990453842},{"$f":"SUM(K252:K323)","v":35848.549379339296},{"$f":"SUM(L252:L323)","v":13297.665585595429},{"$f":"SUM(M252:M323)","v":22550.883793743858},{"$f":"SUM(N252:N323)","v":36032.973549505637},{"$f":"SUM(O252:O323)","v":13271.40877032961},{"$f":"SUM(P252:P323)","v":22761.564779176046},{"$f":"SUM(Q252:Q323)","v":36176.926129561667},{"$f":"SUM(R252:R323)","v":13224.045753035838},{"$f":"SUM(S252:S323)","v":22952.880376525816},{"$f":"SUM(T252:T323)","v":36283.474766352396},{"$f":"SUM(U252:U323)","v":13156.745989062545},{"$f":"SUM(V252:V323)","v":23126.728777289864},{"$f":"SUM(W252:W323)","v":36356.136467690827},{"$f":"SUM(X252:X323)","v":13071.411716425024},{"$f":"SUM(Y252:Y323)","v":23284.724751265803},{"$f":"SUM(Z252:Z323)","v":36399.439322356688},{"$f":"SUM(AA252:AA323)","v":12970.377865127764},{"$f":"SUM(AB252:AB323)","v":23429.061457228941},{"$f":"SUM(AC252:AC323)","v":36417.284511295511},{"$f":"SUM(AD252:AD323)","v":12856.192468732865},{"$f":"SUM(AE252:AE323)","v":23561.092042562639},{"$f":"SUM(AF252:AF323)","v":36413.537191754323},{"$f":"SUM(AG252:AG323)","v":12731.594955803224},{"$f":"SUM(AH252:AH323)","v":23681.942235951083},{"$f":"SUM(AI252:AI323)","v":36391.592062571668},{"$f":"SUM(AJ252:AJ323)","v":12599.154058837825},{"$f":"SUM(AK252:AK323)","v":23792.438003733849},{"$f":"SUM(AL252:AL323)","v":36357.450782679138},{"$f":"SUM(AM252:AM323)","v":12463.860986520876},{"$f":"SUM(AN252:AN323)","v":23893.58979615826},{"$f":"SUM(AO252:AO323)","v":36314.223971137348},{"$f":"SUM(AP252:AP323)","v":12327.563998903577},{"$f":"SUM(AQ252:AQ323)","v":23986.659972233763},{"$f":"SUM(AR252:AR323)","v":36267.20692624915},{"$f":"SUM(AS252:AS323)","v":12193.728393939298},{"$f":"SUM(AT252:AT323)","v":24073.47853230988},{"$f":"SUM(AU252:AU323)","v":36203.875944573505},{"$f":"SUM(AV252:AV323)","v":12065.633617233907},{"$f":"SUM(AW252:AW323)","v":24138.242327339598},{"$f":"SUM(AX252:AX323)","v":36159.676562973684},{"$f":"SUM(AY252:AY323)","v":11946.486683517131},{"$f":"SUM(AZ252:AZ323)","v":24213.189879456542},{"$f":"SUM(BA252:BA323)","v":36126.448073057916},{"$f":"SUM(BB252:BB323)","v":11838.49923872788},{"$f":"SUM(BC252:BC323)","v":24287.948834330025},{"$f":"SUM(BD252:BD323)","v":36100.857086205091},{"$f":"SUM(BE252:BE323)","v":11744.020540422816},{"$f":"SUM(BF252:BF323)","v":24356.836545782291},{"$f":"SUM(BG252:BG323)","v":36093.424738816073},{"$f":"SUM(BH252:BH323)","v":11664.744374966151},{"$f":"SUM(BI252:BI323)","v":24428.6803638499},{"$f":"SUM(BJ252:BJ323)","v":36095.208321120874},{"$f":"SUM(BK252:BK323)","v":11602.337887143669},{"$f":"SUM(BL252:BL323)","v":24492.870433977219},{"$f":"SUM(BM252:BM323)","v":36124.113762280773},{"$f":"SUM(BN252:BN323)","v":11557.312601156349},{"$f":"SUM(BO252:BO323)","v":24566.801161124422},{"$f":"SUM(BP252:BP323)","v":36159.763258426552},{"$f":"SUM(BQ252:BQ323)","v":11529.952824417009},{"$f":"SUM(BR252:BR323)","v":24629.81043400956},{"$f":"SUM(BS252:BS323)","v":36228.832191776732},{"$f":"SUM(BT252:BT323)","v":11519.474625933404},{"$f":"SUM(BU252:BU323)","v":24709.357565843333},{"$f":"SUM(BV252:BV323)","v":36306.436890956509},{"$f":"SUM(BW252:BW323)","v":11524.939251390259},{"$f":"SUM(BX252:BX323)","v":24781.497639566242},{"$f":"SUM(BY252:BY323)","v":36396.643601307871},{"$f":"SUM(BZ252:BZ323)","v":11544.998708810901},{"$f":"SUM(CA252:CA323)","v":24851.64489249697},{"$f":"SUM(CB252:CB323)","v":36500.911200967785},{"$f":"SUM(CC252:CC323)","v":11577.579720851993},{"$f":"SUM(CD252:CD323)","v":24923.331480115783},{"$f":"SUM(CE252:CE323)","v":36615.94312836742},{"$f":"SUM(CF252:CF323)","v":11620.445685749684},{"$f":"SUM(CG252:CG323)","v":24995.497442617743},{"$f":"SUM(CH252:CH323)","v":36736.077121375536},{"$f":"SUM(CI252:CI323)","v":11671.562591844822},{"$f":"SUM(CJ252:CJ323)","v":25064.514529530705},{"$f":"SUM(CK252:CK323)","v":36864.11954475379},{"$f":"SUM(CL252:CL323)","v":11728.120554462135},{"$f":"SUM(CM252:CM323)","v":25135.998990291653},{"$f":"SUM(CN252:CN323)","v":36978.548308271485},{"$f":"SUM(CO252:CO323)","v":11788.450305274662},{"$f":"SUM(CP252:CP323)","v":25190.098002996827},{"$f":"SUM(CQ252:CQ323)","v":37100.670603282553},{"$f":"SUM(CR252:CR323)","v":11850.199836103644},{"$f":"SUM(CS252:CS323)","v":25250.470767178926},{"$f":"SUM(CT252:CT323)","v":37215.044243027769},{"$f":"SUM(CU252:CU323)","v":11912.336903845273},{"$f":"SUM(CV252:CV323)","v":25302.707339182511},{"$f":"SUM(CW252:CW323)","v":37314.054228346846},{"$f":"SUM(CX252:CX323)","v":11973.125180928853},{"$f":"SUM(CY252:CY323)","v":25340.929047417991}]
[23,{"$f":"C252+D252","v":0},{"$f":"($A252+0.5)*B173","v":0},0,{"$f":"F252+G252","v":0},{"$f":"($A252+0.5)*H173","v":0},{"$f":"($A252+0.5)*I173","v":0},{"$f":"I252+J252","v":0},{"$f":"($A252+0.5)*N173","v":0},{"$f":"($A252+0.5)*O173","v":0},{"$f":"L252+M252","v":0},{"$f":"($A252+0.5)*T173","v":0},{"$f":"($A252+0.5)*U173","v":0},{"$f":"O252+P252","v":0},{"$f":"($A252+0.5)*Z173","v":0},{"$f":"($A252+0.5)*AA173","v":0},{"$f":"R252+S252","v":0},{"$f":"($A252+0.5)*AF173","v":0},{"$f":"($A252+0.5)*AG173","v":0},{"$f":"U252+V252","v":0},{"$f":"($A252+0.5)*AL173","v":0},{"$f":"($A252+0.5)*AM173","v":0},{"$f":"X252+Y252","v":0},{"$f":"($A252+0.5)*AR173","v":0},{"$f":"($A252+0.5)*AS173","v":0},{"$f":"AA252+AB252","v":0},{"$f":"($A252+0.5)*AX173","v":0},{"$f":"($A252+0.5)*AY173","v":0},{"$f":"AD252+AE252","v":0},{"$f":"($A252+0.5)*BD173","v":0},{"$f":"($A252+0.5)*BE173","v":0},{"$f":"AG252+AH252","v":0},{"$f":"($A252+0.5)*BJ173","v":0},{"$f":"($A252+0.5)*BK173","v":0},{"$f":"AJ252+AK252","v":0},{"$f":"($A252+0.5)*BP173","v":0},{"$f":"($A252+0.5)*BQ173","v":0},{"$f":"AM252+AN252","v":0},{"$f":"($A252+0.5)*BV173","v":0},{"$f":"($A252+0.5)*BW173","v":0},{"$f":"AP252+AQ252","v":0},{"$f":"($A252+0.5)*CB173","v":0},{"$f":"($A252+0.5)*CC173","v":0},{"$f":"AS252+AT252","v":0},{"$f":"($A252+0.5)*CH173","v":0},{"$f":"($A252+0.5)*CI173","v":0},{"$f":"AV252+AW252","v":0},{"$f":"($A252+0.5)*CN173","v":0},{"$f":"($A252+0.5)*CO173","v":0},{"$f":"AY252+AZ252","v":0},{"$f":"($A252+0.5)*CT173","v":0},{"$f":"($A252+0.5)*CU173","v":0},{"$f":"BB252+BC252","v":0},{"$f":"($A252+0.5)*CZ173","v":0},{"$f":"($A252+0.5)*DA173","v":0},{"$f":"BE252+BF252","v":0},{"$f":"($A252+0.5)*DF173","v":0},{"$f":"($A252+0.5)*DG173","v":0},{"$f":"BH252+BI252","v":0},{"$f":"($A252+0.5)*DL173","v":0},{"$f":"($A252+0.5)*DM173","v":0},{"$f":"BK252+BL252","v":0},{"$f":"($A252+0.5)*DR173","v":0},{"$f":"($A252+0.5)*DS173","v":0},{"$f":"BN252+BO252","v":0},{"$f":"($A252+0.5)*DX173","v":0},{"$f":"($A252+0.5)*DY173","v":0},{"$f":"BQ252+BR252","v":0},{"$f":"($A252+0.5)*ED173","v":0},{"$f":"($A252+0.5)*EE173","v":0},{"$f":"BT252+BU252","v":0},{"$f":"($A252+0.5)*EJ173","v":0},{"$f":"($A252+0.5)*EK173","v":0},{"$f":"BW252+BX252","v":0},{"$f":"($A252+0.5)*EP173","v":0},{"$f":"($A252+0.5)*EQ173","v":0},{"$f":"BZ252+CA252","v":0},{"$f":"($A252+0.5)*EV173","v":0},{"$f":"($A252+0.5)*EW173","v":0},{"$f":"CC252+CD252","v":0},{"$f":"($A252+0.5)*FB173","v":0},{"$f":"($A252+0.5)*FC173","v":0},{"$f":"CF252+CG252","v":0},{"$f":"($A252+0.5)*FH173","v":0},{"$f":"($A252+0.5)*FI173","v":0},{"$f":"CI252+CJ252","v":0},{"$f":"($A252+0.5)*FN173","v":0},{"$f":"($A252+0.5)*FO173","v":0},{"$f":"CL252+CM252","v":0},{"$f":"($A252+0.5)*FT173","v":0},{"$f":"($A252+0.5)*FU173","v":0},{"$f":"CO252+CP252","v":0},{"$f":"($A252+0.5)*FZ173","v":0},{"$f":"($A252+0.5)*GA173","v":0},{"$f":"CR252+CS252","v":0},{"$f":"($A252+0.5)*GF173","v":0},{"$f":"($A252+0.5)*GG173","v":0},{"$f":"CU252+CV252","v":0},{"$f":"($A252+0.5)*GL173","v":0},{"$f":"($A252+0.5)*GM173","v":0},{"$f":"CX252+CY252","v":0},{"$f":"($A252+0.5)*GR173","v":0},{"$f":"($A252+0.5)*GS173","v":0}]
[24,{"$f":"C253+D253","v":0},0,0,0,0,0,0,0,0,0,0,0,0,0,0,0,0,0,0,0,0,0,0,0,0,0,0,0,0,0,0,0,0,0,0,0,0,0,0,0,0,0,0,0,0,0,0,0,0,0,0,0,0,0,0,0,0,0,0,0,0,0,0,0,0,0,0,0,0,0,0,0,0,0,0,0,0,0,0,0,0,0,0,0,0,0,0,0,0,0,0,0,0,0,0,0,0,0,0,0,0,0]
[25,0,0,0,0.3806872037914692,0,0.3806872037914692,0.3806872037914692,0,0.3806872037914692,0.3806872037914692,0,0.3806872037914692,0.3806872037914692,0,0.3806872037914692,0.3806872037914692,0,0.3806872037914692,0.3806872037914692,0,0.3806872037914692,0.3806872037914692,0,0.3806872037914692,0.3806872037914692,0,0.3806872037914692,0.3806872037914692,0,0.3806872037914692,0.3806872037914692,0,0.3806872037914692,0.3806872037914692,0,0.3806872037914692,0.3806872037914692,0,0.3806872037914692,0.3806872037914692,0,0.3806872037914692,0.3806872037914692,0,0.3806872037914692,0.3806872037914692,0,0.3806872037914692,0.3806872037914692,0,0.3806872037914692,0.3806872037914692,0,0.3806872037914692,0.3806872037914692,0,0.3806872037914692,0.3806872037914692,0,0.3806872037914692,0.3806872037914692,0,0.3806872037914692,0.3806872037914692,0,0.3806872037914692,0.3806872037914692,0,0.3806872037914692,0.3806872037914692,0,0.3806872037914692,0.3806872037914692,0,0.3806872037914692,0.3806872037914692,0,0.3806872037914692,0.3806872037914692,0,0.3806872037914692,0.3806872037914692,0,0.3806872037914692,0.3806872037914692,0,0.3806872037914692,0.3806872037914692,0,0.3806872037914692,0.3806872037914692,0,0.3806872037914692,0.3806872037914692,0,0.3806872037914692,0.3806872037914692,0,0.3806872037914692,0.3806872037914692,0,0.3806872037914692]
[26,0,0,0,7.4661353938687789,1.5318936877076412,5.9342417061611377,7.8617515076128548,1.5318936877076412,6.3298578199052136,7.8617515076128548,1.5318936877076412,6.3298578199052136,7.8617515076128548,1.5318936877076412,6.3298578199052136,7.8617515076128548,1.5318936877076412,6.3298578199052136,7.8617515076128548,1.5318936877076412,6.3298578199052136,7.8617515076128548,1.5318936877076412,6.3298578199052136,7.8617515076128548,1.5318936877076412,6.3298578199052136,7.8617515076128548,1.5318936877076412,6.3298578199052136,7.8617515076128548,1.5318936877076412,6.3298578199052136,7.8617515076128548,1.5318936877076412,6.3298578199052136,7.8617515076128548,1.5318936877076412,6.3298578199052136,7.8617515076128548,1.5318936877076412,6.3298578199052136,7.8617515076128548,1.5318936877076412,6.3298578199052136,7.8617515076128548,1.5318936877076412,6.3298578199052136,7.8617515076128548,1.5318936877076412,6.3298578199052136,7.8617515076128548,1.5318936877076412,6.3298578199052136,7.8617515076128548,1.5318936877076412,6.3298578199052136,7.8617515076128548,1.5318936877076412,6.3298578199052136,7.8617515076128548,1.5318936877076412,6.3298578199052136,7.8617515076128548,1.5318936877076412,6.3298578199052136,7.8617515076128548,1.5318936877076412,6.3298578199052136,7.8617515076128548,1.5318936877076412,6.3298578199052136,7.8617515076128548,1.5318936877076412,6.3298578199052136,7.8617515076128548,1.5318936877076412,6.3298578199052136,7.8617515076128548,1.5318936877076412,6.3298578199052136,7.8617515076128548,1.5318936877076412,6.3298578199052136,7.8617515076128548,1.5318936877076412,6.3298578199052136,7.8617515076128548,1.5318936877076412,6.3298578199052136,7.8617515076128548,1.5318936877076412,6.3298578199052136,7.8617515076128548,1.5318936877076412,6.3298578199052136,7.8617515076128548,1.5318936877076412,6.3298578199052136,7.8617515076128548,1.5318936877076412,6.3298578199052136]
[27,0,0,0,20.197979483868934,5.8289036544850505,14.369075829383883,27.945855835996912,7.4186046511627914,20.527251184834121,28.356400859693593,7.4186046511627914,20.937796208530802,28.356400859693593,7.4186046511627914,20.937796208530802,28.356400859693593,7.4186046511627914,20.937796208530802,28.356400859693593,7.4186046511627914,20.937796208530802,28.356400859693593,7.4186046511627914,20.937796208530802,28.356400859693593,7.4186046511627914,20.937796208530802,28.356400859693593,7.4186046511627914,20.937796208530802,28.356400859693593,7.4186046511627914,20.937796208530802,28.356400859693593,7.4186046511627914,20.937796208530802,28.356400859693593,7.4186046511627914,20.937796208530802,28.356400859693593,7.4186046511627914,20.937796208530802,28.356400859693593,7.4186046511627914,20.937796208530802,28.356400859693593,7.4186046511627914,20.937796208530802,28.356400859693593,7.4186046511627914,20.937796208530802,28.356400859693593,7.4186046511627914,20.937796208530802,28.356400859693593,7.4186046511627914,20.937796208530802,28.356400859693593,7.4186046511627914,20.937796208530802,28.356400859693593,7.4186046511627914,20.937796208530802,28.356400859693593,7.4186046511627914,20.937796208530802,28.356400859693593,7.4186046511627914,20.937796208530802,28.356400859693593,7.4186046511627914,20.937796208530802,28.356400859693593,7.4186046511627914,20.937796208530802,28.356400859693593,7.4186046511627914,20.937796208530802,28.356400859693593,7.4186046511627914,20.937796208530802,28.356400859693593,7.4186046511627914,20.937796208530802,28.356400859693593,7.4186046511627914,20.937796208530802,28.356400859693593,7.4186046511627914,20.937796208530802,28.356400859693593,7.4186046511627914,20.937796208530802,28.356400859693593,7.4186046511627914,20.937796208530802,28.356400859693593,7.4186046511627914,20.937796208530802,28.356400859693593,7.4186046511627914,20.937796208530802]
[28,85.5,0,85.5,30.114795074868915,7.1392026578073073,22.975592417061609,51.04724653996945,13.180066445182723,37.867180094786725,59.076863850356624,14.827574750830564,44.249289099526059,59.502337784005917,14.827574750830564,44.674763033175353,59.502337784005917,14.827574750830564,44.674763033175353,59.502337784005917,14.827574750830564,44.674763033175353,59.502337784005917,14.827574750830564,44.674763033175353,59.502337784005917,14.827574750830564,44.674763033175353,59.502337784005917,14.827574750830564,44.674763033175353,59.502337784005917,14.827574750830564,44.674763033175353,59.502337784005917,14.827574750830564,44.674763033175353,59.502337784005917,14.827574750830564,44.674763033175353,59.502337784005917,14.827574750830564,44.674763033175353,59.502337784005917,14.827574750830564,44.674763033175353,59.502337784005917,14.827574750830564,44.674763033175353,59.502337784005917,14.827574750830564,44.674763033175353,59.502337784005917,14.827574750830564,44.674763033175353,59.502337784005917,14.827574750830564,44.674763033175353,59.502337784005917,14.827574750830564,44.674763033175353,59.502337784005917,14.827574750830564,44.674763033175353,59.502337784005917,14.827574750830564,44.674763033175353,59.502337784005917,14.827574750830564,44.674763033175353,59.502337784005917,14.827574750830564,44.674763033175353,59.502337784005917,14.827574750830564,44.674763033175353,59.502337784005917,14.827574750830564,44.674763033175353,59.502337784005917,14.827574750830564,44.674763033175353,59.502337784005917,14.827574750830564,44.674763033175353,59.502337784005917,14.827574750830564,44.674763033175353,59.502337784005917,14.827574750830564,44.674763033175353,59.502337784005917,14.827574750830564,44.674763033175353,59.502337784005917,14.827574750830564,44.674763033175353,59.502337784005917,14.827574750830564,44.674763033175353,59.502337784005917,14.827574750830564,44.674763033175353]
[29,118,88.5,29.5,111.67246343153154,5.1159468438538207,106.55651658767772,54.343917982711652,12.505647840531559,41.838270142180093,76.010841429043779,18.758471760797342,57.252369668246438,84.322199697690152,20.463787375415283,63.858412322274873,84.762602541292054,20.463787375415283,64.298815165876775,84.762602541292054,20.463787375415283,64.298815165876775,84.762602541292054,20.463787375415283,64.298815165876775,84.762602541292054,20.463787375415283,64.298815165876775,84.762602541292054,20.463787375415283,64.298815165876775,84.762602541292054,20.463787375415283,64.298815165876775,84.762602541292054,20.463787375415283,64.298815165876775,84.762602541292054,20.463787375415283,64.298815165876775,84.762602541292054,20.463787375415283,64.298815165876775,84.762602541292054,20.463787375415283,64.298815165876775,84.762602541292054,20.463787375415283,64.298815165876775,84.762602541292054,20.463787375415283,64.298815165876775,84.762602541292054,20.463787375415283,64.298815165876775,84.762602541292054,20.463787375415283,64.298815165876775,84.762602541292054,20.463787375415283,64.298815165876775,84.762602541292054,20.463787375415283,64.298815165876775,84.762602541292054,20.463787375415283,64.298815165876775,84.762602541292054,20.463787375415283,64.298815165876775,84.762602541292054,20.463787375415283,64.298815165876775,84.762602541292054,20.463787375415283,64.298815165876775,84.762602541292054,20.463787375415283,64.298815165876775,84.762602541292054,20.463787375415283,64.298815165876775,84.762602541292054,20.463787375415283,64.298815165876775,84.762602541292054,20.463787375415283,64.298815165876775,84.762602541292054,20.463787375415283,64.298815165876775,84.762602541292054,20.463787375415283,64.298815165876775,84.762602541292054,20.463787375415283,64.298815165876775,84.762602541292054,20.463787375415283,64.298815165876775,84.762602541292054,20.463787375415283,64.298815165876775]
[30,122,30.5,91.5,150.33667593015383,102.07873754152824,48.25793838862559,143.79464659665254,15.868106312292358,127.92654028436017,84.522760624143842,23.50830564784053,61.014454976303313,106.92415605170757,29.973089700996677,76.951066350710889,115.51725527861313,31.736212624584716,83.781042654028425,115.97258703216767,31.736212624584716,84.236374407582943,115.97258703216767,31.736212624584716,84.236374407582943,115.97258703216767,31.736212624584716,84.236374407582943,115.97258703216767,31.736212624584716,84.236374407582943,115.97258703216767,31.736212624584716,84.236374407582943,115.97258703216767,31.736212624584716,84.236374407582943,115.97258703216767,31.736212624584716,84.236374407582943,115.97258703216767,31.736212624584716,84.236374407582943,115.97258703216767,31.736212624584716,84.236374407582943,115.97258703216767,31.736212624584716,84.236374407582943,115.97258703216767,31.736212624584716,84.236374407582943,115.97258703216767,31.736212624584716,84.236374407582943,115.97258703216767,31.736212624584716,84.236374407582943,115.97258703216767,31.736212624584716,84.236374407582943,115.97258703216767,31.736212624584716,84.236374407582943,115.97258703216767,31.736212624584716,84.236374407582943,115.97258703216767,31.736212624584716,84.236374407582943,115.97258703216767,31.736212624584716,84.236374407582943,115.97258703216767,31.736212624584716,84.236374407582943,115.97258703216767,31.736212624584716,84.236374407582943,115.97258703216767,31.736212624584716,84.236374407582943,115.97258703216767,31.736212624584716,84.236374407582943,115.97258703216767,31.736212624584716,84.236374407582943,115.97258703216767,31.736212624584716,84.236374407582943,115.97258703216767,31.736212624584716,84.236374407582943,115.97258703216767,31.736212624584716,84.236374407582943,115.97258703216767,31.736212624584716,84.236374407582943,115.97258703216767,31.736212624584716,84.236374407582943]
[31,189,94.5,94.5,167.31218725890005,47.888372093023257,119.42381516587679,196.57793453102613,121.81395348837209,74.763981042654038,189.82141243249202,32.776744186046514,157.0446682464455,128.60618593629451,40.667441860465111,87.938744075829391,151.74205334508983,47.344186046511631,104.39786729857819,160.6168935302546,49.165116279069771,111.45177725118484,161.08715419376171,49.165116279069771,111.92203791469194,161.08715419376171,49.165116279069771,111.92203791469194,161.08715419376171,49.165116279069771,111.92203791469194,161.08715419376171,49.165116279069771,111.92203791469194,161.08715419376171,49.165116279069771,111.92203791469194,161.08715419376171,49.165116279069771,111.92203791469194,161.08715419376171,49.165116279069771,111.92203791469194,161.08715419376171,49.165116279069771,111.92203791469194,161.08715419376171,49.165116279069771,111.92203791469194,161.08715419376171,49.165116279069771,111.92203791469194,161.08715419376171,49.165116279069771,111.92203791469194,161.08715419376171,49.165116279069771,111.92203791469194,161.08715419376171,49.165116279069771,111.92203791469194,161.08715419376171,49.165116279069771,111.92203791469194,161.08715419376171,49.165116279069771,111.92203791469194,161.08715419376171,49.165116279069771,111.92203791469194,161.08715419376171,49.165116279069771,111.92203791469194,161.08715419376171,49.165116279069771,111.92203791469194,161.08715419376171,49.165116279069771,111.92203791469194,161.08715419376171,49.165116279069771,111.92203791469194,161.08715419376171,49.165116279069771,111.92203791469194,161.08715419376171,49.165116279069771,111.92203791469194,161.08715419376171,49.165116279069771,111.92203791469194,161.08715419376171,49.165116279069771,111.92203791469194,161.08715419376171,49.165116279069771,111.92203791469194,161.08715419376171,49.165116279069771,111.92203791469194,161.08715419376171,49.165116279069771,111.92203791469194]
[32,455,130,325,229.49950402292515,110.65116279069767,118.84834123222748,207.12318929004425,62.559800664451828,144.56338862559241,237.31800790414258,138.83222591362127,98.485781990521318,230.34699304057563,46.96843853820598,183.37855450236964,167.18842602068929,55.109634551495006,112.0787914691943,191.05876541071623,61.998338870431894,129.06042654028434,200.21534655414024,63.877076411960132,136.33827014218011,200.70053612759995,63.877076411960132,136.82345971563981,200.70053612759995,63.877076411960132,136.82345971563981,200.70053612759995,63.877076411960132,136.82345971563981,200.70053612759995,63.877076411960132,136.82345971563981,200.70053612759995,63.877076411960132,136.82345971563981,200.70053612759995,63.877076411960132,136.82345971563981,200.70053612759995,63.877076411960132,136.82345971563981,200.70053612759995,63.877076411960132,136.82345971563981,200.70053612759995,63.877076411960132,136.82345971563981,200.70053612759995,63.877076411960132,136.82345971563981,200.70053612759995,63.877076411960132,136.82345971563981,200.70053612759995,63.877076411960132,136.82345971563981,200.70053612759995,63.877076411960132,136.82345971563981,200.70053612759995,63.877076411960132,136.82345971563981,200.70053612759995,63.877076411960132,136.82345971563981,200.70053612759995,63.877076411960132,136.82345971563981,200.70053612759995,63.877076411960132,136.82345971563981,200.70053612759995,63.877076411960132,136.82345971563981,200.70053612759995,63.877076411960132,136.82345971563981,200.70053612759995,63.877076411960132,136.82345971563981,200.70053612759995,63.877076411960132,136.82345971563981,200.70053612759995,63.877076411960132,136.82345971563981,200.70053612759995,63.877076411960132,136.82345971563981,200.70053612759995,63.877076411960132,136.82345971563981,200.70053612759995,63.877076411960132,136.82345971563981,200.70053612759995,63.877076411960132,136.82345971563981]
[33,234.5,33.5,201,504.12483782336926,145.61926910299005,358.50556872037919,271.68586504699977,125.6750830564784,146.01078199052134,248.62104832233788,76.103986710963454,172.51706161137443,279.74493827840848,154.7232558139535,125.02168246445497,272.55943064980869,60.032890365448509,212.52654028436018,207.45752310623357,68.424584717607971,139.03293838862561,232.06233447749207,75.525249169435213,156.53708530805687,241.50065657917526,77.461794019933564,164.03886255924169,242.00077506258759,77.461794019933564,164.53898104265403,242.00077506258759,77.461794019933564,164.53898104265403,242.00077506258759,77.461794019933564,164.53898104265403,242.00077506258759,77.461794019933564,164.53898104265403,242.00077506258759,77.461794019933564,164.53898104265403,242.00077506258759,77.461794019933564,164.53898104265403,242.00077506258759,77.461794019933564,164.53898104265403,242.00077506258759,77.461794019933564,164.53898104265403,242.00077506258759,77.461794019933564,164.53898104265403,242.00077506258759,77.461794019933564,164.53898104265403,242.00077506258759,77.461794019933564,164.53898104265403,242.00077506258759,77.461794019933564,164.53898104265403,242.00077506258759,77.461794019933564,164.53898104265403,242.00077506258759,77.461794019933564,164.53898104265403,242.00077506258759,77.461794019933564,164.53898104265403,242.00077506258759,77.461794019933564,164.53898104265403,242.00077506258759,77.461794019933564,164.53898104265403,242.00077506258759,77.461794019933564,164.53898104265403,242.00077506258759,77.461794019933564,164.53898104265403,242.00077506258759,77.461794019933564,164.53898104265403,242.00077506258759,77.461794019933564,164.53898104265403,242.00077506258759,77.461794019933564,164.53898104265403,242.00077506258759,77.461794019933564,164.53898104265403,242.00077506258759,77.461794019933564,164.53898104265403,242.00077506258759,77.461794019933564,164.53898104265403]
[34,345,69,276,279.45211853064825,49.790033222591354,229.66208530805687,557.12545897561051,165.25614617940201,391.86931279620853,317.74800939994645,144.71661129568108,173.03139810426541,293.99469068350368,93.665780730897012,200.32890995260664,326.04765198154649,174.63189368770765,151.41575829383885,318.64765158791386,77.114950166112948,241.53270142180094,251.60240352064994,85.757142857142838,165.8452606635071,276.94168687314004,93.069767441860463,183.87191943127959,286.66174993308243,95.064119601328898,191.59763033175355,287.1767973264474,95.064119601328898,192.11267772511849,287.1767973264474,95.064119601328898,192.11267772511849,287.1767973264474,95.064119601328898,192.11267772511849,287.1767973264474,95.064119601328898,192.11267772511849,287.1767973264474,95.064119601328898,192.11267772511849,287.1767973264474,95.064119601328898,192.11267772511849,287.1767973264474,95.064119601328898,192.11267772511849,287.1767973264474,95.064119601328898,192.11267772511849,287.1767973264474,95.064119601328898,192.11267772511849,287.1767973264474,95.064119601328898,192.11267772511849,287.1767973264474,95.064119601328898,192.11267772511849,287.1767973264474,95.064119601328898,192.11267772511849,287.1767973264474,95.064119601328898,192.11267772511849,287.1767973264474,95.064119601328898,192.11267772511849,287.1767973264474,95.064119601328898,192.11267772511849,287.1767973264474,95.064119601328898,192.11267772511849,287.1767973264474,95.064119601328898,192.11267772511849,287.1767973264474,95.064119601328898,192.11267772511849,287.1767973264474,95.064119601328898,192.11267772511849,287.1767973264474,95.064119601328898,192.11267772511849,287.1767973264474,95.064119601328898,192.11267772511849,287.1767973264474,95.064119601328898,192.11267772511849,287.1767973264474,95.064119601328898,192.11267772511849,287.1767973264474,95.064119601328898,192.11267772511849]
[35,284,142,142,390.32376045094554,81.94485049833888,308.37890995260665,322.87594038827922,62.178073089700987,260.69786729857822,608.5977834548346,180.99102990033222,427.6067535545024,362.28185707987598,159.856146179402,202.42571090047394,337.84003637165216,107.32558139534883,230.51445497630334,370.82206901166728,190.63853820598007,180.18353080568721,363.20757585300186,90.295016611295679,272.91255924170616,294.2189872620491,99.187707641195999,195.0312796208531,320.29274259577079,106.71229235880399,213.58045023696681,330.29454661397239,108.76445182724252,221.53009478672985,330.82452291728993,108.76445182724252,222.06007109004739,330.82452291728993,108.76445182724252,222.06007109004739,330.82452291728993,108.76445182724252,222.06007109004739,330.82452291728993,108.76445182724252,222.06007109004739,330.82452291728993,108.76445182724252,222.06007109004739,330.82452291728993,108.76445182724252,222.06007109004739,330.82452291728993,108.76445182724252,222.06007109004739,330.82452291728993,108.76445182724252,222.06007109004739,330.82452291728993,108.76445182724252,222.06007109004739,330.82452291728993,108.76445182724252,222.06007109004739,330.82452291728993,108.76445182724252,222.06007109004739,330.82452291728993,108.76445182724252,222.06007109004739,330.82452291728993,108.76445182724252,222.06007109004739,330.82452291728993,108.76445182724252,222.06007109004739,330.82452291728993,108.76445182724252,222.06007109004739,330.82452291728993,108.76445182724252,222.06007109004739,330.82452291728993,108.76445182724252,222.06007109004739,330.82452291728993,108.76445182724252,222.06007109004739,330.82452291728993,108.76445182724252,222.06007109004739,330.82452291728993,108.76445182724252,222.06007109004739,330.82452291728993,108.76445182724252,222.06007109004739,330.82452291728993,108.76445182724252,222.06007109004739,330.82452291728993,108.76445182724252,222.06007109004739]
[36,182.5,36.5,146,323.07870605092035,150.92325581395349,172.15545023696683,432.39750200752627,89.176411960132896,343.22109004739337,363.04974335154543,68.852823920265777,294.19691943127964,656.82008903969393,191.0126245847176,465.80746445497635,403.56568586544063,169.28239202657807,234.28329383886256,378.43536316543594,115.27209302325582,263.16327014218012,412.34646714742325,200.93189368770763,211.41457345971563,404.51748122372504,97.761794019933561,306.75568720379147,333.58555210908344,106.90498338870431,226.68056872037914,360.39377942403678,114.64152823920267,245.75225118483411,370.67732440049758,116.7514950166113,253.92582938388625,371.22222961376769,116.7514950166113,254.47073459715639,371.22222961376769,116.7514950166113,254.47073459715639,371.22222961376769,116.7514950166113,254.47073459715639,371.22222961376769,116.7514950166113,254.47073459715639,371.22222961376769,116.7514950166113,254.47073459715639,371.22222961376769,116.7514950166113,254.47073459715639,371.22222961376769,116.7514950166113,254.47073459715639,371.22222961376769,116.7514950166113,254.47073459715639,371.22222961376769,116.7514950166113,254.47073459715639,371.22222961376769,116.7514950166113,254.47073459715639,371.22222961376769,116.7514950166113,254.47073459715639,371.22222961376769,116.7514950166113,254.47073459715639,371.22222961376769,116.7514950166113,254.47073459715639,371.22222961376769,116.7514950166113,254.47073459715639,371.22222961376769,116.7514950166113,254.47073459715639,371.22222961376769,116.7514950166113,254.47073459715639,371.22222961376769,116.7514950166113,254.47073459715639,371.22222961376769,116.7514950166113,254.47073459715639,371.22222961376769,116.7514950166113,254.47073459715639,371.22222961376769,116.7514950166113,254.47073459715639,371.22222961376769,116.7514950166113,254.47073459715639,371.22222961376769,116.7514950166113,254.47073459715639]
[37,300,75,225,232.72307159389712,46.893687707641192,185.82938388625593,377.15324904347278,164.4518272425249,212.70142180094786,489.46708050573915,101.01328903654485,388.4537914691943,418.21938325644373,80.132890365448489,338.08649289099526,720.03823156618535,205.6395348837209,514.39869668246445,459.84535159263748,183.31395348837208,276.53139810426541,434.02652690085188,127.82392026578074,306.20260663507111,468.86670222481143,215.83056478405314,253.0361374407583,460.82322353608038,109.83388704318938,350.98933649289097,387.94795389774998,119.22757475083057,268.72037914691941,415.49065319393492,127.17607973421929,288.31457345971563,426.05593912865493,129.34385382059801,296.71208530805688,426.61577325187761,129.34385382059801,297.27191943127963,426.61577325187761,129.34385382059801,297.27191943127963,426.61577325187761,129.34385382059801,297.27191943127963,426.61577325187761,129.34385382059801,297.27191943127963,426.61577325187761,129.34385382059801,297.27191943127963,426.61577325187761,129.34385382059801,297.27191943127963,426.61577325187761,129.34385382059801,297.27191943127963,426.61577325187761,129.34385382059801,297.27191943127963,426.61577325187761,129.34385382059801,297.27191943127963,426.61577325187761,129.34385382059801,297.27191943127963,426.61577325187761,129.34385382059801,297.27191943127963,426.61577325187761,129.34385382059801,297.27191943127963,426.61577325187761,129.34385382059801,297.27191943127963,426.61577325187761,129.34385382059801,297.27191943127963,426.61577325187761,129.34385382059801,297.27191943127963,426.61577325187761,129.34385382059801,297.27191943127963,426.61577325187761,129.34385382059801,297.27191943127963,426.61577325187761,129.34385382059801,297.27191943127963,426.61577325187761,129.34385382059801,297.27191943127963,426.61577325187761,129.34385382059801,297.27191943127963,426.61577325187761,129.34385382059801,297.27191943127963]
[38,385,38.5,346.5,332.82859307836435,85.16046511627907,247.66812796208529,263.75761324809878,56.304651162790698,207.45296208530806,412.03926209632976,176.99767441860465,235.04158767772512,527.34812906425657,111.86744186046511,415.48068720379149,454.20049322164658,90.430232558139508,363.77026066350709,764.06784415298137,219.28372093023256,544.7841232227488,496.93648738013883,196.3627906976744,300.57369668246446,470.42916069657224,139.39302325581397,331.0361374407583,506.1984073625041,229.74651162790695,276.45189573459714,497.94043590874026,120.9232558139535,377.01718009478674,423.12182574672107,130.56744186046512,292.55438388625595,451.39899702413754,138.72790697674421,312.67109004739336,462.2460239171167,140.95348837209303,321.29253554502367,462.82078695029207,140.95348837209303,321.86729857819904,462.82078695029207,140.95348837209303,321.86729857819904,462.82078695029207,140.95348837209303,321.86729857819904,462.82078695029207,140.95348837209303,321.86729857819904,462.82078695029207,140.95348837209303,321.86729857819904,462.82078695029207,140.95348837209303,321.86729857819904,462.82078695029207,140.95348837209303,321.86729857819904,462.82078695029207,140.95348837209303,321.86729857819904,462.82078695029207,140.95348837209303,321.86729857819904,462.82078695029207,140.95348837209303,321.86729857819904,462.82078695029207,140.95348837209303,321.86729857819904,462.82078695029207,140.95348837209303,321.86729857819904,462.82078695029207,140.95348837209303,321.86729857819904,462.82078695029207,140.95348837209303,321.86729857819904,462.82078695029207,140.95348837209303,321.86729857819904,462.82078695029207,140.95348837209303,321.86729857819904,462.82078695029207,140.95348837209303,321.86729857819904,462.82078695029207,140.95348837209303,321.86729857819904,462.82078695029207,140.95348837209303,321.86729857819904,462.82078695029207,140.95348837209303,321.86729857819904]
[39,197.5,79,118.5,432.09589283746118,47.111295681063126,384.98459715639808,378.56938443734151,94.983720930232565,283.58566350710896,307.70435318291322,65.378405315614629,242.32594786729859,459.8374734297995,189.20631229235877,270.6311611374407,578.1413759033868,122.3843853820598,455.756990521327,503.09380146746224,100.39036544850497,402.70343601895729,821.00965502039014,232.59069767441858,588.41895734597153,546.93982144825304,209.07441860465113,337.86540284360188,519.74399277290547,150.62491694352161,369.11907582938386,556.44231078080963,243.32524916943518,313.11706161137442,547.96984656201289,131.67541528239204,416.29443127962082,471.20789587630486,141.57009966777409,329.6377962085308,500.21953913495292,149.94252491694354,350.27701421800941,511.34830698619135,152.22591362126246,359.12239336492888,511.93799892931929,152.22591362126246,359.71208530805683,511.93799892931929,152.22591362126246,359.71208530805683,511.93799892931929,152.22591362126246,359.71208530805683,511.93799892931929,152.22591362126246,359.71208530805683,511.93799892931929,152.22591362126246,359.71208530805683,511.93799892931929,152.22591362126246,359.71208530805683,511.93799892931929,152.22591362126246,359.71208530805683,511.93799892931929,152.22591362126246,359.71208530805683,511.93799892931929,152.22591362126246,359.71208530805683,511.93799892931929,152.22591362126246,359.71208530805683,511.93799892931929,152.22591362126246,359.71208530805683,511.93799892931929,152.22591362126246,359.71208530805683,511.93799892931929,152.22591362126246,359.71208530805683,511.93799892931929,152.22591362126246,359.71208530805683,511.93799892931929,152.22591362126246,359.71208530805683,511.93799892931929,152.22591362126246,359.71208530805683,511.93799892931929,152.22591362126246,359.71208530805683,511.93799892931929,152.22591362126246,359.71208530805683,511.93799892931929,152.22591362126246,359.71208530805683]
[40,405,162,243,235.09344168726676,88.803986710963457,146.28945497630332,475.6284710522587,56.107973421926921,419.52049763033176,420.74686117365496,105.19235880398672,315.55450236966823,348.0877784950639,74.837541528239214,273.25023696682467,504.07237014060547,201.80033222591359,302.27203791469191,625.37130811985321,133.28671096345516,492.0845971563981,548.42379509061425,110.73588039867109,437.68791469194315,874.38815126513509,246.28305647840529,628.10509478672986,593.37984089370343,222.17142857142855,371.20841232227491,565.49551022657488,162.24219269102991,403.25331753554502,603.12289957645135,257.2893687707641,345.83353080568725,594.43594259262181,142.81295681063125,451.62298578199051,515.73065138322499,152.95813953488374,362.77251184834125,545.4767666231046,161.54252491694353,383.93424170616112,556.88727543260222,163.88372093023256,393.00355450236964,557.49189628568274,163.88372093023256,393.60817535545021,557.49189628568274,163.88372093023256,393.60817535545021,557.49189628568274,163.88372093023256,393.60817535545021,557.49189628568274,163.88372093023256,393.60817535545021,557.49189628568274,163.88372093023256,393.60817535545021,557.49189628568274,163.88372093023256,393.60817535545021,557.49189628568274,163.88372093023256,393.60817535545021,557.49189628568274,163.88372093023256,393.60817535545021,557.49189628568274,163.88372093023256,393.60817535545021,557.49189628568274,163.88372093023256,393.60817535545021,557.49189628568274,163.88372093023256,393.60817535545021,557.49189628568274,163.88372093023256,393.60817535545021,557.49189628568274,163.88372093023256,393.60817535545021,557.49189628568274,163.88372093023256,393.60817535545021,557.49189628568274,163.88372093023256,393.60817535545021,557.49189628568274,163.88372093023256,393.60817535545021,557.49189628568274,163.88372093023256,393.60817535545021,557.49189628568274,163.88372093023256,393.60817535545021]
[41,415,166,249,445.94174552439733,179.59435215946846,266.34739336492891,271.83996354962136,104.59102990033223,167.24893364928911,518.31412944214389,71.087707641196019,447.22642180094783,462.07741808505614,121.38405315614618,340.69336492890994,387.62428398230236,90.279734219269116,297.34454976303323,547.46034702649933,220.37740863787374,327.08293838862556,671.7543205114074,150.17209302325583,521.5822274881516,592.90686888885386,127.06445182724251,465.84241706161134,926.91972768496794,265.95847176079729,660.96125592417059,638.9729405142416,241.25149501661127,397.72144549763033,610.40010785533218,179.84252491694355,430.55758293838863,648.95656854718072,277.23654485049832,371.72002369668246,640.0551187983184,159.93355481727576,480.12156398104264,559.4064870652328,170.32923588039867,389.0772511848341,589.88707428634405,179.12558139534886,410.76149289099521,601.57932405410088,181.52458471760798,420.05473933649284,602.19887381713397,181.52458471760798,420.67428909952605,602.19887381713397,181.52458471760798,420.67428909952605,602.19887381713397,181.52458471760798,420.67428909952605,602.19887381713397,181.52458471760798,420.67428909952605,602.19887381713397,181.52458471760798,420.67428909952605,602.19887381713397,181.52458471760798,420.67428909952605,602.19887381713397,181.52458471760798,420.67428909952605,602.19887381713397,181.52458471760798,420.67428909952605,602.19887381713397,181.52458471760798,420.67428909952605,602.19887381713397,181.52458471760798,420.67428909952605,602.19887381713397,181.52458471760798,420.67428909952605,602.19887381713397,181.52458471760798,420.67428909952605,602.19887381713397,181.52458471760798,420.67428909952605,602.19887381713397,181.52458471760798,420.67428909952605,602.19887381713397,181.52458471760798,420.67428909952605,602.19887381713397,181.52458471760798,420.67428909952605,602.19887381713397,181.52458471760798,420.67428909952605]
[42,722.5,212.5,510,453.12376989812788,176.55149501661131,276.57227488151659,484.81109965202882,190.47342192691033,294.33767772511845,306.51409401520993,113.66279069767441,192.85130331753555,558.92739643526318,79.352159468438543,479.5752369668246,501.33558359969129,130.86046511627907,370.47511848341225,425.08839807277479,99.006644518272424,326.08175355450237,588.77593251562712,232.23920265780731,356.53672985781986,716.06494150619574,160.34219269102991,555.7227488151658,635.31755129032763,136.67774086378734,498.63981042654024,977.37891270803493,278.91860465116275,698.46030805687212,682.4936487380138,253.61627906976744,428.87736966824639,653.2323140873234,190.7275747508306,462.50473933649283,692.71784612114436,290.46843853820599,402.24940758293837,683.60190360724914,170.33887043189372,513.26303317535542,601.00993135047474,180.98504983388705,420.02488151658764,632.22499055281764,189.9933554817276,442.23163507109001,644.19898127883357,192.45016611295685,451.74881516587669,644.83345995181935,192.45016611295685,452.38329383886253,644.83345995181935,192.45016611295685,452.38329383886253,644.83345995181935,192.45016611295685,452.38329383886253,644.83345995181935,192.45016611295685,452.38329383886253,644.83345995181935,192.45016611295685,452.38329383886253,644.83345995181935,192.45016611295685,452.38329383886253,644.83345995181935,192.45016611295685,452.38329383886253,644.83345995181935,192.45016611295685,452.38329383886253,644.83345995181935,192.45016611295685,452.38329383886253,644.83345995181935,192.45016611295685,452.38329383886253,644.83345995181935,192.45016611295685,452.38329383886253,644.83345995181935,192.45016611295685,452.38329383886253,644.83345995181935,192.45016611295685,452.38329383886253,644.83345995181935,192.45016611295685,452.38329383886253,644.83345995181935,192.45016611295685,452.38329383886253,644.83345995181935,192.45016611295685,452.38329383886253]
[43,609,{"$f":"($A272+0.5)*B193","v":87},522,768.66310245469299,225.88205980066445,542.78104265402851,492.94860811512962,189.087707641196,303.86090047393361,525.38152209853411,203.33720930232559,322.04431279620849,342.88929279967249,124.71926910299004,218.17002369668248,601.24173174725638,89.60132890365449,511.64040284360186,542.29481743320048,142.32159468438539,399.97322274881515,464.25358048212127,109.71827242524918,354.53530805687205,631.79258632362894,246.08571428571426,385.70687203791465,762.07663081985788,172.4970099667774,589.57962085308054,679.4293020106752,148.27574750830561,531.15355450236962,1029.5391660499756,293.86345514950165,735.67571090047397,727.71542528065993,267.965780730897,459.74964454976299,697.76558863818866,203.59734219269106,494.16824644549763,738.18019201398181,305.68504983388704,432.49514218009477,728.8497567350538,182.72890365448507,546.12085308056874,644.3144439545905,193.62558139534883,450.68886255924167,676.26397513816505,202.84584717607976,473.41812796208524,688.51970682244018,205.36046511627907,483.15924170616108,689.16911440537854,205.36046511627907,483.80864928909949,689.16911440537854,205.36046511627907,483.80864928909949,689.16911440537854,205.36046511627907,483.80864928909949,689.16911440537854,205.36046511627907,483.80864928909949,689.16911440537854,205.36046511627907,483.80864928909949,689.16911440537854,205.36046511627907,483.80864928909949,689.16911440537854,205.36046511627907,483.80864928909949,689.16911440537854,205.36046511627907,483.80864928909949,689.16911440537854,205.36046511627907,483.80864928909949,689.16911440537854,205.36046511627907,483.80864928909949,689.16911440537854,205.36046511627907,483.80864928909949,689.16911440537854,205.36046511627907,483.80864928909949,689.16911440537854,205.36046511627907,483.80864928909949,689.16911440537854,205.36046511627907,483.80864928909949,689.16911440537854,205.36046511627907,483.80864928909949]
[44,890,222.5,667.5,640.38096668293679,92.429900332225927,547.9510663507109,803.71448528601343,234.50465116279068,569.20983412322278,521.66172670875903,196.8644518272425,324.79727488151656,554.84022492166707,211.44152823920265,343.39869668246439,368.15277196076272,131.01627906976745,237.13649289099524,632.44434743587726,95.091029900332245,537.35331753554499,572.14233164333734,149.02325581395348,423.11907582938386,492.3070432680953,115.67043189368772,376.63661137440761,663.69752050825832,255.17275747508302,408.5247630331753,796.97660051014782,179.8923588039867,617.08424170616115,712.42933310765056,155.1142857142857,557.31504739336492,1070.5876997685441,304.04883720930229,766.53886255924181,761.82548219993373,277.55581395348833,484.26966824644546,731.18714356568148,211.7076411960133,519.47950236966824,772.53081828344693,316.14219269102989,456.38862559241704,762.98589023948603,190.35946843853822,572.62642180094781,676.50723693533405,201.50664451827242,475.00059241706157,709.19124010014002,210.93887043189369,498.25236966824639,721.72871274267436,213.51129568106313,508.21741706161129,722.39304923556551,213.51129568106313,508.88175355450232,722.39304923556551,213.51129568106313,508.88175355450232,722.39304923556551,213.51129568106313,508.88175355450232,722.39304923556551,213.51129568106313,508.88175355450232,722.39304923556551,213.51129568106313,508.88175355450232,722.39304923556551,213.51129568106313,508.88175355450232,722.39304923556551,213.51129568106313,508.88175355450232,722.39304923556551,213.51129568106313,508.88175355450232,722.39304923556551,213.51129568106313,508.88175355450232,722.39304923556551,213.51129568106313,508.88175355450232,722.39304923556551,213.51129568106313,508.88175355450232,722.39304923556551,213.51129568106313,508.88175355450232,722.39304923556551,213.51129568106313,508.88175355450232,722.39304923556551,213.51129568106313,508.88175355450232]
[45,864.5,318.5,546,929.63568830596273,236.26744186046511,693.36824644549768,674.40723850986444,103.27441860465117,571.1328199052133,841.41117326132473,248.54186046511623,592.86931279620853,553.02015044637938,210.05581395348835,342.96433649289099,586.94423288879079,224.96046511627907,361.98376777251178,396.06155626584371,142.72790697674421,253.33364928909953,666.2922682684889,105.99534883720932,560.29691943127955,604.63515099746496,161.13953488372096,443.49561611374406,523.0058111980602,127.03720930232561,395.96860189573459,698.24775983687857,269.67441860465112,428.57334123222745,834.52187534442851,192.70232558139531,641.81954976303314,748.07466934861668,167.36744186046511,580.7072274881516,1114.2815386311033,319.64883720930226,794.63270142180102,798.58084426319851,292.56046511627903,506.02037914691942,767.25400363716517,225.23255813953489,542.02144549763034,809.52674969690293,332.01395348837207,477.5127962085308,799.76732888790912,203.40465116279069,596.36267772511849,711.34533506006824,214.80232558139534,496.54300947867296,744.76381020610597,224.44651162790697,520.31729857819903,757.58302380689952,227.07674418604651,530.50627962085298,758.26228920974313,227.07674418604651,531.18554502369659,758.26228920974313,227.07674418604651,531.18554502369659,758.26228920974313,227.07674418604651,531.18554502369659,758.26228920974313,227.07674418604651,531.18554502369659,758.26228920974313,227.07674418604651,531.18554502369659,758.26228920974313,227.07674418604651,531.18554502369659,758.26228920974313,227.07674418604651,531.18554502369659,758.26228920974313,227.07674418604651,531.18554502369659,758.26228920974313,227.07674418604651,531.18554502369659,758.26228920974313,227.07674418604651,531.18554502369659,758.26228920974313,227.07674418604651,531.18554502369659,758.26228920974313,227.07674418604651,531.18554502369659,758.26228920974313,227.07674418604651,531.18554502369659]
[46,697.5,93,604.5,900.07192612303379,328.18803986710964,571.88388625592415,966.63916801813855,244.14817275747507,722.49099526066345,705.80130174300518,108.23222591362128,597.56907582938391,876.47565264284913,256.69235880398668,619.78329383886251,581.74636559021269,217.36046511627904,364.38590047393365,616.41603226212783,232.59269102990032,383.82334123222745,421.33813197713789,148.55282392026581,272.78530805687205,697.50798050731373,111.01295681063125,586.49502369668244,634.49576175780567,167.36910299003324,467.12665876777243,551.07237053423819,132.51727574750834,418.55509478672985,730.1657905717118,278.28936877076404,451.87642180094781,869.43494158492229,199.6255813953488,669.80936018957345,781.087796995796,173.73388704318936,607.35390995260661,1155.3431688998758,329.36212624584715,825.98104265402856,832.70399773267616,301.67840531561455,531.0255924170616,800.68865511486194,232.87076411960132,567.81789099526065,843.89047251657189,341.99900332225911,501.89146919431278,833.91655894254529,210.56312292358803,623.35343601895727,743.55122459101563,222.21129568106309,521.3399289099525,777.7041717182849,232.0674418604651,545.63672985781977,790.80512627733776,234.75548172757473,556.049644549763,791.49932059013395,234.75548172757473,556.74383886255919,791.49932059013395,234.75548172757473,556.74383886255919,791.49932059013395,234.75548172757473,556.74383886255919,791.49932059013395,234.75548172757473,556.74383886255919,791.49932059013395,234.75548172757473,556.74383886255919,791.49932059013395,234.75548172757473,556.74383886255919,791.49932059013395,234.75548172757473,556.74383886255919,791.49932059013395,234.75548172757473,556.74383886255919,791.49932059013395,234.75548172757473,556.74383886255919,791.49932059013395,234.75548172757473,556.74383886255919,791.49932059013395,234.75548172757473,556.74383886255919,791.49932059013395,234.75548172757473,556.74383886255919]
[47,475,190,285,723.66468013414999,100.49169435215947,623.17298578199052,930.59299176520608,340.73754152823921,589.85545023696682,998.59178724945286,254.89036544850498,743.70142180094786,732.1445044952842,116.05149501661131,616.09300947867291,906.48927154351213,267.70431893687703,638.7849526066351,605.4217202531845,227.52657807308967,377.89514218009481,640.83697115460313,243.08637873754151,397.75059241706157,441.56384720757035,157.23920265780731,284.32464454976304,723.67283226527684,118.89202657807311,604.78080568720372,659.30551203728487,176.46013289036546,482.84537914691936,574.08806938955456,140.858803986711,433.22926540284357,757.03296082568363,289.76578073089695,467.26718009478668,899.29714734455433,209.41029900332222,689.88684834123217,809.05006416211359,182.96179401993354,626.08827014218002,1191.3539386877865,341.93687707641192,849.41706161137449,861.7762907212923,313.65780730897006,548.11848341232223,829.07244611169722,243.37043189368771,585.70201421800948,873.20333485537924,354.84551495016603,518.3578199052132,863.01492851631997,220.5830564784053,642.43187203791467,770.70625364110151,232.48172757475081,538.22452606635068,805.59367274960232,242.54983388704318,563.04383886255914,818.97636826691428,245.29568106312291,573.68068720379142,819.68549148966304,245.29568106312291,574.38981042654018,819.68549148966304,245.29568106312291,574.38981042654018,819.68549148966304,245.29568106312291,574.38981042654018,819.68549148966304,245.29568106312291,574.38981042654018,819.68549148966304,245.29568106312291,574.38981042654018,819.68549148966304,245.29568106312291,574.38981042654018,819.68549148966304,245.29568106312291,574.38981042654018,819.68549148966304,245.29568106312291,574.38981042654018,819.68549148966304,245.29568106312291,574.38981042654018,819.68549148966304,245.29568106312291,574.38981042654018,819.68549148966304,245.29568106312291,574.38981042654018]
[48,970,242.5,727.5,506.35134779801922,205.21461794019933,301.13672985781989,760.25107382973022,113.821926910299,646.42914691943122,971.53577096880849,359.12558139534883,612.41018957345966,1040.9661200421974,271.47109634551492,769.49502369668244,768.90942080899367,129.7093023255814,639.20011848341233,946.92460400560526,284.55481727574744,662.36978672985776,639.51878847758655,243.53122923588037,395.98755924170621,675.67962360850856,259.41860465116275,416.26101895734587,472.21127599943316,171.76411960132893,300.44715639810426,760.2593975846703,132.60963455149505,627.6497630331753,694.53697587819431,191.38970099667776,503.14727488151652,607.52548180630129,155.03887043189371,452.48661137440757,794.32184464108559,307.08073089700991,487.24111374407573,939.58106666561685,225.03355481727573,714.54751184834117,847.43404488986153,198.0282392026578,649.40580568720372,1237.7864220371273,360.35016611295674,877.43625592417061,901.27029727133868,331.47574750830557,569.79454976303316,867.87795066996262,259.70863787375413,608.16931279620849,912.93791075561705,373.53056478405313,539.40734597156393,902.53501165152477,236.44152823920265,666.09348341232214,808.28299625261764,248.59069767441858,559.69229857819903,843.90488734235009,258.87076411960135,585.03412322274869,857.56932381792126,261.67441860465118,595.89490521327002,858.2933759506227,261.67441860465118,596.61895734597147,858.2933759506227,261.67441860465118,596.61895734597147,858.2933759506227,261.67441860465118,596.61895734597147,858.2933759506227,261.67441860465118,596.61895734597147,858.2933759506227,261.67441860465118,596.61895734597147,858.2933759506227,261.67441860465118,596.61895734597147,858.2933759506227,261.67441860465118,596.61895734597147,858.2933759506227,261.67441860465118,596.61895734597147,858.2933759506227,261.67441860465118,596.61895734597147,858.2933759506227,261.67441860465118,596.61895734597147]
[49,495,148.5,346.5,999.84750791201532,255.13056478405318,744.71694312796217,526.63908968525141,217.0764119601329,309.56267772511848,785.77386161452353,123.79933554817275,661.97452606635079,1001.414944261624,374.16079734219272,627.25414691943126,1072.2768469241551,284.69900332225916,787.57784360189578,794.61073121191612,140.01428571428573,654.59644549763038,976.29633055691147,298.05249169435211,678.2438388625593,662.55225079120157,256.18305647840532,406.36919431279625,699.4586701516273,272.39800664451826,427.06066350710898,491.79509888050893,182.93621262458473,308.85888625592418,785.78235699327672,142.97441860465119,642.80793838862553,718.70483380831661,202.96644518272427,515.73838862559239,629.89928831226086,165.86611295681064,464.03317535545023,820.54712254570063,321.04285714285709,499.50426540284354,968.80138007589221,237.30398671096344,731.49739336492883,874.75441970682232,209.74186046511628,665.01255924170607,1273.1552994756812,375.41063122923583,897.74466824644549,929.70069791059814,345.94086378737535,583.75983412322273,895.61984931744109,272.69401993355484,622.92582938388625,941.60888074506784,388.86279069767437,552.74609004739341,930.99148887594265,248.94717607973422,682.04431279620849,834.79613295334661,261.34684385382059,573.44928909952603,871.15249602431072,271.83887043189367,599.313625592417,885.09867345814098,274.7003322259136,610.39834123222738,885.83765450079511,274.7003322259136,611.13732227488151,885.83765450079511,274.7003322259136,611.13732227488151,885.83765450079511,274.7003322259136,611.13732227488151,885.83765450079511,274.7003322259136,611.13732227488151,885.83765450079511,274.7003322259136,611.13732227488151,885.83765450079511,274.7003322259136,611.13732227488151,885.83765450079511,274.7003322259136,611.13732227488151,885.83765450079511,274.7003322259136,611.13732227488151,885.83765450079511,274.7003322259136,611.13732227488151]
[50,606,101,505,511.15408866180661,155.39235880398672,355.76172985781989,1026.2005361276001,264.17707641196012,762.02345971563989,543.43235187605296,225.35415282392026,318.07819905213267,807.8021697028862,130.19269102990035,677.6094786729858,1027.799637858009,385.61196013289037,642.18767772511853,1100.0930941096817,294.34285714285716,805.75023696682467,816.81756191840782,146.73521594684388,670.082345971564,1002.1735774117869,307.9661129568106,694.20746445497639,682.09123340838596,265.250830564784,416.84040284360202,719.7432369983153,281.79335548172759,437.94988151658765,507.88444206515408,190.52425249169437,317.36018957345971,807.81083670545263,149.75514950166115,658.05568720379142,739.3782120420085,210.9591362126246,528.41907582938393,648.77861512179004,173.10930232558141,475.6693127962086,843.27792075388516,331.42093023255808,511.85699052132702,994.52721378973717,245.99036544850495,748.53684834123226,898.58031482735282,217.87142857142857,680.7088862559242,1305.0296972178046,386.88704318936874,918.14265402843591,954.63661885342685,356.82192691029894,597.81469194312797,919.86726826848894,282.09534883720931,637.77191943127968,966.78537103808787,400.61096345514943,566.17440758293844,955.9534864039299,257.86877076411957,698.08471563981038,857.81478995764508,270.51893687707638,587.29585308056869,894.90562500984083,281.22292358803986,613.68270142180097,909.1335434019303,284.14219269102989,624.99135071090041,909.887453354537,284.14219269102989,625.74526066350711,909.887453354537,284.14219269102989,625.74526066350711,909.887453354537,284.14219269102989,625.74526066350711,909.887453354537,284.14219269102989,625.74526066350711,909.887453354537,284.14219269102989,625.74526066350711,909.887453354537,284.14219269102989,625.74526066350711,909.887453354537,284.14219269102989,625.74526066350711,909.887453354537,284.14219269102989,625.74526066350711]
[51,618,154.5,463.5,627.25302821558466,109.94651162790699,517.30651658767772,530.52898001920926,165.41594684385385,365.11303317535544,1055.7743670387808,276.35481727574751,779.41954976303327,563.44641676245055,236.76312292358801,326.68329383886254,833.05128048684492,139.71727574750832,693.33400473933659,1057.4051341499899,400.19435215946845,657.21078199052135,1131.1301439908048,307.11794019933552,824.01220379146923,842.24519532049578,156.58737541528242,685.65781990521339,1031.2716269622586,321.01096345514947,710.26066350710914,704.8510187211665,277.44983388704316,427.40118483412334,743.24860654059921,294.31993355481723,448.92867298578204,527.19458794539537,201.24352159468441,325.9510663507109,833.06011911322457,159.66710963455154,673.39300947867298,763.27239297129631,222.08305647840533,541.18933649289102,670.87874462691514,183.48372093023258,487.39502369668253,869.22952165766549,344.93023255813944,524.29928909952605,1023.4738501991781,257.80797342192687,765.66587677725124,925.62701264347913,229.13222591362123,696.49478672985788,1340.1248976555239,401.49468438538202,938.63021327014201,982.79334249185172,370.8342192691029,611.95912322274887,947.33548991513283,294.62790697674416,652.70758293838867,995.18266402670406,415.49036544850497,579.69229857819914,984.1362866275133,269.92159468438535,714.21469194312795,884.05424965753969,282.82225913621261,601.23199052132702,921.87955669096687,293.73820598006643,628.1413507109005,936.38921604131565,296.71528239202655,639.6739336492891,937.15805490387493,296.71528239202655,640.44277251184837,937.15805490387493,296.71528239202655,640.44277251184837,937.15805490387493,296.71528239202655,640.44277251184837,937.15805490387493,296.71528239202655,640.44277251184837,937.15805490387493,296.71528239202655,640.44277251184837,937.15805490387493,296.71528239202655,640.44277251184837,937.15805490387493,296.71528239202655,640.44277251184837]
[52,682.5,367.5,315,630.22786013446489,158.51162790697674,471.71623222748815,639.66055880083763,113.09302325581397,526.5675355450237,541.05837374628015,169.63953488372096,371.4188388625592,1076.5027003196296,282.73255813953483,793.77014218009492,574.61498401851645,242.37209302325579,332.24289099526061,849.45489364047182,143.44186046511629,706.01303317535553,1078.1651328116388,408.97674418604646,669.18838862559244,1153.3216962415959,314.09302325581393,839.22867298578194,858.82733109225182,160.63953488372096,698.18779620853081,1051.5241788823982,328.25581395348831,723.26836492891005,718.76530640361511,283.84883720930225,434.91646919431292,757.90847845255144,301.04651162790691,456.86196682464458,537.65923619530474,206.16279069767444,331.4964454976303,849.46390389066471,163.77906976744191,685.6848341232228,778.32107627025243,227.40697674418604,550.91409952606637,684.13337650170843,188.05813953488376,496.07523696682472,886.33562493111413,352.63953488372084,533.69609004739334,1043.5749889782871,263.82558139534876,779.74940758293837,943.82821282927364,234.5930232558139,709.23518957345971,1366.374600462912,410.30232558139528,956.07227488151659,1002.1045684999449,379.04651162790691,623.05805687203792,965.95821393144502,301.36046511627904,664.59774881516591,1014.7344593849884,424.56976744186045,590.16469194312799,1003.4735892207649,276.17441860465112,727.29917061611377,901.44821172710238,289.32558139534876,612.12263033175361,940.0079907417612,300.45348837209298,639.55450236966828,954.79939105036919,303.4883720930232,651.31101895734594,955.58315882288093,303.4883720930232,652.09478672985779,955.58315882288093,303.4883720930232,652.09478672985779,955.58315882288093,303.4883720930232,652.09478672985779,955.58315882288093,303.4883720930232,652.09478672985779,955.58315882288093,303.4883720930232,652.09478672985779,955.58315882288093,303.4883720930232,652.09478672985779]
[53,642,160.5,481.5,692.97380532506179,370.37641196013288,322.59739336492891,639.70600565256416,157.40730897009968,482.29869668246448,649.3183747697251,111.12358803986712,538.19478672985792,548.83805285698531,168.74717607973423,380.09087677725114,1094.4813189841132,283.99435215946841,810.4869668246447,583.03383665821661,242.86511627906975,340.16872037914686,863.10879217773322,142.05049833887045,721.05829383886271,1096.1754168569225,412.64318936877078,683.53222748815176,1172.7635338760215,315.95215946843848,856.81137440758289,872.65975224764225,159.57574750830568,713.08400473933659,1069.0270161861727,330.38471760797336,738.64229857819919,729.92987946969834,285.13189368770759,444.79798578199069,769.81863574813815,302.65714285714284,467.16149289099531,545.37416982884861,205.96611295681066,339.40805687203789,863.11797405173922,162.77508305647845,700.34289099526075,790.62004495284293,227.61495016611295,563.00509478672996,694.63829376013621,187.51661129568109,507.12168246445509,900.69201358819737,355.23289036544844,545.45912322274887,1060.9264131410307,264.7272425249169,796.19917061611375,959.27969839870252,234.9378737541528,724.34182464454977,1389.8745886539339,413.99401993355474,975.88056872037907,1018.6660798916723,382.14285714285705,636.52322274881521,981.83122333139158,302.97707641196013,678.8541469194314,1031.5365401269073,428.53322259136212,603.00331753554508,1020.0611771976507,277.31129568106309,742.74988151658772,916.09245918029956,290.71295681063117,625.37950236966833,955.38671017619004,302.05282392026578,653.3338862559242,970.45985144305712,305.1455149501661,665.31433649289102,971.25854812552154,305.1455149501661,666.11303317535544,971.25854812552154,305.1455149501661,666.11303317535544,971.25854812552154,305.1455149501661,666.11303317535544,971.25854812552154,305.1455149501661,666.11303317535544,971.25854812552154,305.1455149501661,666.11303317535544]
[54,708.5,272.5,436,662.4898728020006,164.55016611295682,497.93970668904382,714.64633178653673,378.34950166112958,336.29683012540715,660.15184464212416,161.3996677740864,498.75217686803774,669.86302361034495,114.25083056478407,555.61219304556084,567.73328167752925,172.95149501661132,394.78178666091787,1122.9528662424973,290.35282392026573,832.6000423222315,602.62599133901949,248.45481727574747,354.17117406327208,887.38498893250198,145.7558139534884,741.62917497901356,1124.8622852107083,421.40631229235879,703.4559729183494,1202.631286125802,322.90797342192684,879.72331270387531,897.12600741487665,163.60863787375419,733.51736954112243,1097.1267142722481,337.61029900332215,759.51641526892604,752.11639541844545,291.51162790697668,460.60476751146876,792.71838435053928,309.36445182724248,483.35393252329686,564.26350589723154,210.86611295681067,353.39739294042084,887.42430981974178,166.86777408637877,720.55653573336303,813.76995533146442,232.91960132890364,580.85035400256083,716.07499497442757,192.07176079734222,524.00323417708535,925.92472635683055,362.92292358803979,563.00180276879075,1088.7914349600233,270.7255813953488,818.0658535646744,985.34873215267703,240.37940199335543,744.96933015932154,1423.6282431607769,422.78239202657801,1000.8458511341989,1045.97217992481,390.33588039867101,655.63629952613894,1008.3875844613189,309.69036544850496,698.69721901281389,1059.1317001942193,437.5933554817276,621.53834471249172,1047.2396838306618,283.5448504983388,763.69483333232301,941.49741604314477,297.19700996677733,644.30040607636738,981.48569955045491,308.74883720930228,672.73686234115269,996.82325057423327,311.8993355481727,684.92391502606063,997.63572075322713,311.8993355481727,685.73638520505449,997.63572075322713,311.8993355481727,685.73638520505449,997.63572075322713,311.8993355481727,685.73638520505449,997.63572075322713,311.8993355481727,685.73638520505449]
[55,666,277.5,388.5,727.77198282954441,{"$f":"($A284+0.5)*H205","v":286.05548172757477},{"$f":"($A284+0.5)*I205","v":441.71650110196958},680.59323116009375,{"$f":"($A284+0.5)*N205","v":176.12491694352158},{"$f":"($A284+0.5)*O205","v":504.46831421657214},734.55327501248257,{"$f":"($A284+0.5)*T205","v":393.84717607973425},{"$f":"($A284+0.5)*U205","v":340.70609893274838},678.20804818361762,{"$f":"($A284+0.5)*Z205","v":172.91661129568107},{"$f":"($A284+0.5)*AA205","v":505.29143688793653},687.79961625152282,{"$f":"($A284+0.5)*AF205","v":124.90265780730898},{"$f":"($A284+0.5)*AG205","v":562.89695844421385},584.63826450285057,{"$f":"($A284+0.5)*AL205","v":184.68039867109636},{"$f":"($A284+0.5)*AM205","v":399.95786583175425},1147.752342581992,{"$f":"($A284+0.5)*AR205","v":304.2358803986711},{"$f":"($A284+0.5)*AS205","v":843.51646218332087},620.3839006927974,{"$f":"($A284+0.5)*AX205","v":261.56910299003323},{"$f":"($A284+0.5)*AY205","v":358.81479770276422},908.33856815468278,{"$f":"($A284+0.5)*BD205","v":156.98571428571429},{"$f":"($A284+0.5)*BE205","v":751.35285386896851},1150.3731736876264,{"$f":"($A284+0.5)*BJ205","v":437.69401993355478},{"$f":"($A284+0.5)*BK205","v":712.67915375407154},1228.6459492154768,{"$f":"($A284+0.5)*BP205","v":337.38837209302324},{"$f":"($A284+0.5)*BQ205","v":891.25757712245343},918.30080555136351,{"$f":"($A284+0.5)*BV205","v":175.16611295681065},{"$f":"($A284+0.5)*BW205","v":743.1346925945528},1121.8350831944913,{"$f":"($A284+0.5)*CB205","v":352.36046511627899},{"$f":"($A284+0.5)*CC205","v":769.47461807821242},772.05981449534954,{"$f":"($A284+0.5)*CH205","v":305.41594684385376},{"$f":"($A284+0.5)*CI205","v":466.64386765149578},813.28764796464782,{"$f":"($A284+0.5)*CN205","v":323.59634551495014},{"$f":"($A284+0.5)*CO205","v":489.69130244969767},581.32156902350266,{"$f":"($A284+0.5)*CT205","v":223.29069767441865},{"$f":"($A284+0.5)*CU205","v":358.03087134908395},908.48897600429416,{"$f":"($A284+0.5)*CZ205","v":178.48504983388708},{"$f":"($A284+0.5)*DA205","v":730.00392617040711},834.21486022272347,{"$f":"($A284+0.5)*DF205","v":245.74883720930234},{"$f":"($A284+0.5)*DG205","v":588.46602301342114},735.02506191298323,{"$f":"($A284+0.5)*DL205","v":204.15149501661134},{"$f":"($A284+0.5)*DM205","v":530.87356689637193},948.5209966501003,{"$f":"($A284+0.5)*DR205","v":378.13754152823913},{"$f":"($A284+0.5)*DS205","v":570.38345512186118},1113.0402171567471,{"$f":"($A284+0.5)*DX205","v":284.24850498338867},{"$f":"($A284+0.5)*DY205","v":828.79171217335829},1008.0823175791879,{"$f":"($A284+0.5)*ED205","v":253.34551495016609},{"$f":"($A284+0.5)*EE205","v":754.73680262902189},1453.0635311890926,{"$f":"($A284+0.5)*EJ205","v":439.0953488372092},{"$f":"($A284+0.5)*EK205","v":1013.9681823518833},1070.2859934687192,{"$f":"($A284+0.5)*EP205","v":406.05348837209294},{"$f":"($A284+0.5)*EQ205","v":664.23250509662626},1031.7862458815953,{"$f":"($A284+0.5)*EV205","v":323.92823920265778},{"$f":"($A284+0.5)*EW205","v":707.85800667893739},1083.8655568674801,{"$f":"($A284+0.5)*FB205","v":454.17807308970094},{"$f":"($A284+0.5)*FC205","v":629.68748377777922},1071.0108104213086,{"$f":"($A284+0.5)*FH205","v":297.30299003322256},{"$f":"($A284+0.5)*FI205","v":773.70782038808613},963.9536318557407,{"$f":"($A284+0.5)*FN205","v":311.20564784053153},{"$f":"($A284+0.5)*FO205","v":652.74798401520911},1004.5267127289087,{"$f":"($A284+0.5)*FT205","v":322.96943521594682},{"$f":"($A284+0.5)*FU205","v":681.55727751296183},1020.0818584472146,{"$f":"($A284+0.5)*FZ205","v":326.17774086378734},{"$f":"($A284+0.5)*GA205","v":693.90411758342725},1020.9049811185789,{"$f":"($A284+0.5)*GF205","v":326.17774086378734},{"$f":"($A284+0.5)*GG205","v":694.72724025479158},1020.9049811185789,{"$f":"($A284+0.5)*GL205","v":326.17774086378734},{"$f":"($A284+0.5)*GM205","v":694.72724025479158},1020.9049811185789,{"$f":"($A284+0.5)*GR205","v":326.17774086378734},{"$f":"($A284+0.5)*GS205","v":694.72724025479158}]
[56,791,282.5,508.5,671.2157286925501,279.23388704318938,391.98184164936077,733.61880496369838,287.9435215946844,445.67528336901398,685.02172104968395,176.03222591362126,508.98949513606266,741.43700740448389,397.67740863787378,343.75959876661005,682.58610781134121,172.76611295681064,509.81999485453053,691.82883580143221,123.88704318936878,567.94179261206341,588.2842564261947,184.7418604651163,403.5423959610784,1157.5277789501285,306.45149501661126,851.07628393351729,625.04653941675554,263.01594684385378,362.03059257290175,914.63485329302546,156.5481727574751,758.08668053555039,1161.3806620170626,442.31428571428569,719.06637630277692,1239.4465965083043,340.20132890365443,899.24526760464994,924.85101206548802,175.05614617940202,749.79486588608597,1131.8140462458266,355.44318936877067,776.37085687705587,778.47887961245078,307.65282392026575,470.82605569218498,820.24084515147615,326.16079734219267,494.08004780928343,585.28748099163681,224.04784053156152,361.23964046007529,914.98130171717253,178.43488372093026,736.54641799624233,840.65064525465641,246.91063122923589,593.74001402542058,740.19518617851691,204.56378737541533,535.63139880310155,957.18010289752965,381.68471760797337,575.49538528955622,1122.3235534585565,286.1039867109634,836.21956674759303,1016.1451432024294,254.64418604651161,761.50095715591783,1466.7965021197977,443.74086378737536,1023.0556383324223,1080.28919021515,410.10365448504973,670.18553573010024,1040.7006919052396,326.4986710963455,714.20202080889419,1094.4262614620893,459.09534883720926,635.33091262487994,1080.03568599396,299.39368770764116,780.64199828631877,972.14493113101275,313.54684385382058,658.59808727719223,1013.1881687856917,325.52259136212621,687.66557742356554,1028.9117775195195,328.78870431893682,700.12307320058267,1029.7422772379873,328.78870431893682,700.95357291905054,1029.7422772379873,328.78870431893682,700.95357291905054]
[57,1207.5,172.5,1035,797.11432619275706,286.17502412996436,510.93930206279265,676.71581252047827,282.85361272969664,393.86219979078163,739.52392165784681,291.71070979707724,447.81321186076951,689.33579324329889,177.90464790974326,511.43114533355561,748.71112961264441,403.30249741756603,345.40863219507838,686.84886551366503,174.58323650947554,512.26562900418946,695.54283710906111,124.8765969330553,570.66624017600577,592.23995568528608,186.76174497712384,405.47821070816224,1165.6909840646442,310.5320410652609,855.15894299938327,630.1283601049754,266.3610871559535,363.7672729490219,919.81397436922964,158.09071093573243,761.72326343349721,1171.2108965741495,448.69511988789139,722.51577668625805,1248.4122880975042,344.8532922013606,903.55899589614353,930.30371470362502,176.91204220391614,753.39167249970887,1140.4483620292672,360.35321206927654,780.09514995999052,784.83834342832904,311.75370962627886,473.08463380205018,827.02521747425885,330.57504089446257,496.45017657979633,589.70573980396921,226.73321320793187,362.97252659603737,920.42765611899654,180.3479850317793,740.07967108721721,846.57131006565851,249.98309300980583,596.58821705585274,745.12012789050709,206.91927623392101,538.20085165658611,965.29510254602201,387.03903469901371,578.25606784700835,1130.0709871488414,289.84002981301836,840.23095733582295,1023.0015028952396,257.84758437135923,765.15391852388041,1478.1091429874289,450.14585130410018,1027.9632916833286,1089.3395836674074,415.93913159559594,673.40045207181151,1048.5467217926521,330.91863517724892,717.62808661540305,1104.1389320499031,465.76030259961169,638.37862945029144,1087.7415185353871,303.35473826928006,784.38678026610694,979.50493900436095,317.7475210037735,661.75741800058745,1020.8903759441923,329.92602947142177,690.96434647277056,1036.729042403967,333.24744087168949,703.48160153227752,1037.563526074601,333.24744087168949,704.31608520291149]
[58,819,468,351,1210.5741606119077,174.93799711762128,1035.6361634942864,801.47297762807375,290.21962635584288,511.25335127223087,680.95555987173316,286.85127239661705,394.10428747511617,743.92201019468939,295.83354962121945,448.08846057346994,692.16452748232746,180.41903062751359,511.74549685481384,754.62343716802093,409.00249930877459,345.6209378592464,689.63117010972371,177.05067666828768,512.58049344143603,697.65851800733014,126.64151741642424,571.01700059090592,595.12874603407636,189.40130785211602,405.72743818196039,1170.6054557821569,314.92088872349944,855.68456705865754,634.11651550194392,270.1256527370125,363.99086276493136,922.51651419381824,160.32505700868322,762.19145718513505,1177.9965416128337,455.03667008486184,722.95987152797181,1253.8415820515697,349.72721296883373,904.11436908273606,933.26714134395104,179.41239611096333,753.85474523298774,1146.0208341167813,365.4461981118879,780.57463600489336,789.53523912551964,316.15982351309975,473.37541561241994,832.00248265321693,335.24716261537992,496.75532003783695,593.13333341988141,229.93770549935186,363.19562792052949,923.43146179596931,182.89690020671426,740.53456158925508,850.47109364641608,253.51618321393309,596.95491043248296,748.37538907760779,209.84373188052146,538.53165719708636,971.12067327716466,392.50917992222014,578.61149335494451,1134.6838366226179,293.93643072464386,840.74740589797398,1027.1160468521218,261.49182592198525,765.62422093013652,1485.1030352073003,456.50790514751219,1028.5951300597881,1095.6320891826342,421.8177310387029,673.81435814393137,1053.664790259855,335.59561302495496,718.06917723490005,1111.1140497610436,472.34304042709147,638.77100933395218,1092.5110509992612,307.6421468345975,784.86890416466372,984.40251499801911,322.23834732457641,662.16416767344265,1025.9780267136191,334.58897850840469,691.38904820521441,1041.8713294721758,337.95733246763058,703.91399700454519]
[59,1368.5,416.5,952,822.9550367729903,473.21366639000638,349.74137038298392,1208.8093996976729,176.88686112596992,1031.9225385717029,802.87284265379685,293.45276377390201,509.42007887989485,682.73797810523581,290.04688529795209,392.69109280728372,745.61091523315508,299.12922790048532,446.48168733266971,692.33941477109977,182.42895506362512,509.91045970747462,757.94051178171208,413.55891508671215,344.38159669499993,689.76553871814224,179.02307658767515,510.74246213046706,697.02176888606721,128.05234353380334,568.9694253522639,595.78386242893964,191.51129766615836,404.27256476278131,1171.0454255851853,318.42920593086836,852.61621965431686,635.82058700441098,273.13493700357986,362.68565000083117,921.56948934781167,162.11112829330293,759.45836105450871,1180.4733744862301,460.10592092469489,720.36745356153529,1254.4956437035564,353.62328351568459,900.87236018787189,932.56264953593791,181.41110632368606,751.15154321225191,1147.2930038181241,369.51738307011772,777.77562074800642,791.35991025438966,319.68194284156255,471.67796741282717,833.95595612855777,338.9819208719457,494.97403525661213,594.39255020377414,232.49928346293552,361.89326674083856,922.81355249238766,184.9344288850136,737.87912360737403,851.1547588102776,256.34043279458518,594.81432601569236,748.78202587417547,212.18145669261332,536.60056918156215,973.41854044828892,396.88185496309501,576.53668548519397,1134.943595260105,297.21097450598467,837.73262075412038,1027.2837421173228,264.40492665717937,762.87881546014353,1486.5002991582064,461.59354600614421,1024.9067531520623,1097.9150806006921,426.51691250670558,671.39816809398656,1054.8285496406588,339.33425312807844,715.49429651258038,1114.0855687495969,477.60508964595505,636.48047910364176,1093.1238669325066,311.06937658053971,782.05449035196693,985.61793664474953,325.82818330965614,659.78975333509345,1027.2262425279646,338.3164043881394,688.90983813982518]
[60,1331,423.5,907.5,1364.3740017516072,419.80462054191673,944.5693812096905,823.9798119910389,476.96826807708482,347.01154391395409,1202.1584306462275,178.29032800441425,1023.8681026418134,801.22501186568024,295.7810951814638,505.44391668421639,681.97422564926137,292.34819356991983,389.62603207934148,744.4993742594695,301.50259786737041,442.99677639209904,689.80686432910613,183.87639437297366,505.93046995613247,758.53380500400249,416.84020028740451,341.69360471659792,687.19947113547278,180.4434927614297,506.75597837404308,693.59680882546979,129.06834450590989,564.52846431955993,594.14790616836001,193.03079867042422,401.11710749793576,1166.9170252854019,320.95570699945273,845.96131828594912,635.1568513404693,275.30206142983957,359.85478991062973,916.92794271776006,163.39736062134938,753.53058209641074,1178.5013120746744,463.75652231183841,714.74478976283592,1250.2698301768335,356.42902365207357,893.84080652475996,928.13907097895776,182.85046975343178,745.28860122552601,1144.1541017712752,372.44923117261192,771.70487059866321,790.21477611118394,322.21838345427346,467.99639265691042,832.78212094476089,341.6714925863559,491.11062835840505,593.41258534397275,234.34399392659108,359.0685914173817,918.52152374623506,186.40174728261519,732.11977646361981,848.54594371506846,258.37430520739866,590.17163850766974,746.27721604534077,213.86496017496682,532.41225587037388,972.06747991268253,400.03081998260296,572.03665993007951,1130.7630144670309,299.56912454592606,831.19388992110487,1023.4271238109056,266.50278488530739,756.92433892559825,1482.1630279364722,465.25595060193803,1016.9070773345342,1096.0587327470582,429.90100986695666,666.15772288010157,1051.9362893686343,342.02662033927419,709.9096690293602,1112.9071099844166,481.39453404011596,631.51257594430069,1089.4878252895837,313.5374828273807,775.95034246220291,983.0533047647541,328.41338981073784,654.63991495401626]
[61,1783.5,861,922.5,1321.9737419503044,425.4040927485899,896.56964920171458,1354.884648139232,421.69209854380199,933.19254959543014,821.94473477200029,479.11275879857965,342.83197597342064,1190.6280972466377,179.09193679000319,1011.5361604566344,796.46706843396828,297.11095265136936,499.35611578259898,678.59581189974529,293.66261641629495,384.93319548345039,740.51929751407442,302.8581797098268,437.66111780424757,684.5399273789767,184.70311859767835,499.83680878129837,756.29243850022272,418.71434999859224,337.57808850163042,681.90715675564797,181.25478236260389,500.65237439304411,687.37766871185829,129.6486469825243,557.72902172933402,590.18454895262153,193.8986818912102,396.2858670614113,1158.1709196136546,322.39875170858187,835.77216790507271,632.06037534699294,276.53984338695977,355.52053196003311,908.5867196946383,164.13200933326874,744.45471036136951,1171.9776839731705,465.84161187794285,706.13607209522763,1241.1065328573338,358.03155947101783,883.07497338631595,919.98458106183818,183.67258133202392,736.31199972981426,1136.5338945403712,374.12379523469843,762.41009930567282,786.0267323650146,323.66710526631039,462.35962709870421,828.40314149264566,343.20767726506563,485.19546422758003,590.14142766413033,235.3976248581406,354.74380280598973,910.54161211272253,187.23982571313542,723.30178639958717,842.59931614071138,259.53597850366162,583.06333763704981,740.82615138039171,214.82651559373099,525.99963578666075,966.97617841177953,401.82939326133106,565.14678515044841,1122.0986186195121,300.91601332455491,821.18260529495717,1015.5085957411957,267.70100453153913,747.80759120965661,1472.0067586936564,467.34778172774543,1004.6589769659109,1089.9680924866918,431.83388211134667,658.13421037534522,1044.9235895010374,343.56440170317671,701.35918779786084,1107.4652712912957,483.55892563746329,623.90634565383243,1081.5516112944338,314.94717455692671,766.60443673750706]
[62,1750,562.5,1187.5,1769.1526489865869,861.69327018911429,907.45937879747248,1307.6984261921073,425.74662466012273,881.95180153198453,1340.009236551836,422.03164158782687,917.9775949640092,816.74091258688736,479.49853649068109,337.24237609620627,1174.2800163642594,179.23614015921018,995.04387620504917,788.56469955575426,297.35018397115158,491.21451558460268,672.55624021741085,293.8990711638196,378.65716905359125,733.6274436217999,303.10203865003842,430.52540497176147,676.5392113150175,184.85184004478657,491.68737127023093,751.12564442148914,419.05149538373547,332.07414903775361,673.89036697749941,181.4007272374545,492.48963974004488,678.38873722423602,129.75303901738141,548.63569820685461,583.87955197519625,194.05480753100545,389.8247444441908,1144.8039188708324,322.65834455825342,822.1455743125789,626.48656639072419,276.7625110170672,349.72405537365705,896.58114162444815,164.26416709070216,732.31697453374602,1160.8397946232601,466.21670375060711,694.62309087265305,1226.9969891291303,358.3198435673516,868.67714556177862,908.12749725468086,183.82047299891724,724.30702425576362,1124.4046519580395,374.42503666823444,749.97961528980511,778.74894430320285,323.92771938393878,454.82122491926407,820.76876736620375,343.48402529215389,477.28474207404992,584.547155273209,235.58716510889838,348.95999016431057,898.89952169536764,187.39058969615732,711.50893199921029,833.30191321192819,259.74495476022281,573.55695845170533,732.4231265598653,214.99949215481394,517.42363440505142,958.08546397291229,402.15294301679904,555.93252095611331,1108.9521912452285,301.15830844820761,807.79388279702096,1003.5317445546636,267.91655520057242,735.61518935409117,1456.002906020921,467.72408635610839,988.27881966481266,1079.5854521719598,432.18159123691839,647.40386093504151,1033.7651267970502,343.84103696187782,689.92408983517248,1097.6823373900734,483.94828334689947,613.73405404317384]
[63,1397,{"$f":"($A292+0.5)*B213","v":571.5},825.5,1723.7771827959266,560.72213045547005,1163.0550523404565,1747.7488820275307,858.96975335036643,888.77912867716429,1288.1976161021958,424.40098562426562,863.79663047793019,1319.7785693986673,420.69774433910334,899.08082505956395,808.28317400077628,477.98300610015048,330.30016790062581,1153.2303162213325,178.66963620388901,974.56068001744359,777.51311920540354,296.41036204023129,481.10275716517225,663.8325852884002,292.97015701664128,370.86242827175892,723.80698226971913,302.14403707954801,421.66294519017117,665.83346580140937,184.26758678849157,481.56587901291783,742.96534728331324,417.72701735487777,325.23832992843546,663.17901437541991,180.82738176490153,482.35163261051832,666.68484633369872,129.34293417048505,537.34191216321369,575.24158352772963,193.44146685139836,381.8001166763313,1126.8600597615123,321.63853221322489,805.22152754828733,618.41266873376765,275.88775965812522,342.52490907564243,880.98705358209133,163.74498440638547,717.24206917570586,1145.0672750450922,464.74315267727491,680.32412236781738,1207.9825536660942,357.18731745698869,850.79523620910561,892.63648501909188,183.23947954006238,709.39700547902953,1107.7827281693153,373.24160756707545,734.54112060223974,768.36252534180676,322.9038949805223,445.45863036128441,809.85812120829223,342.39839011419923,467.459731094093,576.6191272099361,234.84255489391302,341.77657231602313,883.66067707849186,186.79831232308655,696.86236475540534,820.67415286517462,258.92399005904321,561.75016280613147,721.09230804457025,214.31995251180692,506.7723555327633,945.37040373280831,400.88187551522992,544.48852821757839,1091.371719088894,300.20645034212367,791.16526874677027,987.54215239491657,267.06976287352086,720.47238952139571,1434.1806546116288,466.24577096344063,967.93488364818813,1064.8925241024529,430.81561347911111,634.07691062334175,1018.4761246886603,342.75427339250166,675.72185129615866]
[64,1548,903,645,1372.2110872751086,567.25633843072114,804.95474884438761,1690.6671460704401,556.55849973620832,1134.1086463342317,1719.2504616905087,852.59149100309446,866.65897068741424,1263.5478479523313,421.24960477972002,842.29824317261125,1294.2781377021142,417.57386183703125,876.7042758650831,796.51332749224184,474.43375305770849,322.07957443453341,1127.6484977234652,177.34292847203338,950.30556925143173,763.33832396936009,294.20937295514614,469.12895101421395,652.42702419427337,290.79471310364539,361.63231109062798,711.06896470345475,299.90047270764728,411.16849199580747,652.47985815817935,182.89931158898486,469.5805465691945,731.76891068135023,414.62519392530925,317.14371675604104,649.83139587156052,179.48465173748414,470.3467441340764,652.35091266609879,128.38250085640448,523.96841180969432,564.30285075440906,192.00507119298678,372.29777956142232,1104.4311839699985,319.25021186615135,785.18097210384713,607.83922392101385,273.83916073757297,334.00006318344089,861.92026794071421,162.52909937141163,699.39116856930252,1124.6842567817848,461.29221189581898,663.3920448859659,1184.155461198651,354.53503033165879,829.62043086699214,873.62019331650913,181.8788385299157,691.74135478659343,1086.7297865014734,370.47010963866205,716.25967686281149,754.87812289104158,320.50617870808259,434.37194418295894,795.68139386623602,339.85591786658665,455.82547599964943,566.36908751931333,233.09873630242646,333.27035121688681,864.92992461965957,185.41124527284748,679.51867934681206,804.77053904839897,257.00135526293138,547.76918378546759,706.88820206081232,212.72852408485323,494.15967797595903,928.84229643238473,397.90513534209879,530.93716109028594,1069.4518224796789,297.97727348093997,771.47454899873878,967.6277336994583,265.08664180786417,702.54109189159408,1406.6283498855412,462.7836725206123,943.84467736492888,1045.9124462994582,427.6166009465361,618.29584535292224]
[65,1179,393,786,1518.3072245094165,892.15024420825705,626.15698030115948,1341.8794347744424,560.44062110703169,781.43881366741084,1650.8481338945169,549.87131944168254,1100.9768144528343,1683.6878145730366,842.34740521405627,841.34040935898031,1233.8795481926541,416.18819244391915,817.69135574873485,1263.6488655623539,412.55661441073363,851.0922511516203,781.40366765617773,468.7333207653096,312.67034689086813,1097.7554693168586,175.21211178840758,922.54335752845088,746.09820399198986,290.67437866034527,455.42382533164459,638.36833727404132,287.30074674406126,351.06759052998001,695.45372075814612,296.29709852081868,399.1566222373275,636.56396164644923,180.70173366515499,455.86222798129427,717.52206071205865,409.643375432293,307.87868527976565,633.93414361162343,177.32810174887092,456.60604186275253,635.50116213492981,126.83995513965451,508.66120699527534,551.11956361711691,189.69808544191244,361.42147817520453,1077.6570537711939,315.41434604642825,762.24270772476564,594.7915099695299,270.54891929768536,324.2425906718446,839.53544044304329,160.57627430249497,678.95916614054829,1099.7613985697371,455.74967828817495,644.01172028156225,1155.6591220307009,350.27520918136344,805.38391284933743,851.22635572361833,179.69352182810459,671.5328338955137,1061.3537028928631,366.01882479068894,695.33487810217412,738.33743129642824,316.65522215356719,421.68220914286104,778.28146750286533,335.77246967917677,442.50899782368856,553.83219707139278,230.29800057236531,323.53419649902747,842.85071738025727,183.18348587943291,659.6672315008243,785.68008758501901,253.91342398635356,531.76666359866545,689.89584624539509,210.17254120970532,479.72330503568975,908.55058360168573,393.12421225600553,515.4263713456802,1043.3337108271096,294.3970069817621,748.93670384534755,943.91863157926991,261.9015639260607,682.01706765320921,1373.4944326997372,457.22321866540238,916.27121403433489]
[66,997.5,598.5,399,1145.9549291431099,386.33551420200996,759.61941494109988,1482.1623991360611,877.02117898637596,605.14122014968507,1306.1479968453734,550.9366807508369,755.21131609453653,1604.5712487802266,540.54661308254492,1064.0246356976816,1641.1653249157462,828.06289549644077,813.10242941930539,1199.3775927754477,409.13048176240858,790.2471110130391,1228.0874572675823,405.56048795371782,822.52696931386447,762.96071625653326,460.78455089435511,302.1761653621781,1063.8208245648204,172.24086845342109,891.57995611139927,725.8835252402672,285.74512861347137,440.13839662679584,621.71338571392073,282.42870667681512,339.2846790371056,677.03219297836199,291.27249850789843,385.7596944704635,618.19948256786461,177.6373974369524,440.56208513091224,700.24197831961123,402.69665162107361,297.54532669853768,615.60190982390361,174.32097550029616,441.28093432360743,616.27797333519254,124.68900582757836,491.5889675076142,535.77224753597011,186.48118926803579,349.29105826793426,1046.7250468423426,310.06555614895052,736.65949069339217,579.32096530848821,265.96095637065991,313.36000893782835,814.02442691498095,157.85322519414095,656.17120172084003,1070.4177847241945,448.0210847553758,622.39669996881878,1122.6879933641028,344.33524949439862,778.35274386970411,825.64040293372864,176.64628283519312,648.99412009853552,1031.8091794635711,359.81188519879436,671.99729426477666,718.81464268584068,311.28538950496204,407.52925318087864,757.73547772235349,330.07844714601413,427.65703057633937,539.06800254410825,226.39261188503696,312.6753906590713,817.60382807832809,180.07706414897544,637.52676392935268,763.52649914137487,249.60756544163073,513.91893369974412,670.23075046260897,206.60843964222551,463.62231082038346,884.58469213891567,386.4576200691705,498.12707206974511,1013.2047060389089,289.40462868150581,723.80007735740298,916.5867132950965,257.46024267095481,659.12647062414169]
[67,810,337.5,472.5,969.02644735695708,585.16299068242699,383.86345667453008,1108.5287326012424,377.72639080581683,730.80234179542549,1439.6620497942308,857.47758728069471,582.18446251353612,1265.2210447092134,538.65957524613077,726.56146946308263,1552.1606260372484,528.50104045887838,1023.6595855783701,1591.866707072475,809.61029306908483,782.25641400339009,1160.2815334640309,400.0133939639652,760.26813950006579,1187.8463767867829,396.52295410797313,791.32342267880983,741.22915104840422,450.5164007712612,290.71275027714307,1026.1594444175666,168.40264277684608,857.7568016407206,702.81878621372505,279.37756730558675,423.4412189081383,602.54855671079849,276.13504871106949,326.41350799972895,655.90720297099188,284.78176496311545,371.12543800787648,597.52774947098715,173.67891519005843,423.84883428092871,679.9805237028678,393.72293567316103,286.25758802970677,594.97680966327607,170.43639659554117,424.5404130677349,594.85037936689787,121.91042866380005,472.93995070309785,518.36591468078609,182.32563144210448,336.04028323868158,1011.8694667973706,303.15603699871326,708.71342979865733,561.50658806394074,260.03426672450104,301.4723213394397,785.61417516747395,154.33561460897269,631.27856055850123,1036.8226914845741,438.0373564648969,598.78533501967706,1085.4870619087997,336.66206247539168,748.82499943340792,797.08363677607178,172.70988664457056,624.3737501315012,998.29808722576672,351.79381591647217,646.5042713092945,696.41782992726894,304.34868751623685,392.06914241103209,734.1563079934358,322.72295955183466,411.43334844160108,522.16134043814452,221.3476655623295,300.81367487581502,789.4056380908911,176.06421622510564,613.34142186578549,738.46809858227721,244.04529572395029,494.42280285832692,648.03860764526826,202.00436498124375,446.03424266402453,857.07580008934269,377.8457756586281,479.23002443071459,979.29737258172872,282.9555188581574,696.34185372357138]
[68,1027.5,616.5,411,780.53833676634713,328.04112691213822,452.4972098542089,936.376043930695,568.76304263923078,367.61300129146423,1067.0047150973646,367.14012119820705,699.86459389915763,1390.9839673115175,833.44567121025318,557.53829610126434,1219.3661998723283,523.56294543927243,695.80325443305583,1494.0131512288754,513.6891167003497,980.32403452852554,1536.060331818755,786.91991969792321,749.14041212083168,1116.8854904022728,388.80250232855781,728.08298807371489,1143.2334650823232,385.40988655439878,757.82357852792438,716.29582918818562,437.89009718934824,278.40573199883738,985.12751168676095,163.68294136740397,821.44457031935701,677.06293102910649,271.54765040858194,405.51528062052461,580.99114330447878,268.39600758257012,312.59513572190866,632.21462168894095,276.80038845193502,355.41423323700593,574.71697946208133,168.81133943651687,405.90564002556448,656.82751660564782,382.688342250012,274.13917435563576,572.22763816289307,165.65969661050499,406.56794155238811,571.41226726653883,118.49373155915497,452.91853570738391,499.03009187016016,177.21572030588189,321.8143715642783,973.37049054028637,294.65969779933562,678.71079274095075,541.45627873709111,252.74647079133879,288.70980794575229,754.5642070012907,150.01015981927367,604.55404718201703,999.19718234946868,425.76079420550747,573.43638814396115,1044.3509549648375,327.22667366812499,717.12428129671252,765.81101380310452,167.86946916667429,597.94154463643019,961.06953368429515,341.93434018951359,619.13519349478156,671.29023070646281,295.81892274683418,375.47130795962858,707.69398280492055,313.67823209423483,394.01575071068572,503.22315614372519,215.14411155685232,288.0790445868729,758.50604770671248,171.12978933151416,587.37625837519829,710.69754526843906,237.20561133893534,473.49193392950372,623.49478443676514,196.34293193960912,427.15185249715603,826.19848592111953,367.25616013643651,458.94232578468302]
[69,903.5,486.5,417,987.18616144514147,595.40326154755417,391.7828998975873,748.15532926779542,316.8155018413986,431.33982742639677,899.72441551361987,549.29987126538299,350.42454424823688,1021.7175925491739,354.57652166484479,667.14107088432911,1336.3945282028303,804.92501372469633,531.46951447813387,1168.9161565448969,505.64652934304451,663.26962720185247,1430.5976725631836,496.11058476053586,934.48708780264758,1474.104284511991,759.9913816137597,714.11290289823137,1069.5376717513454,375.49761230214733,694.04005944919811,1094.6111634984877,372.22109243659668,722.39007106189092,688.29375443931212,422.90542103148971,265.38833340782242,941.11802262306128,158.08168231930154,783.03634030375974,648.80987122511635,262.25524204192169,386.55462918319466,557.19059440635556,259.21144898784155,297.97914541851401,606.12438365875016,267.32823046538857,338.79615319336159,549.96132228340002,163.03458570432019,386.92673657907989,630.91394677819255,369.59267985707027,261.32126692112229,547.54886356699762,159.99079265024002,387.55807091675763,546.18030859444104,114.43885522021284,431.74145337422817,477.91868523581525,171.1513671818673,306.76731805394792,931.55274772765802,284.57639110517613,646.97635662248183,519.30806444864595,244.09744209861597,275.21062235003001,721.16373892352885,144.87678576101442,576.28695316251446,957.81544540112804,411.191184929499,546.62426047162899,999.62266753845495,316.02891933067121,683.59374820778373,732.10857736650337,162.124946400802,569.98363096570131,920.41961668776366,330.23328691637846,590.1863297713852,643.61136775684349,285.69594717104468,357.91542058579881,678.53688985160431,302.94410781083229,375.59278204077202,482.39119376424628,207.78184221200439,274.60935155224189,725.18604293880594,165.27369783605735,559.91234510274865,680.4412961526524,229.08839359056543,451.35290256208697,596.80358355327826,189.62404226869864,407.17954128457967]
[70,846,423,423,862.24734592920981,466.6001419716186,395.64720395759127,942.77017489923333,571.0488106237483,371.72136427548503,713.10918998481111,303.85644016034161,409.25274982446956,859.31203337239276,526.83123929582644,332.48079407656633,973.05249314022672,340.07287841442815,632.97961472579857,1276.2554798994547,772.00025833597203,504.25522156348256,1114.2699104420599,484.96349923724728,629.30641120481266,1362.4535935808358,475.81761414776724,886.63597943306854,1406.4508162868071,728.90459724190521,677.54621904490193,1018.6394306099911,360.13821009287926,658.50122051711185,1042.3952620524226,356.99571341366288,685.39954863875971,657.40576961067188,405.60684376949695,251.79892584117493,894.55586945815776,151.61548903041813,742.94038042773968,618.28873124691086,251.52792018409428,366.76081106281652,531.32953184238704,248.60863082917953,282.72090101320754,577.84124590161707,256.39340244228549,321.44784345933158,523.47966264582328,156.36579822388455,367.11386442193867,602.41493028498178,354.47481375741,247.94011652757177,521.15937968290996,153.44650886896977,367.71287081394013,519.3916439114854,109.75783369541793,409.6338102160675,455.20963855069226,164.15056983699057,291.05906871370166,886.78349181882732,272.93604212013582,613.84744969869155,495.23110635637704,234.11284920477527,261.11825715160177,685.72847711504073,138.95072724456548,546.7777498704753,913.0057257589574,394.3717682745783,518.63395748437915,951.69185255569232,303.10203212092171,648.58982043477056,696.29056091084567,155.49336692241579,540.79719398842985,876.69078097633064,316.72538244385709,559.9653985324735,613.59789822572429,274.00980372194351,339.58809450378084,646.91271687961262,290.55244339979384,356.36027347981883,459.83048211964251,199.28270724613714,260.54777487350538,689.7549372578128,158.51332142750002,531.24161583031275,647.95877325052322,219.71773273054038,428.24104051998285]
[71,715,357.5,357.5,802.09231899833014,402.64536112041822,399.44695787791193,817.7646682665777,444.14747674468271,373.61719152189505,894.59367070698363,543.57010536875759,351.02356533822609,675.70012292595743,289.23495526507207,386.46516766088536,815.44821830378805,501.48027091202243,313.96794739176568,921.44337692054489,323.70866888046692,597.73470804007798,1211.0296384168537,734.85182695684068,476.17781146001312,1055.8932264998389,461.6271945167922,594.26603198304656,1290.1886520227558,452.92140679901553,837.26724522374025,1333.6497181985042,693.82991673475146,639.81980146375281,964.64370910298055,342.80846254399148,621.83524655898907,987.05303210527688,339.81718190516699,647.23585020010989,623.86768086682127,386.08915858742824,237.77852227939306,845.89254888562812,144.31979511135111,701.57275377427698,585.7636891306621,239.4244686865068,346.33922044415527,503.62438717753139,236.64565469945089,266.97873247808047,547.60514728489841,244.05582533159989,303.54932195329849,495.51413624322942,148.84152078661572,346.6726154566137,571.55216235526916,337.41758721854688,234.1345751367223,493.30097540282691,146.06270679955978,347.23826860326716,491.30132841331545,104.4763181656888,386.82501024762666,431.10431449315308,156.25169141876475,274.8526230743883,839.47027807446023,259.80243792491672,579.66784014954351,469.42635029923497,222.8474059361389,246.5789443630961,648.59710300336644,132.26445803624776,516.33264496711865,865.15063740409687,375.39471170831075,489.75592569578617,900.99257177993229,288.51684912449434,612.47572265543795,658.69616275152509,148.0110706295645,510.68509212196057,830.270640545623,301.48464773075511,528.78599281486788,581.5040370005886,260.82453042590271,320.67950657468589,613.08893770019904,276.57114301921951,336.51779468097959,435.73350751597218,189.69328043540298,246.0402270805692,652.54728342822091,150.88570578858787,501.66157763963309]
[72,435,217.5,217.5,673.49602809137946,337.5114873603581,335.98454073102141,755.53968503360761,380.1326845048975,375.40700052871017,770.44608667453394,419.31433701663752,351.13174965789648,843.07593324074276,513.17805523814252,329.89787800260024,636.26976730965282,273.06327258215697,363.20649472749585,768.51392650650598,473.44154438431332,295.07238212219266,867.37067318916036,305.60949456024628,561.76117862891408,1141.2848011059446,693.76484784805541,447.51995325788926,994.31798840621605,435.81673014643877,558.50125825977727,1214.4756042565241,427.59769976526303,786.87790449126112,1256.3500120774033,655.03655153079558,601.31346054660787,908.05265398160441,323.64138202221028,584.41127195939407,929.10053809665555,320.8173496375336,608.28318845912202,587.97044411830734,364.50217110084498,223.46827301746242,795.60052634915439,136.25059777223566,659.34992857691873,551.53323763612832,226.03778611705283,325.49545151907546,474.32546492748384,223.4143409649717,250.91112396251214,515.69097659390206,230.41019470385467,285.28078189004742,466.32828685281311,140.51950506760372,325.80878178520936,538.59555082584495,318.55192090538492,220.04362992046003,464.23645208588277,137.89605991552256,326.34039217036019,462.17952713106888,98.634846260239513,363.54468087082938,405.82649819771717,147.51535880648669,258.31113939123048,790.0580148057993,245.27638389898112,544.78163090681812,442.12663722427595,210.38757883049993,231.73905839377602,610.12744207115111,124.86929778105076,485.2581442901004,814.68656576525814,354.40567131716028,460.28089444809785,848.00035038271301,272.38531713715281,575.6150332455602,619.68596567485213,139.73548697617716,479.95047869867494,781.59007220369597,284.6280611801979,496.96201102349806,547.62134809079669,246.24132924227527,301.38001884852139,577.37262807014326,261.10751843740172,316.26510963274148,410.31992704626475,179.08716425739408,231.23276278887064]
[73,588,147,441,406.93332227495864,203.50834381037706,203.42497846458161,630.04161734401782,315.79955774567117,314.24205959834666,706.79234045880617,355.67895655992771,351.1133838988784,720.74912586018695,392.34007476874569,328.4090510914412,788.71487277946994,480.16559127054973,308.54928150892016,595.19966770930262,255.49726141901749,339.70240629028513,718.96274743622325,442.98530845369527,275.97743898252799,811.35787473796313,285.94980271577998,525.40807202218309,1067.6950438315985,649.1353341582344,418.55970967336413,930.13998800410445,407.78087796301509,522.35911004108937,1136.0474504448066,400.09057331657715,735.95687712822951,1175.2992252848262,612.89840798755358,562.40081729727251,849.41412439834517,302.8217087073175,546.59241569102767,869.0988597840601,300.17934478330636,568.91951500075379,550.0609737108698,341.05394554491784,209.00702816595194,744.16725755027426,127.48567124506449,616.68158630520975,515.92864692796718,211.49689881032486,304.43174811764231,443.71619541087938,209.04221845180811,234.67397695907127,482.40751279793039,215.58803274118608,266.81948005674434,436.20476398891822,131.47996206603182,304.7248019228864,503.86365296049229,298.05964984399594,205.80400311649635,434.24729204948585,129.02528170751501,305.22201034197082,432.30842796080077,92.289720480057497,340.01870748074327,379.62089344884703,138.02577635540979,241.59511709343724,739.02520550896099,229.49788810611437,509.52731740284662,413.59604914586896,196.85346080951808,216.74258833635085,570.69228292488708,116.83652406522496,453.85575885966216,762.10180343688648,331.60694807705806,430.49485535982836,793.22832418718986,254.86291847745417,538.36540570973568,579.63794629610072,130.74637943015321,448.89156686594754,731.12032976051046,266.31809348386554,464.80223627664492,512.27765027897419,230.40075904258026,281.87689123639393,540.10934137826257,244.31061440750855,295.79872697075399]
[74,447,223.5,223.5,546.65827677880316,136.20652208657336,410.45175469222977,377.89938897289528,188.56573963272166,189.33364934017365,585.08635617072377,292.61196895929152,292.47438721143226,656.35484234568844,329.56322212523236,326.79162022045608,669.19252257506378,363.53249700297272,305.66002557209112,732.08537333827007,444.90942321499784,287.17595012327217,552.90845550250685,236.73736993556741,316.17108556693944,667.31947547760456,410.45910340085538,256.86037207674917,753.96677879533115,264.95393278406925,489.0128460112619,991.03847157936207,601.4725593823041,389.56591219705797,864.01464575530997,377.83955891667813,486.17508683863184,1055.6907667308799,370.71391504132083,684.97685168955911,1091.3394193495617,567.89633023389354,523.44308911566816,789.31676051668546,280.58701874378994,508.72974177289558,807.64890448116398,278.13867044326895,529.51023403789497,510.54108107359127,316.01205283385599,194.52902823973528,692.0888409837836,118.12503330722794,573.96380767655569,479.31137473029486,195.96773482347129,283.34363990682357,412.11130670567388,193.69328941892852,218.41801728674534,448.09526577063241,199.7584771643759,248.3367886062565,405.44243700398465,121.82604324550195,283.61639375848267,467.72249215562061,276.17461414688808,191.54787800873254,403.6307581936843,119.55159784095913,284.07916035272518,401.97882237289565,85.513345924698186,316.46547644819748,352.75095828363874,127.89123099094937,224.8597272926894,686.87915870082838,212.64700112345176,474.23215757737665,384.12823463016082,182.39949154809543,201.72874308206536,530.67478999534558,108.25779997012602,422.4169900252196,707.93300693962851,307.2587013423061,400.67430559732247,737.22222368049631,236.14960363706058,501.07262004343573,538.94299351349332,121.1463239292018,417.79666958429152,679.36888279164168,246.76368219159343,432.60520060004825,475.83474567133356,213.48357874351342,262.35116692782015]
[75,453,151,302,411.88540657579284,204.89235285625824,206.9930537195346,505.00374448756992,124.86655384646944,380.13719064110046,348.21668147747209,172.866568507512,175.35011296996012,539.12358540320179,268.25035702000741,270.87322838319443,604.78111586360239,302.1252080363692,302.65590782723319,616.35136798124347,333.2663474302002,283.08502055104327,673.83429709738948,407.86818134425806,265.96611575313136,509.84740597056771,217.0276363986614,292.81976957190631,614.17558945312589,376.28604674304904,237.88954271007688,695.79103798925485,242.89500978365479,452.89602820560009,912.19045038488116,551.39654528105507,360.79390510382603,796.65012123354506,346.38226500496199,450.26785622858307,974.236673591883,339.84987154081102,634.38680205107198,1005.3990995279448,520.61572832240302,484.78337120554187,728.38325377566036,257.22655235498058,471.15670142067978,745.38446052206768,254.98204298627647,490.40241753579119,469.86402965772413,289.70225072064858,180.16177893707555,639.86325405370803,108.29045192636154,531.57280212734645,442.06915234100188,179.65230546707977,262.41684687392211,379.85362947231306,177.5672205884226,202.28640888389043,413.12292892037436,183.12744693150833,229.99548198886603,374.35278777955011,111.68333172142803,262.66945605812208,430.58231183109444,253.1815055558173,177.40080627527712,372.69629113579958,109.59824684277083,263.09804429302875,371.48629089012252,78.393873141487859,293.09241774863466,325.49591426520976,117.24355806451376,208.252356200696,634.14991882307004,194.94292791056566,439.20699091250435,354.04344311693342,167.21369567371127,186.82974744322212,490.4634365067368,99.24472192805942,391.21871457867735,652.75953609005478,281.67766556413176,371.08187052592297,680.55391352710944,216.48880499002303,464.06510853708647,497.99983812458379,111.06020290711669,386.93963521746713,626.87365982490087,226.21920109042298,400.65445873447794]
[76,382.5,229.5,153,415.12514314580085,136.82362782242299,278.30151532337788,376.40632640162357,185.6563909328824,190.74993546874117,463.45081446392646,113.14367477455545,350.30713968937101,318.22736495525771,156.63729160537224,161.59007334988544,492.68345676772708,243.06613915322899,249.61731761449806,552.66666162308661,273.76070874265099,278.90595288043568,562.84904489324822,301.97821646707297,260.87082842617519,614.67146201483433,369.57618705202179,245.09527496281254,466.49404863604315,196.65237450192438,269.84167413411876,560.18100743206423,340.95908618769403,219.22192124437024,637.44769460491034,220.09123456001703,417.35646004489337,832.11139701338925,499.62964035831044,332.48175665507875,728.79729441217592,313.8627689491841,414.93452546299176,892.54898341179285,307.94365787548463,584.60532553630821,918.48017255313312,471.73862682439835,446.74154572873482,667.26147050021586,233.07728520174078,434.18418529847509,682.96315304758025,231.04349768844602,451.91965535913425,428.52821836219908,262.50405915178999,166.0241592104091,587.98311695007806,98.123791331751505,489.85932561832658,404.61048507526914,162.78596146137727,241.82452361389187,347.30926068945678,160.896631147367,186.4126295420898,377.88216702346529,165.93484531806098,211.94732170540428,343.25544661253161,101.19813651272102,242.05731009981059,392.89184563370316,229.41200058072755,163.47984505297558,341.76107244164814,99.308806198710741,242.45226624293738,341.12692792641019,71.034000809729633,270.09292711668053,298.14676889638707,106.23635068341504,191.91041821297202,581.38267662804094,176.64105043078587,404.74162619725507,323.68400910025247,151.51512889848854,172.16888020176393,450.44638040714995,89.927303949832208,360.51907645731774,597.19525508102402,255.2328482055344,341.96240687548965,623.81321284083117,196.16413034222526,427.64908249860594,457.20929323373639,100.63350906255704,356.57578417117935]
[77,232.5,77.5,155,345.59969065678831,205.31652345136024,140.28316720542807,377.57594162070944,122.40588928323612,255.17005233747332,340.98837638581745,166.09291826956883,174.89545811624859,422.41201974149021,101.2212024192727,321.19081732221753,288.29095892362091,140.13169566558588,148.15926325803505,446.3231220745671,217.45313577205022,228.86998630251685,500.63752771413772,244.91327658658608,255.72425112755167,509.34551907517755,270.15737500244762,239.1881440727299,555.35603500755394,330.63223475351083,224.72380025404314,423.34356818524554,175.93020418819185,247.41336399705372,506.0316007178161,305.03065017520714,201.00095054260896,579.56643235335753,196.8992031458848,382.66722920747276,751.82837282797391,446.98135412471339,304.84701870326052,661.23619470025596,280.78959721770815,380.44659748254787,811.5091555598259,275.49421025659956,536.01494530322634,831.6392735203367,422.02934569631395,409.6099278240228,606.6131454874527,208.51685356471714,398.09629192273559,621.05502647355729,206.69737564895044,414.35765082460688,387.0675954113176,234.8427922305697,152.22480318074793,536.92793999295361,87.784033569071624,449.14390642388196,367.35735422521986,145.63245173828795,221.72490248693188,314.86086301132019,143.94220889853258,170.91865411278761,342.78051378848068,148.44952313788016,194.33099065060051,312.47276134026083,90.534420777987108,221.93834056227374,355.12976058685177,205.23779693793645,149.89196364891532,311.14464724995037,88.844177938231724,222.30046931171862,311.19255327522438,63.548819577755104,247.64373369746926,271.00122055089014,95.041735017334688,175.95948553355544,529.12846277771223,158.02756589649391,371.10089688121826,293.40807507231125,135.54927893560955,157.8587961367017,411.00522106948125,80.45124797530859,330.55397309417265,541.87745236024602,228.33778241459288,313.5396699456532,567.59777292298452,175.49340857396592,392.10436434901857]
[78,157,78.5,78.5,209.7626722125558,68.37032687364929,141.39234533890652,309.09730106198072,181.12977833459072,127.96752272739,340.75453860229698,107.9862020845752,232.76833651772179,306.06795638165391,146.52680146437081,159.54115491728311,382.29017002843619,89.297118657412838,292.99305137102334,258.77603478559843,123.62386887761097,135.15216590798747,400.61385861849351,191.83667061206597,208.77718800642754,449.33582696001793,216.0619454957596,233.27388146425832,456.5217338076925,238.33223272573412,218.18950108195841,496.67802000978372,291.68301890403461,204.99500110574914,380.89785121497476,155.20523312638119,225.69261808859358,452.45216987413158,269.0973581801378,183.35481169399378,522.77640504823182,173.70403716445443,349.07236788377736,672.41004851544255,394.32595210236184,278.08409641308072,594.7586437629318,247.71195541283913,347.04668835009272,731.99786236910984,243.04037686505259,488.95748550405722,745.96307742062868,372.31334600682999,373.64973141379875,547.09999522223688,183.95310241141388,363.14689281082303,560.32860860193102,182.34796305863509,377.98064554329591,346.03857340599029,207.17778669322007,138.86078671277022,487.15584814684314,77.442878314901023,409.71296983194213,330.73600413021325,128.47662359687359,202.25938053333965,282.89897492768995,126.98549513945527,155.9134797882347,308.23225408045153,130.96183769257073,177.27041638788077,282.32334436477305,79.869263766548187,202.45408059822486,317.79307622401939,181.0603259803145,136.73275024370488,281.16255289573314,78.37813530912986,202.78441758660327,281.96538999935569,56.062626670524899,225.90276332883079,244.35737628235265,83.845606319663659,160.51176996268899,477.93302476250346,139.41156561794119,338.52145914456224,263.58143506306288,119.58127107503343,144.00016398802947,372.50811457941035,70.973911244707935,301.5342033347024,487.45268989020906,201.43908156503127,286.01360832517781]
[79,79.5,0,79.5,139.43632277123214,68.197304238750746,71.239018532481396,187.71113239050277,59.397095321084038,128.31403706941873,273.48844997342468,157.35748534753589,116.13096462588881,305.05166517337381,93.813603530560442,211.23806164281336,272.08010382729356,127.29595998212388,144.78414384516967,343.46955649977087,77.577360111126225,265.89219638864466,230.04996495340106,107.39891206392184,122.65105288947922,356.12516885897224,166.65915655898186,189.46601229999038,399.40184198938675,187.70499657822543,211.69684541116135,405.06014899704644,207.05243038340939,198.00771861363702,439.43488234795211,253.40121759841696,186.03366474953515,339.65221790603334,134.83539494224271,204.8168229637906,400.17492017761782,233.77980134592281,166.39511883169502,467.69070006182346,150.90633210195622,316.78436795986721,594.93509583082323,342.57282706700414,252.36226876381912,530.14717260985731,215.2011157562452,314.94605685361211,654.8732470673333,211.14265634861948,443.73059071871381,662.53766459387725,323.44925515637016,339.0884094375071,489.36731105447797,159.81026357723903,329.55704747723894,501.43451881279429,158.41578998759513,343.01872882519916,306.00347399610848,179.98683503985393,126.01663895625457,439.09484566142123,67.278923994469523,371.81592166695174,295.1658489832642,111.61476926119046,183.55107972207375,251.81135951632547,110.31934326030363,141.49201625602186,274.64732187392451,113.77381259600178,160.87350927792272,253.11463032007313,69.386859623086849,183.72777069698628,281.38258681599154,157.29714823499228,124.08543858099928,252.11898626615513,68.091433622200014,184.02755264395512,253.71224395916721,48.704713470997305,205.00753048816989,218.50630927793651,72.841328958785027,145.66498031915148,428.32394212088423,121.1145599343605,307.20938218652373,234.56752453228245,103.88688311796916,130.6806414143133,335.30229449308683,61.658973479865473,273.64332101322134]
[80,241.5,80.5,161,71.769992401619646,0,71.769992401619646,122.56730917488667,58.255059882118978,64.312249292767689,166.57550634024642,50.737802371776915,115.83770396846951,239.25611855208078,134.41689278110215,104.83922577097863,270.83564273210311,80.136849285089539,190.69879344701354,239.44430727565174,108.73793112920102,130.70637614645074,306.3063841466269,66.267630505583028,240.03875364104385,202.46695121855339,91.741603621967528,110.72534759658585,313.4062075898679,142.36250616678007,171.04370142308787,351.45311581303849,160.3401474280586,191.11296838497989,355.62186083979964,176.86698712454464,178.754873715255,384.40383882466119,216.45874818919461,167.94509063546661,300.08012825282304,115.17821846873339,184.90190978408967,349.91392450441469,199.6978689796681,150.21605552474657,414.88876727820787,128.90623040485494,285.9825368733529,520.45472211043011,292.63034334772823,227.82437876270183,468.15067431200441,183.82770440881183,284.32296990319259,580.94633642481745,180.36091347829813,400.58542294651937,582.41262345732321,276.29472951006318,306.11789394726009,434.02538212512252,136.51208912711436,297.51329299800813,444.98696829789696,135.32091092182429,309.66605737607267,267.51087773401184,153.74718942749564,113.7636883065162,393.13378557949397,57.470567053225629,335.66321852626834,261.04674017514952,95.342845873736707,165.70389430141282,221.97062679940564,94.236275458719675,127.73435134068595,242.4184574270468,97.187129898765008,145.23132752828178,225.13459930232028,59.27119418421681,165.86340511810346,246.38561595437062,134.36535200330195,112.02026395106869,224.29866219618492,58.164623769199792,166.13403842698514,226.6782994263589,41.604225144462525,185.07407428189637,193.72361504800529,62.222048624262158,131.50156642374313,380.79624936037811,103.45769558386145,277.33855377651668,206.71577773061853,88.741580984152534,117.97419674646601]
[81,0,0,0,212.07556421309619,67.497635847846695,144.57792836524951,64.449421243576808,0,64.449421243576808,106.59807085523835,48.845699605189679,57.752371250048661,146.56483653893656,42.542629915654786,104.02220662328176,206.85144742149402,112.70586932593646,94.145578095557553,238.440572921735,67.193141255139722,171.24743166659528,208.54884250805588,91.174574884559533,117.37426762349635,271.1187733759603,55.564079408267084,215.55469396769323,176.35480794896057,76.923495072957238,99.431312876003346,272.96527460210325,119.36810682772857,153.59716777437467,306.06135912181441,134.44199854520684,171.61936057660756,308.82121930322961,148.29942224146961,160.52179706176,332.31093668260763,181.4963200168323,150.81461666577533,262.6164593973574,96.57462668082357,166.0418327165338,302.33660990638771,167.44265888174704,134.89395102464067,364.89748028918621,108.08528942093815,256.81219086824808,449.95086595802479,245.36467519646345,204.58619076156134,409.45774457839707,154.13584411095133,255.32190046744577,510.95454100131286,151.22900943034972,359.72553157096314,506.56132311010629,231.66759054844158,274.89373256166471,381.6294541878076,114.46264945007152,267.16680473773607,391.54385215197181,113.46387040994031,278.07998174203152,231.07367694260921,128.91393546095657,102.15974148165263,349.61333898630852,48.187918098482967,301.42542088782557,228.74508784545492,79.943064490470221,148.8020233549847,193.72061805624452,79.015227385963129,114.70539067028139,211.90712716635056,81.489459664648621,130.41766750170194,198.64297183980167,49.697707842400924,148.94526399740076,213.25680060339857,112.66265341722499,100.5941471861736,197.95816332625577,48.769870737893854,149.18829258836192,201.08074491216399,34.884308553201969,166.19643635896202,170.26028825978227,52.171940121086422,118.08834813869585,335.79710115016667,86.747203256855357,249.04989789331134]
[82,0,0,0,0,0,0,184.58328680794853,55.446276819989421,129.13700998795912,57.566225003749722,0,57.566225003749722,91.708968522026794,40.124548775018994,51.584419747007807,127.85949817046841,34.94686006886284,92.912638101605566,176.67364371654918,92.582810514581709,84.090833201967484,208.15435932884742,55.196148185625418,152.958211143222,179.7345183997478,74.895819008976702,104.8386993907711,238.17685526009566,45.643396089656306,192.53345917043936,152.00124856625627,63.189196898551003,88.812051667705276,235.24853435075948,98.055539449822859,137.19299490093661,263.72848264886812,110.43806459197579,153.29041805689232,265.19938987088983,121.82131588105599,143.37807398983387,283.79869683996202,149.09107667337227,134.70762016658975,227.64028907007406,79.331719066467215,148.30857000360683,258.03390627495855,137.54662514048019,120.48728113447837,318.17186826269506,88.787211613030109,229.38465664966492,384.29245417486322,201.55606239983467,182.73639177502858,354.66920357678958,126.61567435818846,228.05352921860111,445.53469587902646,124.22784020153888,321.30685567748759,435.83961267576683,190.30452243874615,245.53509023702068,332.6593245681272,94.025926497106241,238.63339807102096,341.58652246779508,93.205474366516754,248.38104810127834,197.14609319062237,105.89700900984191,91.249084180780443,308.81740585768347,39.584210805402634,269.23319505228085,198.57960933966987,65.669637579140272,132.9099717605296,167.36231947841947,64.907461062968295,102.45485841545116,183.42899632918432,66.93993177276019,116.48906455642413,173.86234958852359,40.824435281856296,133.03791430666729,182.39800589493024,92.547310586216142,89.850695308714108,173.31724621714747,40.062258765684327,133.25498745146314,177.10255495363731,28.655892971938307,148.44666198169901,148.33342212018971,42.856905991648219,105.47651612854149]
[83,0,{"$f":"($A312+0.5)*B233","v":0},0,0,0,0,0,0,0,159.24629249537224,44.525082498115225,114.72120999725703,51.140002296942541,0,51.140002296942541,78.047215843972225,32.221258971229695,45.825956872742523,110.60404493987423,28.063414116477439,82.540630823396796,149.05049264633567,74.346872549302887,74.703620097032797,180.20742844952585,44.324221435498607,135.88320701402725,153.27903313218346,60.143668996298729,93.135364135884728,207.69366269792201,36.653064785288223,171.04059791263379,129.6406881565353,50.742887823322882,78.89780033321243,200.6195344912723,78.741643872227598,121.87789061904469,224.86352523776995,88.685196173841831,136.17832906392812,225.19881857979999,97.82630053308614,127.37251804671384,239.39472827282617,119.72476547282784,119.66996279999833,195.45844832203113,63.70583452554402,131.75261379648711,217.49127846490143,110.45421231077675,107.03706615412467,275.07691773161895,71.298888736611374,203.77802899500759,324.19297364316344,161.85577862123461,162.33719502192881,304.27181705460202,101.67631930734767,202.59549774725434,385.1975995764036,99.758814311262697,285.43878526514089,370.94600276957567,152.82044254944097,218.12556022013467,287.50005604813418,75.505739507761831,211.99431654037235,295.50070957945178,74.846890962910919,220.65381861654086,166.10136995341321,85.038587492081902,81.062782461331309,270.96555316412349,31.787350798240176,239.17820236588329,170.80774789926761,52.734758734574072,118.07298916469354,143.1403429953258,52.122707318193854,91.017635677131935,157.24002221458096,53.754844428541034,103.48517778603994,150.96993882634899,32.783289575329952,118.18664925101903,154.13886329409524,74.318365004165358,79.820498289929887,150.55072828363626,32.171238158949748,118.37949012468653,154.88686244966516,23.011572134501296,131.87529031516385]
[84,169,169,0,0,0,0,0,0,0,0,0,0,136.22378661172877,34.86719058899893,101.35659602272983,45.182373455933863,0,45.182373455933863,65.719572808987095,25.23217733768184,40.487395471305248,94.9011466836034,21.97620652625724,72.924940157346157,124.22127883083411,58.220365453164263,66.000913377669846,154.7631935644792,34.709898102175146,120.05329546230404,129.38338945677862,47.097964831494302,82.285424625284321,179.8176595530056,28.702684505832586,151.114975047173,109.44278436446311,39.736297868665055,69.70648649579806,169.34141998671834,61.661871245275243,107.67954874144309,189.76261422475625,69.448577384376463,120.31403684037979,189.14096534284607,76.606893776068546,112.53407156677754,199.48422087625642,93.755384195885398,105.72883668037102,166.29136623551915,49.887464534791107,116.40390170072803,181.06332529075615,86.495697614050002,94.567627676706138,235.87212836458906,55.83351681534765,180.03861154924141,270.17328838285357,126.74780066620417,143.4254877166494,258.61564975640414,79.621808759754046,178.99384099665008,330.30640730616312,78.120227888866665,252.18617941729647,312.38701675321647,119.67231046662462,192.71470628659188,246.42559446202594,59.127863717981448,187.29773074404449,253.56035691300909,58.611925363828497,194.94843154918058,138.21220689641081,66.592951009831211,71.619255886579609,236.20717806994773,24.892387760281498,211.31479030966622,145.61401882519056,41.296114017107186,104.31790480808336,121.23122609128265,40.816822072255668,80.414404019026975,133.52445562785647,42.09493392519299,91.429521702663465,130.09062233308879,25.672298435511209,104.41832389757759,128.71973486560341,58.198041451640464,70.521693413962936,129.78170598425353,25.193006490659705,104.58869949359384]
[85,0,0,0,128.69490011660255,128.69490011660255,0,0,0,0,0,0,0,0,0,0,115.60413814440128,26.551654498211608,89.052483646189671,39.697491146785033,0,39.697491146785033,54.786968782106641,19.214512084008089,35.572456698098549,80.807331896970268,16.735063336322515,64.072268560647757,102.32406975244233,44.335290631639481,57.988779120802846,131.91138543089554,26.431874966372089,105.47951046452344,108.16193404111965,35.865490412333841,72.296443628785809,154.62781144266822,21.857332044712898,132.77047939795531,91.50403683868538,30.259520030836782,61.244516807848591,141.56389179032925,46.956025804221916,94.607865986107328,158.59426636697165,52.88566703977795,105.7085993271937,157.20986171891641,58.3367842766528,98.873077442263607,164.28946103939438,71.39550180167555,92.893959237718818,140.26284982732653,37.989717546600552,102.27313228072597,148.95484764203206,65.867190325183572,83.087657316848492,200.70063709790824,42.517685619584704,158.18295147832353,222.53395222666239,96.519500276545529,126.01445195011688,217.89767712338147,60.632667014436549,157.26501010894492,281.06141705069626,59.489200741088318,221.57221630960797,260.45169652049969,91.131455871155651,169.32024064934407,209.58721310492899,45.026358078661012,164.56085502626797,215.91627115914181,44.633466747572022,171.2828044115698,113.63617080711904,50.711083897514996,62.925086909604047,204.61814011717391,18.955759505758387,185.66238061141553,123.1016393939,31.447332950505562,91.654306443394432,101.73490241105293,31.082348163704626,70.652554247348306,112.3861404292942,32.055640928507074,80.330499500787127,111.2922031747373,19.549667946282408,91.742535228454884,106.27905297757087,44.318290719531156,61.960762258039708]
[86,0,0,0,0,0,0,94.995610042602024,94.995610042602024,0,0,0,0,0,0,0,0,0,0,97.401853278989933,19.598994322329144,77.802858956660785,34.68267451021012,0,34.68267451021012,45.261851159403719,14.183112892876949,31.07873826652677,68.331207111466369,12.352918020023779,55.978289091442583,83.389213246390426,32.72591203033474,50.663301216055679,111.66530831092555,19.510579554631256,92.15472875629429,89.637502718662176,26.473963910845072,63.163538807817105,132.13204423436667,16.13389955320655,115.99814468116011,75.843695273298309,22.335939981469725,53.507755291828587,117.31685017016301,34.660396895344981,82.656453274818034,131.39221492057911,39.0373371314775,92.354877789101607,129.44391540625165,43.061056850452324,86.382858555799316,133.85935250143984,52.700295363708058,81.159057137731793,117.39535221986414,28.041953413971324,89.353398805892809,121.21113901643024,48.619595034953349,72.591543981476889,169.58462072087406,31.384254382827379,138.20036633804668,181.34104896515561,71.245471277184507,110.0955776879711,182.15413786029319,44.755753229752841,137.39838463054036,237.49364099419176,43.911708313431845,193.58193268075993,215.19903724722425,67.268308508785054,147.9307287384392,177.00859684670135,33.236020617783915,143.77257622891744,182.59137959872228,32.946009501232815,149.64537009748946,92.408203608872668,37.432177548615535,54.976026060257141,176.20055082417682,13.992115743816216,162.2084350803606,103.28872364478498,23.21271919197601,80.076004452808974,84.670622215066615,22.94330717606077,61.727315039005845,93.844425502796483,23.661739218501371,70.182686284295116,94.583594478655627,14.430506811107248,80.153087667548377]
[87,0,0,0,{"$f":"F316+G316","v":0},{"$f":"($A316+0.5)*H237","v":0},{"$f":"($A316+0.5)*I237","v":0},{"$f":"I316+J316","v":0},{"$f":"($A316+0.5)*N237","v":0},{"$f":"($A316+0.5)*O237","v":0},{"$f":"L316+M316","v":67.718122119161009},{"$f":"($A316+0.5)*T237","v":67.718122119161009},{"$f":"($A316+0.5)*U237","v":0},{"$f":"O316+P316","v":0},{"$f":"($A316+0.5)*Z237","v":0},{"$f":"($A316+0.5)*AA237","v":0},{"$f":"R316+S316","v":0},{"$f":"($A316+0.5)*AF237","v":0},{"$f":"($A316+0.5)*AG237","v":0},{"$f":"U316+V316","v":0},{"$f":"($A316+0.5)*AL237","v":0},{"$f":"($A316+0.5)*AM237","v":0},{"$f":"X316+Y316","v":81.559263146617837},{"$f":"($A316+0.5)*AR237","v":13.971246569573317},{"$f":"($A316+0.5)*AS237","v":67.588016577044513},{"$f":"AA316+AB316","v":30.129139355124391},{"$f":"($A316+0.5)*AX237","v":0},{"$f":"($A316+0.5)*AY237","v":30.129139355124391},{"$f":"AD316+AE316","v":37.108875666976942},{"$f":"($A316+0.5)*BD237","v":10.11050690109743},{"$f":"($A316+0.5)*BE237","v":26.998368765879508},{"$f":"AG316+AH316","v":57.434666774760522},{"$f":"($A316+0.5)*BJ237","v":8.8058428240295328},{"$f":"($A316+0.5)*BK237","v":48.62882395073099},{"$f":"AJ316+AK316","v":67.34048716555759},{"$f":"($A316+0.5)*BP237","v":23.328839157275503},{"$f":"($A316+0.5)*BQ237","v":44.01164800828208},{"$f":"AM316+AN316","v":93.963829652550189},{"$f":"($A316+0.5)*BV237","v":13.908219635661132},{"$f":"($A316+0.5)*BW237","v":80.055610016889062},{"$f":"AP316+AQ316","v":73.742817467418774},{"$f":"($A316+0.5)*CB237","v":18.872104935047819},{"$f":"($A316+0.5)*CC237","v":54.870712532370959},{"$f":"AS316+AT316","v":112.26972714890516},{"$f":"($A316+0.5)*CH237","v":11.501135470495392},{"$f":"($A316+0.5)*CI237","v":100.76859167840978},{"$f":"AV316+AW316","v":62.404942600237234},{"$f":"($A316+0.5)*CN237","v":15.922292731559867},{"$f":"($A316+0.5)*CO237","v":46.48264986867737},{"$f":"AY316+AZ316","v":96.512222851053963},{"$f":"($A316+0.5)*CT237","v":24.707846905819711},{"$f":"($A316+0.5)*CU237","v":71.804375945234256},{"$f":"BB316+BC316","v":108.0574530728602},{"$f":"($A316+0.5)*CZ237","v":27.827971859865141},{"$f":"($A316+0.5)*DA237","v":80.229481212995054},{"$f":"BE316+BF316","v":105.73783815008245},{"$f":"($A316+0.5)*DF237","v":30.696301703534939},{"$f":"($A316+0.5)*DG237","v":75.041536446547511},{"$f":"BH316+BI316","v":108.07125873346581},{"$f":"($A316+0.5)*DL237","v":37.567683765123228},{"$f":"($A316+0.5)*DM237","v":70.503574968342591},{"$f":"BK316+BL316","v":97.611924987304064},{"$f":"($A316+0.5)*DR237","v":19.989854530072765},{"$f":"($A316+0.5)*DS237","v":77.622070457231302},{"$f":"BN316+BO316","v":97.719637172741528},{"$f":"($A316+0.5)*DX237","v":34.658734992960127},{"$f":"($A316+0.5)*DY237","v":63.060902179781408},{"$f":"BQ316+BR316","v":142.42828510324432},{"$f":"($A316+0.5)*ED237","v":22.372431420378348},{"$f":"($A316+0.5)*EE237","v":120.05585368286596},{"$f":"BT316+BU316","v":146.42869099235014},{"$f":"($A316+0.5)*EJ237","v":50.787710318633664},{"$f":"($A316+0.5)*EK237","v":95.64098067371647},{"$f":"BW316+BX316","v":151.26354020049567},{"$f":"($A316+0.5)*EP237","v":31.904374964150936},{"$f":"($A316+0.5)*EQ237","v":119.35916523634474},{"$f":"BZ316+CA316","v":199.46899250974724},{"$f":"($A316+0.5)*EV237","v":31.302693089674321},{"$f":"($A316+0.5)*EW237","v":168.1662994200729},{"$f":"CC316+CD316","v":176.46127251151978},{"$f":"($A316+0.5)*FB237","v":47.952568842964709},{"$f":"($A316+0.5)*FC237","v":128.50870366855506},{"$f":"CF316+CG316","v":148.58895337195921},{"$f":"($A316+0.5)*FH237","v":23.692472756801045},{"$f":"($A316+0.5)*FI237","v":124.89648061515817},{"$f":"CI316+CJ316","v":153.48396425029915},{"$f":"($A316+0.5)*FN237","v":23.485736801342529},{"$f":"($A316+0.5)*FO237","v":129.99822744895661},{"$f":"CL316+CM316","v":74.44187476315166},{"$f":"($A316+0.5)*FT237","v":26.683725377272516},{"$f":"($A316+0.5)*FU237","v":47.758149385879143},{"$f":"CO316+CP316","v":150.88622424624322},{"$f":"($A316+0.5)*FZ237","v":9.9743535750784087},{"$f":"($A316+0.5)*GA237","v":140.91187067116482},{"$f":"CR316+CS316","v":86.110027152908827},{"$f":"($A316+0.5)*GF237","v":16.547309420457164},{"$f":"($A316+0.5)*GG237","v":69.562717732451659},{"$f":"CU316+CV316","v":69.978310163579607},{"$f":"($A316+0.5)*GL237","v":16.355257642633585},{"$f":"($A316+0.5)*GM237","v":53.623052520946018},{"$f":"CX316+CY316","v":77.835702378244008},{"$f":"($A316+0.5)*GR237","v":16.867395716829776},{"$f":"($A316+0.5)*GS237","v":60.968306661414225}]
[88,{"$f":"C317+D317","v":0},0,0,0,0,0,0,0,0,0,0,0,46.419124688582244,46.419124688582244,0,0,0,0,0,0,0,0,0,0,67.953299175434452,9.5769495117828551,58.376349663651595,26.022796098102898,0,26.022796098102898,30.249229111580227,6.9305064260489493,23.318722685531277,48.037323319283132,6.0361909522152057,42.001132367067925,54.00458940039659,15.991351499321054,38.013237901075534,78.678463142687221,9.5337460824429137,69.144717060244304,60.328673727168535,12.936368651429559,47.392305075738975,94.918445457214901,7.8837484672975169,87.034696989917379,51.061807577408786,10.91434417413141,40.147463403277378,78.954683167078599,16.936627750684824,62.018055416393779,88.370288577395357,19.075397473668783,69.29489110372657,85.855586484903313,21.041567776309474,64.814018708593835,86.646275408775935,25.751732953933359,60.894542454842579,80.74540686520055,13.702558796672738,67.042848068527817,78.223961491086484,23.757719364334275,54.466242126752213,119.02902789378926,15.335757271323525,103.69327062246573,117.41967480912689,34.813739426793482,82.605935382333399,124.96120743140946,21.869672596150732,103.09153483525873,166.70390959409426,21.457234314045927,145.24667528004832,143.86438860338521,32.870318942727664,110.99406966065754,124.11477510728506,16.240613482215853,107.87416162506921,128.37948514238238,16.098901015984797,112.28058412639759,59.540167633907721,18.29104435684026,41.249123277067461,128.54396802534583,6.8371766345623977,121.70679139078344,71.424693893496766,11.342777903633182,60.081915989863582,57.525821505694694,11.211131083808947,46.31469042188575]
[89,0,0,0,0,0,0,0,0,0,0,0,0,0,0,0,30.443186200479978,30.443186200479978,0,0,0,0,0,0,0,0,0,0,56.407106917515989,6.2808779608788017,50.126228956637185,22.345087399625449,0,22.345087399625449,24.568424696969892,4.5452536860034289,20.023171010966461,40.023994784691283,3.9587322323020864,36.065262552389193,43.128616357204457,10.487653409175572,32.640962948028886,65.625285236878454,6.2525437332793175,59.372741503599144,49.178615447771669,8.4840953433659099,40.694520104405761,79.904815673299026,5.1704211175425616,74.734394555756467,41.631551288816688,7.1579852954645338,34.473565993352153,64.360862074541586,11.107596614141634,53.253265460399945,72.011964014273076,12.510272027639147,59.501691986633936,69.453836334414973,13.799751073758848,55.654085260656124,69.177366628685931,16.888832061377972,52.288534567307956,66.554510138284797,8.9865879994229978,57.567922138861803,62.349815406298681,15.581092473401988,46.768722932896694,99.096364745672417,10.057693187202711,89.038671558469701,93.763527454640382,22.831993468535934,70.931533986104455,102.86482634434155,14.342849406462724,88.521976937878833,138.7918409953304,14.072358838134301,124.7194821571961,116.86510928135021,21.557434500456228,95.30767478089399,103.27981979158548,10.651127602385289,92.628692189200194,106.97055867231069,10.558187913725833,96.412370758584856,47.415399715828393,11.99586749841262,35.419532217415771,108.99045080855333,4.4840449441467358,104.5064058644066,59.029719897581728,7.438966203426304,51.590753694155424]
[90,0,0,0,0,0,0,0,0,0,0,0,0,0,0,0,0,0,0,18.988575714216935,18.988575714216935,0,0,0,0,0,0,0,0,0,0,46.705533786098613,3.9176230085280368,42.787910777570573,19.073838704269686,0,19.073838704269686,19.926891369928917,2.8350479870480489,17.091843382880867,33.254636683410851,2.4692121984325679,30.785424484978286,34.403980509729159,6.5415492160756772,27.862431293653479,54.58071359367451,3.8999498706858424,50.680763722988665,40.028827344080128,5.2918536756707457,34.736973668409384,67.018509080315781,3.2249887452087767,63.793520335106997,33.891455454382367,4.4647082880581266,29.42674716632424,52.385390652036577,6.9282314249775432,45.45715922705903,58.593969821137044,7.8031335497508065,50.79083627138624,56.113937540375915,8.6074307851943868,47.506506755181526,55.167870175451412,10.534208351592115,44.633661823859299,54.745441589768888,5.6052775000543953,49.140164089714489,49.640454122291757,9.7185213201088825,39.921932802182873,82.277063975364356,6.2733666357351066,76.003697339629255,74.78857095427928,14.241184671956761,60.54738628232252,84.508827062269503,8.946181917973318,75.562645144296184,115.23841903599053,8.7774666395244143,106.46095239646611,94.801132376152054,13.446193657933593,81.354938718218463,85.711664835734211,6.6435143019455101,79.068150533788696,88.88345504455944,6.5855442753082203,82.297910769251217,37.716506823490157,7.4822798359959704,30.234226987494186,92.003875013763249,2.7968697615014912,89.207005252261752]
[91,0,0,0,0,0,0,0,0,0,0,0,0,0,0,0,0,0,0,0,0,0,11.184027015224329,11.184027015224329,0,0,0,0,0,0,0,0,0,0,38.612848233783353,2.307429594629228,36.305418639154126,16.184097017824296,0,16.184097017824296,16.172186537996101,1.6698068224707978,14.502379715525302,27.575677952123371,1.4543342454544983,26.121343706668874,27.494080833929264,3.8528884027480608,23.641192431181203,45.299501896875292,2.2970203436118961,43.002481553263394,32.591055562088123,3.1168337931214061,29.474221768966714,56.028094559925151,1.899476916702322,54.128617643222832,27.598165720323291,2.6296557920008929,24.968509928322398,42.650907487859101,4.0806392533517304,38.570268234507367,47.691823151264302,4.5959453587915018,43.095877792472798,45.378799781550441,5.0696660919761607,40.309133689574281,44.076046379425982,6.2045133116539546,37.871533067772027,44.996723613623196,3.3014363969121256,41.695287216711073,39.597728744624199,5.7240841350071578,33.873644609617038,68.183849854726205,3.694932310164674,64.488917544561531,59.762156995274658,8.3878747146218657,51.374282280652793,69.383872186300096,5.2691861548527488,64.114686031447349,95.50162546437501,5.1698150245240591,90.331810439850955,76.949065615618963,7.9196352262310246,69.02943038938794,71.002041751298975,3.9129445276592132,67.089097223639769,73.70834037665243,3.8788009271205319,69.829539449531893,30.060620868661189,4.4069666456654586,25.65365422299573]
[92,0,0,0,0,0,0,0,0,0,0,0,0,0,0,0,0,0,0,0,0,0,0,0,0,6.1664089378123368,6.1664089378123368,0,0,0,0,0,0,0,0,0,0,31.890570532716879,1.2722210395527169,30.61834949316416,13.64893608990389,0,13.64893608990389,13.151313982747393,0.92066227133459866,12.230651711412794,22.831420521418455,0.8018596233297185,22.029560898088736,22.062236356418662,2.1243229697816131,19.937913386637049,37.532831534740957,1.2664818099870307,36.26634972475393,26.575719710540437,1.718492966211228,24.857226744329207,46.696922971590226,1.0472928418696668,45.649630129720556,22.507196193321082,1.4498832090704701,21.057312984250611,34.778316645678167,2.2498953489295777,32.52842129674859,38.879129669399177,2.5340137769311872,36.345115892467987,36.790105599157698,2.7952037543123622,33.994901844845337,35.360051105719997,3.4209114738079118,31.939139631912088,36.984196281931737,1.8202751904859864,35.163921091445751,31.723523903607415,3.1560227387549764,28.567501164852438,56.424271427521724,2.0372325273352367,54.387038900186489,47.951474604077255,4.6247264548883873,43.326748149188866,56.976639800207948,2.9052108472244491,54.071428952983496,79.032188691450855,2.8504217247209702,76.181766966729882,62.58286086328588,4.3665586086985018,58.216302254587376,58.737348371160124,2.1574354278361572,56.579912943323968,61.029688141883121,2.138610061691725,58.891078080191399]
[93,0,0,0,0,0,0,0,0,0,0,0,0,0,0,0,0,0,0,0,0,0,0,0,0,0,0,0,3.1486458662019916,3.1486458662019916,0,0,0,0,0,0,0,0,0,0,26.313175237516326,0.64961204446229848,25.663563193054028,11.440209536422193,0,11.440209536422193,10.721539446664478,0.47010172112170118,10.251437725542777,18.874087024805025,0.40943959664911883,18.464647428155907,17.796184849341429,1.0847059941590227,16.711478855182406,31.044262493591908,0.64668152174974025,30.397580971842167,21.712212940822415,0.87748409629119117,20.834728844531224,38.797181519985486,0.53476088117272014,38.262420638812763,18.390061220497426,0.74032858001386526,17.64973264048356,28.413364208800232,1.1488248283947651,27.264539380405466,31.757500143604489,1.293899266833882,30.463600876770606,29.920974210345115,1.42726615035854,28.493708059986574,28.517378052126382,1.7467603720861187,26.770617680040264,30.40300721872272,0.92945537859626282,29.473551840126458,25.556096369291545,1.6115048564303902,23.944591512861155,46.626142775861162,1.0402365202139865,45.585906255647174,38.676880326226808,2.3614434237741873,36.315436902452618,46.804806752341726,1.4834371539107991,45.321369598430927,65.309183599352338,1.4554611396984471,63.853722459653895,51.025122261257756,2.2296196783998754,48.795502582857878,48.52553410094005,1.1016136312010474,47.423920469739002]
[94,0,0,0,0,0,0,0,0,0,0,0,0,0,0,0,0,0,0,0,0,0,0,0,0,0,0,0,0,0,0,1.4688101013864656,1.4688101013864656,0,0,0,0,0,0,0,0,0,0,21.679759233614661,0.30303717008336523,21.376722063531297,9.5292371432992304,0,9.5292371432992304,8.7583352508786341,0.21929749676663751,8.5390377541119964,15.571312312456969,0.19099925524214079,15.380313057214829,14.425997641376307,0.50600391055632687,13.91999373081998,25.621639710689891,0.30167011213354877,25.319969598556341,17.763833196734655,0.40933707987717943,17.354496116857476,32.120526903690298,0.24946031324896853,31.87106659044133,15.046877098392111,0.34535547752187395,14.701521620870237,23.246185888375742,0.5359146707423188,22.710271217633423,25.978551906564316,0.60359036679935962,25.374961539764957,24.399924195226255,0.66580461191792562,23.734119583308331,23.113699487149216,0.81484529802535755,22.298854189123858,24.983871411370433,0.43358113515538577,24.550290276215048,20.696637407497185,0.75175002592891005,19.944887381568275,38.456496672678618,0.48525936978883838,37.971237302889783,31.350895443255865,1.1015884612250815,30.249306982030784,38.442896636970531,0.69200779288158631,37.750888844088948,53.866555097255315,0.67895727719396459,53.187597820061349,41.684796791698659,1.0400940737848254,40.64470271791383]
[]
[]
["Očekávaná podrobná věková struktura"]
["Věk",2017,null,{"$f":"B327+1","v":2018},null,{"$f":"D327+1","v":2019},null,{"$f":"F327+1","v":2020},null,{"$f":"H327+1","v":2021},null,{"$f":"J327+1","v":2022},null,{"$f":"L327+1","v":2023},null,{"$f":"N327+1","v":2024},null,{"$f":"P327+1","v":2025},null,{"$f":"R327+1","v":2026},null,{"$f":"T327+1","v":2027},null,{"$f":"V327+1","v":2028},null,{"$f":"X327+1","v":2029},null,{"$f":"Z327+1","v":2030},null,{"$f":"AB327+1","v":2031},null,{"$f":"AD327+1","v":2032},null,{"$f":"AF327+1","v":2033},null,{"$f":"AH327+1","v":2034},null,{"$f":"AJ327+1","v":2035},null,{"$f":"AL327+1","v":2036},null,{"$f":"AN327+1","v":2037},null,{"$f":"AP327+1","v":2038},null,{"$f":"AR327+1","v":2039},null,{"$f":"AT327+1","v":2040},null,{"$f":"AV327+1","v":2041},null,{"$f":"AX327+1","v":2042},null,{"$f":"AZ327+1","v":2043},null,{"$f":"BB327+1","v":2044},null,{"$f":"BD327+1","v":2045},null,{"$f":"BF327+1","v":2046},null,{"$f":"BH327+1","v":2047},null,{"$f":"BJ327+1","v":2048},null,{"$f":"BL327+1","v":2049},null,{"$f":"BN327+1","v":2050}]
[null,"Počet lékařů 1.1.",null,"Počet lékařů 1.1.",null,"Počet lékařů 1.1.",null,"Počet lékařů 1.1.",null,"Počet lékařů 1.1.",null,"Počet lékařů 1.1.",null,"Počet lékařů 1.1.",null,"Počet lékařů 1.1.",null,"Počet lékařů 1.1.",null,"Počet lékařů 1.1.",null,"Počet lékařů 1.1.",null,"Počet lékařů 1.1.",null,"Počet lékařů 1.1.",null,"Počet lékařů 1.1.",null,"Počet lékařů 1.1.",null,"Počet lékařů 1.1.",null,"Počet lékařů 1.1.",null,"Počet lékařů 1.1.",null,"Počet lékařů 1.1.",null,"Počet lékařů 1.1.",null,"Počet lékařů 1.1.",null,"Počet lékařů 1.1.",null,"Počet lékařů 1.1.",null,"Počet lékařů 1.1.",null,"Počet lékařů 1.1.",null,"Počet lékařů 1.1.",null,"Počet lékařů 1.1.",null,"Počet lékařů 1.1.",null,"Počet lékařů 1.1.",null,"Počet lékařů 1.1.",null,"Počet lékařů 1.1.",null,"Počet lékařů 1.1.",null,"Počet lékařů 1.1.",null,"Počet lékařů 1.1."]
[null,"Muži","Ženy","Muži","Ženy","Muži","Ženy","Muži","Ženy","Muži","Ženy","Muži","Ženy","Muži","Ženy","Muži","Ženy","Muži","Ženy","Muži","Ženy","Muži","Ženy","Muži","Ženy","Muži","Ženy","Muži","Ženy","Muži","Ženy","Muži","Ženy","Muži","Ženy","Muži","Ženy","Muži","Ženy","Muži","Ženy","Muži","Ženy","Muži","Ženy","Muži","Ženy","Muži","Ženy","Muži","Ženy","Muži","Ženy","Muži","Ženy","Muži","Ženy","Muži","Ženy","Muži","Ženy","Muži","Ženy","Muži","Ženy","Muži","Ženy","Muži","Ženy"]
["Celkem",{"$f":"B167","v":637},null,{"$f":"H167","v":641.21097175833609},null,{"$f":"N167","v":644.74676888080944},null,{"$f":"T167","v":647.66423820512387},null,{"$f":"Z167","v":650.01677956787705},null,{"$f":"AF167","v":651.86332590843631},null,{"$f":"AL167","v":653.2580931320399},null,{"$f":"AR167","v":654.25926989605773},null,{"$f":"AX167","v":654.93873832675217},null,{"$f":"BD167","v":655.35224821613929},null,{"$f":"BJ167","v":655.55106706617244},null,{"$f":"BP167","v":655.57930890413547},null,{"$f":"BV167","v":655.50851400788133},null,{"$f":"CB167","v":655.37796826695967},null,{"$f":"CH167","v":655.2545815435758},null,{"$f":"CN167","v":655.01782982074133},null,{"$f":"CT167","v":655.0446498595345},null,{"$f":"CZ167","v":655.24518606767128},null,{"$f":"DF167","v":655.58280719714435},null,{"$f":"DL167","v":656.16652417591547},null,{"$f":"DR167","v":656.89560966041768},null,{"$f":"DX167","v":657.94612421506258},null,{"$f":"ED167","v":659.08902895129518},null,{"$f":"EJ167","v":660.58793141165654},null,{"$f":"EP167","v":662.17129568556049},null,{"$f":"EV167","v":663.87325859243788},null,{"$f":"FB167","v":665.69875393269103},null,{"$f":"FH167","v":667.60339190772731},null,{"$f":"FN167","v":669.52159103689269},null,{"$f":"FT167","v":671.47691906454099},null,{"$f":"FZ167","v":673.24061631683514},null,{"$f":"GF167","v":675.03538032278936},null,{"$f":"GL167","v":676.69783519932082},null,{"$f":"GR167","v":678.14906536196315}]
["Suma",231,{"$f":"C168","v":406},231.17906141640375,{"$f":"I168","v":410.03191034193236},231.05140180263757,{"$f":"O168","v":413.69536707817184},230.63258281842721,{"$f":"U168","v":417.03165538669668},229.94210599009304,{"$f":"AA168","v":420.07467357778404},229.00285914337397,{"$f":"AG168","v":422.86046676506231},227.83779154241904,{"$f":"AM168","v":425.42030158962081},226.48041874219649,{"$f":"AS168","v":427.77885115386124},224.96889421856889,{"$f":"AY168","v":429.96984410818322},223.34186422565264,{"$f":"BE168","v":432.01038399048662},221.63811802546013,{"$f":"BK168","v":433.91294904071225},219.89466813160956,{"$f":"BQ168","v":435.68464077252594},218.17226229090301,{"$f":"BW168","v":437.33625171697827},216.49442585126394,{"$f":"CC168","v":438.88354241569567},214.90198534792646,{"$f":"CI168","v":440.35259619564937},213.4328465712446,{"$f":"CO168","v":441.5849832494967},212.12052219969121,{"$f":"CU168","v":442.92412765984329},210.98669546252984,{"$f":"DA168","v":444.25849060514139},210.05314078220761,{"$f":"DG168","v":445.52966641493674},209.33460830996614,{"$f":"DM168","v":446.83191586594933},208.84442329336997,{"$f":"DS168","v":448.05118636704765},208.58222064334041,{"$f":"DY168","v":449.36390357172212},208.54407966607357,{"$f":"EE168","v":450.54494928522161},208.71301320359973,{"$f":"EK168","v":451.87491820805684},209.07160164375003,{"$f":"EQ168","v":453.09969404181044},209.59774765611215,{"$f":"EW168","v":454.27551093632576},210.26036110584178,{"$f":"FC168","v":455.43839282684922},211.02824711146462,{"$f":"FI168","v":456.57514479626269},211.87352712591166,{"$f":"FO168","v":457.64806391098102},212.7606189043089,{"$f":"FU168","v":458.71630016023209},213.66872153007805,{"$f":"GA168","v":459.57189478675707},214.57070544935087,{"$f":"GG168","v":460.46467487343847},215.45410769888176,{"$f":"GM168","v":461.24372750043904},216.29985988300521,{"$f":"GS168","v":461.84920547895791}]
["23–39",24,60,25.853820598006642,66.106635071090039,28.514950166112953,65.466824644549774,29.964119601328903,67.39407582938388,32.16279069767441,70.365876777251188,31.226578073089698,72.621090047393366,31.982059800664452,70.189573459715632,33.294352159468438,69.101184834123217,31.259800664451824,63.311137440758301,29.82059800664452,63.864218009478662,29.861129568106307,63.6260663507109,27.55481727574751,64.805687203791464,28.075083056478405,63.373222748815166,28.344850498338868,64.134597156398101,28.402657807308969,64.373459715639811,28.402657807308969,64.388388625592412,28.402657807308969,64.388388625592412,28.402657807308969,64.388388625592412,28.402657807308969,64.388388625592412,28.402657807308969,64.388388625592412,28.402657807308969,64.388388625592412,28.402657807308969,64.388388625592412,28.402657807308969,64.388388625592412,28.402657807308969,64.388388625592412,28.402657807308969,64.388388625592412,28.402657807308969,64.388388625592412,28.402657807308969,64.388388625592412,28.402657807308969,64.388388625592412,28.402657807308969,64.388388625592412,28.402657807308969,64.388388625592412,28.402657807308969,64.388388625592412,28.402657807308969,64.388388625592412,28.402657807308969,64.388388625592412,28.402657807308969,64.388388625592412]
["40–64",142,274,131.15406249811565,267.35044277553419,124.74289408003096,265.08570843707497,119.75565702974752,255.52401641379043,109.61499536066907,249.28541730862119,109.33485785039619,244.3659044897116,107.4621912235244,243.86058305661425,104.22975650675387,250.49849532769232,108.92097407599822,252.41054926532897,111.22142240372217,255.42414421268532,112.11073066191227,260.78681721624838,115.22817761164504,263.86217279422755,117.30917846248099,268.56387949020836,116.11061793289713,273.24202639453148,118.74064076038806,275.97839216796461,122.16593173832531,278.06340705639434,124.56472578684783,282.37431043412278,124.99660215123261,280.41630662404475,126.11998677204291,285.28991517237273,128.9113338291892,284.5832147180721,127.1341000300657,284.49766029147031,127.04267996542336,282.00349494013005,129.591182032105,281.71420335854378,129.24915589346901,281.11386216833546,129.69917562639688,284.75915825606711,129.87524834705451,287.95153988633234,131.68413466233676,292.83133445611742,134.18168348473003,292.35268647845112,135.53780130997458,293.83938825796872,137.5214878449801,296.04075214055223,136.64592696030468,297.57657615975324,137.29246619781051,295.45028309036286,138.4049020943159,294.41923861074508,136.48629240297436,289.84194593120714]
["65+",65,72,74.171178320281413,76.574832495308215,77.793557556493667,83.142833996546997,80.912806187350824,94.113563143522583,88.164319931749546,100.42337949191155,88.441423219888165,105.87347222795718,88.393540518230267,111.37014507329081,88.956310075974173,108.17917099204573,84.788119478118816,114.24815740209597,82.299843815285996,112.72202176832261,79.666257795441496,109.50006547375295,77.111673244217073,107.01678077450686,72.7880007719437,105.39914947795479,72.038957420027998,101.50691886476615,67.758686780229482,100.00074431204504,62.864257025610321,99.133187567510049,59.153138605534416,96.161428600128161,57.587435503988168,99.453795355504099,55.530496202855666,95.851362616971585,52.020616673467956,97.860312522284786,53.307665455995348,99.165137449984996,53.136882870608183,102.97202000599962,50.550239826659691,104.44235730108542,51.061199502821808,106.37266741412888,50.969768210044251,103.95214716015089,51.319841501748627,101.93558242440096,50.173568636196094,98.218669745139323,48.443905819425524,99.83406969221916,47.933068008628133,99.420287027419917,46.836473252019815,98.287159394087467,48.620136762464384,97.606930001411286,48.875581444231287,100.62600315748318,48.646547797256765,102.43610026410164,51.410909672721836,107.61887092215851]
["80+",3,2,2.3333953610295266,2.6655150118712934,2.4939565678182642,3.1549974645723089,2.536772913346788,4.2192748720389996,3.6152680495742975,5.015903878928623,3.8385575564861334,6.7753693892861655,4.3685442851091798,7.575564481021706,4.2680385251737691,9.6231754082859382,4.4836469687723177,9.8121326569106735,5.2773808008804899,10.702708588895119,6.1439629115851702,11.718482229989178,7.0384873650361302,12.442276709464108,8.2511172124040844,12.925720315010587,7.9596807934838258,13.541634465922376,8.722522092537039,13.635214728745233,8.4418347499147544,15.198639064822084,10.211381048852068,15.961320145908799,10.302830788872601,17.330645214334279,10.29732780183949,19.911500362595113,11.452319973231219,21.0227536564377,10.651322721316516,21.776603321133535,9.9407219510591016,22.645415256259358,9.5689766650255006,20.831175411466923,8.066418295688786,22.111111785274709,7.3013454864918765,21.048066215381176,6.6849423796740721,19.595703854000455,6.2489953179341962,18.5327742243737,5.45683663586665,17.858631176476372,5.774134197670767,16.576284277886895,5.1288695092508894,16.159280043353025,4.4166221699966428,15.87843559710841,4.1066195183260037,15.053120422056013,4.3935033640435588,16.083180675942327,4.4726826194103646,14.904836356853712]
[23,0,0,0,0,0,0,0,0,0,0,0,0,0,0,0,0,0,0,0,0,0,0,0,0,0,0,0,0,0,0,0,0,0,0,0,0,0,0,0,0,0,0,0,0,0,0,0,0,0,0,0,0,0,0,0,0,0,0,0,0,0,0,0,0,0,0,0,0]
[24,0,0,0,0,0,0,0,0,0,0,0,0,0,0,0,0,0,0,0,0,0,0,0,0,0,0,0,0,0,0,0,0,0,0,0,0,0,0,0,0,0,0,0,0,0,0,0,0,0,0,0,0,0,0,0,0,0,0,0,0,0,0,0,0,0,0,0,0]
[25,0,0,0,1.4928909952606635E-2,0,1.4928909952606635E-2,0,1.4928909952606635E-2,0,1.4928909952606635E-2,0,1.4928909952606635E-2,0,1.4928909952606635E-2,0,1.4928909952606635E-2,0,1.4928909952606635E-2,0,1.4928909952606635E-2,0,1.4928909952606635E-2,0,1.4928909952606635E-2,0,1.4928909952606635E-2,0,1.4928909952606635E-2,0,1.4928909952606635E-2,0,1.4928909952606635E-2,0,1.4928909952606635E-2,0,1.4928909952606635E-2,0,1.4928909952606635E-2,0,1.4928909952606635E-2,0,1.4928909952606635E-2,0,1.4928909952606635E-2,0,1.4928909952606635E-2,0,1.4928909952606635E-2,0,1.4928909952606635E-2,0,1.4928909952606635E-2,0,1.4928909952606635E-2,0,1.4928909952606635E-2,0,1.4928909952606635E-2,0,1.4928909952606635E-2,0,1.4928909952606635E-2,0,1.4928909952606635E-2,0,1.4928909952606635E-2,0,1.4928909952606635E-2]
[26,0,0,5.7807308970099669E-2,0.22393364928909953,5.7807308970099669E-2,0.23886255924170616,5.7807308970099669E-2,0.23886255924170616,5.7807308970099669E-2,0.23886255924170616,5.7807308970099669E-2,0.23886255924170616,5.7807308970099669E-2,0.23886255924170616,5.7807308970099669E-2,0.23886255924170616,5.7807308970099669E-2,0.23886255924170616,5.7807308970099669E-2,0.23886255924170616,5.7807308970099669E-2,0.23886255924170616,5.7807308970099669E-2,0.23886255924170616,5.7807308970099669E-2,0.23886255924170616,5.7807308970099669E-2,0.23886255924170616,5.7807308970099669E-2,0.23886255924170616,5.7807308970099669E-2,0.23886255924170616,5.7807308970099669E-2,0.23886255924170616,5.7807308970099669E-2,0.23886255924170616,5.7807308970099669E-2,0.23886255924170616,5.7807308970099669E-2,0.23886255924170616,5.7807308970099669E-2,0.23886255924170616,5.7807308970099669E-2,0.23886255924170616,5.7807308970099669E-2,0.23886255924170616,5.7807308970099669E-2,0.23886255924170616,5.7807308970099669E-2,0.23886255924170616,5.7807308970099669E-2,0.23886255924170616,5.7807308970099669E-2,0.23886255924170616,5.7807308970099669E-2,0.23886255924170616,5.7807308970099669E-2,0.23886255924170616,5.7807308970099669E-2,0.23886255924170616,5.7807308970099669E-2,0.23886255924170616,5.7807308970099669E-2,0.23886255924170616,5.7807308970099669E-2,0.23886255924170616,5.7807308970099669E-2,0.23886255924170616]
[27,0,0,0.21196013289036547,0.5225118483412321,0.26976744186046514,0.74644549763033163,0.26976744186046514,0.76137440758293828,0.26976744186046514,0.76137440758293828,0.26976744186046514,0.76137440758293828,0.26976744186046514,0.76137440758293828,0.26976744186046514,0.76137440758293828,0.26976744186046514,0.76137440758293828,0.26976744186046514,0.76137440758293828,0.26976744186046514,0.76137440758293828,0.26976744186046514,0.76137440758293828,0.26976744186046514,0.76137440758293828,0.26976744186046514,0.76137440758293828,0.26976744186046514,0.76137440758293828,0.26976744186046514,0.76137440758293828,0.26976744186046514,0.76137440758293828,0.26976744186046514,0.76137440758293828,0.26976744186046514,0.76137440758293828,0.26976744186046514,0.76137440758293828,0.26976744186046514,0.76137440758293828,0.26976744186046514,0.76137440758293828,0.26976744186046514,0.76137440758293828,0.26976744186046514,0.76137440758293828,0.26976744186046514,0.76137440758293828,0.26976744186046514,0.76137440758293828,0.26976744186046514,0.76137440758293828,0.26976744186046514,0.76137440758293828,0.26976744186046514,0.76137440758293828,0.26976744186046514,0.76137440758293828,0.26976744186046514,0.76137440758293828,0.26976744186046514,0.76137440758293828,0.26976744186046514,0.76137440758293828,0.26976744186046514,0.76137440758293828]
[28,0,3,0.25049833887043182,0.80616113744075824,0.4624584717607973,1.3286729857819903,0.52026578073089702,1.5526066350710899,0.52026578073089702,1.5675355450236965,0.52026578073089702,1.5675355450236965,0.52026578073089702,1.5675355450236965,0.52026578073089702,1.5675355450236965,0.52026578073089702,1.5675355450236965,0.52026578073089702,1.5675355450236965,0.52026578073089702,1.5675355450236965,0.52026578073089702,1.5675355450236965,0.52026578073089702,1.5675355450236965,0.52026578073089702,1.5675355450236965,0.52026578073089702,1.5675355450236965,0.52026578073089702,1.5675355450236965,0.52026578073089702,1.5675355450236965,0.52026578073089702,1.5675355450236965,0.52026578073089702,1.5675355450236965,0.52026578073089702,1.5675355450236965,0.52026578073089702,1.5675355450236965,0.52026578073089702,1.5675355450236965,0.52026578073089702,1.5675355450236965,0.52026578073089702,1.5675355450236965,0.52026578073089702,1.5675355450236965,0.52026578073089702,1.5675355450236965,0.52026578073089702,1.5675355450236965,0.52026578073089702,1.5675355450236965,0.52026578073089702,1.5675355450236965,0.52026578073089702,1.5675355450236965,0.52026578073089702,1.5675355450236965,0.52026578073089702,1.5675355450236965,0.52026578073089702,1.5675355450236965,0.52026578073089702,1.5675355450236965]
[29,3,1,0.17342192691029901,3.612085308056872,0.42392026578073083,1.4182464454976302,0.63588039867109636,1.9407582938388623,0.69368770764119603,2.1646919431279619,0.69368770764119603,2.1796208530805687,0.69368770764119603,2.1796208530805687,0.69368770764119603,2.1796208530805687,0.69368770764119603,2.1796208530805687,0.69368770764119603,2.1796208530805687,0.69368770764119603,2.1796208530805687,0.69368770764119603,2.1796208530805687,0.69368770764119603,2.1796208530805687,0.69368770764119603,2.1796208530805687,0.69368770764119603,2.1796208530805687,0.69368770764119603,2.1796208530805687,0.69368770764119603,2.1796208530805687,0.69368770764119603,2.1796208530805687,0.69368770764119603,2.1796208530805687,0.69368770764119603,2.1796208530805687,0.69368770764119603,2.1796208530805687,0.69368770764119603,2.1796208530805687,0.69368770764119603,2.1796208530805687,0.69368770764119603,2.1796208530805687,0.69368770764119603,2.1796208530805687,0.69368770764119603,2.1796208530805687,0.69368770764119603,2.1796208530805687,0.69368770764119603,2.1796208530805687,0.69368770764119603,2.1796208530805687,0.69368770764119603,2.1796208530805687,0.69368770764119603,2.1796208530805687,0.69368770764119603,2.1796208530805687,0.69368770764119603,2.1796208530805687,0.69368770764119603,2.1796208530805687]
[30,1,3,3.346843853820598,1.5822274881516587,0.52026578073089702,4.1943127962085303,0.77076411960132885,2.0004739336492889,0.98272425249169437,2.522985781990521,1.040531561461794,2.7469194312796206,1.040531561461794,2.7618483412322274,1.040531561461794,2.7618483412322274,1.040531561461794,2.7618483412322274,1.040531561461794,2.7618483412322274,1.040531561461794,2.7618483412322274,1.040531561461794,2.7618483412322274,1.040531561461794,2.7618483412322274,1.040531561461794,2.7618483412322274,1.040531561461794,2.7618483412322274,1.040531561461794,2.7618483412322274,1.040531561461794,2.7618483412322274,1.040531561461794,2.7618483412322274,1.040531561461794,2.7618483412322274,1.040531561461794,2.7618483412322274,1.040531561461794,2.7618483412322274,1.040531561461794,2.7618483412322274,1.040531561461794,2.7618483412322274,1.040531561461794,2.7618483412322274,1.040531561461794,2.7618483412322274,1.040531561461794,2.7618483412322274,1.040531561461794,2.7618483412322274,1.040531561461794,2.7618483412322274,1.040531561461794,2.7618483412322274,1.040531561461794,2.7618483412322274,1.040531561461794,2.7618483412322274,1.040531561461794,2.7618483412322274,1.040531561461794,2.7618483412322274,1.040531561461794,2.7618483412322274]
[31,3,3,1.520265780730897,3.7912322274881518,3.867109634551495,2.3734597156398105,1.040531561461794,4.9855450236966821,1.2910299003322256,2.7917061611374407,1.5029900332225914,3.3142180094786728,1.5607973421926911,3.5381516587677724,1.5607973421926911,3.5530805687203793,1.5607973421926911,3.5530805687203793,1.5607973421926911,3.5530805687203793,1.5607973421926911,3.5530805687203793,1.5607973421926911,3.5530805687203793,1.5607973421926911,3.5530805687203793,1.5607973421926911,3.5530805687203793,1.5607973421926911,3.5530805687203793,1.5607973421926911,3.5530805687203793,1.5607973421926911,3.5530805687203793,1.5607973421926911,3.5530805687203793,1.5607973421926911,3.5530805687203793,1.5607973421926911,3.5530805687203793,1.5607973421926911,3.5530805687203793,1.5607973421926911,3.5530805687203793,1.5607973421926911,3.5530805687203793,1.5607973421926911,3.5530805687203793,1.5607973421926911,3.5530805687203793,1.5607973421926911,3.5530805687203793,1.5607973421926911,3.5530805687203793,1.5607973421926911,3.5530805687203793,1.5607973421926911,3.5530805687203793,1.5607973421926911,3.5530805687203793,1.5607973421926911,3.5530805687203793,1.5607973421926911,3.5530805687203793,1.5607973421926911,3.5530805687203793,1.5607973421926911,3.5530805687203793]
[32,4,10,3.4046511627906977,3.6568720379146917,1.9249169435215947,4.4481042654028435,4.2717607973421927,3.0303317535545022,1.4451827242524917,5.6424170616113738,1.6956810631229233,3.4485781990521325,1.9076411960132891,3.9710900473933646,1.9654485049833887,4.1950236966824646,1.9654485049833887,4.2099526066350714,1.9654485049833887,4.2099526066350714,1.9654485049833887,4.2099526066350714,1.9654485049833887,4.2099526066350714,1.9654485049833887,4.2099526066350714,1.9654485049833887,4.2099526066350714,1.9654485049833887,4.2099526066350714,1.9654485049833887,4.2099526066350714,1.9654485049833887,4.2099526066350714,1.9654485049833887,4.2099526066350714,1.9654485049833887,4.2099526066350714,1.9654485049833887,4.2099526066350714,1.9654485049833887,4.2099526066350714,1.9654485049833887,4.2099526066350714,1.9654485049833887,4.2099526066350714,1.9654485049833887,4.2099526066350714,1.9654485049833887,4.2099526066350714,1.9654485049833887,4.2099526066350714,1.9654485049833887,4.2099526066350714,1.9654485049833887,4.2099526066350714,1.9654485049833887,4.2099526066350714,1.9654485049833887,4.2099526066350714,1.9654485049833887,4.2099526066350714,1.9654485049833887,4.2099526066350714,1.9654485049833887,4.2099526066350714,1.9654485049833887,4.2099526066350714]
[33,1,6,4.346843853820598,10.701658767772512,3.7514950166112957,4.3585308056872041,2.2717607973421927,5.1497630331753559,4.6186046511627907,3.7319905213270141,1.7920265780730897,6.3440758293838861,2.0425249169435213,4.1502369668246448,2.2544850498338871,4.6727488151658765,2.3122923588039868,4.896682464454976,2.3122923588039868,4.9116113744075829,2.3122923588039868,4.9116113744075829,2.3122923588039868,4.9116113744075829,2.3122923588039868,4.9116113744075829,2.3122923588039868,4.9116113744075829,2.3122923588039868,4.9116113744075829,2.3122923588039868,4.9116113744075829,2.3122923588039868,4.9116113744075829,2.3122923588039868,4.9116113744075829,2.3122923588039868,4.9116113744075829,2.3122923588039868,4.9116113744075829,2.3122923588039868,4.9116113744075829,2.3122923588039868,4.9116113744075829,2.3122923588039868,4.9116113744075829,2.3122923588039868,4.9116113744075829,2.3122923588039868,4.9116113744075829,2.3122923588039868,4.9116113744075829,2.3122923588039868,4.9116113744075829,2.3122923588039868,4.9116113744075829,2.3122923588039868,4.9116113744075829,2.3122923588039868,4.9116113744075829,2.3122923588039868,4.9116113744075829,2.3122923588039868,4.9116113744075829,2.3122923588039868,4.9116113744075829,2.3122923588039868,4.9116113744075829]
[34,2,8,1.443189368770764,6.6568720379146917,4.7900332225913624,11.358530805687204,4.1946843853820601,5.0154028436018958,2.7149501661129567,5.8066350710900476,5.0617940199335552,4.3888625592417059,2.2352159468438537,7.0009478672985779,2.4857142857142853,4.8071090047393366,2.6976744186046511,5.3296208530805682,2.7554817275747507,5.5535545023696677,2.7554817275747507,5.5684834123222746,2.7554817275747507,5.5684834123222746,2.7554817275747507,5.5684834123222746,2.7554817275747507,5.5684834123222746,2.7554817275747507,5.5684834123222746,2.7554817275747507,5.5684834123222746,2.7554817275747507,5.5684834123222746,2.7554817275747507,5.5684834123222746,2.7554817275747507,5.5684834123222746,2.7554817275747507,5.5684834123222746,2.7554817275747507,5.5684834123222746,2.7554817275747507,5.5684834123222746,2.7554817275747507,5.5684834123222746,2.7554817275747507,5.5684834123222746,2.7554817275747507,5.5684834123222746,2.7554817275747507,5.5684834123222746,2.7554817275747507,5.5684834123222746,2.7554817275747507,5.5684834123222746,2.7554817275747507,5.5684834123222746,2.7554817275747507,5.5684834123222746,2.7554817275747507,5.5684834123222746,2.7554817275747507,5.5684834123222746,2.7554817275747507,5.5684834123222746,2.7554817275747507,5.5684834123222746]
[35,4,4,2.3083056478405317,8.6867298578199055,1.7514950166112955,7.3436018957345972,5.0983388704318937,12.04526066350711,4.5029900332225914,5.7021327014218013,3.0232558139534884,6.4933649289099531,5.3700996677740864,5.0755924170616113,2.5435215946843854,7.6876777251184834,2.794019933554817,5.493838862559242,3.0059800664451828,6.0163507109004737,3.0637873754152825,6.2402843601895732,3.0637873754152825,6.2552132701421801,3.0637873754152825,6.2552132701421801,3.0637873754152825,6.2552132701421801,3.0637873754152825,6.2552132701421801,3.0637873754152825,6.2552132701421801,3.0637873754152825,6.2552132701421801,3.0637873754152825,6.2552132701421801,3.0637873754152825,6.2552132701421801,3.0637873754152825,6.2552132701421801,3.0637873754152825,6.2552132701421801,3.0637873754152825,6.2552132701421801,3.0637873754152825,6.2552132701421801,3.0637873754152825,6.2552132701421801,3.0637873754152825,6.2552132701421801,3.0637873754152825,6.2552132701421801,3.0637873754152825,6.2552132701421801,3.0637873754152825,6.2552132701421801,3.0637873754152825,6.2552132701421801,3.0637873754152825,6.2552132701421801,3.0637873754152825,6.2552132701421801,3.0637873754152825,6.2552132701421801,3.0637873754152825,6.2552132701421801,3.0637873754152825,6.2552132701421801]
[36,1,4,4.1348837209302323,4.7165876777251183,2.4431893687707644,9.4033175355450247,1.886378737541528,8.0601895734597164,5.233222591362126,12.761848341232229,4.6378737541528237,6.4187203791469196,3.1581395348837211,7.2099526066350714,5.5049833887043187,5.7921800947867297,2.6784053156146181,8.4042654028436026,2.9289036544850497,6.2104265402843604,3.1408637873754155,6.732938388625592,3.1986710963455152,6.9568720379146916,3.1986710963455152,6.9718009478672984,3.1986710963455152,6.9718009478672984,3.1986710963455152,6.9718009478672984,3.1986710963455152,6.9718009478672984,3.1986710963455152,6.9718009478672984,3.1986710963455152,6.9718009478672984,3.1986710963455152,6.9718009478672984,3.1986710963455152,6.9718009478672984,3.1986710963455152,6.9718009478672984,3.1986710963455152,6.9718009478672984,3.1986710963455152,6.9718009478672984,3.1986710963455152,6.9718009478672984,3.1986710963455152,6.9718009478672984,3.1986710963455152,6.9718009478672984,3.1986710963455152,6.9718009478672984,3.1986710963455152,6.9718009478672984,3.1986710963455152,6.9718009478672984,3.1986710963455152,6.9718009478672984,3.1986710963455152,6.9718009478672984,3.1986710963455152,6.9718009478672984,3.1986710963455152,6.9718009478672984,3.1986710963455152,6.9718009478672984]
[37,2,6,1.2504983388704318,4.9554502369668247,4.3853820598006639,5.6720379146919431,2.693687707641196,10.358767772511849,2.1368770764119596,9.0156398104265403,5.4837209302325576,13.717298578199053,4.8883720930232553,7.3741706161137444,3.4086378737541532,8.1654028436018962,5.7554817275747503,6.7476303317535544,2.9289036544850502,9.3597156398104264,3.1794019933554818,7.1658767772511851,3.3913621262458475,7.6883886255924168,3.4491694352159472,7.9123222748815163,3.4491694352159472,7.9272511848341232,3.4491694352159472,7.9272511848341232,3.4491694352159472,7.9272511848341232,3.4491694352159472,7.9272511848341232,3.4491694352159472,7.9272511848341232,3.4491694352159472,7.9272511848341232,3.4491694352159472,7.9272511848341232,3.4491694352159472,7.9272511848341232,3.4491694352159472,7.9272511848341232,3.4491694352159472,7.9272511848341232,3.4491694352159472,7.9272511848341232,3.4491694352159472,7.9272511848341232,3.4491694352159472,7.9272511848341232,3.4491694352159472,7.9272511848341232,3.4491694352159472,7.9272511848341232,3.4491694352159472,7.9272511848341232,3.4491694352159472,7.9272511848341232,3.4491694352159472,7.9272511848341232,3.4491694352159472,7.9272511848341232,3.4491694352159472,7.9272511848341232,3.4491694352159472,7.9272511848341232]
[38,1,9,2.2119601328903653,6.4329383886255922,1.4624584717607974,5.3883886255924169,4.5973421926910296,6.1049763033175353,2.9056478405315613,10.791706161137441,2.3488372093023249,9.4485781990521325,5.6956810631229233,14.150236966824645,5.100332225913621,7.8071090047393366,3.6205980066445185,8.5983412322274884,5.967441860465116,7.1805687203791466,3.1408637873754155,9.7926540284360186,3.3913621262458471,7.5988151658767773,3.6033222591362128,8.121327014218009,3.6611295681063125,8.3452606635071085,3.6611295681063125,8.3601895734597154,3.6611295681063125,8.3601895734597154,3.6611295681063125,8.3601895734597154,3.6611295681063125,8.3601895734597154,3.6611295681063125,8.3601895734597154,3.6611295681063125,8.3601895734597154,3.6611295681063125,8.3601895734597154,3.6611295681063125,8.3601895734597154,3.6611295681063125,8.3601895734597154,3.6611295681063125,8.3601895734597154,3.6611295681063125,8.3601895734597154,3.6611295681063125,8.3601895734597154,3.6611295681063125,8.3601895734597154,3.6611295681063125,8.3601895734597154,3.6611295681063125,8.3601895734597154,3.6611295681063125,8.3601895734597154,3.6611295681063125,8.3601895734597154,3.6611295681063125,8.3601895734597154,3.6611295681063125,8.3601895734597154,3.6611295681063125,8.3601895734597154]
[39,2,3,1.1926910299003324,9.7464454976303312,2.4046511627906977,7.1793838862559234,1.6551495016611297,6.134834123222749,4.7900332225913616,6.8514218009478665,3.0983388704318937,11.538151658767772,2.5415282392026572,10.195023696682464,5.8883720930232553,14.896682464454976,5.2930232558139529,8.5535545023696677,3.8132890365448509,9.3447867298578196,6.160132890365448,7.9270142180094787,3.3335548172757479,10.53909952606635,3.5840531561461795,8.3452606635071085,3.7960132890365452,8.8677725118483401,3.8538205980066449,9.0917061611374397,3.8538205980066449,9.1066350710900466,3.8538205980066449,9.1066350710900466,3.8538205980066449,9.1066350710900466,3.8538205980066449,9.1066350710900466,3.8538205980066449,9.1066350710900466,3.8538205980066449,9.1066350710900466,3.8538205980066449,9.1066350710900466,3.8538205980066449,9.1066350710900466,3.8538205980066449,9.1066350710900466,3.8538205980066449,9.1066350710900466,3.8538205980066449,9.1066350710900466,3.8538205980066449,9.1066350710900466,3.8538205980066449,9.1066350710900466,3.8538205980066449,9.1066350710900466,3.8538205980066449,9.1066350710900466,3.8538205980066449,9.1066350710900466,3.8538205980066449,9.1066350710900466,3.8538205980066449,9.1066350710900466,3.8538205980066449,9.1066350710900466]
[40,4,6,2.1926910299003324,3.612085308056872,1.3853820598006648,10.358530805687204,2.5973421926910301,7.7914691943127954,1.8478405315614621,6.746919431279621,4.9827242524916935,7.4635071090047385,3.2910299003322261,12.150236966824645,2.7342192691029896,10.807109004739337,6.0810631229235872,15.508767772511849,5.4857142857142849,9.1656398104265406,4.0059800664451828,9.9568720379146924,6.3528239202657799,8.5390995260663516,3.5262458471760803,11.151184834123223,3.7767441860465119,8.9573459715639814,3.9887043189368776,9.479857819905213,4.0465116279069768,9.7037914691943126,4.0465116279069768,9.7187203791469194,4.0465116279069768,9.7187203791469194,4.0465116279069768,9.7187203791469194,4.0465116279069768,9.7187203791469194,4.0465116279069768,9.7187203791469194,4.0465116279069768,9.7187203791469194,4.0465116279069768,9.7187203791469194,4.0465116279069768,9.7187203791469194,4.0465116279069768,9.7187203791469194,4.0465116279069768,9.7187203791469194,4.0465116279069768,9.7187203791469194,4.0465116279069768,9.7187203791469194,4.0465116279069768,9.7187203791469194,4.0465116279069768,9.7187203791469194,4.0465116279069768,9.7187203791469194,4.0465116279069768,9.7187203791469194,4.0465116279069768,9.7187203791469194,4.0465116279069768,9.7187203791469194]
[41,4,6,4.3275747508305651,6.4180094786729853,2.520265780730897,4.0300947867298582,1.7129568106312294,10.776540284360189,2.9249169435215947,8.2094786729857816,2.1754152823920268,7.1649289099526072,5.3102990033222586,7.8815165876777247,3.6186046511627907,12.56824644549763,3.0617940199335543,11.225118483412322,6.4086378737541523,15.926777251184834,5.81328903654485,9.583649289099526,4.3335548172757479,10.374881516587678,6.680398671096345,8.9571090047393369,3.8538205980066449,11.569194312796208,4.1043189368770765,9.3753554502369667,4.3162790697674422,9.8978672985781984,4.3740863787375419,10.121800947867298,4.3740863787375419,10.136729857819905,4.3740863787375419,10.136729857819905,4.3740863787375419,10.136729857819905,4.3740863787375419,10.136729857819905,4.3740863787375419,10.136729857819905,4.3740863787375419,10.136729857819905,4.3740863787375419,10.136729857819905,4.3740863787375419,10.136729857819905,4.3740863787375419,10.136729857819905,4.3740863787375419,10.136729857819905,4.3740863787375419,10.136729857819905,4.3740863787375419,10.136729857819905,4.3740863787375419,10.136729857819905,4.3740863787375419,10.136729857819905,4.3740863787375419,10.136729857819905,4.3740863787375419,10.136729857819905,4.3740863787375419,10.136729857819905]
[42,5,12,4.1541528239202661,6.5075829383886257,4.4817275747508312,6.925592417061611,2.6744186046511627,4.5376777251184839,1.8671096345514953,11.284123222748814,3.0790697674418603,8.7170616113744064,2.3295681063122924,7.6725118483412329,5.4644518272425247,8.3890995260663495,3.7727574750830564,13.075829383886255,3.2159468438538199,11.732701421800947,6.5627906976744184,16.434360189573461,5.967441860465116,10.091232227488151,4.487707641196014,10.882464454976303,6.8345514950166111,9.4646919431279617,4.007973421926911,12.076777251184833,4.2584717607973426,9.8829383886255915,4.4704318936877083,10.405450236966823,4.528239202657808,10.629383886255923,4.528239202657808,10.64431279620853,4.528239202657808,10.64431279620853,4.528239202657808,10.64431279620853,4.528239202657808,10.64431279620853,4.528239202657808,10.64431279620853,4.528239202657808,10.64431279620853,4.528239202657808,10.64431279620853,4.528239202657808,10.64431279620853,4.528239202657808,10.64431279620853,4.528239202657808,10.64431279620853,4.528239202657808,10.64431279620853,4.528239202657808,10.64431279620853,4.528239202657808,10.64431279620853,4.528239202657808,10.64431279620853,4.528239202657808,10.64431279620853,4.528239202657808,10.64431279620853]
[43,2,12,5.1926910299003319,12.477725118483413,4.346843853820598,6.9853080568720376,4.6744186046511631,7.4033175355450229,2.867109634551495,5.0154028436018958,2.0598006644518274,11.761848341232227,3.2717607973421927,9.1947867298578192,2.5222591362126248,8.1502369668246448,5.6571428571428566,8.8668246445497623,3.9654485049833887,13.553554502369668,3.4086378737541523,12.210426540284359,6.7554817275747503,16.912085308056874,6.160132890365448,10.568957345971564,4.6803986710963459,11.360189573459715,7.027242524916943,9.9424170616113745,4.2006644518272429,12.554502369668246,4.4511627906976745,10.360663507109004,4.6631229235880403,10.883175355450236,4.7209302325581399,11.107109004739335,4.7209302325581399,11.122037914691942,4.7209302325581399,11.122037914691942,4.7209302325581399,11.122037914691942,4.7209302325581399,11.122037914691942,4.7209302325581399,11.122037914691942,4.7209302325581399,11.122037914691942,4.7209302325581399,11.122037914691942,4.7209302325581399,11.122037914691942,4.7209302325581399,11.122037914691942,4.7209302325581399,11.122037914691942,4.7209302325581399,11.122037914691942,4.7209302325581399,11.122037914691942,4.7209302325581399,11.122037914691942,4.7209302325581399,11.122037914691942,4.7209302325581399,11.122037914691942]
[44,5,15,2.077076411960133,12.313507109004739,5.2697674418604645,12.791232227488152,4.4239202657807306,7.2988151658767766,4.7514950166112957,7.7168246445497619,2.9441860465116281,5.3289099526066348,2.1368770764119605,12.075355450236966,3.3488372093023258,9.5082938388625582,2.5993355481727578,8.4637440758293838,5.7342192691029892,9.1803317535545013,4.0425249169435213,13.867061611374407,3.4857142857142853,12.523933649289098,6.8325581395348829,17.225592417061613,6.2372093023255806,10.882464454976303,4.7574750830564785,11.673696682464454,7.1043189368770756,10.255924170616113,4.2777408637873755,12.868009478672985,4.5282392026578071,10.674170616113743,4.7401993355481729,11.196682464454975,4.7980066445182725,11.420616113744074,4.7980066445182725,11.435545023696681,4.7980066445182725,11.435545023696681,4.7980066445182725,11.435545023696681,4.7980066445182725,11.435545023696681,4.7980066445182725,11.435545023696681,4.7980066445182725,11.435545023696681,4.7980066445182725,11.435545023696681,4.7980066445182725,11.435545023696681,4.7980066445182725,11.435545023696681,4.7980066445182725,11.435545023696681,4.7980066445182725,11.435545023696681,4.7980066445182725,11.435545023696681,4.7980066445182725,11.435545023696681,4.7980066445182725,11.435545023696681]
[45,7,12,5.1926910299003319,15.238862559241706,2.2697674418604654,12.552369668246445,5.4624584717607965,13.030094786729858,4.6166112956810625,7.537677725118483,4.9441860465116276,7.9556872037914683,3.1368770764119605,5.5677725118483412,2.3295681063122928,12.314218009478672,3.5415282392026581,9.7471563981042646,2.7920265780730902,8.7026066350710902,5.9269102990033211,9.4191943127962077,4.2352159468438533,14.105924170616113,3.6784053156146177,12.762796208530805,7.0252491694352148,17.464454976303319,6.4299003322259125,11.121327014218009,4.9501661129568104,11.912559241706161,7.2970099667774075,10.49478672985782,4.4704318936877074,13.106872037914691,4.720930232558139,10.91303317535545,4.9328903654485048,11.435545023696681,4.9906976744186045,11.659478672985781,4.9906976744186045,11.674407582938388,4.9906976744186045,11.674407582938388,4.9906976744186045,11.674407582938388,4.9906976744186045,11.674407582938388,4.9906976744186045,11.674407582938388,4.9906976744186045,11.674407582938388,4.9906976744186045,11.674407582938388,4.9906976744186045,11.674407582938388,4.9906976744186045,11.674407582938388,4.9906976744186045,11.674407582938388,4.9906976744186045,11.674407582938388,4.9906976744186045,11.674407582938388,4.9906976744186045,11.674407582938388]
[46,2,13,7.0578073089700997,12.298578199052132,5.2504983388704316,15.537440758293839,2.3275747508305651,12.850947867298578,5.5202657807308961,13.32867298578199,4.6744186046511622,7.836255924170616,5.0019933554817273,8.2542654028436004,3.1946843853820601,5.8663507109004742,2.3873754152823925,12.612796208530805,3.5993355481727578,10.045734597156397,2.8498338870431899,9.0011848341232223,5.9847176079734208,9.7177725118483398,4.2930232558139529,14.404502369668245,3.7362126245847174,13.061374407582937,7.0830564784053145,17.763033175355453,6.4877076411960122,11.419905213270141,5.0079734219269101,12.211137440758293,7.3548172757475072,10.793364928909952,4.5282392026578071,13.405450236966823,4.7787375415282387,11.211611374407582,4.9906976744186045,11.734123222748813,5.0485049833887041,11.958056872037913,5.0485049833887041,11.97298578199052,5.0485049833887041,11.97298578199052,5.0485049833887041,11.97298578199052,5.0485049833887041,11.97298578199052,5.0485049833887041,11.97298578199052,5.0485049833887041,11.97298578199052,5.0485049833887041,11.97298578199052,5.0485049833887041,11.97298578199052,5.0485049833887041,11.97298578199052,5.0485049833887041,11.97298578199052,5.0485049833887041,11.97298578199052,5.0485049833887041,11.97298578199052]
[47,4,6,2.1156146179401993,13.119431279620853,7.173421926910299,12.418009478672985,5.3661129568106309,15.656872037914692,2.4431893687707644,12.970379146919431,5.6358803986710955,13.448104265402844,4.7900332225913616,7.9556872037914692,5.1176079734219266,8.3736966824644536,3.3102990033222595,5.9857819905213274,2.5029900332225918,12.732227488151658,3.7149501661129571,10.16516587677725,2.9654485049833892,9.1206161137440755,6.1003322259136201,9.837203791469193,4.4086378737541523,14.523933649289098,3.8518272425249167,13.18080568720379,7.1986710963455138,17.882464454976304,6.6033222591362115,11.539336492890994,5.1235880398671094,12.330568720379146,7.4704318936877065,10.912796208530805,4.6438538205980064,13.524881516587676,4.894352159468438,11.331042654028435,5.1063122923588038,11.853554502369667,5.1641196013289035,12.077488151658766,5.1641196013289035,12.092417061611373,5.1641196013289035,12.092417061611373,5.1641196013289035,12.092417061611373,5.1641196013289035,12.092417061611373,5.1641196013289035,12.092417061611373,5.1641196013289035,12.092417061611373,5.1641196013289035,12.092417061611373,5.1641196013289035,12.092417061611373,5.1641196013289035,12.092417061611373,5.1641196013289035,12.092417061611373,5.1641196013289035,12.092417061611373]
[48,5,15,4.2312292358803987,6.2090047393364927,2.346843853820598,13.328436018957346,7.4046511627906977,12.627014218009478,5.5973421926910296,15.865876777251184,2.6744186046511631,13.179383886255923,5.8671096345514941,13.657109004739336,5.0212624584717602,8.1646919431279628,5.3488372093023253,8.5827014218009463,3.5415282392026581,6.1947867298578201,2.7342192691029905,12.94123222748815,3.9461794019933558,10.374170616113743,3.1966777408637879,9.3296208530805682,6.3315614617940188,10.046208530805686,4.639867109634551,14.732938388625591,4.0830564784053154,13.389810426540283,7.4299003322259125,18.091469194312797,6.8345514950166102,11.748341232227487,5.3548172757475081,12.539573459715639,7.7016611295681052,11.121800947867298,4.8750830564784051,13.733886255924169,5.1255813953488367,11.540047393364928,5.3375415282392025,12.062559241706159,5.3953488372093021,12.286492890995259,5.3953488372093021,12.301421800947866,5.3953488372093021,12.301421800947866,5.3953488372093021,12.301421800947866,5.3953488372093021,12.301421800947866,5.3953488372093021,12.301421800947866,5.3953488372093021,12.301421800947866,5.3953488372093021,12.301421800947866,5.3953488372093021,12.301421800947866,5.3953488372093021,12.301421800947866,5.3953488372093021,12.301421800947866]
[49,{"$f":"B199","v":3},7,{"$f":"H199","v":5.1541528239202661},15.044786729857821,{"$f":"N199","v":4.3853820598006648},6.2537914691943124,{"$f":"T199","v":2.5009966777408636},13.373222748815166,{"$f":"Z199","v":7.5588039867109638},12.671800947867299,{"$f":"AF199","v":5.7514950166112957},15.910663507109005,{"$f":"AL199","v":2.8285714285714287},13.224170616113744,{"$f":"AR199","v":6.0212624584717602},13.701895734597157,{"$f":"AX199","v":5.1754152823920263},8.2094786729857834,{"$f":"BD199","v":5.5029900332225914},8.6274881516587669,{"$f":"BJ199","v":3.6956810631229238},6.2395734597156398,{"$f":"BP199","v":2.8883720930232561},12.986018957345971,{"$f":"BV199","v":4.1003322259136219},10.418957345971563,{"$f":"CB199","v":3.3508305647840535},9.3744075829383888,{"$f":"CH199","v":6.4857142857142849},10.090995260663506,{"$f":"CN199","v":4.794019933554817},14.777725118483412,{"$f":"CT199","v":4.2372093023255815},13.434597156398103,{"$f":"CZ199","v":7.5840531561461786},18.136255924170616,{"$f":"DF199","v":6.9887043189368763},11.793127962085308,{"$f":"DL199","v":5.5089700996677742},12.584360189573459,{"$f":"DR199","v":7.8558139534883713},11.166587677725119,{"$f":"DX199","v":5.0292358803986712},13.77867298578199,{"$f":"ED199","v":5.2797342192691028},11.584834123222748,{"$f":"EJ199","v":5.4916943521594686},12.10734597156398,{"$f":"EP199","v":5.5495016611295682},12.331279620853079,{"$f":"EV199","v":5.5495016611295682},12.346208530805686,{"$f":"FB199","v":5.5495016611295682},12.346208530805686,{"$f":"FH199","v":5.5495016611295682},12.346208530805686,{"$f":"FN199","v":5.5495016611295682},12.346208530805686,{"$f":"FT199","v":5.5495016611295682},12.346208530805686,{"$f":"FZ199","v":5.5495016611295682},12.346208530805686,{"$f":"GF199","v":5.5495016611295682},12.346208530805686,{"$f":"GL199","v":5.5495016611295682},12.346208530805686,{"$f":"GR199","v":5.5495016611295682},12.346208530805686]
[50,2,{"$f":"C200","v":10},3.077076411960133,{"$f":"I200","v":7.0447867298578197},5.2312292358803987,{"$f":"O200","v":15.089573459715641},4.4624584717607974,{"$f":"U200","v":6.2985781990521321},2.5780730897009967,{"$f":"AA200","v":13.418009478672987},7.6358803986710964,{"$f":"AG200","v":12.716587677725119},5.8285714285714283,{"$f":"AM200","v":15.955450236966826},2.9056478405315618,{"$f":"AS200","v":13.268957345971565},6.0983388704318928,{"$f":"AY200","v":13.746682464454977},5.2524916943521589,{"$f":"BE200","v":8.254265402843604},5.580066445182724,{"$f":"BK200","v":8.6722748815165875},3.7727574750830568,{"$f":"BQ200","v":6.2843601895734595},2.9654485049833892,{"$f":"BW200","v":13.030805687203792},4.1774086378737545,{"$f":"CC200","v":10.463744075829384},3.4279069767441865,{"$f":"CI200","v":9.4191943127962094},6.5627906976744175,{"$f":"CO200","v":10.135781990521327},4.8710963455149496,{"$f":"CU200","v":14.822511848341232},4.3142857142857141,{"$f":"DA200","v":13.479383886255924},7.6611295681063112,{"$f":"DG200","v":18.181042654028435},7.0657807308970089,{"$f":"DM200","v":11.837914691943128},5.5860465116279068,{"$f":"DS200","v":12.62914691943128},7.9328903654485039,{"$f":"DY200","v":11.211374407582939},5.1063122923588038,{"$f":"EE200","v":13.82345971563981},5.3568106312292354,{"$f":"EK200","v":11.629620853080569},5.5687707641196011,{"$f":"EQ200","v":12.152132701421801},5.6265780730897008,{"$f":"EW200","v":12.3760663507109},5.6265780730897008,{"$f":"FC200","v":12.390995260663507},5.6265780730897008,{"$f":"FI200","v":12.390995260663507},5.6265780730897008,{"$f":"FO200","v":12.390995260663507},5.6265780730897008,{"$f":"FU200","v":12.390995260663507},5.6265780730897008,{"$f":"GA200","v":12.390995260663507},5.6265780730897008,{"$f":"GG200","v":12.390995260663507},5.6265780730897008,{"$f":"GM200","v":12.390995260663507},5.6265780730897008,{"$f":"GS200","v":12.390995260663507}]
[51,3,9,2.1348837209302327,10.044786729857821,3.2119601328903657,7.0895734597156395,5.3661129568106309,15.134360189573462,4.5973421926910296,6.3433649289099518,2.7129568106312294,13.462796208530808,7.7707641196013286,12.76137440758294,5.9634551495016606,16.000236966824644,3.0405315614617945,13.313744075829385,6.2332225913621251,13.791469194312798,5.3873754152823912,8.2990521327014246,5.7149501661129563,8.7170616113744082,3.9076411960132895,6.3291469194312793,3.1003322259136219,13.075592417061612,4.3122923588039868,10.508530805687204,3.5627906976744192,9.4639810426540301,6.6976744186046497,10.180568720379148,5.0059800664451819,14.867298578199053,4.4491694352159463,13.524170616113745,7.7960132890365434,18.225829383886254,7.2006644518272411,11.882701421800949,5.720930232558139,12.673933649289101,8.0677740863787371,11.25616113744076,5.2411960132890361,13.868246445497631,5.4916943521594677,11.67440758293839,5.7036544850498334,12.196919431279621,5.7614617940199331,12.420853080568721,5.7614617940199331,12.435781990521328,5.7614617940199331,12.435781990521328,5.7614617940199331,12.435781990521328,5.7614617940199331,12.435781990521328,5.7614617940199331,12.435781990521328,5.7614617940199331,12.435781990521328,5.7614617940199331,12.435781990521328]
[52,7,6,3.0192691029900334,8.9850710900473931,2.1541528239202661,10.029857819905214,3.2312292358803991,7.0746445497630326,5.3853820598006639,15.119431279620855,4.6166112956810625,6.328436018957345,2.7322259136212628,13.447867298578201,7.7900332225913616,12.746445497630333,5.9827242524916935,15.985308056872038,3.0598006644518279,13.298815165876778,6.252491694352158,13.776540284360191,5.4066445182724241,8.2841232227488177,5.7342192691029892,8.7021327014218013,3.9269102990033229,6.3142180094786724,3.1196013289036553,13.060663507109005,4.3315614617940197,10.493601895734598,3.5820598006644526,9.4490521327014232,6.7169435215946827,10.165639810426541,5.0252491694352148,14.852369668246446,4.4684385382059792,13.509241706161138,7.8152823920265764,18.210900473933648,7.2199335548172741,11.867772511848342,5.740199335548172,12.659004739336494,8.0870431893687709,11.241232227488153,5.260465116279069,13.853317535545024,5.5109634551495006,11.659478672985783,5.7229235880398663,12.181990521327014,5.780730897009966,12.405924170616114,5.780730897009966,12.420853080568721,5.780730897009966,12.420853080568721,5.780730897009966,12.420853080568721,5.780730897009966,12.420853080568721,5.780730897009966,12.420853080568721,5.780730897009966,12.420853080568721]
[53,3,9,6.9229235880398674,6.0298578199052129,2.9421926910299003,9.0149289099526069,2.077076411960133,10.059715639810427,3.1541528239202661,7.1045023696682454,5.3083056478405313,15.149289099526069,4.5395348837209299,6.3582938388625578,2.6551495016611297,13.477725118483415,7.712956810631229,12.776303317535547,5.9056478405315609,16.01516587677725,2.9827242524916948,13.328672985781992,6.1754152823920254,13.806398104265405,5.3295681063122915,8.3139810426540315,5.6571428571428566,8.731990521327015,3.8498338870431899,6.3440758293838853,3.0425249169435222,13.090521327014219,4.2544850498338871,10.523459715639811,3.5049833887043196,9.4789099526066369,6.6398671096345501,10.195497630331754,4.9481727574750822,14.88222748815166,4.3913621262458467,13.539099526066352,7.7382059800664438,18.240758293838862,7.1428571428571415,11.897630331753556,5.6631229235880394,12.688862559241707,8.0099667774086374,11.271090047393367,5.1833887043189364,13.883175355450238,5.433887043189368,11.689336492890996,5.6458471760797337,12.211848341232228,5.7036544850498334,12.435781990521328,5.7036544850498334,12.450710900473934,5.7036544850498334,12.450710900473934,5.7036544850498334,12.450710900473934,5.7036544850498334,12.450710900473934,5.7036544850498334,12.450710900473934]
[54,5,8,3.0192691029900334,9.1365083796154831,6.9421926910299003,6.170584038998296,2.9614617940199337,9.1514160893217937,2.0963455149501664,10.194719138450658,3.1734219269102995,7.2437025075397772,5.3275747508305642,15.277064996738192,4.5588039867109629,6.4985536525371028,2.6744186046511631,13.60787477025713,7.7322259136212619,12.907449044373383,5.9249169435215938,16.141712159704134,3.0019933554817282,13.459034303506833,6.1946843853820583,13.936081014108735,5.3488372093023244,8.4514636240636474,5.6764119601328895,8.868879495840309,3.8691029900332232,6.4843558337691896,3.0617940199335556,13.221220839144276,4.27375415282392,10.657804660597446,3.524252491694353,9.6147382417813816,6.659136212624583,10.330308307684234,4.9674418604651152,15.01038263421421,4.4106312292358796,13.669162021271955,7.7574750830564767,18.364144057508238,7.1621262458471744,12.030023844516311,5.6823920265780723,12.820132458950713,8.0292358803986712,11.404373297476912,5.2026578073089693,14.012749235455468,5.4531561461794009,11.822025799566374,5.6651162790697667,12.343795639287205,5.7229235880398663,12.567411284881846,5.7229235880398663,12.582318994588157,5.7229235880398663,12.582318994588157,5.7229235880398663,12.582318994588157,5.7229235880398663,12.582318994588157]
[55,5,7,5.1541528239202661,7.9588558757111638,3.173421926910299,9.0895191750733719,7.0963455149501664,6.1388486294188898,3.1156146179401993,9.1043502141970549,2.250498338870432,10.142287539535385,3.3275747508305651,7.2064480330045813,5.4817275747508303,15.198494814113889,4.712956810631229,6.4651314901398962,2.8285714285714287,13.537889258900334,7.886378737541528,12.841065833406693,6.0790697674418599,16.05869508328745,3.1561461794019938,13.389814280982934,6.3488372093023244,13.864407532940763,5.5029900332225905,8.407997615342266,5.8305647840531556,8.8232667108053633,4.0232558139534893,6.4510066909744852,3.2159468438538212,13.15322389496229,4.4279069767441861,10.602991405647227,3.6784053156146186,9.5652894936283221,6.8132890365448491,10.277179371565065,5.1215946843853812,14.933184003123573,4.5647840531561457,13.598861308631024,7.9116279069767428,18.269696979313213,7.3162790697674405,11.968153244984256,5.8365448504983384,12.754198318539412,8.1833887043189364,11.345720428428454,5.3568106312292354,13.940681448433985,5.607308970099667,11.761224937210976,5.8192691029900327,12.280311306539852,5.8770764119601324,12.502776893395085,5.8770764119601324,12.517607932518768,5.8770764119601324,12.517607932518768,5.8770764119601324,12.517607932518768]
[56,5,9,4.9421926910299003,6.9377317106081549,5.0963455149501664,7.8880581127259113,3.1156146179401993,9.0086636307267725,7.0385382059800667,6.0842406861346916,3.0578073089700997,9.0233627407881514,2.1926910299003324,10.052067125877228,3.2697674418604654,7.1423432913465206,5.4239202657807306,15.063297060770218,4.6551495016611293,6.4076211074849869,2.7707641196013291,13.417463372310626,7.8285714285714283,12.726838518633221,6.0212624584717602,15.915845444330087,3.0983388704318942,13.270705590904177,6.2910299003322248,13.741077112868245,5.4451827242524908,8.3332045255253977,5.7727574750830559,8.7447796072439541,3.9654485049833896,6.3936219550455808,3.1581395348837216,13.036219787544113,4.3700996677740864,10.508672814609215,3.6205980066445189,9.4802017487274615,6.7554817275747494,10.185759031673562,5.0637873754152816,14.800346314116691,4.506976744186046,13.477893047007395,7.8538205980066431,18.107179439511899,7.2584717607973408,11.86169089787788,5.7787375415282387,12.64074373113087,8.1255813953488367,11.244794913714689,5.2990033222591357,13.81667253604104,5.5495016611295673,11.65660331464057,5.7614617940199331,12.17107216678877,5.8192691029900327,12.391558817709427,5.8192691029900327,12.406257927770806,5.8192691029900327,12.406257927770806]
[57,3,18,4.976956941390684,8.8859009054398719,4.9191932648642895,6.8497773876657675,5.0732297356013429,7.7880558584481658,3.093993876691187,8.8944547014531405,7.0139564768272349,6.0071066468709287,3.0362302001647921,8.9089674609424261,2.1717669031835705,9.9246302639305348,3.2480303474282408,7.051794968837604,5.4005572359175806,14.872329443467535,4.6323667331470171,6.3263873556351635,2.7494036684475205,13.247361103191256,7.8033933893546328,12.565491768456662,5.9974485600236624,15.714069493845974,3.0767311687637591,13.102463869560154,6.2670123838135048,13.566872173217225,5.421803645674415,8.2275588487313076,5.7491311459906536,8.6339161144312406,3.9431863166596846,6.312565679931085,3.1364866962048574,12.870950801516821,4.3475320523444489,10.375447253145264,3.5985961084160176,9.360014811418889,6.7311136469393684,10.056627266904494,5.0406961706611888,14.612712301492573,4.484305815154074,13.307024669980528,7.8286235009408731,17.87762246405789,7.2337240277494947,11.711312209944548,5.7551066987347639,12.480488462876576,8.1001791756454207,11.102237033918112,5.2757345785961753,13.641509222019252,5.5260438435438868,11.508824660879782,5.7378439908073355,12.016771243004705,5.79560766733373,12.234462635343958,5.79560766733373,12.248975394833243]
[58,8,6,2.9903931131217312,17.703182281953612,4.9610192539460325,8.7393735260210406,4.9034405537883252,6.7368254269250629,5.0569837542088791,7.6596318046747003,3.0840859936327107,8.7477862710224592,6.9914957146799077,5.908050219816178,3.026507293475003,8.7620597169476238,2.1648122635286193,9.7609743690753152,3.2376291940532651,6.935511763794195,5.3832630551025549,14.627086616387308,4.6175325254190174,6.222066030169767,2.7405992651056961,13.028913798036497,7.7784046168352452,12.358288402187553,5.9782429567322009,15.45494648004677,3.0668785659993731,12.886405901418595,6.2469435574681693,13.343156171023818,5.4044414275743549,8.0918874463661528,5.7307207284680324,8.4915439322707176,3.9305590683649889,6.2084722721458032,3.1264427385763121,12.65871045451718,4.3336099694689416,10.204357443290307,3.5870723398379738,9.205669353796349,6.7095586311490623,9.89079475820418,5.0245543713614333,14.371750528170496,4.4699457422561579,13.087593520173273,7.8035539341455076,17.582822736064752,7.2105595049350928,11.518194156306519,5.736677145725726,12.274686790340171,8.074240007300709,10.919162552717131,5.2588401168307266,13.416562464353225,5.5083478175141263,11.31904560125543,5.7194697180923884,11.818616208636143,5.7770484182500956,12.032717897513592]
[59,7,16,7.9531708636975864,5.8780062249240999,2.9728884222852088,17.343235942381561,4.9319792230907904,8.5616819979814256,4.874737568032808,6.5998502992820791,5.0273819815207617,7.5038939047507514,3.066032858212187,8.5699236925625986,6.950570001457347,5.7879259948739481,3.0087912031542041,8.5839069265624719,2.1521402274588795,9.562511350458216,3.2186772717001406,6.7944968867694335,5.3517513601826616,14.329684363938098,4.5905031429173082,6.0955571428711126,2.7245567780387048,12.764006068143004,7.7328726205831071,12.10701602624429,5.9432484624484809,15.14071193593062,3.0489261567006061,12.624395684239527,6.2103761860523985,13.071859172235403,5.3728057620430683,7.9273607968542379,5.69717514070497,8.3188913488506238,3.9075509825703447,6.0822397771569507,3.1081416619330016,12.401329808527295,4.3082425679762215,9.9968794288351663,3.5660749023968625,9.0184969610346588,6.6702832766906726,9.6896921930284705,4.9951424286720112,14.079539844607066,4.4437802799525947,12.821492696809136,7.7578747227923399,17.225323582387603,7.1683514707009337,11.284002825109019,5.7030966912282093,12.025114227102192,8.0269762965706732,10.697150909304904,5.2280567492527679,13.143772947091881,5.4761039211706919,11.088903417396528,5.6859899897166288,11.57831660739202]
[60,7,15,6.9389193478002769,15.612717044788273,7.8837730260675176,5.7357279985777536,2.9469475703208965,16.923439713087824,4.8889437220076664,8.3544449038713449,4.8322015466102455,6.4400997037907688,4.9835140143367012,7.3222607668115547,3.0392792458342752,8.3624871067129334,6.8899206659075123,5.6478281771338503,2.9825370704368543,8.3761318739511257,2.1333610662133866,9.3310489970175201,3.1905917135607309,6.630034834676624,5.3050530082554168,13.98283170720577,4.5504472963609848,5.9480130563740454,2.7007828201875932,12.455050943742327,7.6653970630055932,11.813963467154313,5.8913888206954308,14.774228207020826,3.0223218141063106,12.318819854967373,6.1561856392167256,12.755452406589475,5.3259236934590657,7.7354775645770317,5.6474626873777831,8.1175310472463647,3.8734544450676212,5.9350180399567218,3.0810206162415734,12.101153329977187,4.2706496728495651,9.7549031158292525,3.5349580194209391,8.8002025763698164,6.6120796691339336,9.4551514038029669,4.9515557776186121,13.738741982167022,4.4050047088480557,12.511146097943772,7.6901810016849259,16.808381443546018,7.1058018159827547,11.010871452563663,5.6533325675913089,11.734044116187771,7.9569344469440653,10.438224395773565,5.1824377326839786,12.825625495243024,5.4283204927394682,10.820494462049856]
[61,14,15,6.917139719489267,14.578368279702676,6.8567820901431213,15.173862595047645,7.7904513625785308,5.5745036743645633,2.9120640128455801,16.44774244644934,4.8310724008352741,8.1196116387414463,4.775001892947885,6.2590763493243964,4.9245232473142568,7.1164409399064645,3.0033027414256641,8.1274277850617622,6.8083634146112555,5.489074609782608,2.9472322335382746,8.1406890145210422,2.1081080810166553,9.0687645809647801,3.1528240957920359,6.4436726351448987,5.2422561253427951,13.589791348049962,4.4965828193001594,5.7808216578867171,2.6688131598905485,12.104954640022269,7.5746603557389083,11.481887351141912,5.8216513735124851,14.358942656688065,2.986546037919088,11.972552841135192,6.0833137436536333,12.396912183832079,5.2628797604278112,7.5180427170521007,5.5806126384563512,7.8893571419118702,3.8276036562299285,5.7681919155445485,3.0445500115956978,11.761004656903856,4.2200972114416526,9.4807046770251997,3.4931140746948128,8.5528396062871668,6.5338112725419686,9.1893786203324943,4.8929433060903236,13.35256268772288,4.3528618623014488,12.159473027799294,7.599150922402365,16.335918324648958,7.0216891400218966,10.701369274395857,5.5864130358240116,11.404214435737575,7.8627467583327366,10.1448186285176,5.1210922692183205,12.46511279247979]
[62,9,19,13.787092323025828,14.51935006075956,6.811945994561964,14.111228824511752,6.7525062654052297,14.687641519424147,7.6719765838508973,5.3958780175393004,2.867778242547363,15.920702019280787,4.7576029435384255,7.8594322493536426,4.7023851386211133,6.0585147048574601,4.8496326184006149,6.8884064795481832,2.9576294407165853,7.8669979403236949,6.7048239261397677,5.3131863846040579,2.9024116357992722,7.8798342358407183,2.0760486242781027,8.7781711713096744,3.1048769204960873,6.2371959111070527,5.1625335129320549,13.154329189001263,4.4282001762730756,5.5955848859785124,2.6282266734512345,11.717071592539936,7.4594672600097134,11.113969453962449,5.7331174970776253,13.898834328988459,2.9411275679826758,11.588912388092218,5.9908005866917513,11.999673844636881,5.1828435101430204,7.2771395987082252,5.4957444046744621,7.6365558731847987,3.769394641742374,5.583359842628969,2.9982494351385172,11.384142911987364,4.1559192761635648,9.1769113352272846,3.4399918744770228,8.2787781504808233,6.4344470882687848,8.8949203352978135,4.818532935171322,12.924702124752335,4.2866648832091583,11.769843029665459,7.4835853816977345,15.812461114637003,6.9149054597906945,10.358461774960665,5.5014565913900455,11.03878543736276,7.7431725335503918,9.8197448646907812]
[63,9,13,8.8302697709522846,18.315827595912701,13.527082729927031,13.996521711451406,6.6834800885711116,13.603096542959531,6.6251613281748556,14.158753150544314,7.5272914346480393,5.2015774472539498,2.8136950583289608,15.347412283739269,4.6678797171689963,7.5764213726798779,4.6137032601045869,5.8403532011300614,4.7581738122763468,6.6403613415774991,2.901851760448686,7.5837146301246907,6.5783782260610675,5.1218634634399285,2.8476753033842761,7.5960887025278474,2.0368966011100009,8.4620773569010037,3.0463223126204464,6.0126002626193902,5.0651737356413369,12.680653977138384,4.3446891284744131,5.3940930563093294,2.5786611717541019,11.295150695680407,7.3187898059413374,10.713765706579801,5.6249971253069084,13.398350176521348,2.8856610951190924,11.171606385496528,5.8778205916074873,11.567576702397476,5.0851007083546822,7.0150965411225892,5.3921006317196731,7.3615705684109134,3.6983079510852446,5.382308225449183,2.9417057058753788,10.97421046858906,4.0775431505361137,8.8464592567894726,3.3751173623906601,7.9806670162639888,6.3131004018146442,8.5746224916154077,4.727660635309034,12.45929557081528,4.2058230373782814,11.346021882226704,7.3424530860384349,15.243069033829734,6.7844978500647422,9.9854631594227055,5.3977050927953014,10.6412889967899]
[64,14,10,8.7946719136545912,12.479918586734692,8.6288139493985785,17.583079788127623,13.218472728730147,13.436573188952158,6.5310016244917835,13.058887491048237,6.4740133618144382,13.592314354497413,7.3555620629102094,4.9934817741788127,2.7495027670082695,14.733419678316771,4.5613856272115676,7.2733170699878134,4.5084451643976031,5.606702497529116,4.6496197319015087,6.3747053022605806,2.8356482416896878,7.2803185514603799,6.428297580237353,4.9169568489308686,2.7827077788757233,7.2921975834740529,1.9904263698667359,8.1235412683673545,2.9768228091935933,5.7720585978515091,4.9496156878473077,12.173348404710808,4.2455683835282629,5.1782955532316413,2.5198309980063818,10.843273931307015,7.1518172386948677,10.285147982728153,5.496667136924942,12.862332261503754,2.8198269539521812,10.724672167234006,5.7437226300567756,11.104801191671497,4.9690880419857768,6.7344487470226193,5.2690839979315758,7.0670616434054176,3.6139338961616505,5.1669821894090981,2.8745929499666274,10.535173323206388,3.9845171358594014,8.4925454850460085,3.2981166524783445,7.661390356216419,6.1690718657689736,8.231583892872651,4.6198026896269759,11.96084572091068,4.1098704156258012,10.89210995180766,7.1749406592342995,14.633250811859362,6.6297147433571491,9.5859820984949184]
[65,6,12,13.620614415393238,9.5596485542161744,8.5563453604126973,11.930363567441386,8.3949819762088946,16.808806327524188,12.860265728458874,12.84489174593863,6.3540182052506742,12.483837492347098,6.2985742658127268,12.993774826742294,7.1562339048138872,4.7735930823033303,2.6749940731054593,14.084631412648106,4.4377767734403859,6.9530355012464824,4.3862709426574238,5.3598105424424425,4.5236198247453236,6.093994232630954,2.7588050941245035,6.9597286714701418,6.2540973348441682,4.7004379432025294,2.7072992633415409,6.9710846085916414,1.9364878647275496,7.7658199541263411,2.8961539762124038,5.5178851629802219,4.8154861991821107,11.637293247706346,4.1305178518730585,4.9502685598754903,2.4515461725571752,10.365788796038904,6.9580103555446557,9.8322400042986597,5.3477131172727246,12.295937600753243,2.7434125469939632,10.252409677794102,5.5880736609265487,10.615799665682047,4.8344308725735452,6.4378963227917714,5.1262972470103323,6.7558625621937187,3.5160000087384016,4.9394533816645412,2.7966944409073728,10.071255442760677,3.8765408242191386,8.1185750167735176,3.2087410871710733,7.3240199242090034,6.0018963703206953,7.8691049060409188,4.4946107936146884,11.43414815031065,3.9984971591764991,10.412474315316171,6.9805071551969826,13.988873496707402]
[66,9,6,5.8095566045415028,11.422848344978945,13.188288405810164,9.0998679721757156,8.2847621165539387,11.356561144278745,8.1285204974818779,16.000370461619273,12.452073616487832,12.227104201794067,6.1523380716151665,11.883415203203596,6.0986539541912457,12.368826606223525,6.9290909908925578,4.544002486649295,2.5900882474198661,13.407217385133823,4.2969192272702461,6.618622505666103,4.247048220703987,5.10202524867828,4.3800375715473452,5.8008976612099774,2.6712390592022919,6.6249937613671017,6.0555887461815585,4.474365815015604,2.6213680526360323,6.6358035236632693,1.8750226440237348,7.3923153008663789,2.8042284100456509,5.2524971168110417,4.6626399420894815,11.077586326216423,3.9994128777542848,4.7121805855312537,2.3737327096863301,9.8672361161028572,6.7371591692537711,9.3593488717115605,5.1779736766074977,11.704552539394047,2.6563350802284678,9.7593100766697063,5.4107050405833741,10.105222470147018,4.6809833008264965,6.1282594463290021,4.9635856713686337,6.4309327906216449,3.4044001787223603,4.7018855738206211,2.7079257766763223,9.586868630516582,3.7534972246861762,7.7281042661615658,3.1068938292063986,6.9717640724869696,5.8113927829950454,7.490632662702934,4.3519493034812902,10.884211689585007,3.8715825965557111,9.9116762499870923]
[67,5,7,8.6690813434433629,5.6868660248078529,5.5959465304565459,10.82670135993223,12.7033716634177,8.6249550002005346,7.9801418554982337,10.763873621675298,7.8296450438352352,15.165327193753631,11.994226563986443,11.588983911161336,5.9261243550217069,11.263231696297272,5.8744141349329357,11.723309965611998,6.6743170484631289,4.3068555596613791,2.4948539670643863,12.707508172455119,4.1389269230457293,6.2732032430835307,4.0908896105343624,4.8357556740700582,4.2189891105646735,5.4981546371537258,2.5730209657786434,6.2792419893470921,5.8329323803431263,4.2408531559956559,2.5249836532672765,6.2894876010034801,1.8060804246488895,7.0065177881940421,2.7011204658089554,4.978374566498986,4.4912005481290853,10.499458219239369,3.8523595070296448,4.466256612436144,2.2864535497625584,9.3522749712370548,6.4894423179984724,8.8708938521433645,4.9875861107465438,11.093703695309747,2.5586649873269711,9.2499814834296465,5.2117602357995878,9.5778410564339929,4.50886944468499,5.8084317394226979,4.7810808822494026,6.0953088658014973,3.2792246749974741,4.4564988870491113,2.608358758890454,9.0865395831968225,3.6154858625770414,7.3247822645678058,2.9926572589813891,6.6079147061336965,5.5977151949426389,7.0997040656402159,4.1919336127134432,10.316175610719576]
[68,9,6,4.7889215607611417,6.6057986840030498,8.303110111521617,5.3666131575396241,5.3597097985139719,10.217001370790623,12.167090090660631,8.1392451985586032,7.643254677945583,10.15771174354826,7.4991111927058345,14.311299774139059,11.48788203938574,10.936356381326011,5.6759489391030336,10.628948731003137,5.6264217015240696,11.063117934714224,6.3925561633481491,4.06431725545748,2.3895319907650214,11.991891537508861,3.964199276037693,5.9199311039492644,3.9181898917163518,4.5634326382760388,4.0408815832399272,5.1885289523650497,2.4643991158615601,5.9256297813951022,5.5866911277374012,4.0020317424180405,2.418389731540219,5.9352984168231844,1.7298354972139411,6.6119494263851664,2.5870908073851369,4.6980200228361797,4.301601427727527,9.9081867553423475,3.689729500603486,4.2147417218358001,2.1899293404273528,8.825606528204629,6.2154860467957294,8.3713341334884834,4.7770317323813867,10.468967610170985,2.450649184914953,8.7290736443274479,4.991742192547644,9.0384699780260078,4.3185244196618129,5.4813329629142862,4.5792442641494135,5.7520547549005219,3.1407899497350704,4.2055334976185828,2.4982450997301338,8.5748358886890266,3.4628556399844577,6.9122910062701273,2.8663201743008631,6.2357934671117672,5.361403797612212,6.6998879676596061]
[69,7,6,8.5669534035619304,5.637164027303414,4.5584964293726413,6.2063284521783704,7.9035952700055105,5.0420797733559262,5.1018204556092774,9.5991520990550949,11.581654873736637,7.6470433737860981,7.2754896308351729,9.5434478734079491,7.1382817951156241,13.445857378455361,10.935127793003737,10.275005797096854,5.40284334247694,9.9861879057438578,5.3556991717495928,10.39410174189771,6.0849700867840246,3.8185371713355742,2.2745565801338352,11.266709932428197,3.7734567200276503,5.5619371105495636,3.7296611365157055,4.2874697182519999,3.8464493592142239,4.8747647941490877,2.3458213770405782,5.5672911737997106,5.3178802857132412,3.7600182290808966,2.3020257935286335,5.5763751211044266,1.6466022333843575,6.2121072427946498,2.462609599739098,4.4139182453805459,4.0946243324485776,9.3090123255033355,3.5121934114908773,3.9598650697846041,2.0845580685038048,8.2918986066548843,5.916419927043151,7.8650972729730793,4.547178695405341,9.8358812691767437,2.3327330417381584,8.2012033232475012,4.7515580851277477,8.4918896369983479,4.1107330528207866,5.1498621667021416,4.3589080260551407,5.4042126912341297,2.9896667944173294,3.9512136913991638,2.378038817784998,8.0562927352913469,3.2962358790009416,6.4942863677998126,2.7284034858805559,5.8586984357493481]
[70,6,6,6.6184417300938811,5.6120170774126423,8.0999831294148699,5.2726434649004972,4.3100204278062639,5.8050035436094971,7.4727835361110131,4.7160396322917206,4.8237287718358601,8.9784342514297677,10.950358274269107,7.152556334233795,6.8789148827978339,8.9263320738271297,6.7491860162803867,12.576396871391044,10.33907230130362,9.6105846673035735,5.1083434055727555,9.340442844214353,5.063768984590963,9.72197941331574,5.7532885641063398,3.5716159693783678,2.1505743124882004,10.538161424506946,3.5677719175048836,5.2022810079832134,3.5263635578607024,4.0102255462866321,3.6367858502451842,4.5595438788557674,2.217954584735951,5.2072888570487752,5.0280115426582981,3.5168810854974719,2.1765462250917698,5.2157854016161718,1.5568487048995452,5.8104086555470564,2.3283768771204336,4.1284974285631444,3.87143322156221,8.707056024094916,3.3207496341102876,3.7038050659801671,1.9709323013413544,7.7557127641202168,5.5939257911287701,7.3565100352394204,4.299319604552081,9.199855609003837,2.2055796726583798,7.6708821842330481,4.4925586162249234,7.9427716103896948,3.8866638825807587,4.816852404308948,4.121311253897785,5.054755652196012,2.8267050673210941,3.6957131187731256,2.24841590677305,7.5353420685150745,3.1165635848303599,6.0743410002834448]
[71,5,5,5.6314036520338213,5.5866707395512156,6.2118528216039541,5.22541526604049,7.6023790960665396,4.9094204942409245,4.0452441295814277,5.4051072400123825,7.0137100826856287,4.3911601033813383,4.5273939703561803,8.3599259865745168,10.277647929466303,6.6598295309092741,6.4563243988362542,8.3114130347279236,6.334565130056161,11.710031401730634,9.7039149193671541,8.948528691800739,4.7945239516642166,8.6969964553704759,4.7526878588135242,9.0522496531483903,5.3998483718521433,3.3255737381733295,2.0184586728860294,9.8122063464933849,3.3485939676434517,4.8439051810371367,3.3097294363559566,3.7339682864067196,3.4133681864559424,4.2454450622838946,2.0816995914211986,4.8485680483442479,4.7191270939656906,3.2746094424716405,2.0428350601337031,4.8564792811645754,1.4612072470725705,5.4101400034633098,2.1853383415211853,3.8440926304110254,3.6336005304184154,8.1072425195740347,3.1167469361697746,3.4486565645188265,1.8498525599475211,7.2214355939457153,5.2502756882281227,6.8497332265144921,4.0352006870558652,8.5660940231529779,2.0700849039099931,7.1424488408665816,4.2165684997308404,7.3956082911170329,3.6478955304322058,4.4850280639816207,3.8681278743946788,4.7065425829507639,2.6530528732224194,3.4411220570708978,2.1102895914487814,7.0162458411137498]
[72,3,3,4.65533086014287,4.6342695273244336,5.2432094414468624,5.1780275934994506,5.7836460278156903,4.8431965470054683,7.0783180032847239,4.5503155586565551,3.7663899666504408,5.0097447548620115,6.5302281984043216,4.0699638913405884,4.215303373244776,7.7484300500539867,9.5691703151455911,6.1726890104536452,6.0112652433991558,7.7034656311693421,5.8978993071070764,10.853488337810498,9.0349869176661457,8.2939787661601088,4.4640190623753142,8.0608451304744015,4.4250668915521878,8.3901129442637519,5.0276161531151029,3.0823210071374127,1.8793185899618712,9.0944817734747403,3.1177625671317633,4.4895924347458687,3.0815771167582304,3.4608430891380983,3.1780716510876506,3.9349073364144469,1.9382000698979822,4.4939142315201295,4.3938195986949644,3.035084550627035,1.9020146195244489,4.501246788556692,1.3604806380722692,5.0144093913217844,2.0346946042274028,3.562912267465248,3.3831225365376705,7.5142293918181817,2.9018976390413784,3.1964008054313933,1.7223351418075967,6.6932157833117296,4.8883540871332452,6.3487019923875563,3.7570388570641766,7.9395176999387607,1.927386027257616,6.6200066027403439,3.9259042921406611,6.8546484279103179,3.3964321274796587,4.1569657772209849,3.6014830129296787,4.3622773742447105,2.4701677828606079,3.1894174177775261]
[73,2,6,2.7688210042228172,2.7676867818310424,4.2965926223900839,4.2754021714060766,4.8391694770058189,4.777052842161611,5.3379602009353153,4.4681503549855943,6.5328651873544183,4.1979494082846278,3.476153216585272,4.6218014461263284,6.0270109993700034,3.7547950881976599,3.890473506337143,7.148409143158954,8.8317732538535285,5.6946899275287635,5.5480391559593887,7.1069266672257054,5.4434091607697574,10.013018736438497,8.3387538501707965,7.6517117999628912,4.1200232477186054,7.436631506000376,4.0840727181402228,7.7404015646361053,4.6401897353050048,2.8436330362714548,1.7344989285042789,8.3902256640164588,2.8775088273513587,4.1419285458182626,2.8441118156708587,3.1928432239329423,2.9331705134855248,3.6301970075747532,1.7888430213065551,4.1459156724202231,4.0552333312108289,2.8000544641700182,1.7554460096260547,4.1526804128159291,1.2556424555109864,4.6261048636835822,1.8779017191212215,3.2870083958290781,3.1224202463416924,6.9323444544604982,2.6782783783607904,2.9488787528755216,1.589612572315986,6.1749082838049274,4.5116591575109943,5.8570728620384811,3.4675227003735261,7.3246993974113694,1.7788623051721526,6.1073682566795586,3.6233754215491909,6.3238399493421076,3.1347042046609559,3.8350597447128423,3.323953937517123,4.0244724757925709]
[74,3,3,1.8282754642493066,5.5094195260701984,2.5310837534593511,2.5413912663110558,3.9276774356951885,3.9258307008245938,4.4236674110769441,4.3864647009457194,4.8796308322546675,4.1028191351958538,5.9719385666442664,3.8547107399096938,3.1776828179270793,4.2439071888179791,5.509518166454435,3.4477902292181097,3.5564286279740838,6.5639308189431125,8.0734571729168341,5.2290726469403754,5.0716719317674919,6.5258400917937163,4.9760257052526287,9.1943201569068336,7.6227695333408532,7.0260817330962162,3.766268707970335,6.8285871378912155,3.7334049723928717,7.1075199199717449,4.2417725212598123,2.6111278958353727,1.5855709168755427,7.7042121835779289,2.6304393936036417,3.8032703343197793,2.5999099250862887,2.9317854669361791,2.6813218411325623,3.3333797128356579,1.6352489026241872,3.8069314598454054,3.7070418006293702,2.5711124564930543,1.604719434106834,3.8131430919828886,1.1478301466402441,4.2478587442711069,1.7166608186704613,3.0182513730562337,2.8543221627308961,6.3655323164748543,2.4483153227932273,2.7077683635176557,1.4531248318137719,5.670026711747914,4.1242778703665248,5.3781785986217781,3.169793337410209,6.7258069804488017,1.6261251534121046,5.6080089877086108,3.3122641904911871,5.8067812161080301,2.8655513925303815,3.5214921735277871]
[75,2,4,2.7138059980961358,2.7416298505898622,1.6538616403505886,5.034929677365569,2.2896234239405562,2.3225180525822533,3.5529848611921508,3.5877248792476082,4.0016583845876719,4.008687520890506,4.4141238070225191,3.7494704708747455,5.4022275674736164,3.5227300099752501,2.8745382304458462,3.8784075439987591,4.9839211489145567,3.150854870332144,3.2171524474656263,5.9986228901403988,7.3032655004113254,4.7787272199182258,4.5878445696021455,5.9638126652792458,4.5013228018650464,8.4024741993519463,6.8955725605616296,6.4209718040469124,3.4069742033772261,6.2404861115321824,3.3772456024672382,6.4953962587522014,3.8371159035847491,2.3862487276433848,1.4343106215412125,7.0406993659251178,2.3795007346633081,3.4757198261446636,2.3518837164029485,2.6792901838925887,2.425529098430574,3.0462977746869675,1.4792494267738812,3.4790656431539349,3.3533974245803617,2.3496795533149286,1.451632408513521,3.4847423085169371,1.0383294455826206,3.8820187781276112,1.5528948088015069,2.7583093536516028,2.5820255352392802,5.8173111379139648,2.2147509360756459,2.4745661913009553,1.3144996281862176,5.1817048288566534,3.730830007471944,4.9149916625950061,2.8674013905963314,6.1465577289680331,1.470996064994923,5.1250282810260543,2.9962808091446753,5.3066815726420922]
[76,3,2,1.7885441545414769,3.6379283048807567,2.4268809272272209,2.4934632087417148,1.4790022846347117,4.579178296593085,2.0475462954950618,2.1122885405213783,3.1773351523297908,3.2629714720849421,3.578571356113085,3.6458294494174601,3.9474276662362482,3.4100761885774538,4.8310612686538796,3.2038598034354582,2.5706192745349594,3.5273421455440364,4.4569815187933859,2.8656460293381731,2.877009602091726,5.4556400005868415,6.5311064099125549,4.3461667536611603,4.1027812934533872,5.4239807250064285,4.0254072924899953,7.6418996802131796,6.1665179977045534,5.83975876769588,3.0467618980619711,5.6756102653395439,3.0201764403718436,5.9074464752828009,3.4314256098273201,2.1702504471948902,1.2826639389771439,6.4033898773637459,2.127921064854605,3.1611048838417237,2.1032239365668888,2.436766399243004,2.1690829453341305,2.7705532249072453,1.3228514576826278,3.1641478444419686,2.9988496807938243,2.1369914386009881,1.2981543293949116,3.1693106698423188,0.92854903019254431,3.5306264982572619,1.3887104664498697,2.5086329178166276,2.3090333389645212,5.2907402117288242,1.9805899202416803,2.2505735974086787,1.1755203130697021,4.7126676661087288,3.3363771007259397,4.4700968219018256,2.5642369979375852,5.5901840849490974,1.3154707067000919,4.6611213617147627]
[77,1,2,2.6492454638885192,1.810105383295846,1.5794308294611112,3.2925168043544946,2.1431344292847592,2.256715588596756,1.306080031216422,4.1443976428673226,1.8081509118140113,1.9117324291359363,2.8058469131877448,2.9531611135808626,3.160171310794659,3.2996677564845376,3.4859016129348079,3.086298633196515,4.2662223839162685,2.899661938761847,2.2700671508153789,3.19243050318779,3.9358793570994468,2.5935606521626964,2.5406348793017393,4.9376416671931969,5.7675013435446889,3.9335099187517488,3.6230915770026857,4.9089883546135207,3.5547640033109618,6.9163218748803406,5.4455399444685675,5.2852893912777139,2.6905400459963502,5.1367263473901366,2.6670629115993605,5.3465503332207343,3.0302295771686412,1.9641910087838441,1.1326972073428596,5.795405244179122,1.8791284095262963,2.860966483702347,1.8573188244971948,2.2054019885520981,1.9154777179081313,2.5074966535561356,1.1681860745546724,2.8637205233841772,2.6482296379088575,1.9340898535343913,1.1463764895255706,2.8683931524092725,0.81998476874522719,3.1954030154512161,1.2263449679656089,2.2704449746265216,2.0390653664063731,4.7883986694350744,1.7490229540078652,2.0368876920864736,1.0380806190362399,4.2652125560538403,2.9462939666399079,4.0456731605890734,2.2644310783737538,5.0594111528905623]
[78,1,1,0.87095957800827128,1.8011763737440321,2.3073857112686715,1.6301595251896817,1.3756204087207031,2.9652017390792587,1.866583458144851,2.0323714002201672,1.1375429128332846,3.7323955588665392,1.5748263551288022,1.7216836421399677,2.4437792434658085,2.6595820128207328,2.7523814712835617,2.9716418020924626,3.0360793977800524,2.7794840902160307,3.7157072471851542,2.6114012879713266,1.977136727724601,2.8750651985808098,3.4279918239508,2.3357300852738061,2.2127902823497378,4.44678175648124,5.0232605363358198,3.5424725657717286,3.1555663109915812,4.4209769216572319,3.0960557562427082,6.2287577771217482,4.7428451720615286,4.7598691899846974,2.343351623075336,4.6260750676537965,2.3229039880080902,4.8150400706152343,2.6392074737989817,1.7689272192709582,0.98653348171848432,5.2192735010438485,1.636644886584377,2.5765526182591039,1.6176496196108952,1.9861589781940727,1.6683036648735123,2.258221864813768,1.0174428505292763,2.5790328738627371,2.3065009679020956,1.7418184744421006,0.99844758355579433,2.583240988364373,0.7141735881595529,2.8777422080105834,1.0680968957918937,2.0447359230915794,1.7759435110565758,4.3123752757269074,1.5233282939494703,1.8343969934780826,0.90412625789436851,3.8412000424802852,2.5661029498730099,3.6434854563716921]
[79,0,1,0.85782772627359427,0.89608828342743896,0.74713327447904454,1.614013044898349,1.9793394383337846,1.4607668506401108,1.1800453274284333,2.6570825363875894,1.6012070438003003,1.8211841993103102,0.97581585045441788,3.3445559294169138,1.3509297114958723,1.5427805394903047,2.0963415919368789,2.3832202805030236,2.3610691393487477,2.6628534013982561,2.6044330865837657,2.4906631272155599,3.1874366993511569,2.3400460974784294,1.6960427036760088,2.5763122385382466,2.9406264320241862,2.0930203626628305,1.8981928566283803,3.9847090309417261,4.3090921643648317,3.1743681605511838,2.7069322736634618,3.9615856208001521,2.6558824697939558,5.5815168643863373,4.0685440900172347,4.2652630117925421,2.010191994682252,4.1453716663803641,1.9926514463848446,4.3147009915119394,2.2639853464132571,1.5851149554245858,0.84627577351533989,4.6769298322887014,1.4039593617759807,2.3088186128562738,1.3876646950981588,1.7797737893839227,1.4311171395723494,2.0235661544392793,0.87279068708285346,2.3110411408425948,1.978580480943299,1.5608231268050223,0.85649602040503159,2.3148119829428317,0.61263790529556361,2.5787110753228917,0.91624313155704429,1.8322639033855532,1.5234535840800063,3.8642689583210532,1.3067532467669076,1.64378165301023,0.77558457207377951,3.4420543523675642]
[80,1,2,0,0.89155270064123793,0.72366534015054629,0.7989099291027042,0.6302832592767319,1.4389776890493107,1.6697750656037533,1.3023506306953867,0.99548881099490116,2.3689291111430255,1.3507817531577766,1.6236816912602576,0.82320037895134202,2.9818478713173149,1.1396472499623296,1.3754701564793272,1.7684783374755288,2.1247664773054393,1.9918030736404795,2.3740741414283217,2.1971054301185671,2.2205574374565837,2.6889285489340944,2.0862744178318833,1.4307853225929614,2.2969181339638469,2.4807188693126472,1.8660379568291499,1.6013196323584464,3.5525780978056263,3.6351595446922764,2.8301165063689666,2.2835739678113272,3.5319623590458709,2.2405082419664364,4.9762164341182533,3.432232664721282,3.8027067571088211,1.6958023494051475,3.6958173043230822,1.6810051046189352,3.8467833214418965,1.9099029742546041,1.413213519335605,0.71392008761770964,4.1697294226865633,1.1843831785557355,2.0584334695827677,1.1706369622201203,1.5867621284557261,1.2072935391150932,1.8041158699165438,0.73628812651201003,2.0604149704112231,1.6691348074944341,1.3915560739263191,0.72254191017639491,2.0637768748693808,0.51682267260201897,2.2990568233775948,0.77294470340698329,1.6335598313508461,1.2851887650169125,3.4451994257952383,1.1023798880018949,1.4655179720057889]
[81,{"$f":"B231","v":0},0,{"$f":"H231","v":0.82819185089382441},1.7739623112300553,{"$f":"N231","v":0},0.79079044470646398,{"$f":"T231","v":0.59933373748698993},0.70861805214783635,{"$f":"Z231","v":0.52199545908778877},1.2763460935371995,{"$f":"AF231","v":1.3828941021587295},1.1551604674301541,{"$f":"AL231","v":0.82445572092195973},2.1011954805717212,{"$f":"AR231","v":1.118706440301344},1.4401750628649859,{"$f":"AX231","v":0.68176784550020963},2.6448428707692422,{"$f":"BD231","v":0.94384656531235867},1.2200161089080166,{"$f":"BJ231","v":1.4646393475794917},1.88462782545245,{"$f":"BP231","v":1.6495950741743171},2.1057590254798475,{"$f":"BV231","v":1.8196248127787682},1.9695926019847851,{"$f":"CB231","v":2.2269487118629732},1.850486094058593,{"$f":"CH231","v":1.1849647445499825},2.0373231008163657,{"$f":"CN231","v":2.0545111519232764},1.6551405033698243,{"$f":"CT231","v":1.3261998701955602},3.1510698266042709,{"$f":"CZ231","v":3.0106095116130485},2.5102600093443108,{"$f":"DF231","v":1.8912373510546177},3.1327840548152857,{"$f":"DL231","v":1.8555706678570516},4.4138102033247009,{"$f":"DR231","v":2.8425471232937616},3.3729292338854564,{"$f":"DX231","v":1.4044496865039451},3.2781203035305038,{"$f":"ED231","v":1.3921947289563228},3.4120243158531478,{"$f":"EJ231","v":1.5817660792755408},1.2534937605110752,{"$f":"EP231","v":0.59126279875439225},3.6984714219365102,{"$f":"EV231","v":0.98089649681558555},1.8257916976071742,{"$f":"FB231","v":0.96951199246580533},1.4074281063838208,{"$f":"FH231","v":0.99987067073188485},1.600216779161987,{"$f":"FN231","v":0.60978782628712791},1.8275492515018497,{"$f":"FT231","v":1.3823638456101226},1.2342840145542773,{"$f":"FZ231","v":0.59840332193734791},1.8305311974032137,{"$f":"GF231","v":0.42802832580615913},2.0392200780240737,{"$f":"GL231","v":0.64014650455320765},1.4489367869778631,{"$f":"GR231","v":1.064382862047305},3.0558269680160901]
[82,0,{"$f":"C232","v":0},0,{"$f":"I232","v":0},0.6720760826665384,{"$f":"O232","v":1.5652970907631407},0,{"$f":"U232","v":0.69777242428787545},0.48635816696992717,{"$f":"AA232","v":0.62526569390312492},0.42359830386500413,{"$f":"AG232","v":1.1262137951709765},1.1222158850252328,{"$f":"AM232","v":1.019282826690515},0.66904422043182321,{"$f":"AS232","v":1.8540389229481453},0.90782810919971757,{"$f":"AY232","v":1.2707721138275285},0.55325328593522793,{"$f":"BE232","v":2.3337388990356285},0.7659296593763758,{"$f":"BK232","v":1.0765097171843063},1.1885519933311861,{"$f":"BQ232","v":1.6629453927386255},1.3386432071754641,{"$f":"BW232","v":1.8580656734168766},1.4766220106794665,{"$f":"CC232","v":1.7379160483616225},1.8071645657378457,{"$f":"CI232","v":1.6328196383829061},0.9615965947450571,{"$f":"CO232","v":1.7976796364073555},1.6672318198846083,{"$f":"CU232","v":1.4604518925391317},1.0762086256124861,{"$f":"DA232","v":2.7804200806019992},2.4431037866646625,{"$f":"DG232","v":2.2149865669700435},1.5347354467659207,{"$f":"DM232","v":2.7642852026497104},1.5057920024428955,{"$f":"DS232","v":3.8946285536665162},2.306721484106014,{"$f":"DY232","v":2.9761829119638872},1.1397081999649241,{"$f":"EE232","v":2.8925260372244965},1.1297633256547486,{"$f":"EK232","v":3.0106793709245858},1.283600109210205,{"$f":"EQ232","v":1.1060495052215811},0.47980861582306222,{"$f":"EW232","v":3.263432667300374},0.79599560701988215,{"$f":"FC232","v":1.611029960733692},0.78675710379355501,{"$f":"FI232","v":1.2418770717024383},0.81139311239709322,{"$f":"FO232","v":1.4119886612899895},0.49484163978007634,{"$f":"FU232","v":1.6125807794747551},1.1217855828632259,{"$f":"GA232","v":1.0890993370753226},0.48560313655374937,{"$f":"GG232","v":1.615211969108644},0.34734415723561585,{"$f":"GM232","v":1.7993534785660485},0.51947764838361477,{"$f":"GS232","v":1.2785032258005029}]
[83,0,0,0,0,0,0,0.53323452093551171,1.3739067065539765,0,0.61245511732865321,0.38588334097281068,0.54881385476338351,0.33608879181410106,0.98851054878319511,0.89038170717728016,0.8946541328985963,0.53082899922752824,1.6273437965751765,0.7202834610335177,1.1153935824656853,0.43895885970405057,2.0483903941632788,0.60769925536913627,0.94488383632589745,0.943013699068594,1.4596154565155053,1.0620981577705608,1.6308781923823725,1.1715724614740854,1.5254193778049561,1.4338295266206926,1.4331732071856087,0.76294412605441941,1.577875614329187,1.3228049378536137,1.2818810317859242,0.8538789070252859,2.440455437065959,1.9383925583381389,1.9441580242147163,1.2176804707466786,2.4262933861946627,1.1947163390570383,3.4184285660495912,1.8301849407118678,2.612282158324966,0.90426035338636923,2.5388540903038606,0.89636995165162769,2.6425607019945012,1.0184261975099629,0.97081176600396779,0.38068683590706798,2.8644096091722551,0.63155399682124636,1.4140477744274675,0.62422403973884855,1.0900315649955921,0.64377059195857522,1.2393434465394004,0.39261424641113712,1.4154089730660961,0.8900402994510821,0.9559341112566454,0.38528428932873948,1.4177184446070243,0.27558769023354845,1.5793447941935792]
[84,2,0,0,0,0,0,0,0,0.41262947442602282,1.1994863434642584,0,0.53470264444892146,0.29860564896664898,0.47914077480834616,0.26007345001487858,0.86301704328220297,0.68899840772975462,0.78107589796058996,0.41076802487781239,1.4207490587254916,0.55737236486975505,0.97379200739981442,0.33967673971399509,1.7883428999665443,0.47025204578301838,0.82492883426979957,0.72972628692633423,1.2743141862892673,0.82187665543640787,1.4238347555074531,0.90659045888838508,1.3317641605535804,1.1095311739158036,1.2512288364540949,0.59038419567800127,1.3775609668725211,1.0236177232431953,1.1191435228012561,0.66075167828813786,2.1306344562040405,1.4999739723811145,1.6973430499011763,0.94226992615093552,2.1182703076526637,0.92449973832978305,2.9844518274236269,1.4162403605517706,2.2806474116756434,0.69973803216546093,2.2165411922372127,0.69363225282637275,2.3070820301678174,0.7880822604713752,0.84756515842106039,0.29458447053587572,2.5007667492268193,0.4887114084864756,1.2345314178471403,0.48303931446456416,0.9516497517044612,0.49816489852299395,1.0820061739960174,0.30381418266877169,1.235719809438788,0.68873421836260906,0.83457625341967978,0.29814208864686043,1.2377360886815838]
[85,0,0,1.5052035101357024,0,0,0,0,0,0,0,0.31054566664574978,1.0415495163297037,0,0.46429814206766118,0.22473113548547471,0.41605212512395962,0.1957317349277487,0.74938325801927197,0.51854141089636818,0.6782313347462321,0.30914473644879636,1.2336784849651865,0.41947942002729638,0.84557244010275801,0.25564131046447836,1.5528711040696528,0.35391251498054715,0.71631013810349231,0.54919328425990543,1.1065247483755243,0.61854581333073622,1.2363578868677625,0.68230157048716722,1.1564102624826154,0.83503510879152698,1.0864790554119159,0.4443241818315854,1.1961769857394851,0.77037649503138672,0.97178546569413449,0.49728287274368072,1.8500929997464741,1.1288830441701232,1.4738532391826535,0.70915400016884855,1.8393568433794727,0.69578012562676395,2.5914879100538943,1.0658649809491889,1.9803536918051938,0.5266240710954504,1.9246883628803273,0.52202885084879558,2.0033076539364889,0.59311209236859641,0.73596592876729883,0.22170478954103376,2.1714898317124622,0.36780506374860306,1.0719801923204026,0.36353623583280265,0.82634566371167617,0.37491977694160322,0.93953800585715941,0.22865108709102233,1.0730121079351449,0.51834258151498425,0.72468727787180942]
[86,0,0,0,0,1.0982151450011794,0,0,0,0,0,0,0,0.22657796904426755,0.89945501684000906,0,0.40095577468451005,0.16396662303903986,0.3592917718673615,0.14280830080952345,0.64714785076812231,0.3783342431252571,0.58570290423185756,0.22555583300151741,1.0653725867779686,0.30605738625254419,0.73021432147765442,0.18651906997926648,1.3410190136550302,0.25821895932334943,0.61858676637952126,0.40069823000398819,0.95556593381292521,0.4512986951615896,1.0676864484289204,0.4978156861323968,0.99864576365085922,0.60925196952263649,0.93825499581192817,0.3241844325314604,1.0329872694322868,0.56207624317865146,0.83920860094192928,0.36282375009048995,1.5976920963936032,0.82364706678826027,1.2727812449476428,0.51740755178905018,1.5884206315669405,0.5076498070916976,2.2379414182746813,0.77766830645994278,1.7101818351264648,0.3842314522287158,1.6621107078487567,0.3808787225576048,1.7300042785836931,0.43274193697821428,0.6355609949162675,0.1617585635123262,1.8752420240504117,0.26835513516735271,0.92573415552380311,0.2652405453879858,0.71361057848561671,0.27354611813296381,0.81136053507855621,0.16682666833649998,0.92662529095431645]
[87,0,0,0,0,0,0,0.77392139564755436,0,0,0,0,0,0,0,0.1596713893665522,0.77243447516622299,0,0.34433302120142162,0.11554865029825634,0.30855278589576579,0.10063820370319465,0.55575798800835419,0.26661530465457717,0.50299026295179516,0.15895108155041293,0.91492125733587493,0.21568119925768936,0.62709385751281099,0.13144154823423304,1.1516410477532546,0.18196905978925562,0.53123028421345564,0.28237539320936811,0.8206214393741057,0.31803396411274448,0.91690835671994342,0.35081487661182786,0.85761755938911444,0.429344957315694,0.80575514249534397,0.22845548034368873,0.88710937665407197,0.39609982849097286,0.72069602491178753,0.25568493051860969,1.3720668992327538,0.580430975070099,1.0930397791281883,0.36462142816172499,1.3641047455582256,0.35774506388199223,1.9219005648008332,0.54802935820531096,1.4686708990692006,0.27077111722058339,1.4273883498875219,0.26840842058677178,1.4856940279880755,0.30495686145454304,0.54580742155290451,0.11399261228661038,1.6104213790990265,0.18911210766236761,0.79500248837087617,0.18691723020152667,0.61283488595366875,0.19277023676376887,0.69678064755901969]
[88,0,0,0,0,0,0,0,0,0.52450988348680505,0,0,0,0,0,0,0,0.10821411877720741,0.65961977021075247,0,0.29404289376387455,7.8310807073999428E-2,0.2634883919269071,6.8205547482657697E-2,0.47458906629455283,0.18069323728046388,0.4295281118765597,0.1077259444343832,0.78129623796886216,0.1461736570783001,0.53550627204224832,8.9081903585282673E-2,0.98344290384087429,0.12332592287154136,0.45364365427432063,0.19137432486649519,0.70076898775586194,0.21554121439173768,0.78299311981611941,0.23775782798089801,0.73236179331744444,0.29098003337777806,0.68807392604341899,0.15483117284375975,0.75754630585907134,0.26844880637665847,0.61543776414409279,0.17328539289631101,1.1716753742651496,0.39337558674342915,0.93340039980037737,0.2471149445892738,1.164876099833432,0.24245462501746812,1.6412053703960261,0.37141603325116002,1.2541702786514977,0.18350975686119608,1.2189170805092566,0.1819084860563254,1.2687071652700292,0.20667846730892947,0.46609178844144028,7.7256233158897153E-2,1.375217981816762,0.12816698196195686,0.67889170610015348,0.12667944727467736,0.52332983527554522]
[89,0,0,0,0,0,0,0,0,0,0,0.34014733184893831,0,0,0,0,0,0,0,7.0177407384120691E-2,0.56006959728086236,0,0.24966578100140166,5.0784957385513169E-2,0.22372258112811688,4.4231645053654595E-2,0.40296382740099657,0.11718048501872147,0.36470349662602108,6.9860823835523098E-2,0.66338258663239269,9.4794361378390049E-2,0.4546873754682208,5.7770068352430856E-2,0.83502116822074257,7.9977489334799257E-2,0.38517950830561065,0.12410722473901267,0.59500855263016694,0.13977957572781169,0.6648233741523345,0.15418716283529441,0.62183335486766622,0.18870203420534046,0.58422943650623416,0.1004088044628268,0.64321700713812069,0.17409041869722891,0.52255556349605248,0.11237646019220907,0.99484549227340446,0.2551060722741445,0.79253110598999388,0.16025530063086843,0.98907236802099252,0.15723305964395867,1.3935137671195095,0.24086518994923159,1.0648902210155753,0.11900701231715406,1.0349574546279352,0.11796858004162943,1.0772331928333503,0.13403203908840916,0.39574896332308124,5.0101060828455148E-2,1.1676693392671129,8.3116940820405633E-2,0.57643300216933435]
[90,0,0,0,0,0,0,0,0,0,0,0,0,0.20981851617919264,0,0,0,0,0,0,0,4.328865202793411E-2,0.47279459422729919,0,0.21076064866596339,3.1326497094453579E-2,0.18886014787713665,2.7284112689862628E-2,0.34017043629810262,7.2282311779841735E-2,0.30787216899064618,4.3093368736860135E-2,0.56000843892805152,5.8473521278129784E-2,0.38383396318684404,3.5635234753688141E-2,0.70490077718350275,4.9333793238211347E-2,0.32515742725220154,7.65550433699176E-2,0.50228905223269649,8.6222470162992337E-2,0.56122471018106346,9.5109732433087152E-2,0.52493377630034832,0.11640009228278581,0.49318963341280997,6.1936767956402156E-2,0.54298523856038106,0.10738697591280534,0.44112632930588808,6.9318968350664159E-2,0.83981986010640064,0.15736115659620731,0.6690318926223483,9.8852838872633353E-2,0.83494635518559324,9.6988581652203476E-2,1.1763641148780786,0.14857672550202866,0.89894959909633654,7.3408997811552593E-2,0.87368122136783088,7.2768445031030055E-2,0.90936917977073162,8.2677125259623979E-2,0.33407985621540537,3.0904638248635263E-2,0.98571276521836193]
[91,0,0,0,0,0,0,0,0,0,0,0,0,0,0,0.12222980344507464,0,0,0,0,0,0,0,2.5217809777368611E-2,0.3967805315754549,0,0.17687537724398139,1.8249254890391232E-2,0.15849595317513993,1.5894363338300528E-2,0.28547916619310243,4.2108069975388643E-2,0.25837368777247216,2.5104047471168265E-2,0.46997247599194969,3.406375730187329E-2,0.32212264228378923,2.0759310565052699E-2,0.59156959172921131,2.8739407562851291E-2,0.27287988992702072,4.4597150309854977E-2,0.42153298616947943,5.0228911025043732E-2,0.47099319991773553,5.5406186797553665E-2,0.44053698021392657,6.7808888651955793E-2,0.4138965362598036,3.608127209740028E-2,0.45568619908973851,6.2558296557455276E-2,0.37020376622532286,4.0381773881581137E-2,0.70479691305531733,9.1670761908435691E-2,0.56146756590877367,5.7586733932816922E-2,0.70070695116335902,5.6500710650536162E-2,0.98723290098197758,8.6553390450612291E-2,0.75442000425560585,4.2764421067313804E-2,0.73321417730753846,4.2391266963065923E-2,0.76316436556865463,4.8163569897983156E-2,0.28036780571580033]
[92,0,0,0,0,0,0,0,0,0,0,0,0,0,0,0,0,6.6663880408782017E-2,0,0,0,0,0,0,0,1.375374096813748E-2,0.3310091837098828,0,0.14755606583679881,9.9531056360497149E-3,0.13222326174500318,8.6687526846456059E-3,0.2381574151144728,2.2965653727368789E-2,0.2155450095852654,1.3691695243103036E-2,0.39206864567301547,1.8578302337418681E-2,0.26872677561436981,1.132208477696937E-2,0.4935095149158979,1.5674413071032109E-2,0.22764662685676337,2.4323192961400841E-2,0.35165860861349829,2.7394743534391214E-2,0.39292017181046474,3.0218418965539052E-2,0.36751245237670638,3.6982826743869317E-2,0.34528799602067123,1.9678650707956609E-2,0.38015049828590003,3.4119164743297042E-2,0.30883785043083717,2.2024135430651209E-2,0.58796798811012418,4.9997042755550135E-2,0.46839727728852826,3.1407684834858909E-2,0.58455598868090264,3.081536999698346E-2,0.82358666991059337,4.720603901295678E-2,0.62936542977932297,2.3323626246877373E-2,0.61167473452242127,2.3120108775045674E-2,0.63666030356963677]
[93,0,0,0,0,0,0,0,0,0,0,0,0,0,0,0,0,0,0,3.3675356857775313E-2,0,0,0,0,0,0,0,6.9477224006662943E-3,0.27447661169041743,0,0.122355182207724,5.027825894349745E-3,0.10964104519297088,4.3790331192419124E-3,0.19748286019418082,1.1601133627369227E-2,0.17873239417307388,6.9163799117619275E-3,0.3251078178806649,9.3848566448255736E-3,0.22283132454044091,5.7193677130772209E-3,0.4092237501477301,7.9179527274210182E-3,0.18876719401586695,1.2286896560371819E-2,0.29159935166209056,1.3838494832447935E-2,0.32581391312054125,1.5264878613460322E-2,0.30474554074851951,1.868192911322052E-2,0.28631676663144667,9.9406992363236663E-3,0.31522515337033646,1.723534605807904E-2,0.25609188783808723,1.1125524280363492E-2,0.48754979952563826,2.5256079398654409E-2,0.38840039467863763,1.5865638009741168E-2,0.48472053046450192,1.5566429301587669E-2,0.68292751293747478,2.3846199768982626E-2,0.52187703297174204,1.1781963970064677E-2,0.50720770555870587]
[94,0,0,0,0,0,0,0,0,0,0,0,0,0,0,0,0,0,0,0,0,1.5542964035835615E-2,0,0,0,0,0,0,0,3.2067425405647113E-3,0.22620869908498725,0,0.10083848828888074,2.3206084313929895E-3,9.0360187874201026E-2,2.021156140128474E-3,0.16275463552608285,5.3545387360457875E-3,0.147301520961058,3.1922763188735321E-3,0.26793618622810944,4.3316093108696236E-3,0.18364546155404735,2.6397916745922595E-3,0.33725996392001406,3.6545553176917881E-3,0.15557165736370621,5.6710547168499345E-3,0.24032033034532724,6.387199648670472E-3,0.2685181115319043,7.0455514488669373E-3,0.25115470458527334,8.6227015664058996E-3,0.23596671099601968,4.5881601603744524E-3,0.25979143149433914,7.9550267294064558E-3,0.21105700932876481,5.1350197861252736E-3,0.40181203495121465,1.1657020753704566E-2,0.32009848658233636,7.322833787106733E-3,0.39948030522845446,7.1847330919996254E-3,0.56283172296361217,1.1006286495077518E-2,0.43010267426363841]
[null,{"$f":"SUM(B336:B407)","v":231},{"$f":"SUM(C336:C407)","v":406},231.17906141640375,410.03191034193236,231.05140180263757,413.69536707817184,230.63258281842721,417.03165538669668,229.94210599009304,420.07467357778404,229.00285914337397,422.86046676506231,227.83779154241904,425.42030158962081,226.48041874219649,427.77885115386124,224.96889421856889,429.96984410818322,223.34186422565264,432.01038399048662,221.63811802546013,433.91294904071225,219.89466813160956,435.68464077252594,218.17226229090301,437.33625171697827,216.49442585126394,438.88354241569567,214.90198534792646,440.35259619564937,213.4328465712446,441.5849832494967,212.12052219969121,442.92412765984329,210.98669546252984,444.25849060514139,210.05314078220761,445.52966641493674,209.33460830996614,446.83191586594933,208.84442329336997,448.05118636704765,208.58222064334041,449.36390357172212,208.54407966607357,450.54494928522161,208.71301320359973,451.87491820805684,209.07160164375003,453.09969404181044,209.59774765611215,454.27551093632576,210.26036110584178,455.43839282684922,211.02824711146462,456.57514479626269,211.87352712591166,457.64806391098102,212.7606189043089,458.71630016023209,213.66872153007805,459.57189478675707,214.57070544935087,460.46467487343847,215.45410769888176,{"$f":"SUM(BO336:BO407)","v":461.24372750043904},216.29985988300521,461.84920547895791]
[]
[]
["Očekávaná zkrácená věková struktura (fyzický počet lékařů)"]
["Věk",{"$f":"B327","v":2017},null,{"$f":"B412+1","v":2018},null,{"$f":"D412+1","v":2019},null,{"$f":"F412+1","v":2020},null,{"$f":"H412+1","v":2021},null,{"$f":"J412+1","v":2022},null,{"$f":"L412+1","v":2023},null,{"$f":"N412+1","v":2024},null,{"$f":"P412+1","v":2025},null,{"$f":"R412+1","v":2026},null,{"$f":"T412+1","v":2027},null,{"$f":"V412+1","v":2028},null,{"$f":"X412+1","v":2029},null,{"$f":"Z412+1","v":2030},null,{"$f":"AB412+1","v":2031},null,{"$f":"AD412+1","v":2032},null,{"$f":"AF412+1","v":2033},null,{"$f":"AH412+1","v":2034},null,{"$f":"AJ412+1","v":2035},null,{"$f":"AL412+1","v":2036},null,{"$f":"AN412+1","v":2037},null,{"$f":"AP412+1","v":2038},null,{"$f":"AR412+1","v":2039},null,{"$f":"AT412+1","v":2040},null,{"$f":"AV412+1","v":2041},null,{"$f":"AX412+1","v":2042},null,{"$f":"AZ412+1","v":2043},null,{"$f":"BB412+1","v":2044},null,{"$f":"BD412+1","v":2045},null,{"$f":"BF412+1","v":2046},null,{"$f":"BH412+1","v":2047},null,{"$f":"BJ412+1","v":2048},null,{"$f":"BL412+1","v":2049},null,{"$f":"BN412+1","v":2050}]
[null,"Muži","Ženy","Muži","Ženy","Muži","Ženy","Muži","Ženy","Muži","Ženy","Muži","Ženy","Muži","Ženy","Muži","Ženy","Muži","Ženy","Muži","Ženy","Muži","Ženy","Muži","Ženy","Muži","Ženy","Muži","Ženy","Muži","Ženy","Muži","Ženy","Muži","Ženy","Muži","Ženy","Muži","Ženy","Muži","Ženy","Muži","Ženy","Muži","Ženy","Muži","Ženy","Muži","Ženy","Muži","Ženy","Muži","Ženy","Muži","Ženy","Muži","Ženy","Muži","Ženy","Muži","Ženy","Muži","Ženy","Muži","Ženy","Muži","Ženy","Muži","Ženy"]
["–29",{"$f":"SUM(B336:B342)","v":3},{"$f":"SUM(C336:C342)","v":4},{"$f":"SUM(D336:D342)","v":0.69368770764119603},{"$f":"SUM(E336:E342)","v":5.1796208530805687},{"$f":"SUM(F336:F342)","v":1.213953488372093},3.747156398104265,1.4837209302325582,4.5085308056872035,1.5415282392026579,4.7473933649289091,1.5415282392026579,4.7623222748815159,1.5415282392026579,4.7623222748815159,1.5415282392026579,4.7623222748815159,1.5415282392026579,4.7623222748815159,1.5415282392026579,4.7623222748815159,1.5415282392026579,4.7623222748815159,1.5415282392026579,4.7623222748815159,1.5415282392026579,4.7623222748815159,1.5415282392026579,4.7623222748815159,1.5415282392026579,4.7623222748815159,1.5415282392026579,4.7623222748815159,1.5415282392026579,4.7623222748815159,1.5415282392026579,4.7623222748815159,1.5415282392026579,4.7623222748815159,1.5415282392026579,4.7623222748815159,1.5415282392026579,4.7623222748815159,1.5415282392026579,4.7623222748815159,1.5415282392026579,4.7623222748815159,1.5415282392026579,4.7623222748815159,1.5415282392026579,4.7623222748815159,1.5415282392026579,4.7623222748815159,1.5415282392026579,4.7623222748815159,1.5415282392026579,4.7623222748815159,1.5415282392026579,4.7623222748815159,1.5415282392026579,4.7623222748815159,1.5415282392026579,4.7623222748815159,1.5415282392026579,4.7623222748815159,1.5415282392026579,4.7623222748815159,1.5415282392026579,4.7623222748815159]
["30–34",{"$f":"SUM(B343:B347)","v":11},{"$f":"SUM(C343:C347)","v":30},{"$f":"SUM(D343:D347)","v":14.061794019933554},{"$f":"SUM(E343:E347)","v":26.388862559241705},{"$f":"SUM(F343:F347)","v":14.853820598006646},26.732938388625591,12.549501661129568,20.181516587677727,11.05249169435216,20.4957345971564,11.093023255813954,20.242654028436018,8.7867109634551497,21.422274881516586,9.3069767441860467,19.989810426540284,9.5767441860465112,20.751184834123222,9.6345514950166109,20.990047393364929,9.6345514950166109,21.004976303317534,9.6345514950166109,21.004976303317534,9.6345514950166109,21.004976303317534,9.6345514950166109,21.004976303317534,9.6345514950166109,21.004976303317534,9.6345514950166109,21.004976303317534,9.6345514950166109,21.004976303317534,9.6345514950166109,21.004976303317534,9.6345514950166109,21.004976303317534,9.6345514950166109,21.004976303317534,9.6345514950166109,21.004976303317534,9.6345514950166109,21.004976303317534,9.6345514950166109,21.004976303317534,9.6345514950166109,21.004976303317534,9.6345514950166109,21.004976303317534,9.6345514950166109,21.004976303317534,9.6345514950166109,21.004976303317534,9.6345514950166109,21.004976303317534,9.6345514950166109,21.004976303317534,9.6345514950166109,21.004976303317534,9.6345514950166109,21.004976303317534,9.6345514950166109,21.004976303317534,9.6345514950166109,21.004976303317534,9.6345514950166109,21.004976303317534]
["35–39",{"$f":"SUM(B348:B352)","v":10},{"$f":"SUM(C348:C352)","v":26},{"$f":"SUM(D348:D352)","v":11.098338870431894},{"$f":"SUM(E348:E352)","v":34.538151658767774},{"$f":"SUM(F348:F352)","v":12.447176079734218},34.986729857819903,15.930897009966779,42.704028436018959,19.568770764119598,45.122748815165878,18.592026578073089,47.616113744075832,21.653820598006646,44.004976303317534,22.445847176079731,44.349052132701424,20.141528239202657,37.797630331753552,18.644518272425248,38.111848341232225,18.685049833887042,37.858767772511847,16.378737541528242,39.038388625592418,16.899003322259137,37.60592417061612,17.168770764119603,38.367298578199055,17.226578073089701,38.606161137440758,17.226578073089701,38.621090047393366,17.226578073089701,38.621090047393366,17.226578073089701,38.621090047393366,17.226578073089701,38.621090047393366,17.226578073089701,38.621090047393366,17.226578073089701,38.621090047393366,17.226578073089701,38.621090047393366,17.226578073089701,38.621090047393366,17.226578073089701,38.621090047393366,17.226578073089701,38.621090047393366,17.226578073089701,38.621090047393366,17.226578073089701,38.621090047393366,17.226578073089701,38.621090047393366,17.226578073089701,38.621090047393366,17.226578073089701,38.621090047393366,17.226578073089701,38.621090047393366,17.226578073089701,38.621090047393366,17.226578073089701,38.621090047393366,17.226578073089701,38.621090047393366]
["40–44",{"$f":"SUM(B353:B357)","v":20},{"$f":"SUM(C353:C357)","v":51},{"$f":"SUM(D353:D357)","v":17.944186046511625},{"$f":"SUM(E353:E357)","v":41.328909952606637},{"$f":"SUM(F353:F357)","v":18.003986710963453},41.09075829383886,16.083056478405314,37.807819905213265,14.258471760797343,38.972748815165872,15.241196013289036,40.436255924170609,16.33953488372093,48.974407582938383,17.688372093023254,49.422985781990519,21.172093023255812,57.140284360189568,24.809966777408636,59.559004739336487,23.833222591362123,62.052369668246442,26.895016611295677,58.44123222748815,27.687043189368769,58.785308056872033,25.382724252491695,52.233886255924162,23.885714285714286,52.548104265402841,23.92624584717608,52.295023696682463,21.619933554817276,53.474644549763028,22.140199335548175,52.042180094786723,22.409966777408638,52.803554502369664,22.467774086378739,53.042417061611374,22.467774086378739,53.057345971563983,22.467774086378739,53.057345971563983,22.467774086378739,53.057345971563983,22.467774086378739,53.057345971563983,22.467774086378739,53.057345971563983,22.467774086378739,53.057345971563983,22.467774086378739,53.057345971563983,22.467774086378739,53.057345971563983,22.467774086378739,53.057345971563983,22.467774086378739,53.057345971563983,22.467774086378739,53.057345971563983,22.467774086378739,53.057345971563983,22.467774086378739,53.057345971563983,22.467774086378739,53.057345971563983]
["45–49",{"$f":"SUM(B358:B362)","v":21},{"$f":"SUM(C358:C362)","v":53},{"$f":"SUM(D358:D362)","v":23.751495016611297},{"$f":"SUM(E358:E362)","v":61.910663507109007},{"$f":"SUM(F358:F362)","v":21.42591362126246},60.090047393364927,23.061794019933558,67.538151658767774,25.736212624584716,62.374407582938389,23.680398671096341,58.330094786729859,21.624584717607974,48.659004739336488,21.684385382059801,48.420853080568719,19.763455149501663,45.137914691943124,17.93887043189369,46.302843601895731,18.921594684385379,47.766350710900468,20.019933554817275,56.304502369668242,21.368770764119599,56.753080568720378,24.85249169435216,64.470379146919427,28.490365448504978,66.88909952606636,27.513621262458468,69.382464454976301,30.575415282392022,65.771327014218002,31.36744186046511,66.115402843601899,29.063122923588036,59.563981042654028,27.566112956810631,59.8781990521327,27.606644518272425,59.625118483412315,25.300332225913621,60.804739336492887,25.820598006644516,59.372274881516582,26.090365448504983,60.133649289099516,26.148172757475081,60.372511848341226,26.148172757475081,60.387440758293835,26.148172757475081,60.387440758293835,26.148172757475081,60.387440758293835,26.148172757475081,60.387440758293835,26.148172757475081,60.387440758293835,26.148172757475081,60.387440758293835,26.148172757475081,60.387440758293835,26.148172757475081,60.387440758293835,26.148172757475081,60.387440758293835]
["50–54",{"$f":"SUM(B363:B367)","v":20},{"$f":"SUM(C363:C367)","v":42},{"$f":"SUM(D363:D367)","v":18.173421926910301},{"$f":"SUM(E363:E367)","v":41.241010749283731},{"$f":"SUM(F363:F367)","v":20.481727574750831},47.394517688287394,18.098338870431895,47.71871466752085,17.811295681063122,52.180027195322694,23.44717607973422,54.90081151227912,26.198671096345514,63.800050778728718,23.873089700996676,61.991918581447059,25.508970099667774,69.429912684949073,28.183388704318936,64.267164684183811,26.127574750830565,60.218252444064326,24.071760797342193,50.550977431468922,24.131561461794018,50.312147364819637,22.210631229235879,47.037008647760331,20.386046511627907,48.201343950816614,21.368770764119599,49.668242089693365,22.467109634551495,58.196813256205886,23.815946843853816,58.649036888085604,27.299667774086377,66.36781881050176,30.937541528239194,68.785521577826415,29.960797342192684,71.272230975446433,33.022591362126242,67.663000883831202,33.814617940199334,68.000399981678854,31.51029900332226,61.457985929824375,30.013289036544847,61.77108032624929,30.053820598006645,61.520013107903452,27.747508305647838,62.695924590905705,28.267774086378736,61.266575562599556,28.537541528239199,62.027207961562084,28.595348837209297,62.265752517109334,28.595348837209297,62.280660226815648,28.595348837209297,62.280660226815648,28.595348837209297,62.280660226815648,28.595348837209297,62.280660226815648]
["55–59",{"$f":"SUM(B368:B372)","v":28},{"$f":"SUM(C368:C372)","v":56},{"$f":"SUM(D368:D372)","v":26.016866433160168},{"$f":"SUM(E368:E372)","v":47.363676998636898},{"$f":"SUM(F368:F372)","v":21.122868382956},49.909964143867654,25.120609645370827,38.234075543500317,23.179868022853142,38.342527705741666,20.43373009982124,41.424437102967673,18.614024553787782,40.645456532203006,20.900339214727218,46.815454081212522,18.558510890523024,46.925104815385502,18.274047587662285,51.315862924105268,23.891449917092569,54.006500064509225,26.626328750062484,62.584645099219799,24.311904435251392,60.995622434677294,25.947586034631829,67.971477088021473,28.581866679633883,62.813501104061721,26.552886920567005,58.750461246897196,24.513686648879737,49.390897002213094,24.545344108454621,49.344508583040664,22.632759318798694,46.37068160224738,20.812725888663522,47.472276730750792,21.815412816680475,48.873778605111923,22.917424151778089,57.084645098033619,24.254999983324993,57.658383672283726,27.734934355369901,65.269594047052024,31.349243130980263,67.443800075675654,30.388728283164724,69.660645045255521,33.443184487694772,66.102091802377757,34.205932953040268,66.409482563719365,31.91152008443088,60.238824122619313,30.421842041244695,60.522700623018999,30.450398462925349,60.296387094721766,28.170594072524398,61.388756541580214,28.687526821546975,60.065848121666207,28.954991590250618,60.78387576002843]
["60–64",{"$f":"SUM(B373:B377)","v":53},{"$f":"SUM(C373:C377)","v":72},{"$f":"SUM(D373:D377)","v":45.268093074922241},{"$f":"SUM(E373:E377)","v":75.506181567897897},{"$f":"SUM(F373:F377)","v":43.708397790098211},66.600420917716178,37.391858015605919,64.225254638788215,28.629147271370783,57.415706009452535,26.532356986455362,49.274305163564357,24.685375972062182,41.781663423407672,20.083570115946912,43.847283802473513,23.917944913049944,33.777332712861671,22.015148902438643,33.979268263164045,19.336888718241624,36.74334432852789,17.615137898127415,35.980815666382433,19.809898611947187,41.717721065119051,17.717184722185593,41.529275255906114,17.39664783490699,45.526343321617055,22.804406944004146,47.967215568144987,25.388580666207297,55.540628611722816,23.127670002910875,54.265178214529932,24.714469978161159,60.183879214599941,27.127179369097149,55.404800295750832,25.28347126654138,51.669186255935628,23.334558139226662,43.3937636502083,23.233192015557425,43.625798851500619,21.44578299989309,41.195286930795611,19.720696615017928,42.114420034236979,20.816752622029341,43.326095003315572,21.877495025140341,50.588531332976203,23.092029601457227,51.231841622274459,26.472792853450688,58.128569443929479,29.888350122672289,59.807512270566008,28.984232816316197,61.554742108358013,31.910576444223011,58.336079592109201,32.506079591705806,58.627943532405453,30.320005131660633,53.33262321450524]
["65–69",{"$f":"SUM(B378:B382)","v":36},{"$f":"SUM(C378:C382)","v":37},{"$f":"SUM(D378:D382)","v":41.455127327701177},{"$f":"SUM(E378:E382)","v":38.912325635309436},{"$f":"SUM(F378:F382)","v":40.202186837573663},43.429874509267322,42.646420824700016,52.049403616150016,46.237838627708889,57.347533126846898,45.860646417255964,57.681024005229155,39.219739724955346,60.320921588654237,37.807176048528206,52.787865144605504,32.089575931037722,51.255898393009389,24.731447113324393,45.71641428649977,22.926299472089799,39.144360217918859,21.384097046044086,33.279651433237206,17.46848813237774,34.783023043127635,20.835972116355137,26.948956090548961,19.106451695057373,27.200691083571385,16.701636772782493,29.442871209329454,15.228672778281396,28.769010981067829,17.16206505113011,33.591624798615513,15.526139550514069,33.194554000080487,15.175852639210039,36.487554866440355,19.948313599727257,38.487837733560553,22.155679669341119,44.531315491040985,20.112951293518162,43.613327667320746,21.532038967201096,48.132046177804867,23.497252559908425,44.127165159512501,22.016868663956714,41.026917978460908,20.312930359077829,34.418491212982389,20.052258006668698,34.841672482295436,18.553668592863136,33.063859455941873,17.070295046537915,33.748409962420105,18.212187956251597,34.691700823183886,19.139555293360576,40.501279260708756,20.110717710902232,41.126469905452979,23.133830647958902,46.775311760823023]
["70+",{"$f":"SUM(B383:B407)","v":29},{"$f":"SUM(C383:C407)","v":35},{"$f":"SUM(D383:D407)","v":32.716050992580215},{"$f":"SUM(E383:E407)","v":37.662506859998764},{"$f":"SUM(F383:F407)","v":37.591370718920018},39.71295948727969,38.26638536265078,42.064159527372553,41.926481304040642,43.075846365064656,42.580776802632208,48.192448222727997,49.173800793274886,51.04922348463657,51.149134027445967,55.39130584744025,52.698543547081108,62.992259009086567,57.568396701961625,67.005607481822864,56.739958323351694,70.355705255834081,55.727576198172947,73.73712934126965,55.319512639565936,70.616126434827137,51.202985303672875,74.557962774217174,48.652235085172116,72.800053228473644,46.162620252827821,69.69031635818061,43.924465827253016,67.392417619060367,40.425370452858054,65.862170556888586,40.004356652341599,62.656808616891084,36.844764034257906,61.372757655844438,33.359351856268084,60.677299716424429,30.981203201267071,58.440704514958689,30.437288533141508,60.829029633764726,29.529160535620715,58.240621236324017,27.472515650135836,59.824982000638379,29.302972837791913,60.908664445940055,29.860638277118259,63.80017853215697,28.391647812756819,64.992397209923737,29.37939941576499,66.356427571478051,29.766178205481879,64.538749431667398,30.40794880621279,62.915229178227392,29.736026150870728,60.124723896774434,28.535830086354544,61.309630358648626,28.277079024762941,60.843559161335463]
["Celkem",{"$f":"SUM(B414:B423)","v":231},{"$f":"SUM(C414:C423)","v":406},{"$f":"SUM(D414:D423)","v":231.17906141640367},410.03191034193242,231.0514018026376,413.69536707817184,230.63258281842718,417.03165538669691,229.94210599009304,420.07467357778387,229.00285914337408,422.86046676506214,227.8377915424191,425.42030158962069,226.48041874219646,427.7788511538613,224.96889421856886,429.96984410818317,223.3418642256527,432.01038399048662,221.63811802546007,433.91294904071219,219.89466813160956,435.684640772526,218.17226229090303,437.33625171697832,216.49442585126403,438.88354241569573,214.90198534792651,440.35259619564943,213.43284657124457,441.58498324949676,212.12052219969124,442.92412765984341,210.98669546252972,444.25849060514139,210.05314078220755,445.52966641493674,209.33460830996614,446.83191586594933,208.84442329337,448.05118636704771,208.58222064334049,449.36390357172206,208.54407966607366,450.54494928522161,208.71301320359976,451.87491820805678,209.07160164375011,453.09969404181038,209.59774765611212,454.27551093632576,210.26036110584184,455.43839282684922,211.02824711146454,456.5751447962628,211.87352712591172,457.64806391098102,212.76061890430887,458.71630016023204,213.66872153007805,459.57189478675696,214.57070544935084,460.46467487343853,215.45410769888164,{"$f":"SUM(BO414:BO423)","v":461.24372750043915},216.29985988300518,461.84920547895803]
[]
[]
["Očekávaná zkrácená věková struktura (fyzický počet lékařů)"]
["Věk",{"$f":"B412","v":2017},null,{"$f":"B428+1","v":2018},null,{"$f":"D428+1","v":2019},null,{"$f":"F428+1","v":2020},null,{"$f":"H428+1","v":2021},null,{"$f":"J428+1","v":2022},null,{"$f":"L428+1","v":2023},null,{"$f":"N428+1","v":2024},null,{"$f":"P428+1","v":2025},null,{"$f":"R428+1","v":2026},null,{"$f":"T428+1","v":2027},null,{"$f":"V428+1","v":2028},null,{"$f":"X428+1","v":2029},null,{"$f":"Z428+1","v":2030},null,{"$f":"AB428+1","v":2031},null,{"$f":"AD428+1","v":2032},null,{"$f":"AF428+1","v":2033},null,{"$f":"AH428+1","v":2034},null,{"$f":"AJ428+1","v":2035},null,{"$f":"AL428+1","v":2036},null,{"$f":"AN428+1","v":2037},null,{"$f":"AP428+1","v":2038},null,{"$f":"AR428+1","v":2039},null,{"$f":"AT428+1","v":2040},null,{"$f":"AV428+1","v":2041},null,{"$f":"AX428+1","v":2042},null,{"$f":"AZ428+1","v":2043},null,{"$f":"BB428+1","v":2044},null,{"$f":"BD428+1","v":2045},null,{"$f":"BF428+1","v":2046},null,{"$f":"BH428+1","v":2047},null,{"$f":"BJ428+1","v":2048},null,{"$f":"BL428+1","v":2049},null,{"$f":"BN428+1","v":2050}]
[null,"Muži","Ženy","Muži","Ženy","Muži","Ženy","Muži","Ženy","Muži","Ženy","Muži","Ženy","Muži","Ženy","Muži","Ženy","Muži","Ženy","Muži","Ženy","Muži","Ženy","Muži","Ženy","Muži","Ženy","Muži","Ženy","Muži","Ženy","Muži","Ženy","Muži","Ženy","Muži","Ženy","Muži","Ženy","Muži","Ženy","Muži","Ženy","Muži","Ženy","Muži","Ženy","Muži","Ženy","Muži","Ženy","Muži","Ženy","Muži","Ženy","Muži","Ženy","Muži","Ženy","Muži","Ženy","Muži","Ženy","Muži","Ženy","Muži","Ženy","Muži","Ženy"]
["–34",{"$f":"SUM(B414:B415)","v":14},{"$f":"SUM(C414:C415)","v":34},{"$f":"SUM(D414:D415)","v":14.75548172757475},31.568483412322273,16.067774086378741,30.480094786729858,14.033222591362126,24.690047393364932,12.594019933554817,25.24312796208531,12.634551495016611,25.004976303317534,10.328239202657807,26.184597156398102,10.848504983388704,24.7521327014218,11.118272425249168,25.513507109004738,11.176079734219268,25.752369668246445,11.176079734219268,25.76729857819905,11.176079734219268,25.76729857819905,11.176079734219268,25.76729857819905,11.176079734219268,25.76729857819905,11.176079734219268,25.76729857819905,11.176079734219268,25.76729857819905,11.176079734219268,25.76729857819905,11.176079734219268,25.76729857819905,11.176079734219268,25.76729857819905,11.176079734219268,25.76729857819905,11.176079734219268,25.76729857819905,11.176079734219268,25.76729857819905,11.176079734219268,25.76729857819905,11.176079734219268,25.76729857819905,11.176079734219268,25.76729857819905,11.176079734219268,25.76729857819905,11.176079734219268,25.76729857819905,11.176079734219268,25.76729857819905,11.176079734219268,25.76729857819905,11.176079734219268,25.76729857819905,11.176079734219268,25.76729857819905,11.176079734219268,25.76729857819905,11.176079734219268,{"$f":"SUM(BO414:BO415)","v":25.76729857819905},11.176079734219268,25.76729857819905]
["35–39",{"$f":"B416","v":10},26,11.098338870431894,34.538151658767774,12.447176079734218,34.986729857819903,15.930897009966779,42.704028436018959,19.568770764119598,45.122748815165878,18.592026578073089,47.616113744075832,21.653820598006646,44.004976303317534,22.445847176079731,44.349052132701424,20.141528239202657,37.797630331753552,18.644518272425248,38.111848341232225,18.685049833887042,37.858767772511847,16.378737541528242,39.038388625592418,16.899003322259137,37.60592417061612,17.168770764119603,38.367298578199055,17.226578073089701,38.606161137440758,17.226578073089701,38.621090047393366,{"$f":"AH416","v":17.226578073089701},38.621090047393366,17.226578073089701,38.621090047393366,17.226578073089701,38.621090047393366,17.226578073089701,38.621090047393366,17.226578073089701,38.621090047393366,17.226578073089701,38.621090047393366,17.226578073089701,38.621090047393366,17.226578073089701,38.621090047393366,17.226578073089701,38.621090047393366,17.226578073089701,38.621090047393366,17.226578073089701,38.621090047393366,17.226578073089701,38.621090047393366,17.226578073089701,38.621090047393366,17.226578073089701,38.621090047393366,17.226578073089701,38.621090047393366,17.226578073089701,38.621090047393366,17.226578073089701,38.621090047393366,17.226578073089701,38.621090047393366]
["40–44",{"$f":"B417","v":20},51,17.944186046511625,41.328909952606637,18.003986710963453,41.09075829383886,16.083056478405314,37.807819905213265,14.258471760797343,38.972748815165872,15.241196013289036,40.436255924170609,16.33953488372093,48.974407582938383,17.688372093023254,49.422985781990519,21.172093023255812,57.140284360189568,24.809966777408636,59.559004739336487,23.833222591362123,62.052369668246442,26.895016611295677,58.44123222748815,27.687043189368769,58.785308056872033,25.382724252491695,52.233886255924162,23.885714285714286,52.548104265402841,23.92624584717608,52.295023696682463,{"$f":"AH417","v":21.619933554817276},53.474644549763028,22.140199335548175,52.042180094786723,22.409966777408638,52.803554502369664,22.467774086378739,53.042417061611374,22.467774086378739,53.057345971563983,22.467774086378739,53.057345971563983,22.467774086378739,53.057345971563983,22.467774086378739,53.057345971563983,22.467774086378739,53.057345971563983,22.467774086378739,53.057345971563983,22.467774086378739,53.057345971563983,22.467774086378739,53.057345971563983,22.467774086378739,53.057345971563983,22.467774086378739,53.057345971563983,22.467774086378739,53.057345971563983,22.467774086378739,53.057345971563983,22.467774086378739,53.057345971563983,22.467774086378739,53.057345971563983]
["45–49",{"$f":"B418","v":21},53,23.751495016611297,61.910663507109007,21.42591362126246,60.090047393364927,23.061794019933558,67.538151658767774,25.736212624584716,62.374407582938389,23.680398671096341,58.330094786729859,21.624584717607974,48.659004739336488,21.684385382059801,48.420853080568719,19.763455149501663,45.137914691943124,17.93887043189369,46.302843601895731,18.921594684385379,47.766350710900468,20.019933554817275,56.304502369668242,21.368770764119599,56.753080568720378,24.85249169435216,64.470379146919427,28.490365448504978,66.88909952606636,27.513621262458468,69.382464454976301,{"$f":"AH418","v":30.575415282392022},65.771327014218002,31.36744186046511,66.115402843601899,29.063122923588036,59.563981042654028,27.566112956810631,59.8781990521327,27.606644518272425,59.625118483412315,25.300332225913621,60.804739336492887,25.820598006644516,59.372274881516582,26.090365448504983,60.133649289099516,26.148172757475081,60.372511848341226,26.148172757475081,60.387440758293835,26.148172757475081,60.387440758293835,26.148172757475081,60.387440758293835,26.148172757475081,60.387440758293835,26.148172757475081,60.387440758293835,26.148172757475081,60.387440758293835,26.148172757475081,60.387440758293835,26.148172757475081,60.387440758293835,26.148172757475081,60.387440758293835]
["50–54",{"$f":"B419","v":20},42,18.173421926910301,41.241010749283731,20.481727574750831,47.394517688287394,18.098338870431895,47.71871466752085,17.811295681063122,52.180027195322694,23.44717607973422,54.90081151227912,26.198671096345514,63.800050778728718,23.873089700996676,61.991918581447059,25.508970099667774,69.429912684949073,28.183388704318936,64.267164684183811,26.127574750830565,60.218252444064326,24.071760797342193,50.550977431468922,24.131561461794018,50.312147364819637,22.210631229235879,47.037008647760331,20.386046511627907,48.201343950816614,21.368770764119599,49.668242089693365,{"$f":"AH419","v":22.467109634551495},58.196813256205886,23.815946843853816,58.649036888085604,27.299667774086377,66.36781881050176,30.937541528239194,68.785521577826415,29.960797342192684,71.272230975446433,33.022591362126242,67.663000883831202,33.814617940199334,68.000399981678854,31.51029900332226,61.457985929824375,30.013289036544847,61.77108032624929,30.053820598006645,61.520013107903452,27.747508305647838,62.695924590905705,28.267774086378736,61.266575562599556,28.537541528239199,62.027207961562084,28.595348837209297,62.265752517109334,28.595348837209297,62.280660226815648,28.595348837209297,62.280660226815648,28.595348837209297,62.280660226815648,28.595348837209297,62.280660226815648]
["55–59",{"$f":"B420","v":28},56,26.016866433160168,47.363676998636898,21.122868382956,49.909964143867654,25.120609645370827,38.234075543500317,23.179868022853142,38.342527705741666,20.43373009982124,41.424437102967673,18.614024553787782,40.645456532203006,20.900339214727218,46.815454081212522,18.558510890523024,46.925104815385502,18.274047587662285,51.315862924105268,23.891449917092569,54.006500064509225,26.626328750062484,62.584645099219799,24.311904435251392,60.995622434677294,25.947586034631829,67.971477088021473,28.581866679633883,62.813501104061721,26.552886920567005,58.750461246897196,{"$f":"AH420","v":24.513686648879737},49.390897002213094,24.545344108454621,49.344508583040664,22.632759318798694,46.37068160224738,20.812725888663522,47.472276730750792,21.815412816680475,48.873778605111923,22.917424151778089,57.084645098033619,24.254999983324993,57.658383672283726,27.734934355369901,65.269594047052024,31.349243130980263,67.443800075675654,30.388728283164724,69.660645045255521,33.443184487694772,66.102091802377757,34.205932953040268,66.409482563719365,31.91152008443088,60.238824122619313,30.421842041244695,60.522700623018999,30.450398462925349,60.296387094721766,28.170594072524398,61.388756541580214,28.687526821546975,60.065848121666207,28.954991590250618,60.78387576002843]
["60–64",{"$f":"B421","v":53},72,45.268093074922241,75.506181567897897,43.708397790098211,66.600420917716178,37.391858015605919,64.225254638788215,28.629147271370783,57.415706009452535,26.532356986455362,49.274305163564357,24.685375972062182,41.781663423407672,20.083570115946912,43.847283802473513,23.917944913049944,33.777332712861671,22.015148902438643,33.979268263164045,19.336888718241624,36.74334432852789,17.615137898127415,35.980815666382433,19.809898611947187,41.717721065119051,17.717184722185593,41.529275255906114,17.39664783490699,45.526343321617055,22.804406944004146,47.967215568144987,{"$f":"AH421","v":25.388580666207297},55.540628611722816,23.127670002910875,54.265178214529932,24.714469978161159,60.183879214599941,27.127179369097149,55.404800295750832,25.28347126654138,51.669186255935628,23.334558139226662,43.3937636502083,23.233192015557425,43.625798851500619,21.44578299989309,41.195286930795611,19.720696615017928,42.114420034236979,20.816752622029341,43.326095003315572,21.877495025140341,50.588531332976203,23.092029601457227,51.231841622274459,26.472792853450688,58.128569443929479,29.888350122672289,59.807512270566008,28.984232816316197,61.554742108358013,31.910576444223011,58.336079592109201,32.506079591705806,58.627943532405453,30.320005131660633,53.33262321450524]
["65–69",{"$f":"B422","v":36},37,41.455127327701177,38.912325635309436,40.202186837573663,43.429874509267322,42.646420824700016,52.049403616150016,46.237838627708889,57.347533126846898,45.860646417255964,57.681024005229155,39.219739724955346,60.320921588654237,37.807176048528206,52.787865144605504,32.089575931037722,51.255898393009389,24.731447113324393,45.71641428649977,22.926299472089799,39.144360217918859,21.384097046044086,33.279651433237206,17.46848813237774,34.783023043127635,20.835972116355137,26.948956090548961,19.106451695057373,27.200691083571385,16.701636772782493,29.442871209329454,{"$f":"AH422","v":15.228672778281396},28.769010981067829,17.16206505113011,33.591624798615513,15.526139550514069,33.194554000080487,15.175852639210039,36.487554866440355,19.948313599727257,38.487837733560553,22.155679669341119,44.531315491040985,20.112951293518162,43.613327667320746,21.532038967201096,48.132046177804867,23.497252559908425,44.127165159512501,22.016868663956714,41.026917978460908,20.312930359077829,34.418491212982389,20.052258006668698,34.841672482295436,18.553668592863136,33.063859455941873,17.070295046537915,33.748409962420105,18.212187956251597,34.691700823183886,19.139555293360576,40.501279260708756,20.110717710902232,41.126469905452979,23.133830647958902,46.775311760823023]
["70+",{"$f":"B423","v":29},35,32.716050992580215,37.662506859998764,37.591370718920018,39.71295948727969,38.26638536265078,42.064159527372553,41.926481304040642,43.075846365064656,42.580776802632208,48.192448222727997,49.173800793274886,51.04922348463657,51.149134027445967,55.39130584744025,52.698543547081108,62.992259009086567,57.568396701961625,67.005607481822864,56.739958323351694,70.355705255834081,55.727576198172947,73.73712934126965,55.319512639565936,70.616126434827137,51.202985303672875,74.557962774217174,48.652235085172116,72.800053228473644,46.162620252827821,69.69031635818061,{"$f":"AH423","v":43.924465827253016},67.392417619060367,40.425370452858054,65.862170556888586,40.004356652341599,62.656808616891084,36.844764034257906,61.372757655844438,33.359351856268084,60.677299716424429,30.981203201267071,58.440704514958689,30.437288533141508,60.829029633764726,29.529160535620715,58.240621236324017,27.472515650135836,59.824982000638379,29.302972837791913,60.908664445940055,29.860638277118259,63.80017853215697,28.391647812756819,64.992397209923737,29.37939941576499,66.356427571478051,29.766178205481879,64.538749431667398,30.40794880621279,62.915229178227392,29.736026150870728,60.124723896774434,28.535830086354544,61.309630358648626,28.277079024762941,60.843559161335463]
["Celkem",{"$f":"SUM(B430:B438)","v":231},406,231.17906141640367,410.03191034193242,231.0514018026376,413.69536707817184,230.63258281842718,417.03165538669691,229.94210599009304,420.07467357778387,229.00285914337408,422.86046676506214,227.8377915424191,425.42030158962069,226.48041874219646,427.7788511538613,224.96889421856886,429.96984410818317,223.3418642256527,432.01038399048662,221.63811802546007,433.91294904071219,219.89466813160956,435.684640772526,218.17226229090303,437.33625171697832,216.49442585126403,438.88354241569573,214.90198534792651,440.35259619564943,213.43284657124457,441.58498324949676,212.12052219969124,442.92412765984341,210.98669546252972,444.25849060514139,210.05314078220755,445.52966641493674,209.33460830996614,446.83191586594933,208.84442329337,448.05118636704771,208.58222064334049,449.36390357172206,208.54407966607366,450.54494928522161,208.71301320359976,451.87491820805678,209.07160164375011,453.09969404181038,209.59774765611212,454.27551093632576,210.26036110584184,455.43839282684922,211.02824711146454,456.5751447962628,211.87352712591172,457.64806391098102,212.76061890430887,458.71630016023204,213.66872153007805,459.57189478675696,214.57070544935084,460.46467487343853,{"$f":"SUM(BN430:BN438)","v":215.45410769888164},461.24372750043915,216.29985988300518,461.84920547895803]
[]
[]
["Očekávaná zkrácená relativní věková struktura (%; fyzický počet lékařů)"]
["Věk",{"$f":"B428","v":2017},null,{"$f":"B443+1","v":2018},null,{"$f":"D443+1","v":2019},null,{"$f":"F443+1","v":2020},null,{"$f":"H443+1","v":2021},null,{"$f":"J443+1","v":2022},null,{"$f":"L443+1","v":2023},null,{"$f":"N443+1","v":2024},null,{"$f":"P443+1","v":2025},null,{"$f":"R443+1","v":2026},null,{"$f":"T443+1","v":2027},null,{"$f":"V443+1","v":2028},null,{"$f":"X443+1","v":2029},null,{"$f":"Z443+1","v":2030},null,{"$f":"AB443+1","v":2031},null,{"$f":"AD443+1","v":2032},null,{"$f":"AF443+1","v":2033},null,{"$f":"AH443+1","v":2034},null,{"$f":"AJ443+1","v":2035},null,{"$f":"AL443+1","v":2036},null,{"$f":"AN443+1","v":2037},null,{"$f":"AP443+1","v":2038},null,{"$f":"AR443+1","v":2039},null,{"$f":"AT443+1","v":2040},null,{"$f":"AV443+1","v":2041},null,{"$f":"AX443+1","v":2042},null,{"$f":"AZ443+1","v":2043},null,{"$f":"BB443+1","v":2044},null,{"$f":"BD443+1","v":2045},null,{"$f":"BF443+1","v":2046},null,{"$f":"BH443+1","v":2047},null,{"$f":"BJ443+1","v":2048},null,{"$f":"BL443+1","v":2049},null,{"$f":"BN443+1","v":2050}]
[null,"Muži","Ženy","Muži","Ženy","Muži","Ženy","Muži","Ženy","Muži","Ženy","Muži","Ženy","Muži","Ženy","Muži","Ženy","Muži","Ženy","Muži","Ženy","Muži","Ženy","Muži","Ženy","Muži","Ženy","Muži","Ženy","Muži","Ženy","Muži","Ženy","Muži","Ženy","Muži","Ženy","Muži","Ženy","Muži","Ženy","Muži","Ženy","Muži","Ženy","Muži","Ženy","Muži","Ženy","Muži","Ženy","Muži","Ženy","Muži","Ženy","Muži","Ženy","Muži","Ženy","Muži","Ženy","Muži","Ženy","Muži","Ženy","Muži","Ženy","Muži","Ženy"]
["–34",{"$f":"B430/(B$439+C$439)*100","v":2.197802197802198},{"$f":"C430/(B$439+C$439)*100","v":5.3375196232339093},{"$f":"D430/(D$439+E$439)*100","v":2.3011898388313754},{"$f":"E430/(D$439+E$439)*100","v":4.9232600193591223},{"$f":"F430/(F$439+G$439)*100","v":2.4921061821325847},{"$f":"G430/(F$439+G$439)*100","v":4.7274521188588592},{"$f":"H430/(H$439+I$439)*100","v":2.1667434703902257},{"$f":"I430/(H$439+I$439)*100","v":3.8121677772094706},{"$f":"J430/(J$439+K$439)*100","v":1.9374915124386733},{"$f":"K430/(J$439+K$439)*100","v":3.8834578976356005},{"$f":"L430/(L$439+M$439)*100","v":1.9382209418529737},{"$f":"M430/(L$439+M$439)*100","v":3.8359231620325653},{"$f":"N430/(N$439+O$439)*100","v":1.5810350168245386},{"$f":"O430/(N$439+O$439)*100","v":4.0083081146161232},{"$f":"P430/(P$439+Q$439)*100","v":1.6581354644179833},{"$f":"Q430/(P$439+Q$439)*100","v":3.7832299579575199},{"$f":"R430/(R$439+S$439)*100","v":1.6976049475488819},{"$f":"S430/(R$439+S$439)*100","v":3.8955562735817177},{"$f":"T430/(T$439+U$439)*100","v":1.705354603519011},{"$f":"U430/(T$439+U$439)*100","v":3.929546246059898},{"$f":"V430/(V$439+W$439)*100","v":1.7048373949319102},{"$f":"W430/(V$439+W$439)*100","v":3.9306317803000486},{"$f":"X430/(X$439+Y$439)*100","v":1.7047639518857252},{"$f":"Y430/(X$439+Y$439)*100","v":3.9304624517926885},{"$f":"Z430/(Z$439+AA$439)*100","v":1.7049480663320409},{"$f":"AA430/(Z$439+AA$439)*100","v":3.9308869415980228},{"$f":"AB430/(AB$439+AC$439)*100","v":1.7052876775477499},{"$f":"AC430/(AB$439+AC$439)*100","v":3.9316699409863398},{"$f":"AD430/(AD$439+AE$439)*100","v":1.7056087891658693},{"$f":"AE430/(AD$439+AE$439)*100","v":3.9324102881507996},{"$f":"AF430/(AF$439+AG$439)*100","v":1.7062252698186589},{"$f":"AG430/(AF$439+AG$439)*100","v":3.9338316310032027},{"$f":"AH430/(AH$439+AI$439)*100","v":1.7061554104160419},{"$f":"AI430/(AH$439+AI$439)*100","v":3.9336705648576014},{"$f":"AJ430/(AJ$439+AK$439)*100","v":1.7056332456695147},{"$f":"AK430/(AJ$439+AK$439)*100","v":3.9324666744728911},{"$f":"AL430/(AL$439+AM$439)*100","v":1.7047548549970499},{"$f":"AM430/(AL$439+AM$439)*100","v":3.9304414782266255},{"$f":"AN430/(AN$439+AO$439)*100","v":1.7032383278399323},{"$f":"AO430/(AN$439+AO$439)*100","v":3.9269450099668521},{"$f":"AP430/(AP$439+AQ$439)*100","v":1.7013479112756964},{"$f":"AQ430/(AP$439+AQ$439)*100","v":3.922586511351394},{"$f":"AR430/(AR$439+AS$439)*100","v":1.6986314415260766},{"$f":"AS430/(AR$439+AS$439)*100","v":3.9163234845314636},{"$f":"AT430/(AT$439+AU$439)*100","v":1.6956859002799676},{"$f":"AU430/(AT$439+AU$439)*100","v":3.9095323160208721},{"$f":"AV430/(AV$439+AW$439)*100","v":1.6918383159583801},{"$f":"AW430/(AV$439+AW$439)*100","v":3.9006614188568518},{"$f":"AX430/(AX$439+AY$439)*100","v":1.687792842582889},{"$f":"AY430/(AX$439+AY$439)*100","v":3.8913342734860774},{"$f":"AZ430/(AZ$439+BA$439)*100","v":1.6834658708674448},{"$f":"BA430/(AZ$439+BA$439)*100","v":3.8813581123649383},{"$f":"BB430/(BB$439+BC$439)*100","v":1.6788494297451071},{"$f":"BC430/(BB$439+BC$439)*100","v":3.8707145575946789},{"$f":"BD430/(BD$439+BE$439)*100","v":1.6740597590858208},{"$f":"BE430/(BD$439+BE$439)*100","v":3.8596716090023206},{"$f":"BF430/(BF$439+BG$439)*100","v":1.669263528441375},{"$f":"BG430/(BF$439+BG$439)*100","v":3.8486135358671638},{"$f":"BH430/(BH$439+BI$439)*100","v":1.66440266476904},{"$f":"BI430/(BH$439+BI$439)*100","v":3.8374064463893145},{"$f":"BJ430/(BJ$439+BK$439)*100","v":1.6600424073285076},{"$f":"BK430/(BJ$439+BK$439)*100","v":3.8273535425071046},{"$f":"BL430/(BL$439+BM$439)*100","v":1.6556287359153048},{"$f":"BM430/(BL$439+BM$439)*100","v":3.8171774886640177},{"$f":"BN430/(BN$439+BO$439)*100","v":1.6515613251411339},{"$f":"BO430/(BN$439+BO$439)*100","v":3.8077997649585082},{"$f":"BP430/(BP$439+BQ$439)*100","v":1.6480270054274888},{"$f":"BQ430/(BP$439+BQ$439)*100","v":3.7996511230824614}]
["35–39",1.5698587127158554,4.0816326530612246,1.7308404502184207,5.3863943662811717,1.9305526883586839,5.4264296536998531,2.4597462805907226,6.5935442960946711,3.0105024022808573,6.9417821560180215,2.8521356915060769,7.3046161444529885,3.3147420331507269,6.73623132510094,3.430726656673234,6.7785133773874016,3.0753301126545902,5.7711703583635225,2.8449613659181603,5.8154753332993376,2.8502813545113104,5.7751058116560632,2.4983609639704603,5.9547926689219146,2.5779990589193105,5.7369085781491425,2.6196746908535267,5.854224651410715,2.6289900991625639,5.8917804201378727,2.629940329686002,5.8961891248002818,2.6298326498481752,5.8959477122170423,2.6290277959112864,5.8941432716462172,2.6276738627023497,5.8911078239700361,2.6253363191187926,5.8858671731079069,2.6224224701387464,5.8793344755886778,2.6182353598695047,5.8699471926320381,2.6136951635349845,5.8597683091228259,2.6077645766668827,5.8464722425160351,2.6015289677053497,5.832492332276062,2.594859463026717,5.8175396504566024,2.5877437761933209,5.8015866515048868,2.580361076935731,5.785035024617037,2.5729682662527407,5.7684607284405294,2.5654758315577961,5.7516630804224551,2.5587550209511827,5.7365953733869528,2.5519518791522118,5.7213430841099733,2.5456824563382305,5.7072873649754694,2.5402347290554745,5.6950738443883706]
["40–44",3.1397174254317108,8.0062794348508639,2.7984839369334047,6.4454464712720094,2.7924120879606522,6.3731623448329469,2.4832398532573587,5.8375648484144049,2.193554414130078,5.9956527339301102,2.3380968690099135,6.203180071193402,2.5012372683178228,7.4969461684173009,2.7035722544417915,7.5540367643308066,3.2326829647222595,8.7245235342426799,3.7857452759094148,9.0880903974092355,3.6356012199056287,9.4656805221831473,4.1024810035956305,8.914441232927004,4.2237503552907141,8.9678939023155451,3.8729901646849938,7.970040005166509,3.6452571196750694,8.019494368374481,3.652762529185499,7.9837557568461976,3.3005282249772403,8.163511382198136,3.3789182746108146,7.9423979300188279,3.4183274075199472,8.054444674674146,3.4240963625195886,8.0836822829734789,3.4202959733576939,8.0769828860619111,3.4148349324472513,8.0640867114859915,3.4089133788386938,8.0501030423743813,3.4011784075990885,8.0318370119451057,3.3930456111235325,8.0126315225779372,3.3843469059162774,7.9920896473609453,3.3750662673841294,7.9701735444330764,3.3654373777483917,7.947435051213354,3.3557953002804202,7.9246654151053901,3.3460232881391399,7.9015889400160049,3.3372576671466203,7.8808890440731467,3.3283846656504239,7.8599355705167557,3.3202077674389008,7.8406259354939394,3.3131025660835389,7.8238470981663202]
["45–49",3.296703296703297,8.3202511773940344,3.7041622902177851,9.6552720140357042,3.3231517636691472,9.3199454876947847,3.5607638432909079,10.427957524092525,3.9593151182487669,9.5958149917920768,3.6327244883880159,8.9482093052928064,3.3102666380953818,7.4486646626973032,3.3143413291652406,7.4008661869263763,3.0176036311416934,6.8919292829222751,2.7372867768017999,7.0653368059591619,2.8863647143564801,7.2864423704887162,3.0537775190438112,8.588511199931963,3.2598769211200023,8.6578708523132963,3.7920853152983649,9.8371294533139153,4.3479841653896631,10.208108635958936,4.200438523938824,10.592454326619505,4.6676841477826745,10.040739517271344,4.7871304555033554,10.090177577706578,4.4331734457533276,9.0856533131660022,4.2010849290781973,9.1254577681075979,4.2025923316101448,9.0768027075467188,3.8453501426271361,9.2415985289120215,3.9176191489226837,9.0082329205185445,3.9495673789787009,9.1030499392557349,3.9488532541120351,9.1173556210763014,3.9387296323571084,9.0962303386536352,3.9279287520070874,9.0712864342239143,3.9167225742749294,9.0454065228356839,3.9055010484395623,9.0194911660386321,3.8941283036061849,8.9932265791684696,3.8839268047323872,8.9696669058176361,3.8736003355811532,8.9458186220428448,3.8640839969250314,8.923841279986771,3.8558149075260388,8.9047443759377494]
["50–54",3.1397174254317108,6.593406593406594,2.8342343982472622,6.4317381588453113,3.1767088356726871,7.3508732382727056,2.7944014510648194,7.3678168181346582,2.7401285998961211,8.027489264201968,3.5969466524379561,8.4221353357729392,4.0104625372088742,9.7664386326757899,3.6488729773426667,9.4751303395816961,3.8948635356092236,10.600978171230139,4.3004947005268956,9.8065070897548967,3.9855895388533034,9.1858980130354695,3.6718304666418589,7.7108866532059688,3.6813498140931662,7.6752851091442462,3.3889804516877904,7.1770811539701329,3.111164284209158,7.3561246740571047,3.2623189463357951,7.5827313133271605,3.4298592682757216,8.8844040278300707,3.6346618563931274,8.9507009185457136,4.164182994792438,10.123483728050831,4.7148917825538099,10.482936730765818,4.5609678161315355,10.849856495812269,5.0190418556720857,10.283972865491679,5.1305083918637235,10.317331497669926,4.7700385527761151,9.3035284187663709,4.5325566408721221,9.3285650901397545,4.5270419028065039,9.2668310271059653,4.1681778945395767,9.4180624825452064,4.2342166665153433,9.1770917142175801,4.2623780786580623,9.2644074204537787,4.258575093995268,9.2729549965550628,4.2474188490956983,9.2508768362106117,4.2361259381005389,9.2262808798309504,4.225718976740418,9.2036145214608123,4.2166759931972306,9.1839189063208746]
["55–59",4.395604395604396,8.791208791208792,4.057458087751745,7.3865980285327426,3.2761495524238695,7.7410181101805904,3.8786470154640198,5.9033791412443346,3.5660414856156222,5.8986981430281391,3.1346647813550197,6.3547733791034506,2.8494135395312159,6.2219598899002913,3.1945041020278793,7.1554896102045449,2.8336254682287696,7.1648082590549622,2.7884313569388088,7.8302718978665915,3.644483415154129,8.2383360774939813,4.06149620471869,9.5464643635315625,3.7088617334052025,9.3050846985557136,3.9591788694462817,10.37133995635541,4.3619483914639563,9.5861216194921752,4.053765517777391,8.9692919142331498,3.7422924764191818,7.5400809720076793,3.7459785482376176,7.5306937971070518,3.4523112977233184,7.0731997686911532,3.1718664579547675,7.2347910144260386,3.3209862413234816,7.4401134497423778,3.4831764043171232,8.6761883681792753,3.6800794608761977,8.7481935124950336,4.1985227153788873,9.8805308034575905,4.7343101906167195,10.185249725427861,4.5774894364017209,10.493063870798458,5.023771531811553,9.9297304391621797,5.1236907073366149,9.9474453498430009,4.7663168016746544,8.9972937286946983,4.5305864099731794,9.0133702149189858,4.5229592102617637,8.956142222165866,4.1732026044403394,9.0941539260098132,4.2393407115152195,8.8763174636097162,4.2697089871820202,8.963202762446473]
["60–64",8.3202511773940344,11.302982731554161,7.0597814243239716,11.775559822509583,6.7791573218691576,10.329702160946882,5.7733399205783247,9.9164429422220461,4.4043704980051572,8.8329575195923056,4.0702331197233548,7.5589933050606462,3.7788090544287605,6.3958891382555825,3.0696653513426861,6.7018207949028437,3.6519362061489735,5.1573270500316628,3.3592848673920943,5.1848861975609593,2.9497150854747569,5.6049553077485825,2.6869575746026562,5.4884001336966932,3.022065799088768,6.3641768449429277,2.7033537256425935,6.33669077490101,2.6549448603512089,6.9478863031176603,3.481494076313163,7.3230396768393575,3.8758549774662741,8.4789072964160148,3.5296207426882713,8.2816599600207734,3.7698471812927083,9.1802101205045297,4.1341913019970624,8.4437102860945465,3.8489329042116256,7.8656616814117575,3.5465758183567173,6.5953369209336961,3.5250460855834227,6.6191056041268794,3.2464690891436812,6.2361549419715434,2.9781865724941547,6.3600491758911106,3.1356516251559197,6.5262600116137728,3.2863956700980066,7.599312907545448,3.4589443195412772,7.6739936080725393,3.9539864296911009,8.6821052856421499,4.4511358877846234,8.9068604701835543,4.3051818493784806,9.1430523673856339,4.727245026618303,8.6419291925430581,4.8036328625362259,8.6638290360625501,4.4709941634258943,7.8644395367615614]
["65–69",5.6514913657770807,5.8084772370486659,6.4651306907650765,6.0685682792675255,6.235345220474553,6.7359584577144194,6.5846496238369285,8.0364794820839336,7.1133300064111005,8.8224696545481223,7.0353162380081145,8.8486376994510199,6.003712795492004,9.2338575247412784,5.7786229080918696,8.0683404230545968,4.8996301567106393,7.8260599646249016,3.773763984276103,6.9758537352911025,3.4972560680426117,5.9712144765630555,3.2618627152509863,5.0763730613870912,2.6648758573054496,5.3062656395504009,3.1792298681404367,4.1119716248336946,2.9158821980379774,4.1511638147565515,2.5497988012560251,4.4949724830218871,2.3248297320720011,4.3919160300350448,2.619182165095324,5.1265733061251835,2.3682957179572748,5.0633655482820412,2.312805070065028,5.560715690619138,3.0367555067143077,5.8590493173575702,3.3674002861211632,6.7682312961668964,3.0516289014127178,6.6172134190605139,3.2595265434516456,7.2862436458607611,3.5485157259166908,6.6640105735520709,3.3164264984309617,6.1799323059716693,3.0513697433075975,5.1702802520886877,3.0036183533112153,5.2189178342447775,2.7711830120562566,4.9384306493739283,2.5422013120449725,5.0259970230155124,2.7051528851433297,5.1529423481570751,2.8353410578580931,5.9998750348969558,2.9718903570865769,6.0775234922008003,3.4113194030004568,6.8974970474753388]
["70+",4.5525902668759812,5.4945054945054945,5.1022288191460419,5.8736529034617426,5.8304085469359386,6.1594662283016719,5.9083678093295147,6.494747902701131,6.4500613864018783,6.6268822158254039,6.5321632787504456,7.3930295366083127,7.5274690524707557,7.8145566080753088,7.8178692119367357,8.466262290214134,8.0463317350438288,9.6180383481392759,8.784344123127994,10.224365242388547,8.6553071414075333,10.732299707893281,8.5005087014303431,11.247629133464937,8.4391753054943255,10.772724522381735,7.8127413161401842,11.376330359620351,7.4249362698941512,11.110193698604803,7.0475364411776615,10.639453337820246,6.7055682138113815,10.288217396098382,6.1695028536513483,10.051530626596104,6.1021058229661049,9.5574209587301109,5.615154488493836,9.3532290043176083,5.0783338122039225,9.2369775081601748,4.7087750897883938,8.8822933009414928,4.618084537315327,9.2292584099833057,4.4701332148950685,8.8164827825215575,4.1488532996122904,9.0346685805370441,4.4139408326102592,9.174742868101097,4.4856082575959686,9.5839414082195837,4.2527716540842508,9.7351807971201332,4.3881182935810799,9.9110213113084829,4.4329413804647571,9.6114620769956911,4.516653937572662,9.3451327286853321,4.4051063125982388,8.9068996454710145,4.2169235073656379,9.0601191801640564,4.169743861501896,8.9720036890208057]
["Celkem",{"$f":"SUM(B445:B453)","v":36.263736263736263},63.736263736263737,36.053509936435077,63.946490063564923,35.835992199497269,64.164007800502716,35.609899267802824,64.390100732197183,35.374795423428253,64.625204576571747,35.130502061031876,64.869497938968124,34.877147935520078,65.122852064479915,34.616310255440084,65.383689744559916,34.349608757808859,65.650391242191134,34.079667054410287,65.920332945589735,33.809435932637662,66.190564067362345,33.542039101140162,66.457960898859824,33.282902911048978,66.717097088951022,33.033522079441923,66.966477920558077,32.796716177349616,67.203283822650377,32.584280435489021,67.415719564510994,32.382605101068691,67.617394898931309,32.199655937760653,67.800344062239333,32.04067258570452,67.959327414295487,31.902665039621013,68.097334960378987,31.792634966967153,68.207365033032858,31.702021330725454,68.297978669274556,31.641260968627719,68.358739031372281,31.595038794848449,68.404961205151551,31.573643105035785,68.426356894964215,31.57195216757291,68.428047832427083,31.584911322682345,68.415088677317655,31.609822488833572,68.390177511166428,31.64551075907525,68.354489240924764,31.685470172334963,68.314529827665055,31.737348631610637,68.262651368389356,31.786586555914607,68.21341344408539,{"$f":"SUM(BN445:BN453)","v":31.839041961087371},68.160958038912625,31.895621616400039,68.104378383599951]
[]
[]
["Průměrná výše úvazku"]
["Věk","Muži","Ženy"]
["–34",{"$f":"Vstupy!N1408","v":0.71328671328671323},{"$f":"Vstupy!O1408","v":0.66723809523809507}]
["35–39",{"$f":"Vstupy!N1409","v":0.8386290322580644},{"$f":"Vstupy!O1409","v":0.77875457875457854}]
["40–44",{"$f":"Vstupy!N1410","v":0.80758454106280197},{"$f":"Vstupy!O1410","v":0.84542168674698803}]
["45–49",{"$f":"Vstupy!N1411","v":0.85934883720930233},{"$f":"Vstupy!O1411","v":0.86523809523809492}]
["50–54",{"$f":"Vstupy!N1412","v":0.85265873015873006},{"$f":"Vstupy!O1412","v":0.90783098591549283}]
["55–59",{"$f":"Vstupy!N1413","v":0.90073991031390177},{"$f":"Vstupy!O1413","v":0.95026315789473625}]
["60–64",{"$f":"Vstupy!N1414","v":0.89256360078277885},{"$f":"Vstupy!O1414","v":0.93186685962373361}]
["65–69",{"$f":"Vstupy!N1415","v":0.8291078066914499},{"$f":"Vstupy!O1415","v":0.85645892351274755}]
["70+",{"$f":"Vstupy!N1416","v":0.74847222222222221},{"$f":"Vstupy!O1416","v":0.8021926910299001}]
[]
[]
["Očekávaná zkrácená věková struktura (přepočtený počet lékařů)"]
["VPL",2017,null,{"$f":"B471+1","v":2018},null,{"$f":"D471+1","v":2019},null,{"$f":"F471+1","v":2020},null,{"$f":"H471+1","v":2021},null,{"$f":"J471+1","v":2022},null,{"$f":"L471+1","v":2023},null,{"$f":"N471+1","v":2024},null,{"$f":"P471+1","v":2025},null,{"$f":"R471+1","v":2026},null,{"$f":"T471+1","v":2027},null,{"$f":"V471+1","v":2028},null,{"$f":"X471+1","v":2029},null,{"$f":"Z471+1","v":2030},null,{"$f":"AB471+1","v":2031},null,{"$f":"AD471+1","v":2032},null,{"$f":"AF471+1","v":2033},null,{"$f":"AH471+1","v":2034},null,{"$f":"AJ471+1","v":2035},null,{"$f":"AL471+1","v":2036},null,{"$f":"AN471+1","v":2037},null,{"$f":"AP471+1","v":2038},null,{"$f":"AR471+1","v":2039},null,{"$f":"AT471+1","v":2040},null,{"$f":"AV471+1","v":2041},null,{"$f":"AX471+1","v":2042},null,{"$f":"AZ471+1","v":2043},null,{"$f":"BB471+1","v":2044},null,{"$f":"BD471+1","v":2045},null,{"$f":"BF471+1","v":2046},null,{"$f":"BH471+1","v":2047},null,{"$f":"BJ471+1","v":2048},null,{"$f":"BL471+1","v":2049},null,{"$f":"BN471+1","v":2050}]
[null,"Muži","Ženy","Muži","Ženy","Muži","Ženy","Muži","Ženy","Muži","Ženy","Muži","Ženy","Muži","Ženy","Muži","Ženy","Muži","Ženy","Muži","Ženy","Muži","Ženy","Muži","Ženy","Muži","Ženy","Muži","Ženy","Muži","Ženy","Muži","Ženy","Muži","Ženy","Muži","Ženy","Muži","Ženy","Muži","Ženy","Muži","Ženy","Muži","Ženy","Muži","Ženy","Muži","Ženy","Muži","Ženy","Muži","Ženy","Muži","Ženy","Muži","Ženy","Muži","Ženy","Muži","Ženy","Muži","Ženy","Muži","Ženy","Muži","Ženy","Muži","Ženy"]
["–34",{"$f":"B430*$B459","v":9.9860139860139849},24.25174825174825,10.524889064423947,22.517379776621478,11.460929767906514,21.741046631094022,10.009711219013543,17.611082756106452,8.983147085472666,18.00558777715176,9.0120577097321277,17.835717363205511,7.3669957949027705,18.67712524442382,7.738094463675858,17.655367381433731,7.9305159956322733,18.198445630199181,7.9717491810515053,18.368823120007953,7.9717491810515053,18.379471713120999,7.9717491810515053,18.379471713120999,7.9717491810515053,18.379471713120999,7.9717491810515053,18.379471713120999,7.9717491810515053,18.379471713120999,7.9717491810515053,18.379471713120999,{"$f":"AH430*$B459","v":7.9717491810515053},18.379471713120999,7.9717491810515053,18.379471713120999,7.9717491810515053,18.379471713120999,7.9717491810515053,18.379471713120999,7.9717491810515053,18.379471713120999,7.9717491810515053,18.379471713120999,7.9717491810515053,18.379471713120999,7.9717491810515053,18.379471713120999,7.9717491810515053,18.379471713120999,7.9717491810515053,18.379471713120999,7.9717491810515053,18.379471713120999,7.9717491810515053,18.379471713120999,7.9717491810515053,18.379471713120999,7.9717491810515053,18.379471713120999,7.9717491810515053,18.379471713120999,7.9717491810515053,18.379471713120999,7.9717491810515053,18.379471713120999,7.9717491810515053,18.379471713120999]
["35–39",{"$f":"B431*$B460","v":8.3862903225806438},21.804354838709674,9.307389186582359,28.964696701574681,10.438563230093235,29.340887402537831,13.360112742471332,35.812838040819443,16.410939288393521,37.841247171686284,15.591813256885647,39.932255389084233,18.159522612796057,36.90385069179024,18.823739095488154,37.192402671609841,16.891270335441,31.698190146766542,15.635834315721784,31.961702491973696,15.669825259886398,31.749461779544408,13.735684814060658,32.738726073994798,14.171994802271996,31.53741979437395,14.398229610974171,32.175930476991283,14.446708498553209,32.376247553890835,14.446708498553209,32.388767371197062,{"$f":"AH431*$B460","v":14.446708498553209},32.388767371197062,14.446708498553209,32.388767371197062,14.446708498553209,32.388767371197062,14.446708498553209,32.388767371197062,14.446708498553209,32.388767371197062,14.446708498553209,32.388767371197062,14.446708498553209,32.388767371197062,14.446708498553209,32.388767371197062,14.446708498553209,32.388767371197062,14.446708498553209,32.388767371197062,14.446708498553209,32.388767371197062,14.446708498553209,32.388767371197062,14.446708498553209,32.388767371197062,14.446708498553209,32.388767371197062,14.446708498553209,32.388767371197062,14.446708498553209,32.388767371197062,14.446708498553209,32.388767371197062,14.446708498553209,32.388767371197062]
["40–44",{"$f":"B432*$B461","v":16.151690821256039},41.186811594202901,14.491447253117625,33.376588776701702,14.539741345274205,33.184261178652378,12.988427785000081,30.533010886736722,11.514921373200444,31.473789465851588,12.308554287640233,32.655695182819329,13.195555780249411,39.550974471689905,14.284855858892259,39.913239290702201,17.098255027524996,46.145610321221696,20.036145633716917,48.098931508574303,19.247342128492782,50.112534480390138,21.719999646909656,47.196235707580648,22.359628067472354,47.474106028344437,20.498695716372158,42.183279059917112,19.289733609385785,42.437036666895622,19.322466271847468,42.232652711953662,{"$f":"AH432*$B461","v":17.459924117675381},43.185296277216842,17.880082719437628,42.028460127756027,18.097942735166193,42.643334329280854,18.144627024250887,42.836236039563161,18.144627024250887,42.848292396455804,18.144627024250887,42.848292396455804,18.144627024250887,42.848292396455804,18.144627024250887,42.848292396455804,18.144627024250887,42.848292396455804,18.144627024250887,42.848292396455804,18.144627024250887,42.848292396455804,18.144627024250887,42.848292396455804,18.144627024250887,42.848292396455804,18.144627024250887,42.848292396455804,18.144627024250887,42.848292396455804,18.144627024250887,42.848292396455804,18.144627024250887,42.848292396455804,18.144627024250887,42.848292396455804]
["45–49",{"$f":"B433*$B462","v":18.046325581395347},45.545488372093025,20.410819624507457,53.202856695690514,18.412333956578848,51.63831235534002,19.818125874990344,58.038832095227598,22.116384393108245,53.601374628017197,20.349723062659351,50.12589912928469,18.58306173221046,41.815059142510741,18.634451363671484,41.610403791469196,16.983702201962451,38.789214504574005,15.415747446496178,39.790294808773282,16.260250390172292,41.047957941144048,17.204106621339719,48.385208641022814,18.363228308738311,48.77069379477571,21.356959839295374,55.402545354348064,24.483162419840834,57.481069899702419,23.643798439310821,59.623740152099636,{"$f":"AH433*$B462","v":26.274947570115117},56.520513391381016,26.955574689021088,56.816194555273896,24.975360890056397,51.186237848561667,23.6889071158155,51.456260729637386,23.723737866027967,51.238776237187253,21.741811079347912,52.25248204562989,22.188900873058795,51.021495381902341,22.420725210538514,51.675781593739657,22.470401854284166,51.881047856276858,22.470401854284166,51.893876997685439,22.470401854284166,51.893876997685439,22.470401854284166,51.893876997685439,22.470401854284166,51.893876997685439,22.470401854284166,51.893876997685439,22.470401854284166,51.893876997685439,22.470401854284166,51.893876997685439,22.470401854284166,51.893876997685439,22.470401854284166,51.893876997685439]
["50–54",{"$f":"B434*$B463","v":17.0531746031746},35.81166666666666,15.495726862838158,35.164507855946802,17.463923825344089,40.411349268580601,15.431706639244846,40.687778653215098,15.186956757896954,44.491755728011846,19.99243938195433,46.811656228743701,22.338525628856189,54.399670281053325,20.355598349417281,52.857950577760029,21.750446052839738,59.20002118498018,24.03081242419448,54.79795903051815,22.277904709170489,51.345618661333731,20.524996994146495,43.10273222499891,20.575986552760636,42.899091683646006,18.9380886199441,40.106516064064529,17.382340531561461,41.099296725047481,18.220268944787215,42.350060229414332,{"$f":"AH434*$B463","v":19.156777171333648},49.622020890321259,20.306874993408208,50.007613318027587,23.277300058007693,56.589100110367106,26.379164873701409,58.650575481855398,25.546335416337069,60.770889959103862,28.15700081738121,57.693448412336544,28.832329193692978,57.981134698664022,26.867531535094656,52.402688241037147,25.591092917787265,52.669650911512633,25.62565250751463,52.455576255933387,23.659155196962502,53.458227447809158,24.102764356905549,52.23948052038002,24.332783921320459,52.888040375796997,24.382073827980797,53.091437473616196,24.382073827980797,53.104148662443954,24.382073827980797,53.104148662443954,24.382073827980797,53.104148662443954,24.382073827980797,53.104148662443954]
["55–59",{"$f":"B435*$B464","v":25.220717488789248},50.441434977578496,23.434429937653452,42.662354171888808,19.026210572836138,44.955896626717404,22.627135679001853,34.438957775987419,20.879032243992818,34.536644966878043,18.405476217491458,37.312643760930968,16.766394807159571,36.610984871484128,18.825769669803517,42.168547910415953,16.716391435089278,42.267314702880775,16.460163985182898,46.222245767939057,21.519982455591038,48.645810024473768,23.983396970319745,56.372487613698617,21.898702620568489,54.941191481351844,23.372026317696523,61.224622176167891,25.74482802961732,56.578627350974728,23.9172449834067,52.918885194430544,{"$f":"AH435*$B464","v":22.080455913575026},44.48835213609658,22.108971050873272,44.446568235571604,20.386229598970861,41.767923587602802,18.746852850342602,42.760174284853193,19.650012983957513,44.022562957470008,20.642638575098243,51.418418105903712,21.847446509643841,51.935207337817381,24.98196228381784,58.79092828816642,28.237514446207864,60.749322431392812,27.372340388331324,62.746123170472003,30.123610996057462,59.540792241635039,30.810648980324828,59.817671368437203,28.743979738830546,54.259513037623023,27.402167271814431,54.515211931133258,27.427889180517951,54.311362303951988,25.37437837837496,55.295303061544914,25.840000336367872,54.103706650038063,26.080916528142122,54.750462800619353]
["60–64",{"$f":"B436*$B465","v":47.305870841487277},64.264579256360079,40.40465215552257,67.394069301601235,39.012524915976115,59.445111507965457,33.374611430367629,57.325124541587677,25.553334775875175,51.24716929728239,23.681816089084716,43.980451242860475,22.033268064300511,37.292791951890877,17.925863659262987,39.136489515280175,21.348287034916005,30.148417711029762,19.649920576129677,30.328658032933699,17.259403022289639,32.795771718672349,15.722630910637797,32.115166390287726,17.681594436221353,37.235719330334241,15.813714191367611,37.06751946031072,15.527614633074517,40.635156925615533,20.354383575656147,42.813790647027254,{"$f":"AH436*$B465","v":22.660922978194026},49.573543463418346,20.642916415513991,48.435122864280039,22.059236315145409,53.717939940859161,24.212732896761661,49.45230805262613,22.5671061539521,46.118034934113972,20.827577235423249,38.731693935146779,20.737101523083641,38.938800109920614,19.141725295990682,36.769413638230681,17.601975980645161,37.589798390636957,18.580275676922863,38.67129536401611,19.527055735746593,45.153481684873668,20.61110509045918,45.727677033110332,23.628651312052561,51.88344525122551,26.67725340694879,53.382008506076623,25.87027120845757,54.941522261491372,28.482219014109816,52.068661256283768,29.013743447704535,52.329168385773244,27.062532956067347,47.602758215530017]
["65–69",{"$f":"B437*$B466","v":29.847881040892197},30.676988847583647,34.37076969478511,32.26251296075489,33.331946953100577,36.008047999263539,35.358480433207603,43.154566871784162,38.336152970772915,47.5472874099653,38.023419964463194,47.823787300692416,32.517392382367255,50.012546995976045,31.346224810792737,43.766831089967908,26.605717917841428,42.496665496627827,20.505035872433979,37.903835978877488,19.008373870855717,32.454894644618754,17.729721799922725,27.592418807267265,14.48325988165133,28.838875945385716,17.275267141675414,22.343589876859241,15.841308258545155,22.552305324791551,13.847457432838958,24.411314371065981,{"$f":"AH437*$B466","v":12.626211486022678},23.852611595195384,14.229202112838472,27.851078359982225,12.872843509112093,27.521863861107626,12.582417896368087,30.252116586848302,16.539302535863087,31.910566727568813,18.369446976405762,36.921261315861976,16.675804933060803,36.160150444767829,17.852381601690933,39.906655238051378,19.481755533220731,36.586177120914776,18.254357688186865,34.015737980431737,16.841609137491183,28.536639759224769,16.625483655120149,28.887502653257815,15.382991473108795,27.413503994270322,14.153114885610972,27.981070163266011,15.099867211460202,28.763159979905961,15.868754710327918,33.579926816044143,16.673953052277046,34.098277260272042,19.180439588900647,38.781776141324755]
["70+",{"$f":"B438*$B467","v":21.705694444444443},26.196527777777778,24.487055388752051,28.189340203962963,28.136096778369442,29.724047038465311,28.641326488795144,31.483854957362595,31.380806631593753,32.241074452962977,31.87052863741458,36.070708815594607,36.805223954855329,38.208925744264789,38.283706010264765,41.458853779424373,39.443395996558344,47.147956083328822,43.088345809287667,50.151835933269915,42.468282695075317,52.659291058845817,41.710542796104725,55.190193058347518,41.405118557586228,52.854209077400476,38.324012194651822,55.804564081980047,36.414846510276739,54.488817617811733,34.551438964234599,52.161265951977121,{"$f":"AH438*$B467","v":32.876242547648125},50.441352576266155,30.257266857007227,49.296005157093411,29.942149722148454,46.896880782836952,27.577282413974423,45.93580430657579,24.968548215753987,45.415273357196007,23.18857000717059,43.741243976543387,22.781464986819387,45.52883898560529,22.101756406452782,43.59148720035418,20.562414838691947,44.777337222422254,21.932461197619531,45.588443430440407,22.349858288248651,47.752661404138045,21.250359730964792,48.645003967260976,21.989664368271878,49.665942803152113,22.279157548519699,48.30546120656328,{"$f":"BJ438*$B467","v":22.759505016205654},47.09030139464825,22.256589573200326,45.001685705516309,21.358276157689531,45.888555278160759,21.164608175617705,45.539713933393998]
["Celkem",{"$f":"SUM(B473:B481)","v":193.70365913003377},{"$f":"SUM(C473:C481)","v":340.17960058272047},{"$f":"SUM(D473:D481)","v":192.92717916818273},343.73430644474308,191.82227134547918,346.44896000861661,191.60963829209237,349.08604657882717,190.36167552030648,350.98593089780741,189.23582860732563,352.54881441321595,187.76594075769756,353.47192939508381,186.21830328126907,355.76008600806341,184.76798199780549,356.09183578160878,182.79375524421505,357.62428667286753,181.68311371258517,359.19081202214409,180.30282973449303,361.07264023031934,178.91126240832222,362.93077884873338,177.94874281302867,364.68803826375989,177.10229167190653,366.02802977785092,176.27551629168661,367.27994834228662,175.55393946416871,368.45192941421362,174.79934651770458,369.64928170230291,174.02952050821182,371.09151954493421,173.7504427508193,372.11171456627739,173.55812787574732,373.09263565341377,173.49012939468258,374.37507927219616,173.62613272321505,375.18215843945143,173.92916703744098,376.75348568035326,174.50824027469275,377.8698654139302,174.79857401671501,378.9875846797529,175.53477591264615,379.95221101613998,176.43384837191428,380.8277440209057,177.11155737172402,381.6208539405273,177.92725349901445,382.78559775911464,178.57309300276196,383.72090308090077,179.39750206213358,384.56013398029233,180.30153338015958,{"$f":"SUM(BO473:BO481)","v":385.03426471514734},180.90405763484839,385.28926823177136]
[]
[]
["Očekávaná zkrácená věková struktura (%; přepočtený počet lékařů)"]
["Věk",2017,null,{"$f":"B486+1","v":2018},null,{"$f":"D486+1","v":2019},null,{"$f":"F486+1","v":2020},null,{"$f":"H486+1","v":2021},null,{"$f":"J486+1","v":2022},null,{"$f":"L486+1","v":2023},null,{"$f":"N486+1","v":2024},null,{"$f":"P486+1","v":2025},null,{"$f":"R486+1","v":2026},null,{"$f":"T486+1","v":2027},null,{"$f":"V486+1","v":2028},null,{"$f":"X486+1","v":2029},null,{"$f":"Z486+1","v":2030},null,{"$f":"AB486+1","v":2031},null,{"$f":"AD486+1","v":2032},null,{"$f":"AF486+1","v":2033},null,{"$f":"AH486+1","v":2034},null,{"$f":"AJ486+1","v":2035},null,{"$f":"AL486+1","v":2036},null,{"$f":"AN486+1","v":2037},null,{"$f":"AP486+1","v":2038},null,{"$f":"AR486+1","v":2039},null,{"$f":"AT486+1","v":2040},null,{"$f":"AV486+1","v":2041},null,{"$f":"AX486+1","v":2042},null,{"$f":"AZ486+1","v":2043},null,{"$f":"BB486+1","v":2044},null,{"$f":"BD486+1","v":2045},null,{"$f":"BF486+1","v":2046},null,{"$f":"BH486+1","v":2047},null,{"$f":"BJ486+1","v":2048},null,{"$f":"BL486+1","v":2049},null,{"$f":"BN486+1","v":2050}]
["FPP","Muži","Ženy","Muži","Ženy","Muži","Ženy","Muži","Ženy","Muži","Ženy","Muži","Ženy","Muži","Ženy","Muži","Ženy","Muži","Ženy","Muži","Ženy","Muži","Ženy","Muži","Ženy","Muži","Ženy","Muži","Ženy","Muži","Ženy","Muži","Ženy","Muži","Ženy","Muži","Ženy","Muži","Ženy","Muži","Ženy","Muži","Ženy","Muži","Ženy","Muži","Ženy","Muži","Ženy","Muži","Ženy","Muži","Ženy","Muži","Ženy","Muži","Ženy","Muži","Ženy","Muži","Ženy","Muži","Ženy","Muži","Ženy","Muži","Ženy","Muži","Ženy"]
["–34",{"$f":"B473/(B$482+C$482)*100","v":1.8704489800610662},{"$f":"C473/(B$482+C$482)*100","v":4.5425189515768754},{"$f":"D473/(D$482+E$482)*100","v":1.9611783864838706},{"$f":"E473/(D$482+E$482)*100","v":4.1958255586208466},{"$f":"F473/(F$482+G$482)*100","v":2.129210907124826},{"$f":"G473/(F$482+G$482)*100","v":4.0390504572205002},{"$f":"H473/(H$482+I$482)*100","v":1.8512652309039905},{"$f":"I473/(H$482+I$482)*100","v":3.2571154623345575},{"$f":"J473/(J$482+K$482)*100","v":1.6594046004766974},{"$f":"K473/(J$482+K$482)*100","v":3.3260676806696745},{"$f":"L473/(L$482+M$482)*100","v":1.6634022070999228},{"$f":"M473/(L$482+M$482)*100","v":3.2920308083611141},{"$f":"N473/(N$482+O$482)*100","v":1.3611382723132814},{"$f":"O473/(N$482+O$482)*100","v":3.4508164107496055},{"$f":"P473/(P$482+Q$482)*100","v":1.4277496329369168},{"$f":"Q473/(P$482+Q$482)*100","v":3.2575777430137536},{"$f":"R473/(R$482+S$482)*100","v":1.4662793823716216},{"$f":"S473/(R$482+S$482)*100","v":3.3647250233740391},{"$f":"T473/(T$482+U$482)*100","v":1.4751078910638271},{"$f":"U473/(T$482+U$482)*100","v":3.3990025675024222},{"$f":"V473/(V$482+W$482)*100","v":1.4738645739342291},{"$f":"W473/(V$482+W$482)*100","v":3.3981064419317528},{"$f":"X473/(X$482+Y$482)*100","v":1.4724991476931237},{"$f":"Y473/(X$482+Y$482)*100","v":3.3949583482819428},{"$f":"Z473/(Z$482+AA$482)*100","v":1.4712312028349279},{"$f":"AA473/(Z$482+AA$482)*100","v":3.3920350053460662},{"$f":"AB473/(AB$482+AC$482)*100","v":1.4690764539094932},{"$f":"AC473/(AB$482+AC$482)*100","v":3.3870670684448352},{"$f":"AD473/(AD$482+AE$482)*100","v":1.4677415099515736},{"$f":"AE473/(AD$482+AE$482)*100","v":3.3839892540083865},{"$f":"AF473/(AF$482+AG$482)*100","v":1.4665935124798406},{"$f":"AG473/(AF$482+AG$482)*100","v":3.3813424588597631},{"$f":"AH473/(AH$482+AI$482)*100","v":1.4653792609788305},{"$f":"AI473/(AH$482+AI$482)*100","v":3.3785429100269324},{"$f":"AJ473/(AJ$482+AK$482)*100","v":1.4641875776441817},{"$f":"AK473/(AJ$482+AK$482)*100","v":3.3757953938115155},{"$f":"AL473/(AL$482+AM$482)*100","v":1.4623814887560214},{"$f":"AM473/(AL$482+AM$482)*100","v":3.3716313190423008},{"$f":"AN473/(AN$482+AO$482)*100","v":1.4603960128382076},{"$f":"AO473/(AN$482+AO$482)*100","v":3.367053653885038},{"$f":"AP473/(AP$482+AQ$482)*100","v":1.4582892246570973},{"$f":"AQ473/(AP$482+AQ$482)*100","v":3.3621962941135721},{"$f":"AR473/(AR$482+AS$482)*100","v":1.455056655349438},{"$f":"AS473/(AR$482+AS$482)*100","v":3.3547433606605161},{"$f":"AT473/(AT$482+AU$482)*100","v":1.4525562586095631},{"$f":"AU473/(AT$482+AU$482)*100","v":3.3489785065352331},{"$f":"AV473/(AV$482+AW$482)*100","v":1.4476121849323536},{"$f":"AW473/(AV$482+AW$482)*100","v":3.3375795700867741},{"$f":"AX473/(AX$482+AY$482)*100","v":1.4431689270365833},{"$f":"AY473/(AX$482+AY$482)*100","v":3.32733530236652},{"$f":"AZ473/(AZ$482+BA$482)*100","v":1.4394995353108577},{"$f":"BA473/(AZ$482+BA$482)*100","v":3.3188752417329463},{"$f":"BB473/(BB$482+BC$482)*100","v":1.4350919767043058},{"$f":"BC473/(BB$482+BC$482)*100","v":3.3087132814287261},{"$f":"BD473/(BD$482+BE$482)*100","v":1.4305219110510903},{"$f":"BE473/(BD$482+BE$482)*100","v":3.2981766488161459},{"$f":"BF473/(BF$482+BG$482)*100","v":1.4267561751660118},{"$f":"BG473/(BF$482+BG$482)*100","v":3.2894944594237101},{"$f":"BH473/(BH$482+BI$482)*100","v":1.4217168668712463},{"$f":"BI473/(BH$482+BI$482)*100","v":3.2778759523490653},{"$f":"BJ473/(BJ$482+BK$482)*100","v":1.4177190645061419},{"$f":"BK473/(BJ$482+BK$482)*100","v":3.2686587161045111},{"$f":"BL473/(BL$482+BM$482)*100","v":1.4135368814213198},{"$f":"BM473/(BL$482+BM$482)*100","v":3.2590163761411204},{"$f":"BN473/(BN$482+BO$482)*100","v":1.4100909951058134},{"$f":"BO473/(BN$482+BO$482)*100","v":3.2510716241646005},{"$f":"BP473/(BP$482+BQ$482)*100","v":1.4079553426119755},{"$f":"BQ473/(BP$482+BQ$482)*100","v":3.2461477155332483}]
["35–39",1.5708097547566351,4.084105362367251,1.7343128650181234,5.397200559025368,1.9392757074966807,5.4509484611924677,2.4709116636765458,6.6234739878438376,3.0314975246641085,6.9901938649118751,2.8778617957789709,7.3705033731585878,3.3551832963332666,6.8184162134428936,3.4731530753782871,6.8623405299200719,3.1230403480130562,5.8607034770873696,2.8932850317608052,5.9142552640530912,2.8971308311082531,5.8700300141877948,2.5371827088791874,6.0473235102659357,2.615521447799332,5.8204084203595903,2.6533825411544814,5.9295520685388379,2.6598972526503672,5.9610458623392866,2.6578168077624849,5.9586867354939486,2.6556162947909128,5.9537533001207157,2.653456680712841,5.9489115579347196,2.6501836174117841,5.9415735206330229,2.6465854620804885,5.9335066439460293,2.6427674600298166,5.9249468823744333,2.6369092744009803,5.911813135571923,2.6323779598787462,5.9016541646228609,2.6234181206279339,5.8815666720838555,2.6153658788744347,5.8635139658222979,2.6087160669668341,5.8486054341689417,2.6007285208294695,5.8306977721062854,2.5924464732120929,5.8121298530773062,2.5856220627372144,5.7968298805376417,2.5764896356731688,5.7763554551180789,2.5692446654549927,5.7601126095570105,2.5616655534506134,5.7431206355295252,2.5554207865884542,5.729120193753733,2.551550475527236,5.7204431581072726]
["40–44",3.0253225826833661,7.7145725858425829,2.70029574352011,6.2193001867055928,2.7011923540289295,6.164970231675353,2.402169676664021,5.646986232935423,2.1270845639071339,5.8139703755413992,2.2718536684646411,6.0274309365356444,2.4380326115252338,7.3075031613226553,2.6356873523358071,7.364359922733879,3.1613099116374728,8.5318984336236738,3.7075271511366572,8.9003193412913895,3.558563504858729,9.2651045088403361,4.0120029169998013,8.717837864107187,4.1265952740763261,8.761613609421314,3.7776089699808586,7.7737596364570338,3.5515847389805857,7.8134169629160128,3.5548288130741348,7.7697043742155847,3.2095102491584906,7.9383879380300071,3.2840715896178958,7.7194537646575991,3.3199860958222693,7.8227276505642456,3.3240309446310441,7.8474456353784516,3.3192356500354481,7.8383302933354564,3.3118779468406538,7.8209551763140093,3.3061867534491798,7.8075154997531895,3.2949334675246038,7.7809410165702229,3.2848200964864205,7.7570584270422724,3.2764681347328537,7.7373353818221915,3.2664360194232676,7.713644676603197,3.2560340192009027,7.6890804931432566,3.2474627669506435,7.668839596368028,3.2359927159753727,7.6417532254366343,3.2268932534629409,7.6202649672397511,3.2173741190173168,7.5977856594236046,3.2095308815367076,7.5792639597240292,3.2046698884128642,7.5677847899163933]
["45–49",3.380200681157306,8.5309826714922483,3.8032950326584514,9.9136714897524385,3.4206423981196381,9.5933628526712642,3.6653012830537999,10.734103067436765,4.0854312702043227,9.9014706987764498,3.7560538721079615,9.2519970388647916,3.4334370813640236,7.7258191727617147,3.4382277470704792,7.6775023900917363,3.1401301490082467,7.1717685857731635,2.8525597316866502,7.3628731319962837,3.0062921535890612,7.5891914895664536,3.1778511542936969,8.9374586262964009,3.3890371935954304,9.0009061832170332,3.9357744598358049,10.209876530007657,4.5077878094687929,10.583292375625494,4.3498409964901015,10.969209957671916,4.8299014906379858,10.389688167870982,4.9509858766929513,10.435547379561934,4.5816174858379064,9.3898848306371221,4.3397232796363978,9.4266034089162805,4.3398343968035862,9.3732195499721325,3.9684598940407794,9.537470388524202,4.0431059862545,9.2967792585297513,4.0714420728318022,9.3839494196345612,4.0679385411685365,9.3923070668413384,4.0575954276604209,9.3707428729956117,4.0451716031225207,9.3420508884645184,4.0322897111567899,9.3123010281147938,4.0216750271403949,9.2877871315548592,4.0074704554862635,9.2549826317063726,3.9962016330938801,9.2289580467020045,3.9844130867648611,9.2017331943319078,3.9746999800808656,9.1793014297914546,3.9686801005453041,9.1653989241671621]
["50–54",3.1941766843091761,6.7077710370492687,2.887430396675541,6.5524560264996676,3.2444468156715658,7.5076182628078154,2.8540465683444212,7.5250792250965537,2.8053983388571955,8.2187036943594247,3.6901081711163091,8.6402700467404827,4.1273027740188315,10.050972646407265,3.7557952035889288,9.7527782698254555,4.021457194239284,10.945538795622728,4.446708022357547,10.139920354273798,4.1188720049516032,9.4930844727974755,3.791268377098902,7.9617076532485749,3.7974141882798587,7.9172689487367078,3.4900119712423563,7.3910426758168928,3.2003995809262555,7.567115129080376,3.3520533101542136,7.7913042890540334,3.5214284012837238,9.1215966093584058,3.7298055208254381,9.1850012519124018,4.2701158729331548,10.38101558230994,4.8325689040901016,10.744576207686201,4.6732460870283408,11.116949616381913,5.1394029721098153,10.530591740388498,5.2536249284082137,10.564915951949137,4.8789500454562775,9.5159504266955199,4.6328941451949994,9.535072148786913,4.6273551812551048,9.4721717818672424,4.2591736176882975,9.6236687277541115,4.3252154259206943,9.3743192126465136,4.3549977464475242,9.4657190642624389,4.3484064567580765,9.4685608425934014,4.336178938028894,9.4441962802929673,4.3233874797905134,9.4163364885175493,4.3128480294591842,9.3933815692123233,4.3063160079927494,9.3791548286377893]
["55–59",4.7240135422786578,9.4480270845573155,4.3667061203188045,7.949583734924401,3.5346883624029233,8.3519040231120343,4.1848189863774552,6.3693790684142488,3.8568623923806071,6.3797538877826705,3.3971941535437025,6.8869880757244486,3.0977867092756699,6.7643058422998976,3.4735277350244078,7.7804851159673243,3.0907068496456391,7.8148372856419499,3.045820588593231,8.5530537811006369,3.9787428144845491,8.9939277361896757,4.4300856431264952,10.412826354574699,4.0415288872314568,10.139706279322679,4.3071216572009599,11.282799896954273,4.7400829990300695,10.417136572296592,4.4001480142440332,9.7356918727817021,4.0588635484944229,8.1779176808922198,4.0608002123460594,8.163592657195764,3.739762016337385,7.6621374921670009,3.4343565676879066,7.8335113932460034,3.5946191416797104,8.0531421328787065,3.7678316214544831,9.3852314935310872,3.9808885655425112,9.4632694465659632,4.5365442620216747,10.676008768029003,5.1119901667727259,10.997778841299217,4.9427635484357051,11.330388487528696,5.42291929512281,10.718665539012568,5.52893818646774,10.734217499466761,5.1444983603728653,9.7111805112912499,4.8870232259398669,9.7224830514962992,4.8778556007268845,9.6588906661331482,4.4993412193936617,9.804868225489388,4.5707348488148707,9.5701894046548617,4.6063624095572786,9.6699237344096005]
["60–64",8.8607143941803503,12.037196912848778,7.5288898567736906,12.558022348972905,7.2477447508823216,11.04370957341024,6.1725314930773232,10.602105055688197,4.7203191577684498,9.4665920177175877,4.3710755544960751,8.1176998664380697,4.0709028838061405,6.8902776410238644,3.3074867953255893,7.221042441673327,3.9471016949576292,5.5741648242254103,3.6360593192676212,5.6120735579710885,3.1910214564039614,6.0634780414164355,2.9042008334178337,5.9321428790216713,3.2632378239238577,6.8720616886701151,2.9142355886726765,6.8310001741414013,2.8589113919523466,7.4816586960473179,3.7446746284415813,7.8766185665813868,4.1655659018745048,9.1126854137856697,3.7915269403842351,8.8961786941462861,4.0466675645091161,9.8543141786679112,4.4356862940942516,9.0594864270649182,4.1282492698372053,8.4364713288567117,3.8015878551775582,7.0695662587140138,3.7785692849412826,7.0951552184876112,3.4759993258404225,6.6770604551935522,3.1865810392143672,6.805084778618367,3.355135440845638,6.9830736569947343,3.5153039036448175,8.1286299674671554,3.6986408846081362,8.2057830034115078,4.2289745204789151,9.2859200935508461,4.7577388938188756,9.5203825605740828,4.6008442894005892,9.770960146143322,5.0504181863701421,9.2327256390525569,5.1321256402753503,9.2562983915183352,4.7797336562816657,8.4075095980103409]
["65–69",5.5907130440747066,5.7460106286323382,6.4045530779109194,6.0117064156201909,6.1924072867965565,6.68957319318001,6.5394419490602633,7.981304101231447,7.0816149395077774,8.7831343200290792,7.0181797240461004,8.8270843252526809,6.0079669541948721,9.240400525162519,5.7836669192466115,8.0753830696749809,4.9191522541044783,7.8572421355138982,3.7942915080507458,7.0137991404611828,3.5143816269261876,6.0004546531858898,3.2749399970181692,5.0967249788876989,2.6729671710321048,5.3223769566644323,3.1835783610898996,4.1175959050400968,2.9166679953092181,4.1522825064514022,2.547570272734494,4.4910438693693209,2.320969718958195,4.3846239461302323,2.6135068352286415,5.1154648788513093,2.3614651725526987,5.0487619884245172,2.3050540741293477,5.5420798421962321,3.0255701883750863,5.8374686100418387,3.3529135790725175,6.7391140615960143,3.0385482875509444,6.5888491531644844,3.2418638055118945,7.2467609141307303,3.5268877119837638,6.6233937848250806,3.2962827621324027,6.142395841113081,3.0318638480815197,5.1372292116148506,2.9834253575115688,5.1838316237115967,2.7531947604363887,4.9063744002046272,2.5241288573739964,4.9902673178404955,2.6854043110240715,5.1153240440480081,2.8138203468060015,5.9543349836862491,2.9493892140660218,6.0315085963340316,3.3876131548429904,6.8495643395239743]
["70+",4.0656255931536007,4.9067895089784841,4.5628494023164654,5.2527227982026075,5.2271225247519171,5.5221318374549497,5.2971250354314732,5.822841912429678,5.7967941964735603,5.9557064759719918,5.8825086771989259,6.6577577050715693,6.8001937751447254,7.0595440288535469,7.063696037855709,7.649540018336741,7.2927207198529675,8.7172229353073831,7.9731508697296238,9.2801927477034205,7.8517896083428171,9.7359640672847814,7.7045498198903939,10.194439186898272,7.6415477952813937,9.7545419242073681,7.0625533563359006,10.28396268517654,6.7046241154564798,10.03236524750943,6.3565617885014403,9.5963097320900239,6.0433617408267191,9.2722074267810513,5.5574144719454592,9.0542987165307487,5.4927525305626199,8.6030215928309755,5.0520597634971258,8.4152754849959717,4.5675502316246268,8.3079136419743307,4.2325319513526649,7.9839426349008411,4.1510788655463244,8.2959459102104862,4.013519637376187,7.9158998354526542,3.722525318605411,8.1062838590607278,3.9604567310323096,8.2321384734044205,4.0234710828813567,8.5965400680502313,3.8133544498765986,8.7292942186065048,3.9356342898788461,8.8890391531977855,3.9733631035082677,8.6150087514804312,4.0476165804230479,8.3746761876578475,3.9465002600879733,7.9796216647256948,3.7779804904710548,8.1170439644483032,3.7380532776897359,8.0431385982324279]
["Celkem",{"$f":"SUM(B488:B496)","v":36.282025256654862},63.717974743345145,35.949510881675977,64.050489118324023,35.636731107275359,64.363268892724633,35.437611886589288,64.562388113410705,35.164406984239854,64.835593015760153,34.928237823852612,65.071762176147402,34.691944357976048,65.308055642023959,34.358990498762736,65.641009501237264,34.1618985038304,65.838101496169628,33.824510113646703,66.175489886353319,33.590658574599395,66.409341425400598,33.304580598417601,66.695419401582384,33.019080984054696,66.980919015945304,32.793343359422437,67.206656640577563,32.607697393725694,67.392302606274299,32.430088143882323,67.56991185611767,32.270596607003789,67.729403392996218,32.105755705397698,67.894244294602288,31.924931844722956,68.075068155277037,31.830461302684871,68.169538697315119,31.74936165007092,68.250638349929091,31.666571749798891,68.333428250201095,31.636936890181268,68.363063109818725,31.584282922123151,68.415717077876877,31.592171825337239,68.40782817466274,31.564272828372122,68.43572717162786,31.600159867498366,68.399840132501652,31.660866419005611,68.339133580994371,31.698815709608802,68.301184290391177,31.732330211405134,68.267669788594873,31.75795833612144,68.242041663878581,31.8104571331024,68.189542866897597,{"$f":"SUM(BN488:BN496)","v":31.892820866398321},68.107179133601676,31.950934313461804,68.049065686538214]
[]
[]
["Očekávané počty lékařů podle pohlaví (fyzický počet lékařů: FPP a přepočtený počet lékařů: PPP)"]
[null,2017,2018,2019,2020,2021,2022,2023,2024,2025,2026,2027,2028,2029,2030,2031,2032,2033,2034,2035,2036,2037,2038,2039,2040,2041,2042,2043,2044,2045,2046,2047,2048,2049,2050]
["FPP – muži",{"$f":"B424","v":231},{"$f":"D424","v":231.17906141640367},{"$f":"F424","v":231.0514018026376},{"$f":"H424","v":230.63258281842718},{"$f":"J424","v":229.94210599009304},{"$f":"L424","v":229.00285914337408},{"$f":"N424","v":227.8377915424191},{"$f":"P424","v":226.48041874219646},{"$f":"R424","v":224.96889421856886},{"$f":"T424","v":223.3418642256527},{"$f":"V424","v":221.63811802546007},{"$f":"X424","v":219.89466813160956},{"$f":"Z424","v":218.17226229090303},{"$f":"AB424","v":216.49442585126403},{"$f":"AD424","v":214.90198534792651},{"$f":"AF424","v":213.43284657124457},{"$f":"AH424","v":212.12052219969124},{"$f":"AJ424","v":210.98669546252972},{"$f":"AL424","v":210.05314078220755},{"$f":"AN424","v":209.33460830996614},{"$f":"AP424","v":208.84442329337},{"$f":"AR424","v":208.58222064334049},{"$f":"AT424","v":208.54407966607366},{"$f":"AV424","v":208.71301320359976},{"$f":"AX424","v":209.07160164375011},{"$f":"AZ424","v":209.59774765611212},{"$f":"BB424","v":210.26036110584184},{"$f":"BD424","v":211.02824711146454},{"$f":"BF424","v":211.87352712591172},{"$f":"BH424","v":212.76061890430887},{"$f":"BJ424","v":213.66872153007805},{"$f":"BL424","v":214.57070544935084},{"$f":"BN424","v":215.45410769888164},{"$f":"BP424","v":216.29985988300518}]
["FPP – ženy",{"$f":"C424","v":406},{"$f":"E424","v":410.03191034193242},{"$f":"G424","v":413.69536707817184},{"$f":"I424","v":417.03165538669691},{"$f":"K424","v":420.07467357778387},{"$f":"M424","v":422.86046676506214},{"$f":"O424","v":425.42030158962069},{"$f":"Q424","v":427.7788511538613},{"$f":"S424","v":429.96984410818317},{"$f":"U424","v":432.01038399048662},{"$f":"W424","v":433.91294904071219},{"$f":"Y424","v":435.684640772526},{"$f":"AA424","v":437.33625171697832},{"$f":"AC424","v":438.88354241569573},{"$f":"AE424","v":440.35259619564943},{"$f":"AG424","v":441.58498324949676},{"$f":"AI424","v":442.92412765984341},{"$f":"AK424","v":444.25849060514139},{"$f":"AM424","v":445.52966641493674},{"$f":"AO424","v":446.83191586594933},{"$f":"AQ424","v":448.05118636704771},{"$f":"AS424","v":449.36390357172206},{"$f":"AU424","v":450.54494928522161},{"$f":"AW424","v":451.87491820805678},{"$f":"AY424","v":453.09969404181038},{"$f":"BA424","v":454.27551093632576},{"$f":"BC424","v":455.43839282684922},{"$f":"BE424","v":456.5751447962628},{"$f":"BG424","v":457.64806391098102},{"$f":"BI424","v":458.71630016023204},{"$f":"BK424","v":459.57189478675696},{"$f":"BM424","v":460.46467487343853},{"$f":"BO424","v":461.24372750043915},{"$f":"BQ424","v":461.84920547895803}]
["PPP – muži",{"$f":"B482","v":193.70365913003377},{"$f":"D482","v":192.92717916818273},{"$f":"F482","v":191.82227134547918},{"$f":"H482","v":191.60963829209237},{"$f":"J482","v":190.36167552030648},{"$f":"L482","v":189.23582860732563},{"$f":"N482","v":187.76594075769756},{"$f":"P482","v":186.21830328126907},{"$f":"R482","v":184.76798199780549},{"$f":"T482","v":182.79375524421505},{"$f":"V482","v":181.68311371258517},{"$f":"X482","v":180.30282973449303},{"$f":"Z482","v":178.91126240832222},{"$f":"AB482","v":177.94874281302867},{"$f":"AD482","v":177.10229167190653},{"$f":"AF482","v":176.27551629168661},{"$f":"AH482","v":175.55393946416871},{"$f":"AJ482","v":174.79934651770458},{"$f":"AL482","v":174.02952050821182},{"$f":"AN482","v":173.7504427508193},{"$f":"AP482","v":173.55812787574732},{"$f":"AR482","v":173.49012939468258},{"$f":"AT482","v":173.62613272321505},{"$f":"AV482","v":173.92916703744098},{"$f":"AX482","v":174.50824027469275},{"$f":"AZ482","v":174.79857401671501},{"$f":"BB482","v":175.53477591264615},{"$f":"BD482","v":176.43384837191428},{"$f":"BF482","v":177.11155737172402},{"$f":"BH482","v":177.92725349901445},{"$f":"BJ482","v":178.57309300276196},{"$f":"BL482","v":179.39750206213358},{"$f":"BN482","v":180.30153338015958},{"$f":"BP482","v":180.90405763484839}]
["PPP – ženy",{"$f":"C482","v":340.17960058272047},{"$f":"E482","v":343.73430644474308},{"$f":"G482","v":346.44896000861661},{"$f":"I482","v":349.08604657882717},{"$f":"K482","v":350.98593089780741},{"$f":"M482","v":352.54881441321595},{"$f":"O482","v":353.47192939508381},{"$f":"Q482","v":355.76008600806341},{"$f":"S482","v":356.09183578160878},{"$f":"U482","v":357.62428667286753},{"$f":"W482","v":359.19081202214409},{"$f":"Y482","v":361.07264023031934},{"$f":"AA482","v":362.93077884873338},{"$f":"AC482","v":364.68803826375989},{"$f":"AE482","v":366.02802977785092},{"$f":"AG482","v":367.27994834228662},{"$f":"AI482","v":368.45192941421362},{"$f":"AK482","v":369.64928170230291},{"$f":"AM482","v":371.09151954493421},{"$f":"AO482","v":372.11171456627739},{"$f":"AQ482","v":373.09263565341377},{"$f":"AS482","v":374.37507927219616},{"$f":"AU482","v":375.18215843945143},{"$f":"AW482","v":376.75348568035326},{"$f":"AY482","v":377.8698654139302},{"$f":"BA482","v":378.9875846797529},{"$f":"BC482","v":379.95221101613998},{"$f":"BE482","v":380.8277440209057},{"$f":"BG482","v":381.6208539405273},{"$f":"BI482","v":382.78559775911464},{"$f":"BK482","v":383.72090308090077},{"$f":"BM482","v":384.56013398029233},{"$f":"BO482","v":385.03426471514734},{"$f":"BQ482","v":385.28926823177136}]
[]
[]
["Očekávané počty lékařů celkem (fyzický počet lékařů: FPP a přepočtený počet lékařů: PPP)"]
[null,2017,2018,2019,2020,2021,2022,2023,2024,2025,2026,2027,2028,2029,2030,2031,2032,2033,2034,2035,2036,2037,2038,2039,2040,2041,2042,2043,2044,2045,2046,2047,2048,2049,2050]
["FPP",{"$f":"B502+B503","v":637},{"$f":"C502+C503","v":641.21097175833609},644.74676888080944,647.66423820512409,650.01677956787694,651.8633259084362,653.25809313203979,654.25926989605773,654.93873832675206,655.35224821613929,655.55106706617221,655.57930890413559,655.50851400788133,655.37796826695978,655.25458154357591,655.01782982074133,655.04464985953462,655.24518606767106,655.58280719714435,656.16652417591547,656.89560966041768,657.94612421506258,659.08902895129529,660.58793141165654,662.17129568556049,663.87325859243788,665.69875393269103,667.60339190772731,669.52159103689269,671.47691906454088,673.24061631683503,675.03538032278936,676.69783519932082,678.14906536196327]
["PPP",{"$f":"B504+B505","v":533.88325971275424},{"$f":"C504+C505","v":536.66148561292584},538.27123135409579,540.69568487091954,541.34760641811386,541.78464302054158,541.2378701527814,541.97838928933243,540.85981777941424,540.41804191708252,540.87392573472926,541.3754699648124,541.8420412570556,542.63678107678857,543.1303214497575,543.5554646339732,544.00586887838233,544.44862822000755,545.12104005314609,545.86215731709672,546.65076352916105,547.86520866687874,548.80829116266648,550.68265271779421,552.37810568862301,553.78615869646796,555.48698692878611,557.26159239281992,558.73241131225132,560.71285125812915,562.29399608366271,563.95763604242597,565.33579809530693,566.19332586661972]
[]
[]
["Očekávaný vývoj vybraných věkových kategorií (%; fyzický počet lékařů)"]
["Věk",2017,2018,2019,2020,2021,2022,2023,2024,2025,2026,2027,2028,2029,2030,2031,2032,2033,2034,2035,2036,2037,2038,2039,2040,2041,2042,2043,2044,2045,2046,2047,2048,2049,2050]
["–39",{"$f":"SUM(B445:C446)","v":13.186813186813186},{"$f":"SUM(D445:E446)","v":14.341684674690091},{"$f":"SUM(F445:G446)","v":14.576540643049981},{"$f":"SUM(H445:I446)","v":15.032201824285089},{"$f":"SUM(J445:K446)","v":15.773233968373152},{"$f":"SUM(L445:M446)","v":15.930895939844604},{"$f":"SUM(N445:O446)","v":15.64031648969233},{"$f":"SUM(P445:Q446)","v":15.650605456436139},{"$f":"SUM(R445:S446)","v":14.439661692148711},{"$f":"SUM(T445:U446)","v":14.295337548796406},{"$f":"SUM(V445:W446)","v":14.260856341399332},{"$f":"SUM(X445:Y446)","v":14.088380036570788},{"$f":"SUM(Z445:AA446)","v":13.950742644998517},{"$f":"SUM(AB445:AC446)","v":14.11085696079833},{"$f":"SUM(AD445:AE446)","v":14.158789596617105},{"$f":"SUM(AF445:AG446)","v":14.166186355308145},{"$f":"SUM(AH445:AI446)","v":14.165606337338861},{"$f":"SUM(AJ445:AK446)","v":14.161270987699908},{"$f":"SUM(AL445:AM446)","v":14.153978019896062},{"$f":"SUM(AN445:AO446)","v":14.141386830033483},{"$f":"SUM(AP445:AQ446)","v":14.125691368354515},{"$f":"SUM(AR445:AS446)","v":14.103137478559082},{"$f":"SUM(AT445:AU446)","v":14.07868168895865},{"$f":"SUM(AV445:AW446)","v":14.046736553998151},{"$f":"SUM(AX445:AY446)","v":14.013148416050377},{"$f":"SUM(AZ445:BA446)","v":13.977223096715703},{"$f":"SUM(BB445:BC446)","v":13.938894415037993},{"$f":"SUM(BD445:BE446)","v":13.899127469640909},{"$f":"SUM(BF445:BG446)","v":13.85930605900181},{"$f":"SUM(BH445:BI446)","v":13.818948023138605},{"$f":"SUM(BJ445:BK446)","v":13.782746344173747},{"$f":"SUM(BL445:BM446)","v":13.746101187841507},{"$f":"SUM(BN445:BO446)","v":13.712330911413341},{"$f":"SUM(BP445:BQ446)","v":13.682986701953794}]
["40–64",{"$f":"SUM(B447:C451)","v":65.306122448979593},{"$f":"SUM(D447:E451)","v":62.14873463266953},{"$f":"SUM(F447:G451)","v":60.462280903523421},{"$f":"SUM(H447:I451)","v":57.943553357763399},{"$f":"SUM(J447:K451)","v":55.214022768440351},{"$f":"SUM(L447:M451)","v":54.259957307337501},{"$f":"SUM(N447:O451)","v":53.780087529528316},{"$f":"SUM(P447:Q451)","v":54.218299710266535},{"$f":"SUM(R447:S451)","v":55.170278103332642},{"$f":"SUM(T447:U451)","v":55.946335366119854},{"$f":"SUM(V447:W451)","v":56.8830662646942},{"$f":"SUM(X447:Y451)","v":57.825246351895842},{"$f":"SUM(Z447:AA451)","v":58.866216030269577},{"$f":"SUM(AB447:AC451)","v":59.408869870467001},{"$f":"SUM(AD447:AE451)","v":60.239034422089418},{"$f":"SUM(AF447:AG451)","v":61.102052581416039},{"$f":"SUM(AH447:AI451)","v":62.12386229064434},{"$f":"SUM(AJ447:AK451)","v":61.871940060832124},{"$f":"SUM(AL447:AM451)","v":62.75483393216841},{"$f":"SUM(AN447:AO451)","v":63.016708916470904},{"$f":"SUM(AP447:AQ451)","v":62.663192487209514},{"$f":"SUM(AR447:AS451)","v":62.170162548422972},{"$f":"SUM(AT447:AU451)","v":62.405133043269494},{"$f":"SUM(AV447:AW451)","v":62.12087725927281},{"$f":"SUM(AX447:AY451)","v":62.590803404331524},{"$f":"SUM(AZ447:BA451)","v":62.937734398170306},{"$f":"SUM(BB447:BC451)","v":63.769905923750173},{"$f":"SUM(BD447:BE451)","v":63.890383891598717},{"$f":"SUM(BF447:BG451)","v":64.131940674678447},{"$f":"SUM(BH447:BI451)","v":64.568450184340477},{"$f":"SUM(BJ447:BK451)","v":64.497371756267839},{"$f":"SUM(BL447:BM451)","v":64.106676761334185},{"$f":"SUM(BN447:BO451)","v":63.961212551769584},{"$f":"SUM(BP447:BQ451)","v":62.866449297047694}]
["65+",{"$f":"SUM(B452:C453)","v":21.507064364207224},{"$f":"SUM(D452:E453)","v":23.509580692640387},{"$f":"SUM(F452:G453)","v":24.96117845342658},{"$f":"SUM(H452:I453)","v":27.024244817951509},{"$f":"SUM(J452:K453)","v":29.012743263186504},{"$f":"SUM(L452:M453)","v":29.809146752817892},{"$f":"SUM(N452:O453)","v":30.579595980779345},{"$f":"SUM(P452:Q453)","v":30.131094833297333},{"$f":"SUM(R452:S453)","v":30.390060204518644},{"$f":"SUM(T452:U453)","v":29.758327085083746},{"$f":"SUM(V452:W453)","v":28.856077393906482},{"$f":"SUM(X452:Y453)","v":28.086373611533357},{"$f":"SUM(Z452:AA453)","v":27.18304132473191},{"$f":"SUM(AB452:AC453)","v":26.480273168734666},{"$f":"SUM(AD452:AE453)","v":25.602175981293485},{"$f":"SUM(AF452:AG453)","v":24.731761063275819},{"$f":"SUM(AH452:AI453)","v":23.71053137201681},{"$f":"SUM(AJ452:AK453)","v":23.966788951467962},{"$f":"SUM(AL452:AM453)","v":23.091188047935532},{"$f":"SUM(AN452:AO453)","v":22.84190425349561},{"$f":"SUM(AP452:AQ453)","v":23.211116144435977},{"$f":"SUM(AR452:AS453)","v":23.726699973017944},{"$f":"SUM(AT452:AU453)","v":23.516185267771863},{"$f":"SUM(AV452:AW453)","v":23.832386186729032},{"$f":"SUM(AX452:AY453)","v":23.396048179618095},{"$f":"SUM(AZ452:BA453)","v":23.085042505113989},{"$f":"SUM(BB452:BC453)","v":22.291199661211838},{"$f":"SUM(BD452:BE453)","v":22.210488638760374},{"$f":"SUM(BF452:BG453)","v":22.008753266319747},{"$f":"SUM(BH452:BI453)","v":21.612601792520934},{"$f":"SUM(BJ452:BK453)","v":21.719881899558398},{"$f":"SUM(BL452:BM453)","v":22.147222050824304},{"$f":"SUM(BN452:BO453)","v":22.326456536817069},{"$f":"SUM(BP452:BQ453)","v":23.450564000998497}]
["Celkem",{"$f":"SUM(B516:B518)","v":100},{"$f":"SUM(C516:C518)","v":100},{"$f":"SUM(D516:D518)","v":99.999999999999986},{"$f":"SUM(E516:E518)","v":100},{"$f":"SUM(F516:F518)","v":100.00000000000001},{"$f":"SUM(G516:G518)","v":100},{"$f":"SUM(H516:H518)","v":99.999999999999986},{"$f":"SUM(I516:I518)","v":100},{"$f":"SUM(J516:J518)","v":100},{"$f":"SUM(K516:K518)","v":100.00000000000001},{"$f":"SUM(L516:L518)","v":100},{"$f":"SUM(M516:M518)","v":99.999999999999986},{"$f":"SUM(N516:N518)","v":100},{"$f":"SUM(O516:O518)","v":100},{"$f":"SUM(P516:P518)","v":100.00000000000001},{"$f":"SUM(Q516:Q518)","v":100},{"$f":"SUM(R516:R518)","v":100},{"$f":"SUM(S516:S518)","v":99.999999999999986},{"$f":"SUM(T516:T518)","v":100},{"$f":"SUM(U516:U518)","v":100},{"$f":"SUM(V516:V518)","v":100},{"$f":"SUM(W516:W518)","v":100},{"$f":"SUM(X516:X518)","v":100},{"$f":"SUM(Y516:Y518)","v":100},{"$f":"SUM(Z516:Z518)","v":99.999999999999986},{"$f":"SUM(AA516:AA518)","v":100},{"$f":"SUM(AB516:AB518)","v":100},{"$f":"SUM(AC516:AC518)","v":100},{"$f":"SUM(AD516:AD518)","v":100},{"$f":"SUM(AE516:AE518)","v":100.00000000000001},{"$f":"SUM(AF516:AF518)","v":99.999999999999986},{"$f":"SUM(AG516:AG518)","v":100},{"$f":"SUM(AH516:AH518)","v":100},{"$f":"SUM(AI516:AI518)","v":99.999999999999986}]
[]
[]
["Očekávaný vývoj vybraných věkových kategorií (%; přepočtený počet lékařů)"]
["Věk",2017,{"$f":"B523+1","v":2018},2019,2020,2021,2022,2023,2024,2025,2026,2027,2028,2029,2030,2031,2032,2033,2034,2035,2036,2037,2038,2039,2040,2041,2042,2043,2044,2045,2046,2047,2048,2049,2050]
["–39",{"$f":"SUM(B488:C489)","v":12.067883048761828},{"$f":"SUM(D488:E489)","v":13.288517369148209},{"$f":"SUM(F488:G489)","v":13.558485533034474},{"$f":"SUM(H488:I489)","v":14.202766344758931},{"$f":"SUM(J488:K489)","v":15.007163670722354},{"$f":"SUM(L488:M489)","v":15.203798184398597},{"$f":"SUM(N488:O489)","v":14.985554192839047},{"$f":"SUM(P488:Q489)","v":15.020820981249029},{"$f":"SUM(R488:S489)","v":13.814748230846087},{"$f":"SUM(T488:U489)","v":13.681650754380147},{"$f":"SUM(V488:W489)","v":13.63913186116203},{"$f":"SUM(X488:Y489)","v":13.45196371512019},{"$f":"SUM(Z488:AA489)","v":13.299196076339916},{"$f":"SUM(AB488:AC489)","v":13.439078132047648},{"$f":"SUM(AD488:AE489)","v":13.472673878949614},{"$f":"SUM(AF488:AG489)","v":13.464439514596037},{"$f":"SUM(AH488:AI489)","v":13.453291765917392},{"$f":"SUM(AJ488:AK489)","v":13.442351210103258},{"$f":"SUM(AL488:AM489)","v":13.425769945843129},{"$f":"SUM(AN488:AO489)","v":13.407541772749763},{"$f":"SUM(AP488:AQ489)","v":13.38819986117492},{"$f":"SUM(AR488:AS489)","v":13.358522425982859},{"$f":"SUM(AT488:AU489)","v":13.335566889646403},{"$f":"SUM(AV488:AW489)","v":13.290176547730916},{"$f":"SUM(AX488:AY489)","v":13.249384074099837},{"$f":"SUM(AZ488:BA489)","v":13.21569627817958},{"$f":"SUM(BB488:BC489)","v":13.175231551068787},{"$f":"SUM(BD488:BE489)","v":13.133274886156634},{"$f":"SUM(BF488:BG489)","v":13.098702577864579},{"$f":"SUM(BH488:BI489)","v":13.052437910011559},{"$f":"SUM(BJ488:BK489)","v":13.015735055622656},{"$f":"SUM(BL488:BM489)","v":12.97733944654258},{"$f":"SUM(BN488:BO489)","v":12.945703599612601},{"$f":"SUM(BP488:BQ489)","v":12.926096691779733}]
["40–64",{"$f":"SUM(B490:C494)","v":67.622978176399045},{"$f":"SUM(D490:E494)","v":64.47965093680159},{"$f":"SUM(F490:G494)","v":62.810279624782083},{"$f":"SUM(H490:I494)","v":60.156520657088208},{"$f":"SUM(J490:K494)","v":57.375586397295237},{"$f":"SUM(L490:M494)","v":56.410671384032113},{"$f":"SUM(N490:O494)","v":55.906340523805298},{"$f":"SUM(P490:Q494)","v":56.406892973636928},{"$f":"SUM(R490:S494)","v":57.398913724375198},{"$f":"SUM(T490:U494)","v":58.256914979674903},{"$f":"SUM(V490:W494)","v":59.258278183098284},{"$f":"SUM(X490:Y494)","v":60.277382302185259},{"$f":"SUM(Z490:AA494)","v":61.309370076474785},{"$f":"SUM(AB490:AC494)","v":61.91323156030991},{"$f":"SUM(AD490:AE494)","v":62.721386256323846},{"$f":"SUM(AF490:AG494)","v":63.544074822708687},{"$f":"SUM(AH490:AI494)","v":64.52554540138641},{"$f":"SUM(AJ490:AK494)","v":64.216963887340569},{"$f":"SUM(AL490:AM494)","v":65.068228769786046},{"$f":"SUM(AN490:AO494)","v":65.277989062431573},{"$f":"SUM(AP490:AQ494)","v":64.873297466809206},{"$f":"SUM(AR490:AS494)","v":64.3329753470951},{"$f":"SUM(AT490:AU494)","v":64.590010893881342},{"$f":"SUM(AV490:AW494)","v":64.29177925979765},{"$f":"SUM(AX490:AY494)","v":64.77152525142516},{"$f":"SUM(AZ490:BA494)","v":65.153029914138202},{"$f":"SUM(BB490:BC494)","v":66.035664238303269},{"$f":"SUM(BD490:BE494)","v":66.156819464137101},{"$f":"SUM(BF490:BG494)","v":66.417054818417753},{"$f":"SUM(BH490:BI494)","v":66.844794059785244},{"$f":"SUM(BJ490:BK494)","v":66.761243821224383},{"$f":"SUM(BL490:BM494)","v":66.328383298151508},{"$f":"SUM(BN490:BO494)","v":66.178374135067983},{"$f":"SUM(BP490:BQ494)","v":65.055533937931145}]
["65+",{"$f":"SUM(B495:C496)","v":20.309138774839131},{"$f":"SUM(D495:E496)","v":22.231831694050186},{"$f":"SUM(F495:G496)","v":23.631234842183432},{"$f":"SUM(H495:I496)","v":25.640712998152861},{"$f":"SUM(J495:K496)","v":27.617249931982407},{"$f":"SUM(L495:M496)","v":28.385530431569272},{"$f":"SUM(N495:O496)","v":29.108105283355666},{"$f":"SUM(P495:Q496)","v":28.572286045114041},{"$f":"SUM(R495:S496)","v":28.786338044778727},{"$f":"SUM(T495:U496)","v":28.061434265944971},{"$f":"SUM(V495:W496)","v":27.102589955739674},{"$f":"SUM(X495:Y496)","v":26.270653982694533},{"$f":"SUM(Z495:AA496)","v":25.391433847185297},{"$f":"SUM(AB495:AC496)","v":24.647690307642435},{"$f":"SUM(AD495:AE496)","v":23.805939864726533},{"$f":"SUM(AF495:AG496)","v":22.991485662695279},{"$f":"SUM(AH495:AI496)","v":22.021162832696199},{"$f":"SUM(AJ495:AK496)","v":22.340684902556159},{"$f":"SUM(AL495:AM496)","v":21.506001284370811},{"$f":"SUM(AN495:AO496)","v":21.314469164818675},{"$f":"SUM(AP495:AQ496)","v":21.738502672015883},{"$f":"SUM(AR495:AS496)","v":22.308502226922037},{"$f":"SUM(AT495:AU496)","v":22.074422216472239},{"$f":"SUM(AV495:AW496)","v":22.418044192471463},{"$f":"SUM(AX495:AY496)","v":21.979090674474982},{"$f":"SUM(AZ495:BA496)","v":21.631273807682213},{"$f":"SUM(BB495:BC496)","v":20.789104210627958},{"$f":"SUM(BD495:BE496)","v":20.709905649706268},{"$f":"SUM(BF495:BG496)","v":20.484242603717647},{"$f":"SUM(BH495:BI496)","v":20.10276803020319},{"$f":"SUM(BJ495:BK496)","v":20.223021123152975},{"$f":"SUM(BL495:BM496)","v":20.69427725530592},{"$f":"SUM(BN495:BO496)","v":20.87592226531941},{"$f":"SUM(BP495:BQ496)","v":22.018369370289129}]
["Celkem",{"$f":"SUM(B524:B526)","v":100},{"$f":"SUM(C524:C526)","v":99.999999999999986},{"$f":"SUM(D524:D526)","v":99.999999999999986},100,100,99.999999999999972,100.00000000000001,100,100.00000000000001,100.00000000000001,99.999999999999986,99.999999999999972,100,99.999999999999986,100,100,100,99.999999999999986,99.999999999999986,100.00000000000001,100.00000000000001,100,99.999999999999986,100.00000000000003,99.999999999999972,100,100.00000000000001,100.00000000000001,99.999999999999986,100,100.00000000000001,100.00000000000001,100,100]
[]
[]
["Očekávaný průměrný věk lékařů podle pohlaví"]
[null,{"$f":"B523","v":2017},{"$f":"C523","v":2018},2019,2020,2021,2022,2023,2024,2025,2026,2027,2028,2029,2030,2031,2032,2033,2034,2035,2036,2037,2038,2039,2040,2041,2042,2043,2044,2045,2046,2047,2048,2049,2050]
["Muži",{"$f":"C250","v":57.31818181818182},{"$f":"F250","v":57.457030918580081},{"$f":"I250","v":57.570512180843117},{"$f":"L250","v":57.657358830622975},{"$f":"O250","v":57.716305211631848},{"$f":"R250","v":57.746203704629451},{"$f":"U250","v":57.746109194589039},{"$f":"X250","v":57.715416586650967},{"$f":"AA250","v":57.654094403497282},{"$f":"AD250","v":57.562842117873871},{"$f":"AG250","v":57.443164872662898},{"$f":"AJ250","v":57.296314484974609},{"$f":"AM250","v":57.128531627462408},{"$f":"AP250","v":56.941715475727136},{"$f":"AS250","v":56.740882938785532},{"$f":"AV250","v":56.531287527041243},{"$f":"AY250","v":56.319334685922819},{"$f":"BB250","v":56.110169471943493},{"$f":"BE250","v":55.909759295622898},{"$f":"BH250","v":55.722961765089117},{"$f":"BK250","v":55.55493273021478},{"$f":"BN250","v":55.408905732758818},{"$f":"BQ250","v":55.287845346073027},{"$f":"BT250","v":55.192891181615714},{"$f":"BW250","v":55.124364862466173},{"$f":"BZ250","v":55.081692613189844},{"$f":"CC250","v":55.063064002938809},{"$f":"CF250","v":55.065830498093426},{"$f":"CI250","v":55.087404029049253},{"$f":"CL250","v":55.12354971921269},{"$f":"CO250","v":55.171623721327911},{"$f":"CR250","v":55.227482294412589},{"$f":"CU250","v":55.289439737644415},{"$f":"CX250","v":55.354290046258079}]
["Ženy",{"$f":"D250","v":53.652709359605915},{"$f":"G250","v":53.809294313561317},{"$f":"J250","v":53.949852395220276},{"$f":"M250","v":54.074753085190451},{"$f":"P250","v":54.184568151455935},{"$f":"S250","v":54.280033676636513},{"$f":"V250","v":54.362071323053421},{"$f":"Y250","v":54.431687514376151},{"$f":"AB250","v":54.490010818837881},{"$f":"AE250","v":54.538253976509701},{"$f":"AH250","v":54.577634265828522},{"$f":"AK250","v":54.60931090328716},{"$f":"AN250","v":54.634368183182247},{"$f":"AQ250","v":54.653815087726414},{"$f":"AT250","v":54.668642220549089},{"$f":"AW250","v":54.662733659358672},{"$f":"AZ250","v":54.666676225982833},{"$f":"BC250","v":54.670758911656335},{"$f":"BF250","v":54.669393267962434},{"$f":"BI250","v":54.670849365152698},{"$f":"BL250","v":54.665339986205133},{"$f":"BO250","v":54.670170358272586},{"$f":"BR250","v":54.666710775659887},{"$f":"BU250","v":54.681852367088894},{"$f":"BX250","v":54.693256176155117},{"$f":"CA250","v":54.706107404456453},{"$f":"CD250","v":54.723826257641079},{"$f":"CG250","v":54.745637662276756},{"$f":"CJ250","v":54.7680991269442},{"$f":"CM250","v":54.796393722027126},{"$f":"CP250","v":54.812094231056314},{"$f":"CS250","v":54.836933526158489},{"$f":"CV250","v":54.857564082881595},{"$f":"CY250","v":54.868404550221825}]
["Celkem",{"$f":"B250","v":54.981946624803768},{"$f":"E250","v":55.124431392906729},{"$f":"H250","v":55.24735175356637},{"$f":"K250","v":55.350515382301509},{"$f":"N250","v":55.433912911386535},{"$f":"Q250","v":55.497716609759458},{"$f":"T250","v":55.542327217702898},{"$f":"W250","v":55.568393357982885},{"$f":"Z250","v":55.576861150938406},{"$f":"AC250","v":55.569023544853792},{"$f":"AF250","v":55.546454000476331},{"$f":"AI250","v":55.51058669530579},{"$f":"AL250","v":55.464498180784886},{"$f":"AO250","v":55.409589167552276},{"$f":"AR250","v":55.348269127420522},{"$f":"AU250","v":55.271588491692533},{"$f":"AX250","v":55.201850088734624},{"$f":"BA250","v":55.134244159600605},{"$f":"BD250","v":55.066814885749409},{"$f":"BG250","v":55.00650125994477},{"$f":"BJ250","v":54.948164960000724},{"$f":"BM250","v":54.90436440426982},{"$f":"BP250","v":54.863245586050645},{"$f":"BS250","v":54.843315278795373},{"$f":"BV250","v":54.829372894165786},{"$f":"BY250","v":54.824686986906244},{"$f":"CB250","v":54.830974198666446},{"$f":"CE250","v":54.846850049300357},{"$f":"CH250","v":54.869144794094126},{"$f":"CK250","v":54.900054637932364},{"$f":"CN250","v":54.926199358817257},{"$f":"CQ250","v":54.961075648422607},{"$f":"CT250","v":54.995069153821227},{"$f":"CW250","v":55.023380749526524}]
[]
[]
["Očekávané počty příchozích do a odchozích ze systému podle pohlaví"]
[null,2017,{"$f":"C531","v":2018},2019,2020,2021,2022,2023,2024,2025,2026,2027,2028,2029,2030,2031,2032,2033,2034,2035,2036,2037,2038,2039,2040,2041,2042,2043,2044,2045,2046,2047,2048,2049]
["Příchozí – muži",{"$f":"AK556","v":5.8},{"$f":"B539","v":5.8},{"$f":"C539","v":5.8},5.8,5.8,5.8,5.8,5.8,5.8,5.8,5.8,5.8,5.8,5.8,5.8,5.8,5.8,5.8,5.8,5.8,5.8,5.8,5.8,5.8,5.8,5.8,5.8,5.8,5.8,5.8,5.8,5.8,5.8]
["Příchozí – ženy",{"$f":"AL556","v":12.6},{"$f":"B540","v":12.6},12.6,12.6,12.6,12.6,12.6,12.6,12.6,12.6,12.6,12.6,12.6,12.6,12.6,12.6,12.6,12.6,12.6,12.6,12.6,12.6,12.6,12.6,12.6,12.6,12.6,12.6,12.6,12.6,12.6,12.6,12.6]
["Odchozí – muži",{"$f":"AN556","v":5.6209385835963221},{"$f":"AN557","v":5.92765961376608},{"$f":"AN558","v":6.2188189842103689},{"$f":"AN559","v":6.4904768283341712},{"$f":"AN560","v":6.739246846718987},{"$f":"AN561","v":6.9650676009549937},{"$f":"AN562","v":7.1573728002226007},{"$f":"AN563","v":7.3115245236276003},{"$f":"AN564","v":7.4270299929161467},{"$f":"AN565","v":7.5037462001926531},{"$f":"AN566","v":7.5434498938504584},{"$f":"AN567","v":7.5224058407065595},{"$f":"AN568","v":7.4778364396390256},{"$f":"AN569","v":7.3924405033375065},{"$f":"AN570","v":7.2691387766819364},{"$f":"AN571","v":7.112324371553381},{"$f":"AN572","v":6.933826737161465},{"$f":"AN573","v":6.7335546803221886},{"$f":"AN574","v":6.5185324722413824},{"$f":"AN575","v":6.2901850165961433},{"$f":"AN576","v":6.0622026500295068},{"$f":"AN577","v":5.838140977266864},{"$f":"AN578","v":5.6310664624739069},{"$f":"AN579","v":5.4414115598496497},{"$f":"AN580","v":5.2738539876379713},{"$f":"AN581","v":5.1373865502702856},{"$f":"AN582","v":5.0321139943772888},{"$f":"AN583","v":4.9547199855528579},{"$f":"AN584","v":4.9129082216028142},{"$f":"AN585","v":4.8918973742308411},{"$f":"AN586","v":4.8980160807272357},{"$f":"AN587","v":4.916597750469144},{"$f":"AN588","v":4.9542478158764638}]
["Odchozí – ženy",{"$f":"AO556","v":8.5680896580675778},{"$f":"AO557","v":8.9365432637606226},{"$f":"AO558","v":9.2637116914749065},{"$f":"AO559","v":9.5569818089129814},{"$f":"AO560","v":9.8142068127217676},{"$f":"AO561","v":10.040165175441414},{"$f":"AO562","v":10.241450435759441},{"$f":"AO563","v":10.409007045678093},{"$f":"AO564","v":10.559460117696556},{"$f":"AO565","v":10.697434949774433},{"$f":"AO566","v":10.828308268186362},{"$f":"AO567","v":10.948389055547521},{"$f":"AO568","v":11.052709301282567},{"$f":"AO569","v":11.13094622004636},{"$f":"AO570","v":11.367612946152621},{"$f":"AO571","v":11.260855589653373},{"$f":"AO572","v":11.265637054702077},{"$f":"AO573","v":11.328824190204577},{"$f":"AO574","v":11.297750548987466},{"$f":"AO575","v":11.380729498901625},{"$f":"AO576","v":11.287282795325595},{"$f":"AO577","v":11.418954286500439},{"$f":"AO578","v":11.270031077164838},{"$f":"AO579","v":11.375224166246371},{"$f":"AO580","v":11.424183105484689},{"$f":"AO581","v":11.437118109476495},{"$f":"AO582","v":11.46324803058647},{"$f":"AO583","v":11.527080885281761},{"$f":"AO584","v":11.53176375074897},{"$f":"AO585","v":11.744405373475123},{"$f":"AO586","v":11.707219913318452},{"$f":"AO587","v":11.820947372999358},{"$f":"AO588","v":11.994522021481089}]
[]
[]
["Očekávané saldo celkem a podle pohlaví"]
[null,2017,{"$f":"B546+1","v":2018},{"$f":"C546+1","v":2019},2020,2021,2022,2023,2024,2025,2026,2027,2028,2029,2030,2031,2032,2033,2034,2035,2036,2037,2038,2039,2040,2041,2042,2043,2044,2045,2046,2047,2048,2049]
["Muži",{"$f":"B539-B541","v":0.17906141640367768},{"$f":"C539-C541","v":-0.12765961376608015},-0.41881898421036912,-0.69047682833417134,-0.93924684671898717,-1.1650676009549938,-1.3573728002226009,-1.5115245236276005,-1.6270299929161469,-1.7037462001926533,-1.7434498938504586,-1.7224058407065597,-1.6778364396390257,-1.5924405033375066,-1.4691387766819366,-1.3123243715533812,-1.1338267371614652,-0.9335546803221888,-0.71853247224138261,-0.49018501659614344,-0.26220265002950693,-3.8140977266864162E-2,0.16893353752609297,0.35858844015035007,0.52614601236202851,0.66261344972971425,0.76788600562271103,0.84528001444714196,0.88709177839718567,0.90810262576915868,0.90198391927276411,0.88340224953085578,0.84575218412353603]
["Ženy",{"$f":"B540-B542","v":4.0319103419324218},{"$f":"C540-C542","v":3.6634567362393771},3.3362883085250932,3.0430181910870182,2.785793187278232,2.5598348245585854,2.3585495642405583,2.1909929543219064,2.0405398823034435,1.9025650502255669,1.7716917318136378,1.6516109444524787,1.5472906987174326,1.4690537799536401,1.2323870538473791,1.339144410346627,1.3343629452979222,1.2711758097954231,1.3022494510125338,1.2192705010983751,1.3127172046744047,1.1810457134995609,1.3299689228351621,1.224775833753629,1.1758168945153109,1.1628818905235043,1.1367519694135293,1.0729191147182391,1.0682362492510293,0.85559462652487639,0.8927800866815474,0.77905262700064171,0.60547797851891083]
["Celkem",{"$f":"B548+B547","v":4.2109717583360995},{"$f":"C548+C547","v":3.5357971224732969},2.9174693243147241,2.3525413627528469,1.8465463405592448,1.3947672236035915,1.0011767640179574,0.67946843069430596,0.4135098893872966,0.19881885003291355,2.824183796317925E-2,-7.0794896254080975E-2,-0.1305457409215931,-0.12338672338386658,-0.23675172283455748,2.6820038793245793E-2,0.20053620813645701,0.3376211294732343,0.58371697877115114,0.72908548450223165,1.0505145546448977,1.1429047362326967,1.4989024603612551,1.583364273903979,1.7019629068773394,1.8254953402532186,1.9046379750362403,1.918199129165381,1.955328027648215,1.7636972522940351,1.7947640059543115,1.6624548765314975,1.4512301626424469]
[]
[]
["Souhrnná tabulka (fyzický počet lékařů)"]
[null,{"$f":"Vstupy!N1420","v":"Počet obyvatel 15+"},null,null,"Počet obyv. na 1 lékaře","Počet lékařů k 1.1.",null,null,null,null,null,null,null,null,null,null,null,null,null,null,"Podíl věkových kategorií k 1.1.",null,null,null,null,null,null,null,null,null,null,null,"Průměrný věk",null,null,"Nově příchozí",null,null,"Odchozí",null,null,"Odchozí (data pro graf)",null,null,"IZ počtu obyvatel","IZ počtu lékařů"]
[null,"Celkem","Muži","Ženy",null,"Celkem","Muži","Ženy","23–39",null,null,"40–64",null,null,"65+",null,null,"80+",null,null,"23–39",null,null,"40–64",null,null,"65+",null,null,"80+",null,null,"Celkem","Muži","Ženy","Celkem","Muži","Ženy","Celkem","Muži","Ženy","Celkem","Muži","Ženy"]
[null,null,null,null,null,null,null,null,"celkem","muži","ženy","celkem","muži","ženy","celkem","muži","ženy","celkem","muži","ženy","celkem","muži","ženy","celkem","muži","ženy","celkem","muži","ženy","celkem","muži","ženy"]
[2017,{"$f":"C556+D556","v":1108762.1501909939},{"$f":"Vstupy!N1422","v":541958.3992633319},{"$f":"Vstupy!O1422","v":566803.75092766201},{"$f":"B556/F556","v":1740.5999218068978},{"$f":"G556+H556","v":637},{"$f":"$B168","v":231},{"$f":"$C168","v":406},{"$f":"J556+K556","v":84},{"$f":"$B169","v":24},{"$f":"$C169","v":60},{"$f":"M556+N556","v":416},{"$f":"$B170","v":142},{"$f":"$C170","v":274},{"$f":"P556+Q556","v":137},{"$f":"$B171","v":65},{"$f":"$C171","v":72},{"$f":"S556+T556","v":5},{"$f":"$B172","v":3},{"$f":"$C172","v":2},{"$f":"I556/$F556*100","v":13.186813186813188},{"$f":"J556/$G556*100","v":10.38961038961039},{"$f":"K556/$H556*100","v":14.77832512315271},{"$f":"L556/$F556*100","v":65.306122448979593},{"$f":"M556/$G556*100","v":61.471861471861466},{"$f":"N556/$H556*100","v":67.487684729064028},{"$f":"O556/$F556*100","v":21.507064364207221},{"$f":"P556/$G556*100","v":28.138528138528141},{"$f":"Q556/$H556*100","v":17.733990147783253},{"$f":"R556/$F556*100","v":0.78492935635792771},{"$f":"S556/$G556*100","v":1.2987012987012987},{"$f":"T556/$H556*100","v":0.49261083743842365},{"$f":"B250","v":54.981946624803768},{"$f":"C250","v":57.31818181818182},{"$f":"D250","v":53.652709359605915},{"$f":"AK556+AL556","v":18.399999999999999},{"$f":"D168","v":5.8},{"$f":"E168","v":12.6},{"$f":"AN556+AO556","v":14.1890282416639},{"$f":"F168","v":5.6209385835963221},{"$f":"G168","v":8.5680896580675778},{"$f":"-AM556","v":-14.1890282416639},{"$f":"-AN556","v":-5.6209385835963221},-8.5680896580675778,"x","x"]
[{"$f":"A556+1","v":2018},{"$f":"C557+D557","v":1117443.1574880062},{"$f":"Vstupy!N1423","v":545932.28891384089},{"$f":"Vstupy!O1423","v":571510.86857416539},{"$f":"B557/F557","v":1742.707481164492},{"$f":"G557+H557","v":641.21097175833609},{"$f":"$H168","v":231.17906141640375},{"$f":"$I168","v":410.03191034193236},91.960455669096689,{"$f":"$H169","v":25.853820598006642},{"$f":"$I169","v":66.106635071090039},398.50450527364984,{"$f":"$H170","v":131.15406249811565},{"$f":"$I170","v":267.35044277553419},150.74601081558961,{"$f":"$H171","v":74.171178320281413},{"$f":"$I171","v":76.574832495308215},4.99891037290082,{"$f":"$H172","v":2.3333953610295266},{"$f":"$I172","v":2.6655150118712934},{"$f":"I557/$F557*100","v":14.341684674690089},{"$f":"J557/$G557*100","v":11.183461183553423},{"$f":"K557/$H557*100","v":16.122314728129972},{"$f":"L557/$F557*100","v":62.148734632669523},{"$f":"M557/$G557*100","v":56.732673666270607},{"$f":"N557/$H557*100","v":65.202350361606307},{"$f":"O557/$F557*100","v":23.509580692640391},{"$f":"P557/$G557*100","v":32.083865150175946},{"$f":"Q557/$H557*100","v":18.675334910263743},{"$f":"R557/$F557*100","v":0.77960462204705427},{"$f":"S557/$G557*100","v":1.0093454600659417},{"$f":"T557/$H557*100","v":0.65007501724645689},{"$f":"E250","v":55.124431392906729},{"$f":"F250","v":57.457030918580081},{"$f":"G250","v":53.809294313561317},{"$f":"AK557+AL557","v":18.399999999999999},{"$f":"J168","v":5.8},{"$f":"K168","v":12.6},{"$f":"AN557+AO557","v":14.864202877526703},{"$f":"L168","v":5.92765961376608},{"$f":"M168","v":8.9365432637606226},{"$f":"-AM557","v":-14.864202877526703},{"$f":"-AN557","v":-5.92765961376608},{"$f":"-AO557","v":-8.9365432637606226},{"$f":"B557/B556*100","v":100.78294585502552},{"$f":"F557/F556*100","v":100.66106307038243}]
[2019,1126624.2554829684,{"$f":"Vstupy!N1424","v":550169.6103010833},{"$f":"Vstupy!O1424","v":576454.64518188499},1747.3903086612302,644.74676888080944,{"$f":"$N168","v":231.05140180263757},{"$f":"$O168","v":413.69536707817184},93.981774810662728,{"$f":"$N169","v":28.514950166112953},{"$f":"$O169","v":65.466824644549774},389.82860251710594,{"$f":"$N170","v":124.74289408003096},{"$f":"$O170","v":265.08570843707497},160.93639155304066,{"$f":"$N171","v":77.793557556493667},{"$f":"$O171","v":83.142833996546997},5.6489540323905736,{"$f":"$N172","v":2.4939565678182642},{"$f":"$O172","v":3.1549974645723089},14.576540643049981,12.341388082323871,15.824887067729518,60.462280903523421,53.989239237157037,64.077514406146193,24.961178453426577,33.669372680519096,20.097598526124258,0.87615080913028398,1.079394692419388,0.7626378527889438,{"$f":"H250","v":55.24735175356637},{"$f":"I250","v":57.570512180843117},{"$f":"J250","v":53.949852395220276},18.399999999999999,{"$f":"P168","v":5.8},{"$f":"Q168","v":12.6},15.482530675685275,{"$f":"R168","v":6.2188189842103689},{"$f":"S168","v":9.2637116914749065},-15.482530675685275,-6.2188189842103689,-9.2637116914749065,100.82161655681898,100.55142492536855]
[2020,1137043.5603391014,{"$f":"Vstupy!N1425","v":554971.93402686424},{"$f":"Vstupy!O1425","v":582071.62631223712},1755.6065215059543,647.66423820512387,{"$f":"$T168","v":230.63258281842721},{"$f":"$U168","v":417.03165538669668},97.358195430712783,{"$f":"$T169","v":29.964119601328903},{"$f":"$U169","v":67.39407582938388},375.27967344353794,{"$f":"$T170","v":119.75565702974752},{"$f":"$U170","v":255.52401641379043},175.02636933087342,{"$f":"$T171","v":80.912806187350824},{"$f":"$U171","v":94.113563143522583},6.7560477853857872,{"$f":"$T172","v":2.536772913346788},{"$f":"$U172","v":4.2192748720389996},15.032201824285094,12.992145010542202,16.160422106780377,57.94355335776342,51.924864893885768,61.27209124613173,27.024244817951526,35.08299009557205,22.567486647087946,1.0431404710732319,1.0999195700565616,1.0117397126907872,{"$f":"K250","v":55.350515382301509},{"$f":"L250","v":57.657358830622975},{"$f":"M250","v":54.074753085190451},18.399999999999999,{"$f":"V168","v":5.8},{"$f":"W168","v":12.6},16.047458637247153,{"$f":"X168","v":6.4904768283341712},{"$f":"Y168","v":9.5569818089129814},-16.047458637247153,-6.4904768283341712,-9.5569818089129814,100.92482518509833,100.45249847926787]
[2021,1148633.6218187413,{"$f":"Vstupy!N1426","v":560431.75049962522},{"$f":"Vstupy!O1426","v":588201.87131911609},1767.0830321985511,650.01677956787705,{"$f":"$Z168","v":229.94210599009304},{"$f":"$AA168","v":420.07467357778404},102.5286674749256,{"$f":"$Z169","v":32.16279069767441},{"$f":"$AA169","v":70.365876777251188},358.90041266929029,{"$f":"$Z170","v":109.61499536066907},{"$f":"$AA170","v":249.28541730862119},188.58769942366109,{"$f":"$Z171","v":88.164319931749546},{"$f":"$AA171","v":100.42337949191155},8.6311719285029209,{"$f":"$Z172","v":3.6152680495742975},{"$f":"$AA172","v":5.015903878928623},15.773233968373148,13.987342839705978,16.750801989071054,55.214022768440344,47.670692972339651,59.343119923287091,29.012743263186501,38.341964187954368,23.906078087641824,1.3278383266107092,1.5722514299882335,1.1940505330178737,{"$f":"N250","v":55.433912911386535},{"$f":"O250","v":57.716305211631848},{"$f":"P250","v":54.184568151455935},18.399999999999999,{"$f":"AB168","v":5.8},{"$f":"AC168","v":12.6},16.553453659440756,{"$f":"AD168","v":6.739246846718987},{"$f":"AE168","v":9.8142068127217676},-16.553453659440756,-6.739246846718987,-9.8142068127217676,101.01931551999499,100.3632347169998]
[2022,1160806.0419484067,{"$f":"Vstupy!N1427","v":566165.07672403427},{"$f":"Vstupy!O1427","v":594640.96522437246},1780.7506509600125,651.86332590843631,{"$f":"$AF168","v":229.00285914337397},{"$f":"$AG168","v":422.86046676506231},103.84766812048306,{"$f":"$AF169","v":31.226578073089698},{"$f":"$AG169","v":72.621090047393366},353.70076234010776,{"$f":"$AF170","v":109.33485785039619},{"$f":"$AG170","v":244.3659044897116},194.31489544784534,{"$f":"$AF171","v":88.441423219888165},{"$f":"$AG171","v":105.87347222795718},10.613926945772299,{"$f":"$AF172","v":3.8385575564861334},{"$f":"$AG172","v":6.7753693892861655},15.930895939844604,13.635890045171612,17.173771434098384,54.25995730733748,47.743883311930126,57.788779915782293,29.809146752817888,38.620226642898295,25.037448650119281,1.6282442229712397,1.6762050792050991,1.6022707067223911,{"$f":"Q250","v":55.497716609759458},{"$f":"R250","v":57.746203704629451},{"$f":"S250","v":54.280033676636513},18.399999999999999,{"$f":"AH168","v":5.8},{"$f":"AI168","v":12.6},17.005232776396408,{"$f":"AJ168","v":6.9650676009549937},{"$f":"AK168","v":10.040165175441414},-17.005232776396408,-6.9650676009549937,-10.040165175441414,101.05973043958016,100.28407671903284]
[2023,1174400.4904045691,{"$f":"Vstupy!N1428","v":572557.68542235252},{"$f":"Vstupy!O1428","v":601842.80498221668},1797.7588073557831,653.2580931320399,{"$f":"$AL168","v":227.83779154241904},{"$f":"$AM168","v":425.42030158962081},102.17163326038008,{"$f":"$AL169","v":31.982059800664452},{"$f":"$AM169","v":70.189573459715632},351.32277428013867,{"$f":"$AL170","v":107.4621912235244},{"$f":"$AM170","v":243.86058305661425},199.7636855915211,{"$f":"$AL171","v":88.393540518230267},{"$f":"$AM171","v":111.37014507329081},11.944108766130885,{"$f":"$AL172","v":4.3685442851091798},{"$f":"$AM172","v":7.575564481021706},15.640316489692324,14.03720584901737,16.498877274414514,53.780087529528316,47.166095886036096,57.322272149544219,30.579595980779352,38.796698264946563,26.178850576041235,1.8283904771642348,1.9173923059624816,1.7807247215788562,{"$f":"T250","v":55.542327217702898},{"$f":"U250","v":57.746109194589039},{"$f":"V250","v":54.362071323053421},18.399999999999999,{"$f":"AN168","v":5.8},{"$f":"AO168","v":12.6},17.398823235982043,{"$f":"AP168","v":7.1573728002226007},{"$f":"AQ168","v":10.241450435759441},-17.398823235982043,-7.1573728002226007,-10.241450435759441,101.17112144190293,100.21396620551705]
[2024,1188694.6128826425,{"$f":"Vstupy!N1429","v":579233.66202309541},{"$f":"Vstupy!O1429","v":609460.95085954701},1816.8555916242358,654.25926989605773,{"$f":"$AR168","v":226.48041874219649},{"$f":"$AS168","v":427.77885115386124},102.39553699359166,{"$f":"$AR169","v":33.294352159468438},{"$f":"$AS169","v":69.101184834123217},354.72825183444621,{"$f":"$AR170","v":104.22975650675387},{"$f":"$AS170","v":250.49849532769232},197.13548106801989,{"$f":"$AR171","v":88.956310075974173},{"$f":"$AS171","v":108.17917099204573},13.891213933459706,{"$f":"$AR172","v":4.2680385251737691},{"$f":"$AS172","v":9.6231754082859382},15.650605456436139,14.700764129797694,16.153483195285236,54.218299710266535,46.021531170603758,58.557942883808991,30.131094833297329,39.277704699598544,25.288573920905783,2.123197113533692,1.8845066380913458,2.249567827471846,{"$f":"W250","v":55.568393357982885},{"$f":"X250","v":57.715416586650967},{"$f":"Y250","v":54.431687514376151},18.399999999999999,{"$f":"AT168","v":5.8},{"$f":"AU168","v":12.6},17.720531569305692,{"$f":"AV168","v":7.3115245236276003},{"$f":"AW168","v":10.409007045678093},-17.720531569305692,-7.3115245236276003,-10.409007045678093,101.21714207332708,100.1532589912844]
[2025,1202647.071288832,{"$f":"Vstupy!N1430","v":585719.47233076941},{"$f":"Vstupy!O1430","v":616927.59895806247},1836.2741442984022,654.93873832675217,{"$f":"$AX168","v":224.96889421856889},{"$f":"$AY168","v":429.96984410818322},94.570938105210132,{"$f":"$AX169","v":31.259800664451824},{"$f":"$AY169","v":63.311137440758301},361.33152334132717,{"$f":"$AX170","v":108.92097407599822},{"$f":"$AY170","v":252.41054926532897},199.03627688021479,{"$f":"$AX171","v":84.788119478118816},{"$f":"$AY171","v":114.24815740209597},14.295779625682991,{"$f":"$AX172","v":4.4836469687723177},{"$f":"$AY172","v":9.8121326569106735},14.439661692148711,13.895165717479729,14.724552967679475,55.170278103332635,48.416015224831874,58.704244663684094,30.390060204518644,37.688819057688384,26.571202368636438,2.1827659274218645,1.9930075152595199,2.2820513557787732,{"$f":"Z250","v":55.576861150938406},{"$f":"AA250","v":57.654094403497282},{"$f":"AB250","v":54.490010818837881},18.399999999999999,{"$f":"AZ168","v":5.8},{"$f":"BA168","v":12.6},17.986490110612703,{"$f":"BB168","v":7.4270299929161467},{"$f":"BC168","v":10.559460117696556},-17.986490110612703,-7.4270299929161467,-10.559460117696556,101.17376307211102,100.10385308423714]
[2026,1216507.4496817791,{"$f":"Vstupy!N1431","v":592223.47293908033},{"$f":"Vstupy!O1431","v":624283.97674269881},1856.265013194198,655.35224821613929,{"$f":"$BD168","v":223.34186422565264},{"$f":"$BE168","v":432.01038399048662},93.684816016123179,{"$f":"$BD169","v":29.82059800664452},{"$f":"$BE169","v":63.864218009478662},366.64556661640751,{"$f":"$BD170","v":111.22142240372217},{"$f":"$BE170","v":255.42414421268532},195.02186558360859,{"$f":"$BD171","v":82.299843815285996},{"$f":"$BE171","v":112.72202176832261},15.980089389775609,{"$f":"$BD172","v":5.2773808008804899},{"$f":"$BE172","v":10.702708588895119},14.295337548796406,13.351996550237169,14.783028458613401,55.946335366119861,49.798734683861156,59.124538131081138,29.758327085083735,36.849268765901698,26.092433410305453,2.4383969740354465,2.362916070024609,2.4774192902573393,{"$f":"AC250","v":55.569023544853792},{"$f":"AD250","v":57.562842117873871},{"$f":"AE250","v":54.538253976509701},18.399999999999999,{"$f":"BF168","v":5.8},{"$f":"BG168","v":12.6},18.201181149967084,{"$f":"BH168","v":7.5037462001926531},{"$f":"BI168","v":10.697434949774433},-18.201181149967084,-7.5037462001926531,-10.697434949774433,101.15248926504212,100.0631371859975]
[2027,1228797.0169230544,{"$f":"Vstupy!N1432","v":597876.57630694984},{"$f":"Vstupy!O1432","v":630920.44061610452},1874.4489615772641,655.55106706617244,{"$f":"$BJ168","v":221.63811802546013},{"$f":"$BK168","v":433.91294904071225},93.487195918817207,{"$f":"$BJ169","v":29.861129568106307},{"$f":"$BK169","v":63.6260663507109},372.89754787816065,{"$f":"$BJ170","v":112.11073066191227},{"$f":"$BK170","v":260.78681721624838},189.16632326919444,{"$f":"$BJ171","v":79.666257795441496},{"$f":"$BK171","v":109.50006547375295},17.862445141574348,{"$f":"$BJ172","v":6.1439629115851702},{"$f":"$BK172","v":11.718482229989178},14.260856341399327,13.472921460502604,14.66332509582265,56.883066264694179,50.582784071931982,60.101183380858224,28.856077393906471,35.944294467565378,25.235491523319119,2.7247984236400127,2.7720696089286401,2.7006528051066949,{"$f":"AF250","v":55.546454000476331},{"$f":"AG250","v":57.443164872662898},{"$f":"AH250","v":54.577634265828522},18.399999999999999,{"$f":"BL168","v":5.8},{"$f":"BM168","v":12.6},18.371758162036819,{"$f":"BN168","v":7.5434498938504584},{"$f":"BO168","v":10.828308268186362},-18.371758162036819,-7.5434498938504584,-10.828308268186362,101.01023361957134,100.03033770778605]
[2028,1240256.3771886055,{"$f":"Vstupy!N1433","v":603088.87337080506},{"$f":"Vstupy!O1433","v":637167.50381780043},1891.8479585053021,655.57930890413547,{"$f":"$BP168","v":219.89466813160956},{"$f":"$BQ168","v":435.68464077252594},92.360504479538974,{"$f":"$BP169","v":27.55481727574751},{"$f":"$BQ169","v":64.805687203791464},379.09035040587258,{"$f":"$BP170","v":115.22817761164504},{"$f":"$BQ170","v":263.86217279422755},184.12845401872391,{"$f":"$BP171","v":77.111673244217073},{"$f":"$BQ171","v":107.01678077450686},19.48076407450024,{"$f":"$BP172","v":7.0384873650361302},{"$f":"$BQ172","v":12.442276709464108},14.088380036570792,12.530916511015914,14.874448428772356,57.825246351895842,52.401533238941298,60.562651996720696,28.086373611533368,35.067550250042814,24.56289957450694,2.9715343071251334,3.2008449430995354,2.8557987923104937,{"$f":"AI250","v":55.51058669530579},{"$f":"AJ250","v":57.296314484974609},{"$f":"AK250","v":54.60931090328716},18.399999999999999,{"$f":"BR168","v":5.8},{"$f":"BS168","v":12.6},18.47079489625408,{"$f":"BT168","v":7.5224058407065595},{"$f":"BU168","v":10.948389055547521},-18.47079489625408,-7.5224058407065595,-10.948389055547521,100.93256738970979,100.00430810647435]
[2029,1250897.4442724828,{"$f":"Vstupy!N1434","v":607935.74151036411},{"$f":"Vstupy!O1434","v":642961.70276211877},1908.2855791213155,655.50851400788133,{"$f":"$BV168","v":218.17226229090301},{"$f":"$BW168","v":437.33625171697827},91.448305805293572,{"$f":"$BV169","v":28.075083056478405},{"$f":"$BW169","v":63.373222748815166},385.87305795268935,{"$f":"$BV170","v":117.30917846248099},{"$f":"$BW170","v":268.56387949020836},178.18715024989848,{"$f":"$BV171","v":72.7880007719437},{"$f":"$BW171","v":105.39914947795479},21.176837527414669,{"$f":"$BV172","v":8.2511172124040844},{"$f":"$BW172","v":12.925720315010587},13.950742644998515,12.868310004983174,14.490731673857917,58.866216030269584,53.769061763710901,61.409013873382079,27.183041324731917,33.362628231305962,24.100254452760016,3.2305968686716486,3.7819276959242156,2.9555565687189942,{"$f":"AL250","v":55.464498180784886},{"$f":"AM250","v":57.128531627462408},{"$f":"AN250","v":54.634368183182247},18.399999999999999,{"$f":"BX168","v":5.8},{"$f":"BY168","v":12.6},18.530545740921593,{"$f":"BZ168","v":7.4778364396390256},{"$f":"CA168","v":11.052709301282567},-18.530545740921593,-7.4778364396390256,-11.052709301282567,100.85797318035151,99.98920116982147]
[2030,1261165.2817809191,{"$f":"Vstupy!N1435","v":612597.56724945921},{"$f":"Vstupy!O1435","v":648567.71453145985},1924.3327405647542,655.37796826695967,{"$f":"$CB168","v":216.49442585126394},{"$f":"$CC168","v":438.88354241569567},92.479447654736973,{"$f":"$CB169","v":28.344850498338868},{"$f":"$CC169","v":64.134597156398101},389.35264432742861,{"$f":"$CB170","v":116.11061793289713},{"$f":"$CC170","v":273.24202639453148},173.54587628479413,{"$f":"$CB171","v":72.038957420027998},{"$f":"$CC171","v":101.50691886476615},21.501315259406201,{"$f":"$CB172","v":7.9596807934838258},{"$f":"$CC172","v":13.541634465922376},14.110856960798335,13.092646790736476,14.613124202240416,59.408869870467008,53.632151255786823,62.2584353221716,26.480273168734669,33.275201953476724,23.12844047558799,3.2807503914516576,3.676621586069051,3.0854732878309203,{"$f":"AO250","v":55.409589167552276},{"$f":"AP250","v":56.941715475727136},{"$f":"AQ250","v":54.653815087726414},18.399999999999999,{"$f":"CD168","v":5.8},{"$f":"CE168","v":12.6},18.523386723383865,{"$f":"CF168","v":7.3924405033375065},{"$f":"CG168","v":11.13094622004636},-18.523386723383865,-7.3924405033375065,-11.13094622004636,100.82083767581827,99.980084813830501]
[2031,1270530.5666831224,{"$f":"Vstupy!N1436","v":616799.14641835773},{"$f":"Vstupy!O1436","v":653731.42026476469},1938.9876888615536,655.2545815435758,{"$f":"$CH168","v":214.90198534792646},{"$f":"$CI168","v":440.35259619564937},92.77611752294878,{"$f":"$CH169","v":28.402657807308969},{"$f":"$CI169","v":64.373459715639811},394.7190329283527,{"$f":"$CH170","v":118.74064076038806},{"$f":"$CI170","v":275.97839216796461},167.75943109227453,{"$f":"$CH171","v":67.758686780229482},{"$f":"$CI171","v":100.00074431204504},22.357736821282273,{"$f":"$CH172","v":8.722522092537039},{"$f":"$CI172","v":13.635214728745233},14.158789596617108,13.216563709881529,14.618617051831478,60.239034422089432,55.25339403828535,62.672139224846759,25.602175981293492,31.530042251833144,22.709243723321787,3.4120687517536172,4.0588373710997923,3.096431097839397,{"$f":"AR250","v":55.348269127420522},{"$f":"AS250","v":56.740882938785532},{"$f":"AT250","v":54.668642220549089},18.399999999999999,{"$f":"CJ168","v":5.8},{"$f":"CK168","v":12.6},18.636751722834557,{"$f":"CL168","v":7.2691387766819364},{"$f":"CM168","v":11.367612946152621},-18.636751722834557,-7.2691387766819364,-11.367612946152621,100.74258981257228,99.981173196329721]
[2032,1279309.1160613208,{"$f":"Vstupy!N1437","v":620716.44103740074},{"$f":"Vstupy!O1437","v":658592.67502392002},1953.0905233700726,655.01782982074133,{"$f":"$CN168","v":213.4328465712446},{"$f":"$CO168","v":441.5849832494967},92.791046432901382,{"$f":"$CN169","v":28.402657807308969},{"$f":"$CO169","v":64.388388625592412},400.22933879471964,{"$f":"$CN170","v":122.16593173832531},{"$f":"$CO170","v":278.06340705639434},161.99744459312038,{"$f":"$CN171","v":62.864257025610321},{"$f":"$CO171","v":99.133187567510049},23.640473814736836,{"$f":"$CN172","v":8.4418347499147544},{"$f":"$CO172","v":15.198639064822084},14.166186355308144,13.307538302370936,14.581199784416762,61.102052581416046,57.238580518835889,62.9693983274082,24.731761063275819,29.453881178793175,22.449401888175064,3.6091343988615585,3.9552650332557135,3.4418378435289347,{"$f":"AU250","v":55.271588491692533},{"$f":"AV250","v":56.531287527041243},{"$f":"AW250","v":54.662733659358672},18.399999999999999,{"$f":"CP168","v":5.8},{"$f":"CQ168","v":12.6},18.373179961206752,{"$f":"CR168","v":7.112324371553381},{"$f":"CS168","v":11.260855589653373},-18.373179961206752,-7.112324371553381,-11.260855589653373,100.69093570893897,99.963868742088493]
[2033,1287531.473908898,{"$f":"Vstupy!N1438","v":624372.81565787806},{"$f":"Vstupy!O1438","v":663158.65825102001},1965.5629187796462,655.0446498595345,{"$f":"$CT168","v":212.12052219969121},{"$f":"$CU168","v":442.92412765984329},92.791046432901382,{"$f":"$CT169","v":28.402657807308969},{"$f":"$CU169","v":64.388388625592412},406.93903622097059,{"$f":"$CT170","v":124.56472578684783},{"$f":"$CU170","v":282.37431043412278},155.31456720566257,{"$f":"$CT171","v":59.153138605534416},{"$f":"$CU171","v":96.161428600128161},26.172701194760869,{"$f":"$CT172","v":10.211381048852068},{"$f":"$CU172","v":15.961320145908799},14.165606337338863,13.38986794524793,14.537114734702685,62.12386229064434,58.7235617257165,63.752298147772265,23.710531372016806,27.886570329035575,21.710587117525055,3.9955598752502217,4.8139524374916576,3.6036239954321854,{"$f":"AX250","v":55.201850088734624},{"$f":"AY250","v":56.319334685922819},{"$f":"AZ250","v":54.666676225982833},18.399999999999999,{"$f":"CV168","v":5.8},{"$f":"CW168","v":12.6},18.199463791863543,{"$f":"CX168","v":6.933826737161465},{"$f":"CY168","v":11.265637054702077},-18.199463791863543,-6.933826737161465,-11.265637054702077,100.64271861619277,100.00409455095298]
[2034,1295217.5470118346,{"$f":"Vstupy!N1439","v":627779.77196102182},{"$f":"Vstupy!O1439","v":667437.77505081263},1976.6914348273735,655.24518606767128,{"$f":"$CZ168","v":210.98669546252984},{"$f":"$DA168","v":444.25849060514139},92.791046432901382,{"$f":"$CZ169","v":28.402657807308969},{"$f":"$DA169","v":64.388388625592412},405.41290877527734,{"$f":"$CZ170","v":124.99660215123261},{"$f":"$DA170","v":280.41630662404475},157.04123085949226,{"$f":"$CZ171","v":57.587435503988168},{"$f":"$DA171","v":99.453795355504099},27.63347600320688,{"$f":"$CZ172","v":10.302830788872601},{"$f":"$DA172","v":17.330645214334279},14.161270987699904,13.461824095137381,14.49345144487538,61.871940060832095,59.243831407099968,63.120078187381189,23.966788951467951,27.294344497762612,22.386470367743406,4.2172726470596302,4.8831661002540949,3.9010273480035345,{"$f":"BA250","v":55.134244159600605},{"$f":"BB250","v":56.110169471943493},{"$f":"BC250","v":54.670758911656335},18.399999999999999,{"$f":"DB168","v":5.8},{"$f":"DC168","v":12.6},18.062378870526764,{"$f":"DD168","v":6.7335546803221886},{"$f":"DE168","v":11.328824190204577},-18.062378870526764,-6.7335546803221886,-11.328824190204577,100.59696195849892,100.03061412808727]
[2035,1302369.4646044087,{"$f":"Vstupy!N1440","v":630936.22249790817},{"$f":"Vstupy!O1440","v":671433.24210650055},1986.5827021494254,655.58280719714435,{"$f":"$DF168","v":210.05314078220761},{"$f":"$DG168","v":445.52966641493674},92.791046432901382,{"$f":"$DF169","v":28.402657807308969},{"$f":"$DG169","v":64.388388625592412},411.40990194441565,{"$f":"$DF170","v":126.11998677204291},{"$f":"$DG170","v":285.28991517237273},151.38185881982724,{"$f":"$DF171","v":55.530496202855666},{"$f":"$DG171","v":95.851362616971585},30.208828164434603,{"$f":"$DF172","v":10.29732780183949},{"$f":"$DG172","v":19.911500362595113},14.15397801989606,13.521653473755055,14.452099036122398,62.754833932168395,60.041942863786879,64.033876232760818,23.091188047935532,26.436403662458037,21.51402473111678,4.6079347769335754,4.9022489087731449,4.4691749761172721,{"$f":"BD250","v":55.066814885749409},{"$f":"BE250","v":55.909759295622898},{"$f":"BF250","v":54.669393267962434},18.399999999999999,{"$f":"DH168","v":5.8},{"$f":"DI168","v":12.6},17.816283021228848,{"$f":"DJ168","v":6.5185324722413824},{"$f":"DK168","v":11.297750548987466},-17.816283021228848,-6.5185324722413824,-11.297750548987466,100.55217886825841,100.05152592291434]
[2036,1309023.3550208751,{"$f":"Vstupy!N1441","v":633860.64584341529},{"$f":"Vstupy!O1441","v":675162.70917745971},1994.9560161803247,656.16652417591547,{"$f":"$DL168","v":209.33460830996614},{"$f":"$DM168","v":446.83191586594933},92.791046432901382,{"$f":"$DL169","v":28.402657807308969},{"$f":"$DM169","v":64.388388625592412},413.49454854726127,{"$f":"$DL170","v":128.9113338291892},{"$f":"$DM170","v":284.5832147180721},149.88092919575274,{"$f":"$DL171","v":52.020616673467956},{"$f":"$DM171","v":97.860312522284786},32.47507362966892,{"$f":"$DL172","v":11.452319973231219},{"$f":"$DM172","v":21.0227536564377},14.141386830033484,13.568065995686943,14.409979757334318,63.016708916470897,61.581472299270978,63.689097536051506,22.84190425349561,24.850461705042072,21.900922706614161,4.9492121943365843,5.470820169531418,4.7048460304578104,{"$f":"BG250","v":55.00650125994477},{"$f":"BH250","v":55.722961765089117},{"$f":"BI250","v":54.670849365152698},18.399999999999999,{"$f":"DN168","v":5.8},{"$f":"DO168","v":12.6},17.670914515497767,{"$f":"DP168","v":6.2901850165961433},{"$f":"DQ168","v":11.380729498901625},-17.670914515497767,-6.2901850165961433,-11.380729498901625,100.51090651288324,100.08903787170178]
[2037,1315196.0683786003,{"$f":"Vstupy!N1442","v":636560.91332957451},{"$f":"Vstupy!O1442","v":678635.15504902578},2002.1386184305466,656.89560966041768,{"$f":"$DR168","v":208.84442329336997},{"$f":"$DS168","v":448.05118636704765},92.791046432901382,{"$f":"$DR169","v":28.402657807308969},{"$f":"$DS169","v":64.388388625592412},411.63176032153604,{"$f":"$DR170","v":127.1341000300657},{"$f":"$DS170","v":284.49766029147031},152.47280290598036,{"$f":"$DR171","v":53.307665455995348},{"$f":"$DS171","v":99.165137449984996},32.427926042450054,{"$f":"$DR172","v":10.651322721316516},{"$f":"$DS172","v":21.776603321133535},14.125691368354515,13.599912010775078,14.370766239383384,62.663192487209521,60.875027460741258,63.496687197343391,23.211116144435977,25.525060528483678,22.132546563273241,4.936541752686348,5.1001231219635139,4.8602936413818441,{"$f":"BJ250","v":54.948164960000724},{"$f":"BK250","v":55.55493273021478},{"$f":"BL250","v":54.665339986205133},18.399999999999999,{"$f":"DT168","v":5.8},{"$f":"DU168","v":12.6},17.3494854453551,{"$f":"DV168","v":6.0622026500295068},{"$f":"DW168","v":11.287282795325595},-17.3494854453551,-6.0622026500295068,-11.287282795325595,100.47155104865388,100.1111128741927]
[2038,1320905.8971464243,{"$f":"Vstupy!N1443","v":639042.53646122129},{"$f":"Vstupy!O1443","v":681863.36068520311},2007.6201508478835,657.94612421506258,{"$f":"$DX168","v":208.58222064334041},{"$f":"$DY168","v":449.36390357172212},92.791046432901382,{"$f":"$DX169","v":28.402657807308969},{"$f":"$DY169","v":64.388388625592412},409.04617490555341,{"$f":"$DX170","v":127.04267996542336},{"$f":"$DY170","v":282.00349494013005},156.1089028766078,{"$f":"$DX171","v":53.136882870608183},{"$f":"$DY171","v":102.97202000599962},32.586137207318458,{"$f":"$DX172","v":9.9407219510591016},{"$f":"$DY172","v":22.645415256259358},14.103137478559082,13.617008065071538,14.328785225917798,62.170162548422979,60.907722419283573,62.756152129411078,23.726699973017933,25.47526951564495,22.915062644671114,4.9527060055554095,4.7658529669491694,5.0394379869554795,{"$f":"BM250","v":54.90436440426982},{"$f":"BN250","v":55.408905732758818},{"$f":"BO250","v":54.670170358272586},18.399999999999999,{"$f":"DZ168","v":5.8},{"$f":"EA168","v":12.6},17.257095263767305,{"$f":"EB168","v":5.838140977266864},{"$f":"EC168","v":11.418954286500439},-17.257095263767305,-5.838140977266864,-11.418954286500439,100.43414277955249,100.1599210801832]
[2039,1326167.2649639193,{"$f":"Vstupy!N1444","v":641308.38063156989},{"$f":"Vstupy!O1444","v":684858.88433234952},2012.1215901196852,659.08902895129518,{"$f":"$ED168","v":208.54407966607357},{"$f":"$EE168","v":450.54494928522161},92.791046432901382,{"$f":"$ED169","v":28.402657807308969},{"$f":"$EE169","v":64.388388625592412},411.30538539064878,{"$f":"$ED170","v":129.591182032105},{"$f":"$EE170","v":281.71420335854378},154.99259712774511,{"$f":"$ED171","v":50.550239826659691},{"$f":"$EE171","v":104.44235730108542},30.400152076492425,{"$f":"$ED172","v":9.5689766650255006},{"$f":"$EE172","v":20.831175411466923},14.078681688958653,13.619498502565058,14.291224155934495,62.405133043269501,62.140906728021193,62.527435676612598,23.516185267771863,24.239594769413788,23.181340167452909,4.6124500243712765,4.5884671865763851,4.6235509785461062,{"$f":"BP250","v":54.863245586050645},{"$f":"BQ250","v":55.287845346073027},{"$f":"BR250","v":54.666710775659887},18.399999999999999,{"$f":"EF168","v":5.8},{"$f":"EG168","v":12.6},16.901097539638744,{"$f":"EH168","v":5.6310664624739069},{"$f":"EI168","v":11.270031077164838},-16.901097539638744,-5.6310664624739069,-11.270031077164838,100.39831511304939,100.17370795178648]
[2040,1331017.0130222763,{"$f":"Vstupy!N1445","v":643382.50028445479},{"$f":"Vstupy!O1445","v":687634.51273782155},2014.8975628088347,660.58793141165654,{"$f":"$EJ168","v":208.71301320359973},{"$f":"$EK168","v":451.87491820805684},92.791046432901382,{"$f":"$EJ169","v":28.402657807308969},{"$f":"$EK169","v":64.388388625592412},410.3630180618045,{"$f":"$EJ170","v":129.24915589346901},{"$f":"$EK170","v":281.11386216833546},157.43386691695071,{"$f":"$EJ171","v":51.061199502821808},{"$f":"$EK171","v":106.37266741412888},30.177530080963493,{"$f":"$EJ172","v":8.066418295688786},{"$f":"$EK172","v":22.111111785274709},14.046736553998148,13.608474800563657,14.249161887747452,62.120877259272824,61.92673562112121,62.21054783990072,23.832386186729035,24.464789578315159,23.540290272351804,4.5682835919322686,3.8648372575695547,4.8931929820220921,{"$f":"BS250","v":54.843315278795373},{"$f":"BT250","v":55.192891181615714},{"$f":"BU250","v":54.681852367088894},18.399999999999999,{"$f":"EL168","v":5.8},{"$f":"EM168","v":12.6},16.81663572609602,{"$f":"EN168","v":5.4414115598496497},{"$f":"EO168","v":11.375224166246371},-16.81663572609602,-5.4414115598496497,-11.375224166246371,100.3656965592865,100.2274203323861]
[2041,1335479.4701326061,{"$f":"Vstupy!N1446","v":645268.9832387917},{"$f":"Vstupy!O1446","v":690210.48689381429},2016.818727773385,662.17129568556049,{"$f":"$EP168","v":209.07160164375003},{"$f":"$EQ168","v":453.09969404181044},92.791046432901382,{"$f":"$EP169","v":28.402657807308969},{"$f":"$EQ169","v":64.388388625592412},414.45833388246399,{"$f":"$EP170","v":129.69917562639688},{"$f":"$EQ170","v":284.75915825606711},154.92191537019514,{"$f":"$EP171","v":50.969768210044251},{"$f":"$EQ171","v":103.95214716015089},28.349411701873052,{"$f":"$EP172","v":7.3013454864918765},{"$f":"$EQ172","v":21.048066215381176},14.013148416050377,13.585134271705638,14.210644913755091,62.590803404331531,62.035768897680946,62.846910293828309,23.396048179618095,24.379096830613456,22.942444792416598,4.2812806726275081,3.492270317483428,4.6453499069100967,{"$f":"BV250","v":54.829372894165786},{"$f":"BW250","v":55.124364862466173},{"$f":"BX250","v":54.693256176155117},18.399999999999999,{"$f":"ER168","v":5.8},{"$f":"ES168","v":12.6},16.698037093122661,{"$f":"ET168","v":5.2738539876379713},{"$f":"EU168","v":11.424183105484689},-16.698037093122661,-5.2738539876379713,-11.424183105484689,100.33526672211327,100.23969016063015]
[2042,1339802.8767935117,{"$f":"Vstupy!N1447","v":647094.88275434601},{"$f":"Vstupy!O1447","v":692707.99403916555},2018.1606345075536,663.87325859243788,{"$f":"$EV168","v":209.59774765611215},{"$f":"$EW168","v":454.27551093632576},92.791046432901382,{"$f":"$EV169","v":28.402657807308969},{"$f":"$EW169","v":64.388388625592412},417.82678823338688,{"$f":"$EV170","v":129.87524834705451},{"$f":"$EW170","v":287.95153988633234},153.2554239261496,{"$f":"$EV171","v":51.319841501748627},{"$f":"$EW171","v":101.93558242440096},26.280646233674528,{"$f":"$EV172","v":6.6849423796740721},{"$f":"$EW172","v":19.595703854000455},13.977223096715703,13.551031976693434,14.173863013852294,62.937734398170306,61.964047705389156,63.386982778980027,23.085042505113989,24.484920317917393,22.439154207167668,3.9586842659388735,3.1894151795190484,4.313616600994175,{"$f":"BY250","v":54.824686986906244},{"$f":"BZ250","v":55.081692613189844},{"$f":"CA250","v":54.706107404456453},18.399999999999999,{"$f":"EX168","v":5.8},{"$f":"EY168","v":12.6},16.574504659746779,{"$f":"EZ168","v":5.1373865502702856},{"$f":"FA168","v":11.437118109476495},-16.574504659746779,-5.1373865502702856,-11.437118109476495,100.3237344158107,100.25702758756935]
[2043,1344022.5394584269,{"$f":"Vstupy!N1448","v":648872.85414023104},{"$f":"Vstupy!O1448","v":695149.68531819584},2018.96508220642,665.69875393269103,{"$f":"$FB168","v":210.26036110584178},{"$f":"$FC168","v":455.43839282684922},92.791046432901382,{"$f":"$FB169","v":28.402657807308969},{"$f":"$FC169","v":64.388388625592412},424.51546911845418,{"$f":"$FB170","v":131.68413466233676},{"$f":"$FC170","v":292.83133445611742},148.3922383813354,{"$f":"$FB171","v":50.173568636196094},{"$f":"$FC171","v":98.218669745139323},24.781769542307895,{"$f":"$FB172","v":6.2489953179341962},{"$f":"$FC172","v":18.5327742243737},13.938894415037991,13.508327322338953,14.137672545773256,63.769905923750173,62.629082329050611,64.296585239235085,22.291199661211831,23.862590348610457,21.565742214991648,3.7226702612716003,2.9720272927661098,4.0692164991499915,{"$f":"CB250","v":54.830974198666446},{"$f":"CC250","v":55.063064002938809},{"$f":"CD250","v":54.723826257641079},18.399999999999999,{"$f":"FD168","v":5.8},{"$f":"FE168","v":12.6},16.495362024963761,{"$f":"FF168","v":5.0321139943772888},{"$f":"FG168","v":11.46324803058647},-16.495362024963761,-5.0321139943772888,-11.46324803058647,100.31494652967264,100.27497648333113]
[2044,1348175.9129255733,{"$f":"Vstupy!N1449","v":650617.6264220489},{"$f":"Vstupy!O1449","v":697558.2865035244},2019.4263978693373,667.60339190772731,{"$f":"$FH168","v":211.02824711146462},{"$f":"$FI168","v":456.57514479626269},92.791046432901382,{"$f":"$FH169","v":28.402657807308969},{"$f":"$FI169","v":64.388388625592412},426.53436996318112,{"$f":"$FH170","v":134.18168348473003},{"$f":"$FI170","v":292.35268647845112},148.27797551164468,{"$f":"$FH171","v":48.443905819425524},{"$f":"$FI171","v":99.83406969221916},23.315467812343023,{"$f":"$FH172","v":5.45683663586665},{"$f":"$FI172","v":17.858631176476372},13.899127469640909,13.459173450039014,14.102473461257819,63.890383891598688,63.584702674355995,64.031669224768578,22.210488638760374,22.956123875604941,21.865857313973599,3.4924130247027811,2.5858323284012124,3.9114330641991955,{"$f":"CE250","v":54.846850049300357},{"$f":"CF250","v":55.065830498093426},{"$f":"CG250","v":54.745637662276756},18.399999999999999,{"$f":"FJ168","v":5.8},{"$f":"FK168","v":12.6},16.481800870834618,{"$f":"FL168","v":4.9547199855528579},{"$f":"FM168","v":11.527080885281761},-16.481800870834618,-4.9547199855528579,-11.527080885281761,100.30902558143258,100.28611109210952]
[2045,1352292.1860547955,{"$f":"Vstupy!N1450","v":652345.5944372646},{"$f":"Vstupy!O1450","v":699946.59161753079},2019.7887628395843,669.52159103689269,{"$f":"$FN168","v":211.87352712591166},{"$f":"$FO168","v":457.64806391098102},92.791046432901382,{"$f":"$FN169","v":28.402657807308969},{"$f":"$FO169","v":64.388388625592412},429.37718956794333,{"$f":"$FN170","v":135.53780130997458},{"$f":"$FO170","v":293.83938825796872},147.35335503604804,{"$f":"$FN171","v":47.933068008628133},{"$f":"$FO171","v":99.420287027419917},22.35041847555766,{"$f":"$FN172","v":5.774134197670767},{"$f":"$FO172","v":16.576284277886895},13.859306059001808,13.405477405598628,14.069411345333879,64.131940674678461,63.97108838870065,64.206409122955364,22.008753266319744,22.62343420570074,21.72417953171076,3.3382670215225492,2.7252740236109485,3.622059303873995,{"$f":"CH250","v":54.869144794094126},{"$f":"CI250","v":55.087404029049253},{"$f":"CJ250","v":54.7680991269442},18.399999999999999,{"$f":"FP168","v":5.8},{"$f":"FQ168","v":12.6},16.444671972351784,{"$f":"FR168","v":4.9129082216028142},{"$f":"FS168","v":11.53176375074897},-16.444671972351784,-4.9129082216028142,-11.53176375074897,100.30532166386877,100.28732615088786]
[2046,1356397.4049237426,{"$f":"Vstupy!N1451","v":654065.80442054663},{"$f":"Vstupy!O1451","v":702331.60050319601},2020.0208918772507,671.47691906454099,{"$f":"$FT168","v":212.7606189043089},{"$f":"$FU168","v":458.71630016023209},92.791046432901382,{"$f":"$FT169","v":28.402657807308969},{"$f":"$FU169","v":64.388388625592412},433.5622399855323,{"$f":"$FT170","v":137.5214878449801},{"$f":"$FU170","v":296.04075214055223},145.1236326461073,{"$f":"$FT171","v":46.836473252019815},{"$f":"$FU171","v":98.287159394087467},21.288149552603915,{"$f":"$FT172","v":5.1288695092508894},{"$f":"$FU172","v":16.159280043353025},13.818948023138603,13.349584125849592,14.036647183259282,64.568450184340463,64.636721096788918,64.536784944669208,21.61260179252093,22.013694777361479,21.426567872071526,3.1703471777200045,2.4106291548050285,3.5227176443715869,{"$f":"CK250","v":54.900054637932364},{"$f":"CL250","v":55.12354971921269},{"$f":"CM250","v":54.796393722027126},18.399999999999999,{"$f":"FV168","v":5.8},{"$f":"FW168","v":12.6},16.636302747705965,{"$f":"FX168","v":4.8918973742308411},{"$f":"FY168","v":11.744405373475123},-16.636302747705965,-4.8918973742308411,-11.744405373475123,100.30357484212962,100.29204853940858]
[2047,1360519.4759637201,{"$f":"Vstupy!N1452","v":655791.84712291998},{"$f":"Vstupy!O1452","v":704727.62884080026},2020.8517474879193,673.24061631683514,{"$f":"$FZ168","v":213.66872153007805},{"$f":"$GA168","v":459.57189478675707},92.791046432901382,{"$f":"$FZ169","v":28.402657807308969},{"$f":"$GA169","v":64.388388625592412},434.22250312005792,{"$f":"$FZ170","v":136.64592696030468},{"$f":"$GA170","v":297.57657615975324},146.22706676387565,{"$f":"$FZ171","v":48.620136762464384},{"$f":"$GA171","v":97.606930001411286},20.295057767105053,{"$f":"$FZ172","v":4.4166221699966428},{"$f":"$GA172","v":15.87843559710841},13.782746344173743,13.292847733593399,14.010514863070304,64.497371756267825,63.952236893535719,64.750821261128209,21.719881899558395,22.754915372870872,21.238663875801464,3.0145325868981669,2.0670419789893848,3.4550493137697336,{"$f":"CN250","v":54.926199358817257},{"$f":"CO250","v":55.171623721327911},{"$f":"CP250","v":54.812094231056314},18.399999999999999,{"$f":"GB168","v":5.8},{"$f":"GC168","v":12.6},16.605235994045689,{"$f":"GD168","v":4.8980160807272357},{"$f":"GE168","v":11.707219913318452},-16.605235994045689,-4.8980160807272357,-11.707219913318452,100.30389847584598,100.26265940082514]
[2048,1364680.1328151934,{"$f":"Vstupy!N1453","v":657536.44572815078},{"$f":"Vstupy!O1453","v":707143.68708704249},2021.6423799336692,675.03538032278936,{"$f":"$GF168","v":214.57070544935087},{"$f":"$GG168","v":460.46467487343847},92.791046432901382,{"$f":"$GF169","v":28.402657807308969},{"$f":"$GG169","v":64.388388625592412},432.7427492881734,{"$f":"$GF170","v":137.29246619781051},{"$f":"$GG170","v":295.45028309036286},149.50158460171446,{"$f":"$GF171","v":48.875581444231287},{"$f":"$GG171","v":100.62600315748318},19.159739940382018,{"$f":"$GF172","v":4.1066195183260037},{"$f":"$GG172","v":15.053120422056013},13.746101187841505,13.236969020458098,13.983350328293904,64.106676761334185,63.984720519184854,64.163506825267149,22.147222050824293,22.778310460356995,21.853142846438949,2.83833121920516,1.9138770643112633,3.2691151446510975,{"$f":"CQ250","v":54.961075648422607},{"$f":"CR250","v":55.227482294412589},{"$f":"CS250","v":54.836933526158489},18.399999999999999,{"$f":"GH168","v":5.8},{"$f":"GI168","v":12.6},16.7375451234685,{"$f":"GJ168","v":4.916597750469144},{"$f":"GK168","v":11.820947372999358},-16.7375451234685,-4.916597750469144,-11.820947372999358,100.30581383985893,100.26658581827297]
[2049,1368893.2917010617,{"$f":"Vstupy!N1454","v":659303.67180092726},{"$f":"Vstupy!O1454","v":709589.61990013428},2022.9018337229572,676.69783519932082,{"$f":"$GL168","v":215.45410769888176},{"$f":"$GM168","v":461.24372750043904},92.791046432901382,{"$f":"$GL169","v":28.402657807308969},{"$f":"$GM169","v":64.388388625592412},432.82414070506098,{"$f":"$GL170","v":138.4049020943159},{"$f":"$GM170","v":294.41923861074508},151.08264806135841,{"$f":"$GL171","v":48.646547797256765},{"$f":"$GM171","v":102.43610026410164},20.476684039985884,{"$f":"$GL172","v":4.3935033640435588},{"$f":"$GM172","v":16.083180675942327},13.712330911413343,13.182694964908476,13.95973208666152,63.961212551769577,64.238692672200202,63.831597278570008,22.326456536817076,22.57861236289126,22.208670634768499,3.0259715599584402,2.0391829197259543,3.4869158575011774,{"$f":"CT250","v":54.995069153821227},{"$f":"CU250","v":55.289439737644415},{"$f":"CV250","v":54.857564082881595},18.399999999999999,{"$f":"GN168","v":5.8},{"$f":"GO168","v":12.6},16.948769837357553,{"$f":"GP168","v":4.9542478158764638},{"$f":"GQ168","v":11.994522021481089},-16.948769837357553,-4.9542478158764638,-11.994522021481089,100.30872867454859,100.24627670267246]
[2050,1373166.3526125427,{"$f":"Vstupy!N1455","v":661100.63877813064},{"$f":"Vstupy!O1455","v":712065.71383441205},2024.873914527351,678.14906536196315,{"$f":"$GR168","v":216.29985988300521},{"$f":"$GS168","v":461.84920547895791},92.791046432901382,{"$f":"$GR169","v":28.402657807308969},{"$f":"$GS169","v":64.388388625592412},426.32823833418149,{"$f":"$GR170","v":136.48629240297436},{"$f":"$GS170","v":289.84194593120714},159.02978059488035,{"$f":"$GR171","v":51.410909672721836},{"$f":"$GS171","v":107.61887092215851},19.377518976264078,{"$f":"$GR172","v":4.4726826194103646},{"$f":"$GS172","v":14.904836356853712},13.682986701953798,13.131149425002739,13.941431069220705,62.866449297047708,63.100499684465191,62.756835454686623,23.450564000998504,23.768350890532044,23.301733476092704,2.8574129149497973,2.0678157728949067,3.2272084004987609,{"$f":"CW250","v":55.023380749526524},{"$f":"CX250","v":55.354290046258079},{"$f":"CY250","v":54.868404550221825},"x","x","x","x","x","x","x","x","x",100.31215441973356,100.21445763340071]

{"sheet":"Data_grafy","index":3,"n_rows":150,"n_cols":46,"rows_kept":150,"cut":false,"hidden":true,"merged":[[1,0,3,0],[1,1,1,3],[1,4,3,4],[1,5,1,19],[1,20,1,31],[2,17,2,19],[2,20,2,22],[2,23,2,25],[2,26,2,28],[2,29,2,31],[1,41,1,43],[1,44,3,44],[1,45,3,45],[2,1,3,1],[2,2,3,2],[2,3,3,3],[2,5,3,5],[2,6,3,6],[2,7,3,7],[2,8,2,10],[1,32,1,34],[1,35,1,37],[1,38,1,40],[2,36,3,36],[2,11,2,13],[2,14,2,16],[2,32,3,32],[2,33,3,33],[2,34,3,34],[2,35,3,35],[2,43,3,43],[2,37,3,37],[2,38,3,38],[2,39,3,39],[2,40,3,40],[2,41,3,41],[2,42,3,42],[139,6,139,7],[139,8,139,9],[41,0,43,0],[41,1,41,3],[41,4,43,4],[41,5,41,19],[139,19,139,20],[139,0,140,0],[139,1,139,2],[139,3,139,4],[139,5,140,5],[139,12,139,13],[139,14,139,15],[139,11,140,11],[139,16,140,16],[139,17,139,18],[41,20,41,31],[41,32,41,34],[41,35,41,37],[41,38,41,40],[41,41,41,43],[41,44,43,44],[41,45,43,45],[42,1,43,1],[42,2,43,2],[42,3,43,3],[42,5,43,5],[42,6,43,6],[42,7,43,7],[42,8,42,10],[42,11,42,13],[42,14,42,16],[42,17,42,19],[42,20,42,22],[42,23,42,25],[42,26,42,28],[42,29,42,31],[42,32,43,32],[42,33,43,33],[42,34,43,34],[42,35,43,35],[42,36,43,36],[42,42,43,42],[42,43,43,43],[42,37,43,37],[42,38,43,38],[42,39,43,39],[42,40,43,40],[42,41,43,41]]}
[{"$f":"Výpočty!A552","v":"Souhrnná tabulka (fyzický počet lékařů)"}]
[null,{"$f":"Výpočty!B553","v":"Počet obyvatel 15+"},null,null,{"$f":"Výpočty!E553","v":"Počet obyv. na 1 lékaře"},{"$f":"Výpočty!F553","v":"Počet lékařů k 1.1."},null,null,null,null,null,null,null,null,null,null,null,null,null,null,{"$f":"Výpočty!U553","v":"Podíl věkových kategorií k 1.1."},null,null,null,null,null,null,null,null,null,null,null,{"$f":"Výpočty!AG553","v":"Průměrný věk"},null,null,{"$f":"Výpočty!AJ553","v":"Nově příchozí"},null,null,{"$f":"Výpočty!AM553","v":"Odchozí"},null,null,{"$f":"Výpočty!AP553","v":"Odchozí (data pro graf)"},null,null,{"$f":"Výpočty!AS553","v":"IZ počtu obyvatel"},{"$f":"Výpočty!AT553","v":"IZ počtu lékařů"}]
[null,{"$f":"Výpočty!B554","v":"Celkem"},{"$f":"Výpočty!C554","v":"Muži"},{"$f":"Výpočty!D554","v":"Ženy"},null,{"$f":"Výpočty!F554","v":"Celkem"},{"$f":"Výpočty!G554","v":"Muži"},{"$f":"Výpočty!H554","v":"Ženy"},{"$f":"Výpočty!I554","v":"23–39"},null,null,{"$f":"Výpočty!L554","v":"40–64"},null,null,{"$f":"Výpočty!O554","v":"65+"},null,null,{"$f":"Výpočty!R554","v":"80+"},null,null,{"$f":"Výpočty!U554","v":"23–39"},null,null,{"$f":"Výpočty!X554","v":"40–64"},null,null,{"$f":"Výpočty!AA554","v":"65+"},null,null,{"$f":"Výpočty!AD554","v":"80+"},null,null,{"$f":"Výpočty!AG554","v":"Celkem"},{"$f":"Výpočty!AH554","v":"Muži"},{"$f":"Výpočty!AI554","v":"Ženy"},{"$f":"Výpočty!AJ554","v":"Celkem"},{"$f":"Výpočty!AK554","v":"Muži"},{"$f":"Výpočty!AL554","v":"Ženy"},{"$f":"Výpočty!AM554","v":"Celkem"},{"$f":"Výpočty!AN554","v":"Muži"},{"$f":"Výpočty!AO554","v":"Ženy"},{"$f":"Výpočty!AP554","v":"Celkem"},{"$f":"Výpočty!AQ554","v":"Muži"},{"$f":"Výpočty!AR554","v":"Ženy"}]
[null,null,null,null,null,null,null,null,{"$f":"Výpočty!I555","v":"celkem"},{"$f":"Výpočty!J555","v":"muži"},{"$f":"Výpočty!K555","v":"ženy"},{"$f":"Výpočty!L555","v":"celkem"},{"$f":"Výpočty!M555","v":"muži"},{"$f":"Výpočty!N555","v":"ženy"},{"$f":"Výpočty!O555","v":"celkem"},{"$f":"Výpočty!P555","v":"muži"},{"$f":"Výpočty!Q555","v":"ženy"},{"$f":"Výpočty!R555","v":"celkem"},{"$f":"Výpočty!S555","v":"muži"},{"$f":"Výpočty!T555","v":"ženy"},{"$f":"Výpočty!U555","v":"celkem"},{"$f":"Výpočty!V555","v":"muži"},{"$f":"Výpočty!W555","v":"ženy"},{"$f":"Výpočty!X555","v":"celkem"},{"$f":"Výpočty!Y555","v":"muži"},{"$f":"Výpočty!Z555","v":"ženy"},{"$f":"Výpočty!AA555","v":"celkem"},{"$f":"Výpočty!AB555","v":"muži"},{"$f":"Výpočty!AC555","v":"ženy"},{"$f":"Výpočty!AD555","v":"celkem"},{"$f":"Výpočty!AE555","v":"muži"},{"$f":"Výpočty!AF555","v":"ženy"}]
[{"$f":"Výpočty!A556","v":2017},{"$f":"Výpočty!B556","v":1108762.1501909939},{"$f":"Výpočty!C556","v":541958.3992633319},{"$f":"Výpočty!D556","v":566803.75092766201},{"$f":"Výpočty!E556","v":1740.5999218068978},{"$f":"Výpočty!F556","v":637},{"$f":"Výpočty!G556","v":231},{"$f":"Výpočty!H556","v":406},{"$f":"Výpočty!I556","v":84},{"$f":"Výpočty!J556","v":24},{"$f":"Výpočty!K556","v":60},{"$f":"Výpočty!L556","v":416},{"$f":"Výpočty!M556","v":142},{"$f":"Výpočty!N556","v":274},{"$f":"Výpočty!O556","v":137},{"$f":"Výpočty!P556","v":65},{"$f":"Výpočty!Q556","v":72},{"$f":"Výpočty!R556","v":5},{"$f":"Výpočty!S556","v":3},{"$f":"Výpočty!T556","v":2},{"$f":"Výpočty!U556","v":13.186813186813188},{"$f":"Výpočty!V556","v":10.38961038961039},{"$f":"Výpočty!W556","v":14.77832512315271},{"$f":"Výpočty!X556","v":65.306122448979593},{"$f":"Výpočty!Y556","v":61.471861471861466},{"$f":"Výpočty!Z556","v":67.487684729064028},{"$f":"Výpočty!AA556","v":21.507064364207221},{"$f":"Výpočty!AB556","v":28.138528138528141},{"$f":"Výpočty!AC556","v":17.733990147783253},{"$f":"Výpočty!AD556","v":0.78492935635792771},{"$f":"Výpočty!AE556","v":1.2987012987012987},{"$f":"Výpočty!AF556","v":0.49261083743842365},{"$f":"Výpočty!AG556","v":54.981946624803768},{"$f":"Výpočty!AH556","v":57.31818181818182},{"$f":"Výpočty!AI556","v":53.652709359605915},{"$f":"Výpočty!AJ556","v":18.399999999999999},{"$f":"Výpočty!AK556","v":5.8},{"$f":"Výpočty!AL556","v":12.6},{"$f":"Výpočty!AM556","v":14.1890282416639},{"$f":"Výpočty!AN556","v":5.6209385835963221},{"$f":"Výpočty!AO556","v":8.5680896580675778},{"$f":"Výpočty!AP556","v":-14.1890282416639},{"$f":"Výpočty!AQ556","v":-5.6209385835963221},{"$f":"Výpočty!AR556","v":-8.5680896580675778},{"$f":"Výpočty!AS556","v":"x"},{"$f":"Výpočty!AT556","v":"x"}]
[{"$f":"Výpočty!A557","v":2018},{"$f":"Výpočty!B557","v":1117443.1574880062},{"$f":"Výpočty!C557","v":545932.28891384089},{"$f":"Výpočty!D557","v":571510.86857416539},{"$f":"Výpočty!E557","v":1742.707481164492},{"$f":"Výpočty!F557","v":641.21097175833609},{"$f":"Výpočty!G557","v":231.17906141640375},{"$f":"Výpočty!H557","v":410.03191034193236},{"$f":"Výpočty!I557","v":91.960455669096689},{"$f":"Výpočty!J557","v":25.853820598006642},{"$f":"Výpočty!K557","v":66.106635071090039},{"$f":"Výpočty!L557","v":398.50450527364984},{"$f":"Výpočty!M557","v":131.15406249811565},{"$f":"Výpočty!N557","v":267.35044277553419},{"$f":"Výpočty!O557","v":150.74601081558961},{"$f":"Výpočty!P557","v":74.171178320281413},{"$f":"Výpočty!Q557","v":76.574832495308215},{"$f":"Výpočty!R557","v":4.99891037290082},{"$f":"Výpočty!S557","v":2.3333953610295266},{"$f":"Výpočty!T557","v":2.6655150118712934},{"$f":"Výpočty!U557","v":14.341684674690089},{"$f":"Výpočty!V557","v":11.183461183553423},{"$f":"Výpočty!W557","v":16.122314728129972},{"$f":"Výpočty!X557","v":62.148734632669523},{"$f":"Výpočty!Y557","v":56.732673666270607},{"$f":"Výpočty!Z557","v":65.202350361606307},{"$f":"Výpočty!AA557","v":23.509580692640391},{"$f":"Výpočty!AB557","v":32.083865150175946},{"$f":"Výpočty!AC557","v":18.675334910263743},{"$f":"Výpočty!AD557","v":0.77960462204705427},{"$f":"Výpočty!AE557","v":1.0093454600659417},{"$f":"Výpočty!AF557","v":0.65007501724645689},{"$f":"Výpočty!AG557","v":55.124431392906729},{"$f":"Výpočty!AH557","v":57.457030918580081},{"$f":"Výpočty!AI557","v":53.809294313561317},{"$f":"Výpočty!AJ557","v":18.399999999999999},{"$f":"Výpočty!AK557","v":5.8},{"$f":"Výpočty!AL557","v":12.6},{"$f":"Výpočty!AM557","v":14.864202877526703},{"$f":"Výpočty!AN557","v":5.92765961376608},{"$f":"Výpočty!AO557","v":8.9365432637606226},{"$f":"Výpočty!AP557","v":-14.864202877526703},{"$f":"Výpočty!AQ557","v":-5.92765961376608},{"$f":"Výpočty!AR557","v":-8.9365432637606226},{"$f":"Výpočty!AS557","v":100.78294585502552},{"$f":"Výpočty!AT557","v":100.66106307038243}]
[{"$f":"Výpočty!A558","v":2019},{"$f":"Výpočty!B558","v":1126624.2554829684},{"$f":"Výpočty!C558","v":550169.6103010833},{"$f":"Výpočty!D558","v":576454.64518188499},{"$f":"Výpočty!E558","v":1747.3903086612302},{"$f":"Výpočty!F558","v":644.74676888080944},{"$f":"Výpočty!G558","v":231.05140180263757},{"$f":"Výpočty!H558","v":413.69536707817184},{"$f":"Výpočty!I558","v":93.981774810662728},{"$f":"Výpočty!J558","v":28.514950166112953},{"$f":"Výpočty!K558","v":65.466824644549774},{"$f":"Výpočty!L558","v":389.82860251710594},{"$f":"Výpočty!M558","v":124.74289408003096},{"$f":"Výpočty!N558","v":265.08570843707497},{"$f":"Výpočty!O558","v":160.93639155304066},{"$f":"Výpočty!P558","v":77.793557556493667},{"$f":"Výpočty!Q558","v":83.142833996546997},{"$f":"Výpočty!R558","v":5.6489540323905736},{"$f":"Výpočty!S558","v":2.4939565678182642},{"$f":"Výpočty!T558","v":3.1549974645723089},{"$f":"Výpočty!U558","v":14.576540643049981},{"$f":"Výpočty!V558","v":12.341388082323871},{"$f":"Výpočty!W558","v":15.824887067729518},{"$f":"Výpočty!X558","v":60.462280903523421},{"$f":"Výpočty!Y558","v":53.989239237157037},{"$f":"Výpočty!Z558","v":64.077514406146193},{"$f":"Výpočty!AA558","v":24.961178453426577},{"$f":"Výpočty!AB558","v":33.669372680519096},{"$f":"Výpočty!AC558","v":20.097598526124258},{"$f":"Výpočty!AD558","v":0.87615080913028398},{"$f":"Výpočty!AE558","v":1.079394692419388},{"$f":"Výpočty!AF558","v":0.7626378527889438},{"$f":"Výpočty!AG558","v":55.24735175356637},{"$f":"Výpočty!AH558","v":57.570512180843117},{"$f":"Výpočty!AI558","v":53.949852395220276},{"$f":"Výpočty!AJ558","v":18.399999999999999},{"$f":"Výpočty!AK558","v":5.8},{"$f":"Výpočty!AL558","v":12.6},{"$f":"Výpočty!AM558","v":15.482530675685275},{"$f":"Výpočty!AN558","v":6.2188189842103689},{"$f":"Výpočty!AO558","v":9.2637116914749065},{"$f":"Výpočty!AP558","v":-15.482530675685275},{"$f":"Výpočty!AQ558","v":-6.2188189842103689},{"$f":"Výpočty!AR558","v":-9.2637116914749065},{"$f":"Výpočty!AS558","v":100.82161655681898},{"$f":"Výpočty!AT558","v":100.55142492536855}]
[{"$f":"Výpočty!A559","v":2020},{"$f":"Výpočty!B559","v":1137043.5603391014},{"$f":"Výpočty!C559","v":554971.93402686424},{"$f":"Výpočty!D559","v":582071.62631223712},{"$f":"Výpočty!E559","v":1755.6065215059543},{"$f":"Výpočty!F559","v":647.66423820512387},{"$f":"Výpočty!G559","v":230.63258281842721},{"$f":"Výpočty!H559","v":417.03165538669668},{"$f":"Výpočty!I559","v":97.358195430712783},{"$f":"Výpočty!J559","v":29.964119601328903},{"$f":"Výpočty!K559","v":67.39407582938388},{"$f":"Výpočty!L559","v":375.27967344353794},{"$f":"Výpočty!M559","v":119.75565702974752},{"$f":"Výpočty!N559","v":255.52401641379043},{"$f":"Výpočty!O559","v":175.02636933087342},{"$f":"Výpočty!P559","v":80.912806187350824},{"$f":"Výpočty!Q559","v":94.113563143522583},{"$f":"Výpočty!R559","v":6.7560477853857872},{"$f":"Výpočty!S559","v":2.536772913346788},{"$f":"Výpočty!T559","v":4.2192748720389996},{"$f":"Výpočty!U559","v":15.032201824285094},{"$f":"Výpočty!V559","v":12.992145010542202},{"$f":"Výpočty!W559","v":16.160422106780377},{"$f":"Výpočty!X559","v":57.94355335776342},{"$f":"Výpočty!Y559","v":51.924864893885768},{"$f":"Výpočty!Z559","v":61.27209124613173},{"$f":"Výpočty!AA559","v":27.024244817951526},{"$f":"Výpočty!AB559","v":35.08299009557205},{"$f":"Výpočty!AC559","v":22.567486647087946},{"$f":"Výpočty!AD559","v":1.0431404710732319},{"$f":"Výpočty!AE559","v":1.0999195700565616},{"$f":"Výpočty!AF559","v":1.0117397126907872},{"$f":"Výpočty!AG559","v":55.350515382301509},{"$f":"Výpočty!AH559","v":57.657358830622975},{"$f":"Výpočty!AI559","v":54.074753085190451},{"$f":"Výpočty!AJ559","v":18.399999999999999},{"$f":"Výpočty!AK559","v":5.8},{"$f":"Výpočty!AL559","v":12.6},{"$f":"Výpočty!AM559","v":16.047458637247153},{"$f":"Výpočty!AN559","v":6.4904768283341712},{"$f":"Výpočty!AO559","v":9.5569818089129814},{"$f":"Výpočty!AP559","v":-16.047458637247153},{"$f":"Výpočty!AQ559","v":-6.4904768283341712},{"$f":"Výpočty!AR559","v":-9.5569818089129814},{"$f":"Výpočty!AS559","v":100.92482518509833},{"$f":"Výpočty!AT559","v":100.45249847926787}]
[{"$f":"Výpočty!A560","v":2021},{"$f":"Výpočty!B560","v":1148633.6218187413},{"$f":"Výpočty!C560","v":560431.75049962522},{"$f":"Výpočty!D560","v":588201.87131911609},{"$f":"Výpočty!E560","v":1767.0830321985511},{"$f":"Výpočty!F560","v":650.01677956787705},{"$f":"Výpočty!G560","v":229.94210599009304},{"$f":"Výpočty!H560","v":420.07467357778404},{"$f":"Výpočty!I560","v":102.5286674749256},{"$f":"Výpočty!J560","v":32.16279069767441},{"$f":"Výpočty!K560","v":70.365876777251188},{"$f":"Výpočty!L560","v":358.90041266929029},{"$f":"Výpočty!M560","v":109.61499536066907},{"$f":"Výpočty!N560","v":249.28541730862119},{"$f":"Výpočty!O560","v":188.58769942366109},{"$f":"Výpočty!P560","v":88.164319931749546},{"$f":"Výpočty!Q560","v":100.42337949191155},{"$f":"Výpočty!R560","v":8.6311719285029209},{"$f":"Výpočty!S560","v":3.6152680495742975},{"$f":"Výpočty!T560","v":5.015903878928623},{"$f":"Výpočty!U560","v":15.773233968373148},{"$f":"Výpočty!V560","v":13.987342839705978},{"$f":"Výpočty!W560","v":16.750801989071054},{"$f":"Výpočty!X560","v":55.214022768440344},{"$f":"Výpočty!Y560","v":47.670692972339651},{"$f":"Výpočty!Z560","v":59.343119923287091},{"$f":"Výpočty!AA560","v":29.012743263186501},{"$f":"Výpočty!AB560","v":38.341964187954368},{"$f":"Výpočty!AC560","v":23.906078087641824},{"$f":"Výpočty!AD560","v":1.3278383266107092},{"$f":"Výpočty!AE560","v":1.5722514299882335},{"$f":"Výpočty!AF560","v":1.1940505330178737},{"$f":"Výpočty!AG560","v":55.433912911386535},{"$f":"Výpočty!AH560","v":57.716305211631848},{"$f":"Výpočty!AI560","v":54.184568151455935},{"$f":"Výpočty!AJ560","v":18.399999999999999},{"$f":"Výpočty!AK560","v":5.8},{"$f":"Výpočty!AL560","v":12.6},{"$f":"Výpočty!AM560","v":16.553453659440756},{"$f":"Výpočty!AN560","v":6.739246846718987},{"$f":"Výpočty!AO560","v":9.8142068127217676},{"$f":"Výpočty!AP560","v":-16.553453659440756},{"$f":"Výpočty!AQ560","v":-6.739246846718987},{"$f":"Výpočty!AR560","v":-9.8142068127217676},{"$f":"Výpočty!AS560","v":101.01931551999499},{"$f":"Výpočty!AT560","v":100.3632347169998}]
[{"$f":"Výpočty!A561","v":2022},{"$f":"Výpočty!B561","v":1160806.0419484067},{"$f":"Výpočty!C561","v":566165.07672403427},{"$f":"Výpočty!D561","v":594640.96522437246},{"$f":"Výpočty!E561","v":1780.7506509600125},{"$f":"Výpočty!F561","v":651.86332590843631},{"$f":"Výpočty!G561","v":229.00285914337397},{"$f":"Výpočty!H561","v":422.86046676506231},{"$f":"Výpočty!I561","v":103.84766812048306},{"$f":"Výpočty!J561","v":31.226578073089698},{"$f":"Výpočty!K561","v":72.621090047393366},{"$f":"Výpočty!L561","v":353.70076234010776},{"$f":"Výpočty!M561","v":109.33485785039619},{"$f":"Výpočty!N561","v":244.3659044897116},{"$f":"Výpočty!O561","v":194.31489544784534},{"$f":"Výpočty!P561","v":88.441423219888165},{"$f":"Výpočty!Q561","v":105.87347222795718},{"$f":"Výpočty!R561","v":10.613926945772299},{"$f":"Výpočty!S561","v":3.8385575564861334},{"$f":"Výpočty!T561","v":6.7753693892861655},{"$f":"Výpočty!U561","v":15.930895939844604},{"$f":"Výpočty!V561","v":13.635890045171612},{"$f":"Výpočty!W561","v":17.173771434098384},{"$f":"Výpočty!X561","v":54.25995730733748},{"$f":"Výpočty!Y561","v":47.743883311930126},{"$f":"Výpočty!Z561","v":57.788779915782293},{"$f":"Výpočty!AA561","v":29.809146752817888},{"$f":"Výpočty!AB561","v":38.620226642898295},{"$f":"Výpočty!AC561","v":25.037448650119281},{"$f":"Výpočty!AD561","v":1.6282442229712397},{"$f":"Výpočty!AE561","v":1.6762050792050991},{"$f":"Výpočty!AF561","v":1.6022707067223911},{"$f":"Výpočty!AG561","v":55.497716609759458},{"$f":"Výpočty!AH561","v":57.746203704629451},{"$f":"Výpočty!AI561","v":54.280033676636513},{"$f":"Výpočty!AJ561","v":18.399999999999999},{"$f":"Výpočty!AK561","v":5.8},{"$f":"Výpočty!AL561","v":12.6},{"$f":"Výpočty!AM561","v":17.005232776396408},{"$f":"Výpočty!AN561","v":6.9650676009549937},{"$f":"Výpočty!AO561","v":10.040165175441414},{"$f":"Výpočty!AP561","v":-17.005232776396408},{"$f":"Výpočty!AQ561","v":-6.9650676009549937},{"$f":"Výpočty!AR561","v":-10.040165175441414},{"$f":"Výpočty!AS561","v":101.05973043958016},{"$f":"Výpočty!AT561","v":100.28407671903284}]
[{"$f":"Výpočty!A562","v":2023},{"$f":"Výpočty!B562","v":1174400.4904045691},{"$f":"Výpočty!C562","v":572557.68542235252},{"$f":"Výpočty!D562","v":601842.80498221668},{"$f":"Výpočty!E562","v":1797.7588073557831},{"$f":"Výpočty!F562","v":653.2580931320399},{"$f":"Výpočty!G562","v":227.83779154241904},{"$f":"Výpočty!H562","v":425.42030158962081},{"$f":"Výpočty!I562","v":102.17163326038008},{"$f":"Výpočty!J562","v":31.982059800664452},{"$f":"Výpočty!K562","v":70.189573459715632},{"$f":"Výpočty!L562","v":351.32277428013867},{"$f":"Výpočty!M562","v":107.4621912235244},{"$f":"Výpočty!N562","v":243.86058305661425},{"$f":"Výpočty!O562","v":199.7636855915211},{"$f":"Výpočty!P562","v":88.393540518230267},{"$f":"Výpočty!Q562","v":111.37014507329081},{"$f":"Výpočty!R562","v":11.944108766130885},{"$f":"Výpočty!S562","v":4.3685442851091798},{"$f":"Výpočty!T562","v":7.575564481021706},{"$f":"Výpočty!U562","v":15.640316489692324},{"$f":"Výpočty!V562","v":14.03720584901737},{"$f":"Výpočty!W562","v":16.498877274414514},{"$f":"Výpočty!X562","v":53.780087529528316},{"$f":"Výpočty!Y562","v":47.166095886036096},{"$f":"Výpočty!Z562","v":57.322272149544219},{"$f":"Výpočty!AA562","v":30.579595980779352},{"$f":"Výpočty!AB562","v":38.796698264946563},{"$f":"Výpočty!AC562","v":26.178850576041235},{"$f":"Výpočty!AD562","v":1.8283904771642348},{"$f":"Výpočty!AE562","v":1.9173923059624816},{"$f":"Výpočty!AF562","v":1.7807247215788562},{"$f":"Výpočty!AG562","v":55.542327217702898},{"$f":"Výpočty!AH562","v":57.746109194589039},{"$f":"Výpočty!AI562","v":54.362071323053421},{"$f":"Výpočty!AJ562","v":18.399999999999999},{"$f":"Výpočty!AK562","v":5.8},{"$f":"Výpočty!AL562","v":12.6},{"$f":"Výpočty!AM562","v":17.398823235982043},{"$f":"Výpočty!AN562","v":7.1573728002226007},{"$f":"Výpočty!AO562","v":10.241450435759441},{"$f":"Výpočty!AP562","v":-17.398823235982043},{"$f":"Výpočty!AQ562","v":-7.1573728002226007},{"$f":"Výpočty!AR562","v":-10.241450435759441},{"$f":"Výpočty!AS562","v":101.17112144190293},{"$f":"Výpočty!AT562","v":100.21396620551705}]
[{"$f":"Výpočty!A563","v":2024},{"$f":"Výpočty!B563","v":1188694.6128826425},{"$f":"Výpočty!C563","v":579233.66202309541},{"$f":"Výpočty!D563","v":609460.95085954701},{"$f":"Výpočty!E563","v":1816.8555916242358},{"$f":"Výpočty!F563","v":654.25926989605773},{"$f":"Výpočty!G563","v":226.48041874219649},{"$f":"Výpočty!H563","v":427.77885115386124},{"$f":"Výpočty!I563","v":102.39553699359166},{"$f":"Výpočty!J563","v":33.294352159468438},{"$f":"Výpočty!K563","v":69.101184834123217},{"$f":"Výpočty!L563","v":354.72825183444621},{"$f":"Výpočty!M563","v":104.22975650675387},{"$f":"Výpočty!N563","v":250.49849532769232},{"$f":"Výpočty!O563","v":197.13548106801989},{"$f":"Výpočty!P563","v":88.956310075974173},{"$f":"Výpočty!Q563","v":108.17917099204573},{"$f":"Výpočty!R563","v":13.891213933459706},{"$f":"Výpočty!S563","v":4.2680385251737691},{"$f":"Výpočty!T563","v":9.6231754082859382},{"$f":"Výpočty!U563","v":15.650605456436139},{"$f":"Výpočty!V563","v":14.700764129797694},{"$f":"Výpočty!W563","v":16.153483195285236},{"$f":"Výpočty!X563","v":54.218299710266535},{"$f":"Výpočty!Y563","v":46.021531170603758},{"$f":"Výpočty!Z563","v":58.557942883808991},{"$f":"Výpočty!AA563","v":30.131094833297329},{"$f":"Výpočty!AB563","v":39.277704699598544},{"$f":"Výpočty!AC563","v":25.288573920905783},{"$f":"Výpočty!AD563","v":2.123197113533692},{"$f":"Výpočty!AE563","v":1.8845066380913458},{"$f":"Výpočty!AF563","v":2.249567827471846},{"$f":"Výpočty!AG563","v":55.568393357982885},{"$f":"Výpočty!AH563","v":57.715416586650967},{"$f":"Výpočty!AI563","v":54.431687514376151},{"$f":"Výpočty!AJ563","v":18.399999999999999},{"$f":"Výpočty!AK563","v":5.8},{"$f":"Výpočty!AL563","v":12.6},{"$f":"Výpočty!AM563","v":17.720531569305692},{"$f":"Výpočty!AN563","v":7.3115245236276003},{"$f":"Výpočty!AO563","v":10.409007045678093},{"$f":"Výpočty!AP563","v":-17.720531569305692},{"$f":"Výpočty!AQ563","v":-7.3115245236276003},{"$f":"Výpočty!AR563","v":-10.409007045678093},{"$f":"Výpočty!AS563","v":101.21714207332708},{"$f":"Výpočty!AT563","v":100.1532589912844}]
[{"$f":"Výpočty!A564","v":2025},{"$f":"Výpočty!B564","v":1202647.071288832},{"$f":"Výpočty!C564","v":585719.47233076941},{"$f":"Výpočty!D564","v":616927.59895806247},{"$f":"Výpočty!E564","v":1836.2741442984022},{"$f":"Výpočty!F564","v":654.93873832675217},{"$f":"Výpočty!G564","v":224.96889421856889},{"$f":"Výpočty!H564","v":429.96984410818322},{"$f":"Výpočty!I564","v":94.570938105210132},{"$f":"Výpočty!J564","v":31.259800664451824},{"$f":"Výpočty!K564","v":63.311137440758301},{"$f":"Výpočty!L564","v":361.33152334132717},{"$f":"Výpočty!M564","v":108.92097407599822},{"$f":"Výpočty!N564","v":252.41054926532897},{"$f":"Výpočty!O564","v":199.03627688021479},{"$f":"Výpočty!P564","v":84.788119478118816},{"$f":"Výpočty!Q564","v":114.24815740209597},{"$f":"Výpočty!R564","v":14.295779625682991},{"$f":"Výpočty!S564","v":4.4836469687723177},{"$f":"Výpočty!T564","v":9.8121326569106735},{"$f":"Výpočty!U564","v":14.439661692148711},{"$f":"Výpočty!V564","v":13.895165717479729},{"$f":"Výpočty!W564","v":14.724552967679475},{"$f":"Výpočty!X564","v":55.170278103332635},{"$f":"Výpočty!Y564","v":48.416015224831874},{"$f":"Výpočty!Z564","v":58.704244663684094},{"$f":"Výpočty!AA564","v":30.390060204518644},{"$f":"Výpočty!AB564","v":37.688819057688384},{"$f":"Výpočty!AC564","v":26.571202368636438},{"$f":"Výpočty!AD564","v":2.1827659274218645},{"$f":"Výpočty!AE564","v":1.9930075152595199},{"$f":"Výpočty!AF564","v":2.2820513557787732},{"$f":"Výpočty!AG564","v":55.576861150938406},{"$f":"Výpočty!AH564","v":57.654094403497282},{"$f":"Výpočty!AI564","v":54.490010818837881},{"$f":"Výpočty!AJ564","v":18.399999999999999},{"$f":"Výpočty!AK564","v":5.8},{"$f":"Výpočty!AL564","v":12.6},{"$f":"Výpočty!AM564","v":17.986490110612703},{"$f":"Výpočty!AN564","v":7.4270299929161467},{"$f":"Výpočty!AO564","v":10.559460117696556},{"$f":"Výpočty!AP564","v":-17.986490110612703},{"$f":"Výpočty!AQ564","v":-7.4270299929161467},{"$f":"Výpočty!AR564","v":-10.559460117696556},{"$f":"Výpočty!AS564","v":101.17376307211102},{"$f":"Výpočty!AT564","v":100.10385308423714}]
[{"$f":"Výpočty!A565","v":2026},{"$f":"Výpočty!B565","v":1216507.4496817791},{"$f":"Výpočty!C565","v":592223.47293908033},{"$f":"Výpočty!D565","v":624283.97674269881},{"$f":"Výpočty!E565","v":1856.265013194198},{"$f":"Výpočty!F565","v":655.35224821613929},{"$f":"Výpočty!G565","v":223.34186422565264},{"$f":"Výpočty!H565","v":432.01038399048662},{"$f":"Výpočty!I565","v":93.684816016123179},{"$f":"Výpočty!J565","v":29.82059800664452},{"$f":"Výpočty!K565","v":63.864218009478662},{"$f":"Výpočty!L565","v":366.64556661640751},{"$f":"Výpočty!M565","v":111.22142240372217},{"$f":"Výpočty!N565","v":255.42414421268532},{"$f":"Výpočty!O565","v":195.02186558360859},{"$f":"Výpočty!P565","v":82.299843815285996},{"$f":"Výpočty!Q565","v":112.72202176832261},{"$f":"Výpočty!R565","v":15.980089389775609},{"$f":"Výpočty!S565","v":5.2773808008804899},{"$f":"Výpočty!T565","v":10.702708588895119},{"$f":"Výpočty!U565","v":14.295337548796406},{"$f":"Výpočty!V565","v":13.351996550237169},{"$f":"Výpočty!W565","v":14.783028458613401},{"$f":"Výpočty!X565","v":55.946335366119861},{"$f":"Výpočty!Y565","v":49.798734683861156},{"$f":"Výpočty!Z565","v":59.124538131081138},{"$f":"Výpočty!AA565","v":29.758327085083735},{"$f":"Výpočty!AB565","v":36.849268765901698},{"$f":"Výpočty!AC565","v":26.092433410305453},{"$f":"Výpočty!AD565","v":2.4383969740354465},{"$f":"Výpočty!AE565","v":2.362916070024609},{"$f":"Výpočty!AF565","v":2.4774192902573393},{"$f":"Výpočty!AG565","v":55.569023544853792},{"$f":"Výpočty!AH565","v":57.562842117873871},{"$f":"Výpočty!AI565","v":54.538253976509701},{"$f":"Výpočty!AJ565","v":18.399999999999999},{"$f":"Výpočty!AK565","v":5.8},{"$f":"Výpočty!AL565","v":12.6},{"$f":"Výpočty!AM565","v":18.201181149967084},{"$f":"Výpočty!AN565","v":7.5037462001926531},{"$f":"Výpočty!AO565","v":10.697434949774433},{"$f":"Výpočty!AP565","v":-18.201181149967084},{"$f":"Výpočty!AQ565","v":-7.5037462001926531},{"$f":"Výpočty!AR565","v":-10.697434949774433},{"$f":"Výpočty!AS565","v":101.15248926504212},{"$f":"Výpočty!AT565","v":100.0631371859975}]
[{"$f":"Výpočty!A566","v":2027},{"$f":"Výpočty!B566","v":1228797.0169230544},{"$f":"Výpočty!C566","v":597876.57630694984},{"$f":"Výpočty!D566","v":630920.44061610452},{"$f":"Výpočty!E566","v":1874.4489615772641},{"$f":"Výpočty!F566","v":655.55106706617244},{"$f":"Výpočty!G566","v":221.63811802546013},{"$f":"Výpočty!H566","v":433.91294904071225},{"$f":"Výpočty!I566","v":93.487195918817207},{"$f":"Výpočty!J566","v":29.861129568106307},{"$f":"Výpočty!K566","v":63.6260663507109},{"$f":"Výpočty!L566","v":372.89754787816065},{"$f":"Výpočty!M566","v":112.11073066191227},{"$f":"Výpočty!N566","v":260.78681721624838},{"$f":"Výpočty!O566","v":189.16632326919444},{"$f":"Výpočty!P566","v":79.666257795441496},{"$f":"Výpočty!Q566","v":109.50006547375295},{"$f":"Výpočty!R566","v":17.862445141574348},{"$f":"Výpočty!S566","v":6.1439629115851702},{"$f":"Výpočty!T566","v":11.718482229989178},{"$f":"Výpočty!U566","v":14.260856341399327},{"$f":"Výpočty!V566","v":13.472921460502604},{"$f":"Výpočty!W566","v":14.66332509582265},{"$f":"Výpočty!X566","v":56.883066264694179},{"$f":"Výpočty!Y566","v":50.582784071931982},{"$f":"Výpočty!Z566","v":60.101183380858224},{"$f":"Výpočty!AA566","v":28.856077393906471},{"$f":"Výpočty!AB566","v":35.944294467565378},{"$f":"Výpočty!AC566","v":25.235491523319119},{"$f":"Výpočty!AD566","v":2.7247984236400127},{"$f":"Výpočty!AE566","v":2.7720696089286401},{"$f":"Výpočty!AF566","v":2.7006528051066949},{"$f":"Výpočty!AG566","v":55.546454000476331},{"$f":"Výpočty!AH566","v":57.443164872662898},{"$f":"Výpočty!AI566","v":54.577634265828522},{"$f":"Výpočty!AJ566","v":18.399999999999999},{"$f":"Výpočty!AK566","v":5.8},{"$f":"Výpočty!AL566","v":12.6},{"$f":"Výpočty!AM566","v":18.371758162036819},{"$f":"Výpočty!AN566","v":7.5434498938504584},{"$f":"Výpočty!AO566","v":10.828308268186362},{"$f":"Výpočty!AP566","v":-18.371758162036819},{"$f":"Výpočty!AQ566","v":-7.5434498938504584},{"$f":"Výpočty!AR566","v":-10.828308268186362},{"$f":"Výpočty!AS566","v":101.01023361957134},{"$f":"Výpočty!AT566","v":100.03033770778605}]
[{"$f":"Výpočty!A567","v":2028},{"$f":"Výpočty!B567","v":1240256.3771886055},{"$f":"Výpočty!C567","v":603088.87337080506},{"$f":"Výpočty!D567","v":637167.50381780043},{"$f":"Výpočty!E567","v":1891.8479585053021},{"$f":"Výpočty!F567","v":655.57930890413547},{"$f":"Výpočty!G567","v":219.89466813160956},{"$f":"Výpočty!H567","v":435.68464077252594},{"$f":"Výpočty!I567","v":92.360504479538974},{"$f":"Výpočty!J567","v":27.55481727574751},{"$f":"Výpočty!K567","v":64.805687203791464},{"$f":"Výpočty!L567","v":379.09035040587258},{"$f":"Výpočty!M567","v":115.22817761164504},{"$f":"Výpočty!N567","v":263.86217279422755},{"$f":"Výpočty!O567","v":184.12845401872391},{"$f":"Výpočty!P567","v":77.111673244217073},{"$f":"Výpočty!Q567","v":107.01678077450686},{"$f":"Výpočty!R567","v":19.48076407450024},{"$f":"Výpočty!S567","v":7.0384873650361302},{"$f":"Výpočty!T567","v":12.442276709464108},{"$f":"Výpočty!U567","v":14.088380036570792},{"$f":"Výpočty!V567","v":12.530916511015914},{"$f":"Výpočty!W567","v":14.874448428772356},{"$f":"Výpočty!X567","v":57.825246351895842},{"$f":"Výpočty!Y567","v":52.401533238941298},{"$f":"Výpočty!Z567","v":60.562651996720696},{"$f":"Výpočty!AA567","v":28.086373611533368},{"$f":"Výpočty!AB567","v":35.067550250042814},{"$f":"Výpočty!AC567","v":24.56289957450694},{"$f":"Výpočty!AD567","v":2.9715343071251334},{"$f":"Výpočty!AE567","v":3.2008449430995354},{"$f":"Výpočty!AF567","v":2.8557987923104937},{"$f":"Výpočty!AG567","v":55.51058669530579},{"$f":"Výpočty!AH567","v":57.296314484974609},{"$f":"Výpočty!AI567","v":54.60931090328716},{"$f":"Výpočty!AJ567","v":18.399999999999999},{"$f":"Výpočty!AK567","v":5.8},{"$f":"Výpočty!AL567","v":12.6},{"$f":"Výpočty!AM567","v":18.47079489625408},{"$f":"Výpočty!AN567","v":7.5224058407065595},{"$f":"Výpočty!AO567","v":10.948389055547521},{"$f":"Výpočty!AP567","v":-18.47079489625408},{"$f":"Výpočty!AQ567","v":-7.5224058407065595},{"$f":"Výpočty!AR567","v":-10.948389055547521},{"$f":"Výpočty!AS567","v":100.93256738970979},{"$f":"Výpočty!AT567","v":100.00430810647435}]
[{"$f":"Výpočty!A568","v":2029},{"$f":"Výpočty!B568","v":1250897.4442724828},{"$f":"Výpočty!C568","v":607935.74151036411},{"$f":"Výpočty!D568","v":642961.70276211877},{"$f":"Výpočty!E568","v":1908.2855791213155},{"$f":"Výpočty!F568","v":655.50851400788133},{"$f":"Výpočty!G568","v":218.17226229090301},{"$f":"Výpočty!H568","v":437.33625171697827},{"$f":"Výpočty!I568","v":91.448305805293572},{"$f":"Výpočty!J568","v":28.075083056478405},{"$f":"Výpočty!K568","v":63.373222748815166},{"$f":"Výpočty!L568","v":385.87305795268935},{"$f":"Výpočty!M568","v":117.30917846248099},{"$f":"Výpočty!N568","v":268.56387949020836},{"$f":"Výpočty!O568","v":178.18715024989848},{"$f":"Výpočty!P568","v":72.7880007719437},{"$f":"Výpočty!Q568","v":105.39914947795479},{"$f":"Výpočty!R568","v":21.176837527414669},{"$f":"Výpočty!S568","v":8.2511172124040844},{"$f":"Výpočty!T568","v":12.925720315010587},{"$f":"Výpočty!U568","v":13.950742644998515},{"$f":"Výpočty!V568","v":12.868310004983174},{"$f":"Výpočty!W568","v":14.490731673857917},{"$f":"Výpočty!X568","v":58.866216030269584},{"$f":"Výpočty!Y568","v":53.769061763710901},{"$f":"Výpočty!Z568","v":61.409013873382079},{"$f":"Výpočty!AA568","v":27.183041324731917},{"$f":"Výpočty!AB568","v":33.362628231305962},{"$f":"Výpočty!AC568","v":24.100254452760016},{"$f":"Výpočty!AD568","v":3.2305968686716486},{"$f":"Výpočty!AE568","v":3.7819276959242156},{"$f":"Výpočty!AF568","v":2.9555565687189942},{"$f":"Výpočty!AG568","v":55.464498180784886},{"$f":"Výpočty!AH568","v":57.128531627462408},{"$f":"Výpočty!AI568","v":54.634368183182247},{"$f":"Výpočty!AJ568","v":18.399999999999999},{"$f":"Výpočty!AK568","v":5.8},{"$f":"Výpočty!AL568","v":12.6},{"$f":"Výpočty!AM568","v":18.530545740921593},{"$f":"Výpočty!AN568","v":7.4778364396390256},{"$f":"Výpočty!AO568","v":11.052709301282567},{"$f":"Výpočty!AP568","v":-18.530545740921593},{"$f":"Výpočty!AQ568","v":-7.4778364396390256},{"$f":"Výpočty!AR568","v":-11.052709301282567},{"$f":"Výpočty!AS568","v":100.85797318035151},{"$f":"Výpočty!AT568","v":99.98920116982147}]
[{"$f":"Výpočty!A569","v":2030},{"$f":"Výpočty!B569","v":1261165.2817809191},{"$f":"Výpočty!C569","v":612597.56724945921},{"$f":"Výpočty!D569","v":648567.71453145985},{"$f":"Výpočty!E569","v":1924.3327405647542},{"$f":"Výpočty!F569","v":655.37796826695967},{"$f":"Výpočty!G569","v":216.49442585126394},{"$f":"Výpočty!H569","v":438.88354241569567},{"$f":"Výpočty!I569","v":92.479447654736973},{"$f":"Výpočty!J569","v":28.344850498338868},{"$f":"Výpočty!K569","v":64.134597156398101},{"$f":"Výpočty!L569","v":389.35264432742861},{"$f":"Výpočty!M569","v":116.11061793289713},{"$f":"Výpočty!N569","v":273.24202639453148},{"$f":"Výpočty!O569","v":173.54587628479413},{"$f":"Výpočty!P569","v":72.038957420027998},{"$f":"Výpočty!Q569","v":101.50691886476615},{"$f":"Výpočty!R569","v":21.501315259406201},{"$f":"Výpočty!S569","v":7.9596807934838258},{"$f":"Výpočty!T569","v":13.541634465922376},{"$f":"Výpočty!U569","v":14.110856960798335},{"$f":"Výpočty!V569","v":13.092646790736476},{"$f":"Výpočty!W569","v":14.613124202240416},{"$f":"Výpočty!X569","v":59.408869870467008},{"$f":"Výpočty!Y569","v":53.632151255786823},{"$f":"Výpočty!Z569","v":62.2584353221716},{"$f":"Výpočty!AA569","v":26.480273168734669},{"$f":"Výpočty!AB569","v":33.275201953476724},{"$f":"Výpočty!AC569","v":23.12844047558799},{"$f":"Výpočty!AD569","v":3.2807503914516576},{"$f":"Výpočty!AE569","v":3.676621586069051},{"$f":"Výpočty!AF569","v":3.0854732878309203},{"$f":"Výpočty!AG569","v":55.409589167552276},{"$f":"Výpočty!AH569","v":56.941715475727136},{"$f":"Výpočty!AI569","v":54.653815087726414},{"$f":"Výpočty!AJ569","v":18.399999999999999},{"$f":"Výpočty!AK569","v":5.8},{"$f":"Výpočty!AL569","v":12.6},{"$f":"Výpočty!AM569","v":18.523386723383865},{"$f":"Výpočty!AN569","v":7.3924405033375065},{"$f":"Výpočty!AO569","v":11.13094622004636},{"$f":"Výpočty!AP569","v":-18.523386723383865},{"$f":"Výpočty!AQ569","v":-7.3924405033375065},{"$f":"Výpočty!AR569","v":-11.13094622004636},{"$f":"Výpočty!AS569","v":100.82083767581827},{"$f":"Výpočty!AT569","v":99.980084813830501}]
[{"$f":"Výpočty!A570","v":2031},{"$f":"Výpočty!B570","v":1270530.5666831224},{"$f":"Výpočty!C570","v":616799.14641835773},{"$f":"Výpočty!D570","v":653731.42026476469},{"$f":"Výpočty!E570","v":1938.9876888615536},{"$f":"Výpočty!F570","v":655.2545815435758},{"$f":"Výpočty!G570","v":214.90198534792646},{"$f":"Výpočty!H570","v":440.35259619564937},{"$f":"Výpočty!I570","v":92.77611752294878},{"$f":"Výpočty!J570","v":28.402657807308969},{"$f":"Výpočty!K570","v":64.373459715639811},{"$f":"Výpočty!L570","v":394.7190329283527},{"$f":"Výpočty!M570","v":118.74064076038806},{"$f":"Výpočty!N570","v":275.97839216796461},{"$f":"Výpočty!O570","v":167.75943109227453},{"$f":"Výpočty!P570","v":67.758686780229482},{"$f":"Výpočty!Q570","v":100.00074431204504},{"$f":"Výpočty!R570","v":22.357736821282273},{"$f":"Výpočty!S570","v":8.722522092537039},{"$f":"Výpočty!T570","v":13.635214728745233},{"$f":"Výpočty!U570","v":14.158789596617108},{"$f":"Výpočty!V570","v":13.216563709881529},{"$f":"Výpočty!W570","v":14.618617051831478},{"$f":"Výpočty!X570","v":60.239034422089432},{"$f":"Výpočty!Y570","v":55.25339403828535},{"$f":"Výpočty!Z570","v":62.672139224846759},{"$f":"Výpočty!AA570","v":25.602175981293492},{"$f":"Výpočty!AB570","v":31.530042251833144},{"$f":"Výpočty!AC570","v":22.709243723321787},{"$f":"Výpočty!AD570","v":3.4120687517536172},{"$f":"Výpočty!AE570","v":4.0588373710997923},{"$f":"Výpočty!AF570","v":3.096431097839397},{"$f":"Výpočty!AG570","v":55.348269127420522},{"$f":"Výpočty!AH570","v":56.740882938785532},{"$f":"Výpočty!AI570","v":54.668642220549089},{"$f":"Výpočty!AJ570","v":18.399999999999999},{"$f":"Výpočty!AK570","v":5.8},{"$f":"Výpočty!AL570","v":12.6},{"$f":"Výpočty!AM570","v":18.636751722834557},{"$f":"Výpočty!AN570","v":7.2691387766819364},{"$f":"Výpočty!AO570","v":11.367612946152621},{"$f":"Výpočty!AP570","v":-18.636751722834557},{"$f":"Výpočty!AQ570","v":-7.2691387766819364},{"$f":"Výpočty!AR570","v":-11.367612946152621},{"$f":"Výpočty!AS570","v":100.74258981257228},{"$f":"Výpočty!AT570","v":99.981173196329721}]
[{"$f":"Výpočty!A571","v":2032},{"$f":"Výpočty!B571","v":1279309.1160613208},{"$f":"Výpočty!C571","v":620716.44103740074},{"$f":"Výpočty!D571","v":658592.67502392002},{"$f":"Výpočty!E571","v":1953.0905233700726},{"$f":"Výpočty!F571","v":655.01782982074133},{"$f":"Výpočty!G571","v":213.4328465712446},{"$f":"Výpočty!H571","v":441.5849832494967},{"$f":"Výpočty!I571","v":92.791046432901382},{"$f":"Výpočty!J571","v":28.402657807308969},{"$f":"Výpočty!K571","v":64.388388625592412},{"$f":"Výpočty!L571","v":400.22933879471964},{"$f":"Výpočty!M571","v":122.16593173832531},{"$f":"Výpočty!N571","v":278.06340705639434},{"$f":"Výpočty!O571","v":161.99744459312038},{"$f":"Výpočty!P571","v":62.864257025610321},{"$f":"Výpočty!Q571","v":99.133187567510049},{"$f":"Výpočty!R571","v":23.640473814736836},{"$f":"Výpočty!S571","v":8.4418347499147544},{"$f":"Výpočty!T571","v":15.198639064822084},{"$f":"Výpočty!U571","v":14.166186355308144},{"$f":"Výpočty!V571","v":13.307538302370936},{"$f":"Výpočty!W571","v":14.581199784416762},{"$f":"Výpočty!X571","v":61.102052581416046},{"$f":"Výpočty!Y571","v":57.238580518835889},{"$f":"Výpočty!Z571","v":62.9693983274082},{"$f":"Výpočty!AA571","v":24.731761063275819},{"$f":"Výpočty!AB571","v":29.453881178793175},{"$f":"Výpočty!AC571","v":22.449401888175064},{"$f":"Výpočty!AD571","v":3.6091343988615585},{"$f":"Výpočty!AE571","v":3.9552650332557135},{"$f":"Výpočty!AF571","v":3.4418378435289347},{"$f":"Výpočty!AG571","v":55.271588491692533},{"$f":"Výpočty!AH571","v":56.531287527041243},{"$f":"Výpočty!AI571","v":54.662733659358672},{"$f":"Výpočty!AJ571","v":18.399999999999999},{"$f":"Výpočty!AK571","v":5.8},{"$f":"Výpočty!AL571","v":12.6},{"$f":"Výpočty!AM571","v":18.373179961206752},{"$f":"Výpočty!AN571","v":7.112324371553381},{"$f":"Výpočty!AO571","v":11.260855589653373},{"$f":"Výpočty!AP571","v":-18.373179961206752},{"$f":"Výpočty!AQ571","v":-7.112324371553381},{"$f":"Výpočty!AR571","v":-11.260855589653373},{"$f":"Výpočty!AS571","v":100.69093570893897},{"$f":"Výpočty!AT571","v":99.963868742088493}]
[{"$f":"Výpočty!A572","v":2033},{"$f":"Výpočty!B572","v":1287531.473908898},{"$f":"Výpočty!C572","v":624372.81565787806},{"$f":"Výpočty!D572","v":663158.65825102001},{"$f":"Výpočty!E572","v":1965.5629187796462},{"$f":"Výpočty!F572","v":655.0446498595345},{"$f":"Výpočty!G572","v":212.12052219969121},{"$f":"Výpočty!H572","v":442.92412765984329},{"$f":"Výpočty!I572","v":92.791046432901382},{"$f":"Výpočty!J572","v":28.402657807308969},{"$f":"Výpočty!K572","v":64.388388625592412},{"$f":"Výpočty!L572","v":406.93903622097059},{"$f":"Výpočty!M572","v":124.56472578684783},{"$f":"Výpočty!N572","v":282.37431043412278},{"$f":"Výpočty!O572","v":155.31456720566257},{"$f":"Výpočty!P572","v":59.153138605534416},{"$f":"Výpočty!Q572","v":96.161428600128161},{"$f":"Výpočty!R572","v":26.172701194760869},{"$f":"Výpočty!S572","v":10.211381048852068},{"$f":"Výpočty!T572","v":15.961320145908799},{"$f":"Výpočty!U572","v":14.165606337338863},{"$f":"Výpočty!V572","v":13.38986794524793},{"$f":"Výpočty!W572","v":14.537114734702685},{"$f":"Výpočty!X572","v":62.12386229064434},{"$f":"Výpočty!Y572","v":58.7235617257165},{"$f":"Výpočty!Z572","v":63.752298147772265},{"$f":"Výpočty!AA572","v":23.710531372016806},{"$f":"Výpočty!AB572","v":27.886570329035575},{"$f":"Výpočty!AC572","v":21.710587117525055},{"$f":"Výpočty!AD572","v":3.9955598752502217},{"$f":"Výpočty!AE572","v":4.8139524374916576},{"$f":"Výpočty!AF572","v":3.6036239954321854},{"$f":"Výpočty!AG572","v":55.201850088734624},{"$f":"Výpočty!AH572","v":56.319334685922819},{"$f":"Výpočty!AI572","v":54.666676225982833},{"$f":"Výpočty!AJ572","v":18.399999999999999},{"$f":"Výpočty!AK572","v":5.8},{"$f":"Výpočty!AL572","v":12.6},{"$f":"Výpočty!AM572","v":18.199463791863543},{"$f":"Výpočty!AN572","v":6.933826737161465},{"$f":"Výpočty!AO572","v":11.265637054702077},{"$f":"Výpočty!AP572","v":-18.199463791863543},{"$f":"Výpočty!AQ572","v":-6.933826737161465},{"$f":"Výpočty!AR572","v":-11.265637054702077},{"$f":"Výpočty!AS572","v":100.64271861619277},{"$f":"Výpočty!AT572","v":100.00409455095298}]
[{"$f":"Výpočty!A573","v":2034},{"$f":"Výpočty!B573","v":1295217.5470118346},{"$f":"Výpočty!C573","v":627779.77196102182},{"$f":"Výpočty!D573","v":667437.77505081263},{"$f":"Výpočty!E573","v":1976.6914348273735},{"$f":"Výpočty!F573","v":655.24518606767128},{"$f":"Výpočty!G573","v":210.98669546252984},{"$f":"Výpočty!H573","v":444.25849060514139},{"$f":"Výpočty!I573","v":92.791046432901382},{"$f":"Výpočty!J573","v":28.402657807308969},{"$f":"Výpočty!K573","v":64.388388625592412},{"$f":"Výpočty!L573","v":405.41290877527734},{"$f":"Výpočty!M573","v":124.99660215123261},{"$f":"Výpočty!N573","v":280.41630662404475},{"$f":"Výpočty!O573","v":157.04123085949226},{"$f":"Výpočty!P573","v":57.587435503988168},{"$f":"Výpočty!Q573","v":99.453795355504099},{"$f":"Výpočty!R573","v":27.63347600320688},{"$f":"Výpočty!S573","v":10.302830788872601},{"$f":"Výpočty!T573","v":17.330645214334279},{"$f":"Výpočty!U573","v":14.161270987699904},{"$f":"Výpočty!V573","v":13.461824095137381},{"$f":"Výpočty!W573","v":14.49345144487538},{"$f":"Výpočty!X573","v":61.871940060832095},{"$f":"Výpočty!Y573","v":59.243831407099968},{"$f":"Výpočty!Z573","v":63.120078187381189},{"$f":"Výpočty!AA573","v":23.966788951467951},{"$f":"Výpočty!AB573","v":27.294344497762612},{"$f":"Výpočty!AC573","v":22.386470367743406},{"$f":"Výpočty!AD573","v":4.2172726470596302},{"$f":"Výpočty!AE573","v":4.8831661002540949},{"$f":"Výpočty!AF573","v":3.9010273480035345},{"$f":"Výpočty!AG573","v":55.134244159600605},{"$f":"Výpočty!AH573","v":56.110169471943493},{"$f":"Výpočty!AI573","v":54.670758911656335},{"$f":"Výpočty!AJ573","v":18.399999999999999},{"$f":"Výpočty!AK573","v":5.8},{"$f":"Výpočty!AL573","v":12.6},{"$f":"Výpočty!AM573","v":18.062378870526764},{"$f":"Výpočty!AN573","v":6.7335546803221886},{"$f":"Výpočty!AO573","v":11.328824190204577},{"$f":"Výpočty!AP573","v":-18.062378870526764},{"$f":"Výpočty!AQ573","v":-6.7335546803221886},{"$f":"Výpočty!AR573","v":-11.328824190204577},{"$f":"Výpočty!AS573","v":100.59696195849892},{"$f":"Výpočty!AT573","v":100.03061412808727}]
[{"$f":"Výpočty!A574","v":2035},{"$f":"Výpočty!B574","v":1302369.4646044087},{"$f":"Výpočty!C574","v":630936.22249790817},{"$f":"Výpočty!D574","v":671433.24210650055},{"$f":"Výpočty!E574","v":1986.5827021494254},{"$f":"Výpočty!F574","v":655.58280719714435},{"$f":"Výpočty!G574","v":210.05314078220761},{"$f":"Výpočty!H574","v":445.52966641493674},{"$f":"Výpočty!I574","v":92.791046432901382},{"$f":"Výpočty!J574","v":28.402657807308969},{"$f":"Výpočty!K574","v":64.388388625592412},{"$f":"Výpočty!L574","v":411.40990194441565},{"$f":"Výpočty!M574","v":126.11998677204291},{"$f":"Výpočty!N574","v":285.28991517237273},{"$f":"Výpočty!O574","v":151.38185881982724},{"$f":"Výpočty!P574","v":55.530496202855666},{"$f":"Výpočty!Q574","v":95.851362616971585},{"$f":"Výpočty!R574","v":30.208828164434603},{"$f":"Výpočty!S574","v":10.29732780183949},{"$f":"Výpočty!T574","v":19.911500362595113},{"$f":"Výpočty!U574","v":14.15397801989606},{"$f":"Výpočty!V574","v":13.521653473755055},{"$f":"Výpočty!W574","v":14.452099036122398},{"$f":"Výpočty!X574","v":62.754833932168395},{"$f":"Výpočty!Y574","v":60.041942863786879},{"$f":"Výpočty!Z574","v":64.033876232760818},{"$f":"Výpočty!AA574","v":23.091188047935532},{"$f":"Výpočty!AB574","v":26.436403662458037},{"$f":"Výpočty!AC574","v":21.51402473111678},{"$f":"Výpočty!AD574","v":4.6079347769335754},{"$f":"Výpočty!AE574","v":4.9022489087731449},{"$f":"Výpočty!AF574","v":4.4691749761172721},{"$f":"Výpočty!AG574","v":55.066814885749409},{"$f":"Výpočty!AH574","v":55.909759295622898},{"$f":"Výpočty!AI574","v":54.669393267962434},{"$f":"Výpočty!AJ574","v":18.399999999999999},{"$f":"Výpočty!AK574","v":5.8},{"$f":"Výpočty!AL574","v":12.6},{"$f":"Výpočty!AM574","v":17.816283021228848},{"$f":"Výpočty!AN574","v":6.5185324722413824},{"$f":"Výpočty!AO574","v":11.297750548987466},{"$f":"Výpočty!AP574","v":-17.816283021228848},{"$f":"Výpočty!AQ574","v":-6.5185324722413824},{"$f":"Výpočty!AR574","v":-11.297750548987466},{"$f":"Výpočty!AS574","v":100.55217886825841},{"$f":"Výpočty!AT574","v":100.05152592291434}]
[{"$f":"Výpočty!A575","v":2036},{"$f":"Výpočty!B575","v":1309023.3550208751},{"$f":"Výpočty!C575","v":633860.64584341529},{"$f":"Výpočty!D575","v":675162.70917745971},{"$f":"Výpočty!E575","v":1994.9560161803247},{"$f":"Výpočty!F575","v":656.16652417591547},{"$f":"Výpočty!G575","v":209.33460830996614},{"$f":"Výpočty!H575","v":446.83191586594933},{"$f":"Výpočty!I575","v":92.791046432901382},{"$f":"Výpočty!J575","v":28.402657807308969},{"$f":"Výpočty!K575","v":64.388388625592412},{"$f":"Výpočty!L575","v":413.49454854726127},{"$f":"Výpočty!M575","v":128.9113338291892},{"$f":"Výpočty!N575","v":284.5832147180721},{"$f":"Výpočty!O575","v":149.88092919575274},{"$f":"Výpočty!P575","v":52.020616673467956},{"$f":"Výpočty!Q575","v":97.860312522284786},{"$f":"Výpočty!R575","v":32.47507362966892},{"$f":"Výpočty!S575","v":11.452319973231219},{"$f":"Výpočty!T575","v":21.0227536564377},{"$f":"Výpočty!U575","v":14.141386830033484},{"$f":"Výpočty!V575","v":13.568065995686943},{"$f":"Výpočty!W575","v":14.409979757334318},{"$f":"Výpočty!X575","v":63.016708916470897},{"$f":"Výpočty!Y575","v":61.581472299270978},{"$f":"Výpočty!Z575","v":63.689097536051506},{"$f":"Výpočty!AA575","v":22.84190425349561},{"$f":"Výpočty!AB575","v":24.850461705042072},{"$f":"Výpočty!AC575","v":21.900922706614161},{"$f":"Výpočty!AD575","v":4.9492121943365843},{"$f":"Výpočty!AE575","v":5.470820169531418},{"$f":"Výpočty!AF575","v":4.7048460304578104},{"$f":"Výpočty!AG575","v":55.00650125994477},{"$f":"Výpočty!AH575","v":55.722961765089117},{"$f":"Výpočty!AI575","v":54.670849365152698},{"$f":"Výpočty!AJ575","v":18.399999999999999},{"$f":"Výpočty!AK575","v":5.8},{"$f":"Výpočty!AL575","v":12.6},{"$f":"Výpočty!AM575","v":17.670914515497767},{"$f":"Výpočty!AN575","v":6.2901850165961433},{"$f":"Výpočty!AO575","v":11.380729498901625},{"$f":"Výpočty!AP575","v":-17.670914515497767},{"$f":"Výpočty!AQ575","v":-6.2901850165961433},{"$f":"Výpočty!AR575","v":-11.380729498901625},{"$f":"Výpočty!AS575","v":100.51090651288324},{"$f":"Výpočty!AT575","v":100.08903787170178}]
[{"$f":"Výpočty!A576","v":2037},{"$f":"Výpočty!B576","v":1315196.0683786003},{"$f":"Výpočty!C576","v":636560.91332957451},{"$f":"Výpočty!D576","v":678635.15504902578},{"$f":"Výpočty!E576","v":2002.1386184305466},{"$f":"Výpočty!F576","v":656.89560966041768},{"$f":"Výpočty!G576","v":208.84442329336997},{"$f":"Výpočty!H576","v":448.05118636704765},{"$f":"Výpočty!I576","v":92.791046432901382},{"$f":"Výpočty!J576","v":28.402657807308969},{"$f":"Výpočty!K576","v":64.388388625592412},{"$f":"Výpočty!L576","v":411.63176032153604},{"$f":"Výpočty!M576","v":127.1341000300657},{"$f":"Výpočty!N576","v":284.49766029147031},{"$f":"Výpočty!O576","v":152.47280290598036},{"$f":"Výpočty!P576","v":53.307665455995348},{"$f":"Výpočty!Q576","v":99.165137449984996},{"$f":"Výpočty!R576","v":32.427926042450054},{"$f":"Výpočty!S576","v":10.651322721316516},{"$f":"Výpočty!T576","v":21.776603321133535},{"$f":"Výpočty!U576","v":14.125691368354515},{"$f":"Výpočty!V576","v":13.599912010775078},{"$f":"Výpočty!W576","v":14.370766239383384},{"$f":"Výpočty!X576","v":62.663192487209521},{"$f":"Výpočty!Y576","v":60.875027460741258},{"$f":"Výpočty!Z576","v":63.496687197343391},{"$f":"Výpočty!AA576","v":23.211116144435977},{"$f":"Výpočty!AB576","v":25.525060528483678},{"$f":"Výpočty!AC576","v":22.132546563273241},{"$f":"Výpočty!AD576","v":4.936541752686348},{"$f":"Výpočty!AE576","v":5.1001231219635139},{"$f":"Výpočty!AF576","v":4.8602936413818441},{"$f":"Výpočty!AG576","v":54.948164960000724},{"$f":"Výpočty!AH576","v":55.55493273021478},{"$f":"Výpočty!AI576","v":54.665339986205133},{"$f":"Výpočty!AJ576","v":18.399999999999999},{"$f":"Výpočty!AK576","v":5.8},{"$f":"Výpočty!AL576","v":12.6},{"$f":"Výpočty!AM576","v":17.3494854453551},{"$f":"Výpočty!AN576","v":6.0622026500295068},{"$f":"Výpočty!AO576","v":11.287282795325595},{"$f":"Výpočty!AP576","v":-17.3494854453551},{"$f":"Výpočty!AQ576","v":-6.0622026500295068},{"$f":"Výpočty!AR576","v":-11.287282795325595},{"$f":"Výpočty!AS576","v":100.47155104865388},{"$f":"Výpočty!AT576","v":100.1111128741927}]
[{"$f":"Výpočty!A577","v":2038},{"$f":"Výpočty!B577","v":1320905.8971464243},{"$f":"Výpočty!C577","v":639042.53646122129},{"$f":"Výpočty!D577","v":681863.36068520311},{"$f":"Výpočty!E577","v":2007.6201508478835},{"$f":"Výpočty!F577","v":657.94612421506258},{"$f":"Výpočty!G577","v":208.58222064334041},{"$f":"Výpočty!H577","v":449.36390357172212},{"$f":"Výpočty!I577","v":92.791046432901382},{"$f":"Výpočty!J577","v":28.402657807308969},{"$f":"Výpočty!K577","v":64.388388625592412},{"$f":"Výpočty!L577","v":409.04617490555341},{"$f":"Výpočty!M577","v":127.04267996542336},{"$f":"Výpočty!N577","v":282.00349494013005},{"$f":"Výpočty!O577","v":156.1089028766078},{"$f":"Výpočty!P577","v":53.136882870608183},{"$f":"Výpočty!Q577","v":102.97202000599962},{"$f":"Výpočty!R577","v":32.586137207318458},{"$f":"Výpočty!S577","v":9.9407219510591016},{"$f":"Výpočty!T577","v":22.645415256259358},{"$f":"Výpočty!U577","v":14.103137478559082},{"$f":"Výpočty!V577","v":13.617008065071538},{"$f":"Výpočty!W577","v":14.328785225917798},{"$f":"Výpočty!X577","v":62.170162548422979},{"$f":"Výpočty!Y577","v":60.907722419283573},{"$f":"Výpočty!Z577","v":62.756152129411078},{"$f":"Výpočty!AA577","v":23.726699973017933},{"$f":"Výpočty!AB577","v":25.47526951564495},{"$f":"Výpočty!AC577","v":22.915062644671114},{"$f":"Výpočty!AD577","v":4.9527060055554095},{"$f":"Výpočty!AE577","v":4.7658529669491694},{"$f":"Výpočty!AF577","v":5.0394379869554795},{"$f":"Výpočty!AG577","v":54.90436440426982},{"$f":"Výpočty!AH577","v":55.408905732758818},{"$f":"Výpočty!AI577","v":54.670170358272586},{"$f":"Výpočty!AJ577","v":18.399999999999999},{"$f":"Výpočty!AK577","v":5.8},{"$f":"Výpočty!AL577","v":12.6},{"$f":"Výpočty!AM577","v":17.257095263767305},{"$f":"Výpočty!AN577","v":5.838140977266864},{"$f":"Výpočty!AO577","v":11.418954286500439},{"$f":"Výpočty!AP577","v":-17.257095263767305},{"$f":"Výpočty!AQ577","v":-5.838140977266864},{"$f":"Výpočty!AR577","v":-11.418954286500439},{"$f":"Výpočty!AS577","v":100.43414277955249},{"$f":"Výpočty!AT577","v":100.1599210801832}]
[{"$f":"Výpočty!A578","v":2039},{"$f":"Výpočty!B578","v":1326167.2649639193},{"$f":"Výpočty!C578","v":641308.38063156989},{"$f":"Výpočty!D578","v":684858.88433234952},{"$f":"Výpočty!E578","v":2012.1215901196852},{"$f":"Výpočty!F578","v":659.08902895129518},{"$f":"Výpočty!G578","v":208.54407966607357},{"$f":"Výpočty!H578","v":450.54494928522161},{"$f":"Výpočty!I578","v":92.791046432901382},{"$f":"Výpočty!J578","v":28.402657807308969},{"$f":"Výpočty!K578","v":64.388388625592412},{"$f":"Výpočty!L578","v":411.30538539064878},{"$f":"Výpočty!M578","v":129.591182032105},{"$f":"Výpočty!N578","v":281.71420335854378},{"$f":"Výpočty!O578","v":154.99259712774511},{"$f":"Výpočty!P578","v":50.550239826659691},{"$f":"Výpočty!Q578","v":104.44235730108542},{"$f":"Výpočty!R578","v":30.400152076492425},{"$f":"Výpočty!S578","v":9.5689766650255006},{"$f":"Výpočty!T578","v":20.831175411466923},{"$f":"Výpočty!U578","v":14.078681688958653},{"$f":"Výpočty!V578","v":13.619498502565058},{"$f":"Výpočty!W578","v":14.291224155934495},{"$f":"Výpočty!X578","v":62.405133043269501},{"$f":"Výpočty!Y578","v":62.140906728021193},{"$f":"Výpočty!Z578","v":62.527435676612598},{"$f":"Výpočty!AA578","v":23.516185267771863},{"$f":"Výpočty!AB578","v":24.239594769413788},{"$f":"Výpočty!AC578","v":23.181340167452909},{"$f":"Výpočty!AD578","v":4.6124500243712765},{"$f":"Výpočty!AE578","v":4.5884671865763851},{"$f":"Výpočty!AF578","v":4.6235509785461062},{"$f":"Výpočty!AG578","v":54.863245586050645},{"$f":"Výpočty!AH578","v":55.287845346073027},{"$f":"Výpočty!AI578","v":54.666710775659887},{"$f":"Výpočty!AJ578","v":18.399999999999999},{"$f":"Výpočty!AK578","v":5.8},{"$f":"Výpočty!AL578","v":12.6},{"$f":"Výpočty!AM578","v":16.901097539638744},{"$f":"Výpočty!AN578","v":5.6310664624739069},{"$f":"Výpočty!AO578","v":11.270031077164838},{"$f":"Výpočty!AP578","v":-16.901097539638744},{"$f":"Výpočty!AQ578","v":-5.6310664624739069},{"$f":"Výpočty!AR578","v":-11.270031077164838},{"$f":"Výpočty!AS578","v":100.39831511304939},{"$f":"Výpočty!AT578","v":100.17370795178648}]
[{"$f":"Výpočty!A579","v":2040},{"$f":"Výpočty!B579","v":1331017.0130222763},{"$f":"Výpočty!C579","v":643382.50028445479},{"$f":"Výpočty!D579","v":687634.51273782155},{"$f":"Výpočty!E579","v":2014.8975628088347},{"$f":"Výpočty!F579","v":660.58793141165654},{"$f":"Výpočty!G579","v":208.71301320359973},{"$f":"Výpočty!H579","v":451.87491820805684},{"$f":"Výpočty!I579","v":92.791046432901382},{"$f":"Výpočty!J579","v":28.402657807308969},{"$f":"Výpočty!K579","v":64.388388625592412},{"$f":"Výpočty!L579","v":410.3630180618045},{"$f":"Výpočty!M579","v":129.24915589346901},{"$f":"Výpočty!N579","v":281.11386216833546},{"$f":"Výpočty!O579","v":157.43386691695071},{"$f":"Výpočty!P579","v":51.061199502821808},{"$f":"Výpočty!Q579","v":106.37266741412888},{"$f":"Výpočty!R579","v":30.177530080963493},{"$f":"Výpočty!S579","v":8.066418295688786},{"$f":"Výpočty!T579","v":22.111111785274709},{"$f":"Výpočty!U579","v":14.046736553998148},{"$f":"Výpočty!V579","v":13.608474800563657},{"$f":"Výpočty!W579","v":14.249161887747452},{"$f":"Výpočty!X579","v":62.120877259272824},{"$f":"Výpočty!Y579","v":61.92673562112121},{"$f":"Výpočty!Z579","v":62.21054783990072},{"$f":"Výpočty!AA579","v":23.832386186729035},{"$f":"Výpočty!AB579","v":24.464789578315159},{"$f":"Výpočty!AC579","v":23.540290272351804},{"$f":"Výpočty!AD579","v":4.5682835919322686},{"$f":"Výpočty!AE579","v":3.8648372575695547},{"$f":"Výpočty!AF579","v":4.8931929820220921},{"$f":"Výpočty!AG579","v":54.843315278795373},{"$f":"Výpočty!AH579","v":55.192891181615714},{"$f":"Výpočty!AI579","v":54.681852367088894},{"$f":"Výpočty!AJ579","v":18.399999999999999},{"$f":"Výpočty!AK579","v":5.8},{"$f":"Výpočty!AL579","v":12.6},{"$f":"Výpočty!AM579","v":16.81663572609602},{"$f":"Výpočty!AN579","v":5.4414115598496497},{"$f":"Výpočty!AO579","v":11.375224166246371},{"$f":"Výpočty!AP579","v":-16.81663572609602},{"$f":"Výpočty!AQ579","v":-5.4414115598496497},{"$f":"Výpočty!AR579","v":-11.375224166246371},{"$f":"Výpočty!AS579","v":100.3656965592865},{"$f":"Výpočty!AT579","v":100.2274203323861}]
[{"$f":"Výpočty!A580","v":2041},{"$f":"Výpočty!B580","v":1335479.4701326061},{"$f":"Výpočty!C580","v":645268.9832387917},{"$f":"Výpočty!D580","v":690210.48689381429},{"$f":"Výpočty!E580","v":2016.818727773385},{"$f":"Výpočty!F580","v":662.17129568556049},{"$f":"Výpočty!G580","v":209.07160164375003},{"$f":"Výpočty!H580","v":453.09969404181044},{"$f":"Výpočty!I580","v":92.791046432901382},{"$f":"Výpočty!J580","v":28.402657807308969},{"$f":"Výpočty!K580","v":64.388388625592412},{"$f":"Výpočty!L580","v":414.45833388246399},{"$f":"Výpočty!M580","v":129.69917562639688},{"$f":"Výpočty!N580","v":284.75915825606711},{"$f":"Výpočty!O580","v":154.92191537019514},{"$f":"Výpočty!P580","v":50.969768210044251},{"$f":"Výpočty!Q580","v":103.95214716015089},{"$f":"Výpočty!R580","v":28.349411701873052},{"$f":"Výpočty!S580","v":7.3013454864918765},{"$f":"Výpočty!T580","v":21.048066215381176},{"$f":"Výpočty!U580","v":14.013148416050377},{"$f":"Výpočty!V580","v":13.585134271705638},{"$f":"Výpočty!W580","v":14.210644913755091},{"$f":"Výpočty!X580","v":62.590803404331531},{"$f":"Výpočty!Y580","v":62.035768897680946},{"$f":"Výpočty!Z580","v":62.846910293828309},{"$f":"Výpočty!AA580","v":23.396048179618095},{"$f":"Výpočty!AB580","v":24.379096830613456},{"$f":"Výpočty!AC580","v":22.942444792416598},{"$f":"Výpočty!AD580","v":4.2812806726275081},{"$f":"Výpočty!AE580","v":3.492270317483428},{"$f":"Výpočty!AF580","v":4.6453499069100967},{"$f":"Výpočty!AG580","v":54.829372894165786},{"$f":"Výpočty!AH580","v":55.124364862466173},{"$f":"Výpočty!AI580","v":54.693256176155117},{"$f":"Výpočty!AJ580","v":18.399999999999999},{"$f":"Výpočty!AK580","v":5.8},{"$f":"Výpočty!AL580","v":12.6},{"$f":"Výpočty!AM580","v":16.698037093122661},{"$f":"Výpočty!AN580","v":5.2738539876379713},{"$f":"Výpočty!AO580","v":11.424183105484689},{"$f":"Výpočty!AP580","v":-16.698037093122661},{"$f":"Výpočty!AQ580","v":-5.2738539876379713},{"$f":"Výpočty!AR580","v":-11.424183105484689},{"$f":"Výpočty!AS580","v":100.33526672211327},{"$f":"Výpočty!AT580","v":100.23969016063015}]
[{"$f":"Výpočty!A581","v":2042},{"$f":"Výpočty!B581","v":1339802.8767935117},{"$f":"Výpočty!C581","v":647094.88275434601},{"$f":"Výpočty!D581","v":692707.99403916555},{"$f":"Výpočty!E581","v":2018.1606345075536},{"$f":"Výpočty!F581","v":663.87325859243788},{"$f":"Výpočty!G581","v":209.59774765611215},{"$f":"Výpočty!H581","v":454.27551093632576},{"$f":"Výpočty!I581","v":92.791046432901382},{"$f":"Výpočty!J581","v":28.402657807308969},{"$f":"Výpočty!K581","v":64.388388625592412},{"$f":"Výpočty!L581","v":417.82678823338688},{"$f":"Výpočty!M581","v":129.87524834705451},{"$f":"Výpočty!N581","v":287.95153988633234},{"$f":"Výpočty!O581","v":153.2554239261496},{"$f":"Výpočty!P581","v":51.319841501748627},{"$f":"Výpočty!Q581","v":101.93558242440096},{"$f":"Výpočty!R581","v":26.280646233674528},{"$f":"Výpočty!S581","v":6.6849423796740721},{"$f":"Výpočty!T581","v":19.595703854000455},{"$f":"Výpočty!U581","v":13.977223096715703},{"$f":"Výpočty!V581","v":13.551031976693434},{"$f":"Výpočty!W581","v":14.173863013852294},{"$f":"Výpočty!X581","v":62.937734398170306},{"$f":"Výpočty!Y581","v":61.964047705389156},{"$f":"Výpočty!Z581","v":63.386982778980027},{"$f":"Výpočty!AA581","v":23.085042505113989},{"$f":"Výpočty!AB581","v":24.484920317917393},{"$f":"Výpočty!AC581","v":22.439154207167668},{"$f":"Výpočty!AD581","v":3.9586842659388735},{"$f":"Výpočty!AE581","v":3.1894151795190484},{"$f":"Výpočty!AF581","v":4.313616600994175},{"$f":"Výpočty!AG581","v":54.824686986906244},{"$f":"Výpočty!AH581","v":55.081692613189844},{"$f":"Výpočty!AI581","v":54.706107404456453},{"$f":"Výpočty!AJ581","v":18.399999999999999},{"$f":"Výpočty!AK581","v":5.8},{"$f":"Výpočty!AL581","v":12.6},{"$f":"Výpočty!AM581","v":16.574504659746779},{"$f":"Výpočty!AN581","v":5.1373865502702856},{"$f":"Výpočty!AO581","v":11.437118109476495},{"$f":"Výpočty!AP581","v":-16.574504659746779},{"$f":"Výpočty!AQ581","v":-5.1373865502702856},{"$f":"Výpočty!AR581","v":-11.437118109476495},{"$f":"Výpočty!AS581","v":100.3237344158107},{"$f":"Výpočty!AT581","v":100.25702758756935}]
[{"$f":"Výpočty!A582","v":2043},{"$f":"Výpočty!B582","v":1344022.5394584269},{"$f":"Výpočty!C582","v":648872.85414023104},{"$f":"Výpočty!D582","v":695149.68531819584},{"$f":"Výpočty!E582","v":2018.96508220642},{"$f":"Výpočty!F582","v":665.69875393269103},{"$f":"Výpočty!G582","v":210.26036110584178},{"$f":"Výpočty!H582","v":455.43839282684922},{"$f":"Výpočty!I582","v":92.791046432901382},{"$f":"Výpočty!J582","v":28.402657807308969},{"$f":"Výpočty!K582","v":64.388388625592412},{"$f":"Výpočty!L582","v":424.51546911845418},{"$f":"Výpočty!M582","v":131.68413466233676},{"$f":"Výpočty!N582","v":292.83133445611742},{"$f":"Výpočty!O582","v":148.3922383813354},{"$f":"Výpočty!P582","v":50.173568636196094},{"$f":"Výpočty!Q582","v":98.218669745139323},{"$f":"Výpočty!R582","v":24.781769542307895},{"$f":"Výpočty!S582","v":6.2489953179341962},{"$f":"Výpočty!T582","v":18.5327742243737},{"$f":"Výpočty!U582","v":13.938894415037991},{"$f":"Výpočty!V582","v":13.508327322338953},{"$f":"Výpočty!W582","v":14.137672545773256},{"$f":"Výpočty!X582","v":63.769905923750173},{"$f":"Výpočty!Y582","v":62.629082329050611},{"$f":"Výpočty!Z582","v":64.296585239235085},{"$f":"Výpočty!AA582","v":22.291199661211831},{"$f":"Výpočty!AB582","v":23.862590348610457},{"$f":"Výpočty!AC582","v":21.565742214991648},{"$f":"Výpočty!AD582","v":3.7226702612716003},{"$f":"Výpočty!AE582","v":2.9720272927661098},{"$f":"Výpočty!AF582","v":4.0692164991499915},{"$f":"Výpočty!AG582","v":54.830974198666446},{"$f":"Výpočty!AH582","v":55.063064002938809},{"$f":"Výpočty!AI582","v":54.723826257641079},{"$f":"Výpočty!AJ582","v":18.399999999999999},{"$f":"Výpočty!AK582","v":5.8},{"$f":"Výpočty!AL582","v":12.6},{"$f":"Výpočty!AM582","v":16.495362024963761},{"$f":"Výpočty!AN582","v":5.0321139943772888},{"$f":"Výpočty!AO582","v":11.46324803058647},{"$f":"Výpočty!AP582","v":-16.495362024963761},{"$f":"Výpočty!AQ582","v":-5.0321139943772888},{"$f":"Výpočty!AR582","v":-11.46324803058647},{"$f":"Výpočty!AS582","v":100.31494652967264},{"$f":"Výpočty!AT582","v":100.27497648333113}]
[{"$f":"Výpočty!A583","v":2044},{"$f":"Výpočty!B583","v":1348175.9129255733},{"$f":"Výpočty!C583","v":650617.6264220489},{"$f":"Výpočty!D583","v":697558.2865035244},{"$f":"Výpočty!E583","v":2019.4263978693373},{"$f":"Výpočty!F583","v":667.60339190772731},{"$f":"Výpočty!G583","v":211.02824711146462},{"$f":"Výpočty!H583","v":456.57514479626269},{"$f":"Výpočty!I583","v":92.791046432901382},{"$f":"Výpočty!J583","v":28.402657807308969},{"$f":"Výpočty!K583","v":64.388388625592412},{"$f":"Výpočty!L583","v":426.53436996318112},{"$f":"Výpočty!M583","v":134.18168348473003},{"$f":"Výpočty!N583","v":292.35268647845112},{"$f":"Výpočty!O583","v":148.27797551164468},{"$f":"Výpočty!P583","v":48.443905819425524},{"$f":"Výpočty!Q583","v":99.83406969221916},{"$f":"Výpočty!R583","v":23.315467812343023},{"$f":"Výpočty!S583","v":5.45683663586665},{"$f":"Výpočty!T583","v":17.858631176476372},{"$f":"Výpočty!U583","v":13.899127469640909},{"$f":"Výpočty!V583","v":13.459173450039014},{"$f":"Výpočty!W583","v":14.102473461257819},{"$f":"Výpočty!X583","v":63.890383891598688},{"$f":"Výpočty!Y583","v":63.584702674355995},{"$f":"Výpočty!Z583","v":64.031669224768578},{"$f":"Výpočty!AA583","v":22.210488638760374},{"$f":"Výpočty!AB583","v":22.956123875604941},{"$f":"Výpočty!AC583","v":21.865857313973599},{"$f":"Výpočty!AD583","v":3.4924130247027811},{"$f":"Výpočty!AE583","v":2.5858323284012124},{"$f":"Výpočty!AF583","v":3.9114330641991955},{"$f":"Výpočty!AG583","v":54.846850049300357},{"$f":"Výpočty!AH583","v":55.065830498093426},{"$f":"Výpočty!AI583","v":54.745637662276756},{"$f":"Výpočty!AJ583","v":18.399999999999999},{"$f":"Výpočty!AK583","v":5.8},{"$f":"Výpočty!AL583","v":12.6},{"$f":"Výpočty!AM583","v":16.481800870834618},{"$f":"Výpočty!AN583","v":4.9547199855528579},{"$f":"Výpočty!AO583","v":11.527080885281761},{"$f":"Výpočty!AP583","v":-16.481800870834618},{"$f":"Výpočty!AQ583","v":-4.9547199855528579},{"$f":"Výpočty!AR583","v":-11.527080885281761},{"$f":"Výpočty!AS583","v":100.30902558143258},{"$f":"Výpočty!AT583","v":100.28611109210952}]
[{"$f":"Výpočty!A584","v":2045},{"$f":"Výpočty!B584","v":1352292.1860547955},{"$f":"Výpočty!C584","v":652345.5944372646},{"$f":"Výpočty!D584","v":699946.59161753079},{"$f":"Výpočty!E584","v":2019.7887628395843},{"$f":"Výpočty!F584","v":669.52159103689269},{"$f":"Výpočty!G584","v":211.87352712591166},{"$f":"Výpočty!H584","v":457.64806391098102},{"$f":"Výpočty!I584","v":92.791046432901382},{"$f":"Výpočty!J584","v":28.402657807308969},{"$f":"Výpočty!K584","v":64.388388625592412},{"$f":"Výpočty!L584","v":429.37718956794333},{"$f":"Výpočty!M584","v":135.53780130997458},{"$f":"Výpočty!N584","v":293.83938825796872},{"$f":"Výpočty!O584","v":147.35335503604804},{"$f":"Výpočty!P584","v":47.933068008628133},{"$f":"Výpočty!Q584","v":99.420287027419917},{"$f":"Výpočty!R584","v":22.35041847555766},{"$f":"Výpočty!S584","v":5.774134197670767},{"$f":"Výpočty!T584","v":16.576284277886895},{"$f":"Výpočty!U584","v":13.859306059001808},{"$f":"Výpočty!V584","v":13.405477405598628},{"$f":"Výpočty!W584","v":14.069411345333879},{"$f":"Výpočty!X584","v":64.131940674678461},{"$f":"Výpočty!Y584","v":63.97108838870065},{"$f":"Výpočty!Z584","v":64.206409122955364},{"$f":"Výpočty!AA584","v":22.008753266319744},{"$f":"Výpočty!AB584","v":22.62343420570074},{"$f":"Výpočty!AC584","v":21.72417953171076},{"$f":"Výpočty!AD584","v":3.3382670215225492},{"$f":"Výpočty!AE584","v":2.7252740236109485},{"$f":"Výpočty!AF584","v":3.622059303873995},{"$f":"Výpočty!AG584","v":54.869144794094126},{"$f":"Výpočty!AH584","v":55.087404029049253},{"$f":"Výpočty!AI584","v":54.7680991269442},{"$f":"Výpočty!AJ584","v":18.399999999999999},{"$f":"Výpočty!AK584","v":5.8},{"$f":"Výpočty!AL584","v":12.6},{"$f":"Výpočty!AM584","v":16.444671972351784},{"$f":"Výpočty!AN584","v":4.9129082216028142},{"$f":"Výpočty!AO584","v":11.53176375074897},{"$f":"Výpočty!AP584","v":-16.444671972351784},{"$f":"Výpočty!AQ584","v":-4.9129082216028142},{"$f":"Výpočty!AR584","v":-11.53176375074897},{"$f":"Výpočty!AS584","v":100.30532166386877},{"$f":"Výpočty!AT584","v":100.28732615088786}]
[{"$f":"Výpočty!A585","v":2046},{"$f":"Výpočty!B585","v":1356397.4049237426},{"$f":"Výpočty!C585","v":654065.80442054663},{"$f":"Výpočty!D585","v":702331.60050319601},{"$f":"Výpočty!E585","v":2020.0208918772507},{"$f":"Výpočty!F585","v":671.47691906454099},{"$f":"Výpočty!G585","v":212.7606189043089},{"$f":"Výpočty!H585","v":458.71630016023209},{"$f":"Výpočty!I585","v":92.791046432901382},{"$f":"Výpočty!J585","v":28.402657807308969},{"$f":"Výpočty!K585","v":64.388388625592412},{"$f":"Výpočty!L585","v":433.5622399855323},{"$f":"Výpočty!M585","v":137.5214878449801},{"$f":"Výpočty!N585","v":296.04075214055223},{"$f":"Výpočty!O585","v":145.1236326461073},{"$f":"Výpočty!P585","v":46.836473252019815},{"$f":"Výpočty!Q585","v":98.287159394087467},{"$f":"Výpočty!R585","v":21.288149552603915},{"$f":"Výpočty!S585","v":5.1288695092508894},{"$f":"Výpočty!T585","v":16.159280043353025},{"$f":"Výpočty!U585","v":13.818948023138603},{"$f":"Výpočty!V585","v":13.349584125849592},{"$f":"Výpočty!W585","v":14.036647183259282},{"$f":"Výpočty!X585","v":64.568450184340463},{"$f":"Výpočty!Y585","v":64.636721096788918},{"$f":"Výpočty!Z585","v":64.536784944669208},{"$f":"Výpočty!AA585","v":21.61260179252093},{"$f":"Výpočty!AB585","v":22.013694777361479},{"$f":"Výpočty!AC585","v":21.426567872071526},{"$f":"Výpočty!AD585","v":3.1703471777200045},{"$f":"Výpočty!AE585","v":2.4106291548050285},{"$f":"Výpočty!AF585","v":3.5227176443715869},{"$f":"Výpočty!AG585","v":54.900054637932364},{"$f":"Výpočty!AH585","v":55.12354971921269},{"$f":"Výpočty!AI585","v":54.796393722027126},{"$f":"Výpočty!AJ585","v":18.399999999999999},{"$f":"Výpočty!AK585","v":5.8},{"$f":"Výpočty!AL585","v":12.6},{"$f":"Výpočty!AM585","v":16.636302747705965},{"$f":"Výpočty!AN585","v":4.8918973742308411},{"$f":"Výpočty!AO585","v":11.744405373475123},{"$f":"Výpočty!AP585","v":-16.636302747705965},{"$f":"Výpočty!AQ585","v":-4.8918973742308411},{"$f":"Výpočty!AR585","v":-11.744405373475123},{"$f":"Výpočty!AS585","v":100.30357484212962},{"$f":"Výpočty!AT585","v":100.29204853940858}]
[{"$f":"Výpočty!A586","v":2047},{"$f":"Výpočty!B586","v":1360519.4759637201},{"$f":"Výpočty!C586","v":655791.84712291998},{"$f":"Výpočty!D586","v":704727.62884080026},{"$f":"Výpočty!E586","v":2020.8517474879193},{"$f":"Výpočty!F586","v":673.24061631683514},{"$f":"Výpočty!G586","v":213.66872153007805},{"$f":"Výpočty!H586","v":459.57189478675707},{"$f":"Výpočty!I586","v":92.791046432901382},{"$f":"Výpočty!J586","v":28.402657807308969},{"$f":"Výpočty!K586","v":64.388388625592412},{"$f":"Výpočty!L586","v":434.22250312005792},{"$f":"Výpočty!M586","v":136.64592696030468},{"$f":"Výpočty!N586","v":297.57657615975324},{"$f":"Výpočty!O586","v":146.22706676387565},{"$f":"Výpočty!P586","v":48.620136762464384},{"$f":"Výpočty!Q586","v":97.606930001411286},{"$f":"Výpočty!R586","v":20.295057767105053},{"$f":"Výpočty!S586","v":4.4166221699966428},{"$f":"Výpočty!T586","v":15.87843559710841},{"$f":"Výpočty!U586","v":13.782746344173743},{"$f":"Výpočty!V586","v":13.292847733593399},{"$f":"Výpočty!W586","v":14.010514863070304},{"$f":"Výpočty!X586","v":64.497371756267825},{"$f":"Výpočty!Y586","v":63.952236893535719},{"$f":"Výpočty!Z586","v":64.750821261128209},{"$f":"Výpočty!AA586","v":21.719881899558395},{"$f":"Výpočty!AB586","v":22.754915372870872},{"$f":"Výpočty!AC586","v":21.238663875801464},{"$f":"Výpočty!AD586","v":3.0145325868981669},{"$f":"Výpočty!AE586","v":2.0670419789893848},{"$f":"Výpočty!AF586","v":3.4550493137697336},{"$f":"Výpočty!AG586","v":54.926199358817257},{"$f":"Výpočty!AH586","v":55.171623721327911},{"$f":"Výpočty!AI586","v":54.812094231056314},{"$f":"Výpočty!AJ586","v":18.399999999999999},{"$f":"Výpočty!AK586","v":5.8},{"$f":"Výpočty!AL586","v":12.6},{"$f":"Výpočty!AM586","v":16.605235994045689},{"$f":"Výpočty!AN586","v":4.8980160807272357},{"$f":"Výpočty!AO586","v":11.707219913318452},{"$f":"Výpočty!AP586","v":-16.605235994045689},{"$f":"Výpočty!AQ586","v":-4.8980160807272357},{"$f":"Výpočty!AR586","v":-11.707219913318452},{"$f":"Výpočty!AS586","v":100.30389847584598},{"$f":"Výpočty!AT586","v":100.26265940082514}]
[{"$f":"Výpočty!A587","v":2048},{"$f":"Výpočty!B587","v":1364680.1328151934},{"$f":"Výpočty!C587","v":657536.44572815078},{"$f":"Výpočty!D587","v":707143.68708704249},{"$f":"Výpočty!E587","v":2021.6423799336692},{"$f":"Výpočty!F587","v":675.03538032278936},{"$f":"Výpočty!G587","v":214.57070544935087},{"$f":"Výpočty!H587","v":460.46467487343847},{"$f":"Výpočty!I587","v":92.791046432901382},{"$f":"Výpočty!J587","v":28.402657807308969},{"$f":"Výpočty!K587","v":64.388388625592412},{"$f":"Výpočty!L587","v":432.7427492881734},{"$f":"Výpočty!M587","v":137.29246619781051},{"$f":"Výpočty!N587","v":295.45028309036286},{"$f":"Výpočty!O587","v":149.50158460171446},{"$f":"Výpočty!P587","v":48.875581444231287},{"$f":"Výpočty!Q587","v":100.62600315748318},{"$f":"Výpočty!R587","v":19.159739940382018},{"$f":"Výpočty!S587","v":4.1066195183260037},{"$f":"Výpočty!T587","v":15.053120422056013},{"$f":"Výpočty!U587","v":13.746101187841505},{"$f":"Výpočty!V587","v":13.236969020458098},{"$f":"Výpočty!W587","v":13.983350328293904},{"$f":"Výpočty!X587","v":64.106676761334185},{"$f":"Výpočty!Y587","v":63.984720519184854},{"$f":"Výpočty!Z587","v":64.163506825267149},{"$f":"Výpočty!AA587","v":22.147222050824293},{"$f":"Výpočty!AB587","v":22.778310460356995},{"$f":"Výpočty!AC587","v":21.853142846438949},{"$f":"Výpočty!AD587","v":2.83833121920516},{"$f":"Výpočty!AE587","v":1.9138770643112633},{"$f":"Výpočty!AF587","v":3.2691151446510975},{"$f":"Výpočty!AG587","v":54.961075648422607},{"$f":"Výpočty!AH587","v":55.227482294412589},{"$f":"Výpočty!AI587","v":54.836933526158489},{"$f":"Výpočty!AJ587","v":18.399999999999999},{"$f":"Výpočty!AK587","v":5.8},{"$f":"Výpočty!AL587","v":12.6},{"$f":"Výpočty!AM587","v":16.7375451234685},{"$f":"Výpočty!AN587","v":4.916597750469144},{"$f":"Výpočty!AO587","v":11.820947372999358},{"$f":"Výpočty!AP587","v":-16.7375451234685},{"$f":"Výpočty!AQ587","v":-4.916597750469144},{"$f":"Výpočty!AR587","v":-11.820947372999358},{"$f":"Výpočty!AS587","v":100.30581383985893},{"$f":"Výpočty!AT587","v":100.26658581827297}]
[{"$f":"Výpočty!A588","v":2049},{"$f":"Výpočty!B588","v":1368893.2917010617},{"$f":"Výpočty!C588","v":659303.67180092726},{"$f":"Výpočty!D588","v":709589.61990013428},{"$f":"Výpočty!E588","v":2022.9018337229572},{"$f":"Výpočty!F588","v":676.69783519932082},{"$f":"Výpočty!G588","v":215.45410769888176},{"$f":"Výpočty!H588","v":461.24372750043904},{"$f":"Výpočty!I588","v":92.791046432901382},{"$f":"Výpočty!J588","v":28.402657807308969},{"$f":"Výpočty!K588","v":64.388388625592412},{"$f":"Výpočty!L588","v":432.82414070506098},{"$f":"Výpočty!M588","v":138.4049020943159},{"$f":"Výpočty!N588","v":294.41923861074508},{"$f":"Výpočty!O588","v":151.08264806135841},{"$f":"Výpočty!P588","v":48.646547797256765},{"$f":"Výpočty!Q588","v":102.43610026410164},{"$f":"Výpočty!R588","v":20.476684039985884},{"$f":"Výpočty!S588","v":4.3935033640435588},{"$f":"Výpočty!T588","v":16.083180675942327},{"$f":"Výpočty!U588","v":13.712330911413343},{"$f":"Výpočty!V588","v":13.182694964908476},{"$f":"Výpočty!W588","v":13.95973208666152},{"$f":"Výpočty!X588","v":63.961212551769577},{"$f":"Výpočty!Y588","v":64.238692672200202},{"$f":"Výpočty!Z588","v":63.831597278570008},{"$f":"Výpočty!AA588","v":22.326456536817076},{"$f":"Výpočty!AB588","v":22.57861236289126},{"$f":"Výpočty!AC588","v":22.208670634768499},{"$f":"Výpočty!AD588","v":3.0259715599584402},{"$f":"Výpočty!AE588","v":2.0391829197259543},{"$f":"Výpočty!AF588","v":3.4869158575011774},{"$f":"Výpočty!AG588","v":54.995069153821227},{"$f":"Výpočty!AH588","v":55.289439737644415},{"$f":"Výpočty!AI588","v":54.857564082881595},{"$f":"Výpočty!AJ588","v":18.399999999999999},{"$f":"Výpočty!AK588","v":5.8},{"$f":"Výpočty!AL588","v":12.6},{"$f":"Výpočty!AM588","v":16.948769837357553},{"$f":"Výpočty!AN588","v":4.9542478158764638},{"$f":"Výpočty!AO588","v":11.994522021481089},{"$f":"Výpočty!AP588","v":-16.948769837357553},{"$f":"Výpočty!AQ588","v":-4.9542478158764638},{"$f":"Výpočty!AR588","v":-11.994522021481089},{"$f":"Výpočty!AS588","v":100.30872867454859},{"$f":"Výpočty!AT588","v":100.24627670267246}]
[{"$f":"Výpočty!A589","v":2050},{"$f":"Výpočty!B589","v":1373166.3526125427},{"$f":"Výpočty!C589","v":661100.63877813064},{"$f":"Výpočty!D589","v":712065.71383441205},{"$f":"Výpočty!E589","v":2024.873914527351},{"$f":"Výpočty!F589","v":678.14906536196315},{"$f":"Výpočty!G589","v":216.29985988300521},{"$f":"Výpočty!H589","v":461.84920547895791},{"$f":"Výpočty!I589","v":92.791046432901382},{"$f":"Výpočty!J589","v":28.402657807308969},{"$f":"Výpočty!K589","v":64.388388625592412},{"$f":"Výpočty!L589","v":426.32823833418149},{"$f":"Výpočty!M589","v":136.48629240297436},{"$f":"Výpočty!N589","v":289.84194593120714},{"$f":"Výpočty!O589","v":159.02978059488035},{"$f":"Výpočty!P589","v":51.410909672721836},{"$f":"Výpočty!Q589","v":107.61887092215851},{"$f":"Výpočty!R589","v":19.377518976264078},{"$f":"Výpočty!S589","v":4.4726826194103646},{"$f":"Výpočty!T589","v":14.904836356853712},{"$f":"Výpočty!U589","v":13.682986701953798},{"$f":"Výpočty!V589","v":13.131149425002739},{"$f":"Výpočty!W589","v":13.941431069220705},{"$f":"Výpočty!X589","v":62.866449297047708},{"$f":"Výpočty!Y589","v":63.100499684465191},{"$f":"Výpočty!Z589","v":62.756835454686623},{"$f":"Výpočty!AA589","v":23.450564000998504},{"$f":"Výpočty!AB589","v":23.768350890532044},{"$f":"Výpočty!AC589","v":23.301733476092704},{"$f":"Výpočty!AD589","v":2.8574129149497973},{"$f":"Výpočty!AE589","v":2.0678157728949067},{"$f":"Výpočty!AF589","v":3.2272084004987609},{"$f":"Výpočty!AG589","v":55.023380749526524},{"$f":"Výpočty!AH589","v":55.354290046258079},{"$f":"Výpočty!AI589","v":54.868404550221825},{"$f":"Výpočty!AJ589","v":"x"},{"$f":"Výpočty!AK589","v":"x"},{"$f":"Výpočty!AL589","v":"x"},{"$f":"Výpočty!AM589","v":"x"},{"$f":"Výpočty!AN589","v":"x"},{"$f":"Výpočty!AO589","v":"x"},{"$f":"Výpočty!AP589","v":"x"},{"$f":"Výpočty!AQ589","v":"x"},{"$f":"Výpočty!AR589","v":"x"},{"$f":"Výpočty!AS589","v":100.31215441973356},{"$f":"Výpočty!AT589","v":100.21445763340071}]
[]
[]
["Souhrnná tabulka (přepočtený počet lékařů)"]
[null,{"$f":"B2","v":"Počet obyvatel 15+"},null,null,{"$f":"E2","v":"Počet obyv. na 1 lékaře"},{"$f":"F2","v":"Počet lékařů k 1.1."},null,null,null,null,null,null,null,null,null,null,null,null,null,null,{"$f":"U2","v":"Podíl věkových kategorií k 1.1."},null,null,null,null,null,null,null,null,null,null,null,{"$f":"AG2","v":"Průměrný věk"},null,null,{"$f":"AJ2","v":"Nově příchozí"},null,null,{"$f":"AM2","v":"Odchozí"},null,null,{"$f":"AP2","v":"Odchozí (data pro graf)"},null,null,{"$f":"AS2","v":"IZ počtu obyvatel"},{"$f":"AT2","v":"IZ počtu lékařů"}]
[null,{"$f":"B3","v":"Celkem"},{"$f":"C3","v":"Muži"},"Ženy",null,{"$f":"F3","v":"Celkem"},{"$f":"G3","v":"Muži"},"Ženy",{"$f":"I3","v":"23–39"},null,null,{"$f":"L3","v":"40–64"},null,null,{"$f":"O3","v":"65+"},null,null,{"$f":"R3","v":"80+"},null,null,{"$f":"U3","v":"23–39"},null,null,{"$f":"X3","v":"40–64"},null,null,{"$f":"AA3","v":"65+"},null,null,{"$f":"AD3","v":"80+"},null,null,{"$f":"AG3","v":"Celkem"},{"$f":"AH3","v":"Muži"},"Ženy","Celkem","Muži","Ženy","Celkem","Muži","Ženy","Celkem","Muži","Ženy"]
[null,null,null,null,null,null,null,null,{"$f":"I4","v":"celkem"},{"$f":"J4","v":"muži"},"ženy","celkem","muži","ženy","celkem","muži","ženy","celkem","muži","ženy","celkem","muži","ženy","celkem","muži","ženy","celkem","muži","ženy","celkem","muži","ženy"]
[{"$f":"A5","v":2017},{"$f":"B5","v":1108762.1501909939},{"$f":"C5","v":541958.3992633319},566803.75092766201,{"$f":"B45/F45","v":2076.7876310404308},{"$f":"G45+H45","v":533.88325971275424},{"$f":"Výpočty!B504","v":193.70365913003377},{"$f":"Výpočty!B505","v":340.17960058272047},null,null,null,null,null,null,null,null,null,null,null,null,{"$f":"Výpočty!B524","v":12.067883048761828},null,null,{"$f":"Výpočty!B525","v":67.622978176399045},null,null,{"$f":"Výpočty!B526","v":20.309138774839131},null,null,null,null,null,null,null,null,null,null,null,null,null,null,null,null,null,{"$f":"AS5","v":"x"},{"$f":"AT5","v":"x"}]
[{"$f":"A6","v":2018},1117443.1574880062,545932.28891384089,571510.86857416539,{"$f":"B46/F46","v":2082.2123208856033},{"$f":"G46+H46","v":536.66148561292584},{"$f":"Výpočty!C504","v":192.92717916818273},{"$f":"Výpočty!C505","v":343.73430644474308},null,null,null,null,null,null,null,null,null,null,null,null,{"$f":"Výpočty!C524","v":13.288517369148209},null,null,{"$f":"Výpočty!C525","v":64.47965093680159},null,null,{"$f":"Výpočty!C526","v":22.231831694050186},null,null,null,null,null,null,null,null,null,null,null,null,null,null,null,null,null,{"$f":"B46/B45*100","v":100.78294585502552},{"$f":"F46/F45*100","v":100.52038078542982}]
[2019,1126624.2554829684,550169.6103010833,576454.64518188499,2093.0419272989739,538.27123135409579,{"$f":"Výpočty!D504","v":191.82227134547918},{"$f":"Výpočty!D505","v":346.44896000861661},null,null,null,null,null,null,null,null,null,null,null,null,{"$f":"Výpočty!D524","v":13.558485533034474},null,null,{"$f":"Výpočty!D525","v":62.810279624782083},null,null,{"$f":"Výpočty!D526","v":23.631234842183432},null,null,null,null,null,null,null,null,null,null,null,null,null,null,null,null,null,{"$f":"B47/B46*100","v":100.82161655681898},{"$f":"F47/F46*100","v":100.29995551839004}]
[2020,1137043.5603391014,554971.93402686424,582071.62631223712,2102.9270108019232,540.69568487091954,{"$f":"Výpočty!E504","v":191.60963829209237},{"$f":"Výpočty!E505","v":349.08604657882717},null,null,null,null,null,null,null,null,null,null,null,null,{"$f":"Výpočty!E524","v":14.202766344758931},null,null,{"$f":"Výpočty!E525","v":60.156520657088208},null,null,{"$f":"Výpočty!E526","v":25.640712998152861},null,null,null,null,null,null,null,null,null,null,null,null,null,null,null,null,null,100.92482518509833,100.45041484210937]
[2021,1148633.6218187413,560431.75049962522,588201.87131911609,2121.8041942012128,541.34760641811386,{"$f":"Výpočty!F504","v":190.36167552030648},{"$f":"Výpočty!F505","v":350.98593089780741},null,null,null,null,null,null,null,null,null,null,null,null,{"$f":"Výpočty!F524","v":15.007163670722354},null,null,{"$f":"Výpočty!F525","v":57.375586397295237},null,null,{"$f":"Výpočty!F526","v":27.617249931982407},null,null,null,null,null,null,null,null,null,null,null,null,null,null,null,null,null,101.01931551999499,100.12057088033724]
[2022,1160806.0419484067,566165.07672403427,594640.96522437246,2142.5598840836747,541.78464302054158,{"$f":"Výpočty!G504","v":189.23582860732563},{"$f":"Výpočty!G505","v":352.54881441321595},null,null,null,null,null,null,null,null,null,null,null,null,{"$f":"Výpočty!G524","v":15.203798184398597},null,null,{"$f":"Výpočty!G525","v":56.410671384032113},null,null,{"$f":"Výpočty!G526","v":28.385530431569272},null,null,null,null,null,null,null,null,null,null,null,null,null,null,null,null,null,101.05973043958016,100.08073123391445]
[2023,1174400.4904045691,572557.68542235252,601842.80498221668,2169.841681760106,541.2378701527814,{"$f":"Výpočty!H504","v":187.76594075769756},{"$f":"Výpočty!H505","v":353.47192939508381},null,null,null,null,null,null,null,null,null,null,null,null,{"$f":"Výpočty!H524","v":14.985554192839047},null,null,{"$f":"Výpočty!H525","v":55.906340523805298},null,null,{"$f":"Výpočty!H526","v":29.108105283355666},null,null,null,null,null,null,null,null,null,null,null,null,null,null,null,null,null,101.17112144190293,99.899079297502453]
[2024,1188694.6128826425,579233.66202309541,609460.95085954701,2193.2509420556694,541.97838928933243,{"$f":"Výpočty!I504","v":186.21830328126907},{"$f":"Výpočty!I505","v":355.76008600806341},null,null,null,null,null,null,null,null,null,null,null,null,{"$f":"Výpočty!I524","v":15.020820981249029},null,null,{"$f":"Výpočty!I525","v":56.406892973636928},null,null,{"$f":"Výpočty!I526","v":28.572286045114041},null,null,null,null,null,null,null,null,null,null,null,null,null,null,null,null,null,101.21714207332708,100.13681953488252]
[2025,1202647.071288832,585719.47233076941,616927.59895806247,2223.5836935095126,540.85981777941424,{"$f":"Výpočty!J504","v":184.76798199780549},{"$f":"Výpočty!J505","v":356.09183578160878},null,null,null,null,null,null,null,null,null,null,null,null,{"$f":"Výpočty!J524","v":13.814748230846087},null,null,{"$f":"Výpočty!J525","v":57.398913724375198},null,null,{"$f":"Výpočty!J526","v":28.786338044778727},null,null,null,null,null,null,null,null,null,null,null,null,null,null,null,null,null,101.17376307211102,99.793613263550057]
[2026,1216507.4496817791,592223.47293908033,624283.97674269881,2251.0489201402911,540.41804191708252,{"$f":"Výpočty!K504","v":182.79375524421505},{"$f":"Výpočty!K505","v":357.62428667286753},null,null,null,null,null,null,null,null,null,null,null,null,{"$f":"Výpočty!K524","v":13.681650754380147},null,null,{"$f":"Výpočty!K525","v":58.256914979674903},null,null,{"$f":"Výpočty!K526","v":28.061434265944971},null,null,null,null,null,null,null,null,null,null,null,null,null,null,null,null,null,101.15248926504212,99.918319710984349]
[2027,1228797.0169230544,597876.57630694984,630920.44061610452,2271.8732748187899,540.87392573472926,{"$f":"Výpočty!L504","v":181.68311371258517},{"$f":"Výpočty!L505","v":359.19081202214409},null,null,null,null,null,null,null,null,null,null,null,null,{"$f":"Výpočty!L524","v":13.63913186116203},null,null,{"$f":"Výpočty!L525","v":59.258278183098284},null,null,{"$f":"Výpočty!L526","v":27.102589955739674},null,null,null,null,null,null,null,null,null,null,null,null,null,null,null,null,null,101.01023361957134,100.08435762359626]
[2028,1240256.3771886055,603088.87337080506,637167.50381780043,2290.9356740326966,541.3754699648124,{"$f":"Výpočty!M504","v":180.30282973449303},{"$f":"Výpočty!M505","v":361.07264023031934},null,null,null,null,null,null,null,null,null,null,null,null,{"$f":"Výpočty!M524","v":13.45196371512019},null,null,{"$f":"Výpočty!M525","v":60.277382302185259},null,null,{"$f":"Výpočty!M526","v":26.270653982694533},null,null,null,null,null,null,null,null,null,null,null,null,null,null,null,null,null,100.93256738970979,100.09272849109927]
[2029,1250897.4442724828,607935.74151036411,642961.70276211877,2308.6016754448256,541.8420412570556,{"$f":"Výpočty!N504","v":178.91126240832222},{"$f":"Výpočty!N505","v":362.93077884873338},null,null,null,null,null,null,null,null,null,null,null,null,{"$f":"Výpočty!N524","v":13.299196076339916},null,null,{"$f":"Výpočty!N525","v":61.309370076474785},null,null,{"$f":"Výpočty!N526","v":25.391433847185297},null,null,null,null,null,null,null,null,null,null,null,null,null,null,null,null,null,100.85797318035151,100.08618256979274]
[2030,1261165.2817809191,612597.56724945921,648567.71453145985,2324.1426415627575,542.63678107678857,{"$f":"Výpočty!O504","v":177.94874281302867},{"$f":"Výpočty!O505","v":364.68803826375989},null,null,null,null,null,null,null,null,null,null,null,null,{"$f":"Výpočty!O524","v":13.439078132047648},null,null,{"$f":"Výpočty!O525","v":61.91323156030991},null,null,{"$f":"Výpočty!O526","v":24.647690307642435},null,null,null,null,null,null,null,null,null,null,null,null,null,null,null,null,null,100.82083767581827,100.14667370916608]
[2031,1270530.5666831224,616799.14641835773,653731.42026476469,2339.2738657855498,543.1303214497575,{"$f":"Výpočty!P504","v":177.10229167190653},{"$f":"Výpočty!P505","v":366.02802977785092},null,null,null,null,null,null,null,null,null,null,null,null,{"$f":"Výpočty!P524","v":13.472673878949614},null,null,{"$f":"Výpočty!P525","v":62.721386256323846},null,null,{"$f":"Výpočty!P526","v":23.805939864726533},null,null,null,null,null,null,null,null,null,null,null,null,null,null,null,null,null,100.74258981257228,100.09095225207358]
[2032,1279309.1160613208,620716.44103740074,658592.67502392002,2353.5944338684913,543.5554646339732,{"$f":"Výpočty!Q504","v":176.27551629168661},{"$f":"Výpočty!Q505","v":367.27994834228662},null,null,null,null,null,null,null,null,null,null,null,null,{"$f":"Výpočty!Q524","v":13.464439514596037},null,null,{"$f":"Výpočty!Q525","v":63.544074822708687},null,null,{"$f":"Výpočty!Q526","v":22.991485662695279},null,null,null,null,null,null,null,null,null,null,null,null,null,null,null,null,null,100.69093570893897,100.07827645915273]
[2033,1287531.473908898,624372.81565787806,663158.65825102001,2366.7602641190215,544.00586887838233,{"$f":"Výpočty!R504","v":175.55393946416871},{"$f":"Výpočty!R505","v":368.45192941421362},null,null,null,null,null,null,null,null,null,null,null,null,{"$f":"Výpočty!R524","v":13.453291765917392},null,null,{"$f":"Výpočty!R525","v":64.52554540138641},null,null,{"$f":"Výpočty!R526","v":22.021162832696199},null,null,null,null,null,null,null,null,null,null,null,null,null,null,null,null,null,100.64271861619277,100.08286260992931]
[2034,1295217.5470118346,627779.77196102182,667437.77505081263,2378.9527236873614,544.44862822000755,{"$f":"Výpočty!S504","v":174.79934651770458},{"$f":"Výpočty!S505","v":369.64928170230291},null,null,null,null,null,null,null,null,null,null,null,null,{"$f":"Výpočty!S524","v":13.442351210103258},null,null,{"$f":"Výpočty!S525","v":64.216963887340569},null,null,{"$f":"Výpočty!S526","v":22.340684902556159},null,null,null,null,null,null,null,null,null,null,null,null,null,null,null,null,null,100.59696195849892,100.08138870680534]
[2035,1302369.4646044087,630936.22249790817,671433.24210650055,2389.1381343076309,545.12104005314609,{"$f":"Výpočty!T504","v":174.02952050821182},{"$f":"Výpočty!T505","v":371.09151954493421},null,null,null,null,null,null,null,null,null,null,null,null,{"$f":"Výpočty!T524","v":13.425769945843129},null,null,{"$f":"Výpočty!T525","v":65.068228769786046},null,null,{"$f":"Výpočty!T526","v":21.506001284370811},null,null,null,null,null,null,null,null,null,null,null,null,null,null,null,null,null,100.55217886825841,100.12350326519086]
[2036,1309023.3550208751,633860.64584341529,675162.70917745971,2398.0840904134166,545.86215731709672,{"$f":"Výpočty!U504","v":173.7504427508193},{"$f":"Výpočty!U505","v":372.11171456627739},null,null,null,null,null,null,null,null,null,null,null,null,{"$f":"Výpočty!U524","v":13.407541772749763},null,null,{"$f":"Výpočty!U525","v":65.277989062431573},null,null,{"$f":"Výpočty!U526","v":21.314469164818675},null,null,null,null,null,null,null,null,null,null,null,null,null,null,null,null,null,100.51090651288324,100.13595462466067]
[2037,1315196.0683786003,636560.91332957451,678635.15504902578,2405.916457314966,546.65076352916105,{"$f":"Výpočty!V504","v":173.55812787574732},{"$f":"Výpočty!V505","v":373.09263565341377},null,null,null,null,null,null,null,null,null,null,null,null,{"$f":"Výpočty!V524","v":13.38819986117492},null,null,{"$f":"Výpočty!V525","v":64.873297466809206},null,null,{"$f":"Výpočty!V526","v":21.738502672015883},null,null,null,null,null,null,null,null,null,null,null,null,null,null,null,null,null,100.47155104865388,100.14446984490377]
[2038,1320905.8971464243,639042.53646122129,681863.36068520311,2411.0052550345122,547.86520866687874,{"$f":"Výpočty!W504","v":173.49012939468258},{"$f":"Výpočty!W505","v":374.37507927219616},null,null,null,null,null,null,null,null,null,null,null,null,{"$f":"Výpočty!W524","v":13.358522425982859},null,null,{"$f":"Výpočty!W525","v":64.3329753470951},null,null,{"$f":"Výpočty!W526","v":22.308502226922037},null,null,null,null,null,null,null,null,null,null,null,null,null,null,null,null,null,100.43414277955249,100.22216106127379]
[2039,1326167.2649639193,641308.38063156989,684858.88433234952,2416.4490338773762,548.80829116266648,{"$f":"Výpočty!X504","v":173.62613272321505},{"$f":"Výpočty!X505","v":375.18215843945143},null,null,null,null,null,null,null,null,null,null,null,null,{"$f":"Výpočty!X524","v":13.335566889646403},null,null,{"$f":"Výpočty!X525","v":64.590010893881342},null,null,{"$f":"Výpočty!X526","v":22.074422216472239},null,null,null,null,null,null,null,null,null,null,null,null,null,null,null,null,null,100.39831511304939,100.17213768658218]
[2040,1331017.0130222763,643382.50028445479,687634.51273782155,2417.0309459600435,550.68265271779421,{"$f":"Výpočty!Y504","v":173.92916703744098},{"$f":"Výpočty!Y505","v":376.75348568035326},null,null,null,null,null,null,null,null,null,null,null,null,{"$f":"Výpočty!Y524","v":13.290176547730916},null,null,{"$f":"Výpočty!Y525","v":64.29177925979765},null,null,{"$f":"Výpočty!Y526","v":22.418044192471463},null,null,null,null,null,null,null,null,null,null,null,null,null,null,null,null,null,100.3656965592865,100.34153302442949]
[2041,1335479.4701326061,645268.9832387917,690210.48689381429,2417.6908106589935,552.37810568862301,{"$f":"Výpočty!Z504","v":174.50824027469275},{"$f":"Výpočty!Z505","v":377.8698654139302},null,null,null,null,null,null,null,null,null,null,null,null,{"$f":"Výpočty!Z524","v":13.249384074099837},null,null,{"$f":"Výpočty!Z525","v":64.77152525142516},null,null,{"$f":"Výpočty!Z526","v":21.979090674474982},null,null,null,null,null,null,null,null,null,null,null,null,null,null,null,null,null,100.33526672211327,100.30788203740597]
[2042,1339802.8767935117,647094.88275434601,692707.99403916555,2419.3506026716391,553.78615869646796,{"$f":"Výpočty!AA504","v":174.79857401671501},{"$f":"Výpočty!AA505","v":378.9875846797529},null,null,null,null,null,null,null,null,null,null,null,null,{"$f":"Výpočty!AA524","v":13.21569627817958},null,null,{"$f":"Výpočty!AA525","v":65.153029914138202},null,null,{"$f":"Výpočty!AA526","v":21.631273807682213},null,null,null,null,null,null,null,null,null,null,null,null,null,null,null,null,null,100.3237344158107,100.25490746163619]
[2043,1344022.5394584269,648872.85414023104,695149.68531819584,2419.5391990897019,555.48698692878611,{"$f":"Výpočty!AB504","v":175.53477591264615},{"$f":"Výpočty!AB505","v":379.95221101613998},null,null,null,null,null,null,null,null,null,null,null,null,{"$f":"Výpočty!AB524","v":13.175231551068787},null,null,{"$f":"Výpočty!AB525","v":66.035664238303269},null,null,{"$f":"Výpočty!AB526","v":20.789104210627958},null,null,null,null,null,null,null,null,null,null,null,null,null,null,null,null,null,100.31494652967264,100.30712725582049]
[2044,1348175.9129255733,650617.6264220489,697558.2865035244,2419.2873353009209,557.26159239281992,{"$f":"Výpočty!AC504","v":176.43384837191428},{"$f":"Výpočty!AC505","v":380.8277440209057},null,null,null,null,null,null,null,null,null,null,null,null,{"$f":"Výpočty!AC524","v":13.133274886156634},null,null,{"$f":"Výpočty!AC525","v":66.156819464137101},null,null,{"$f":"Výpočty!AC526","v":20.709905649706268},null,null,null,null,null,null,null,null,null,null,null,null,null,null,null,null,null,100.30902558143258,100.31946841344481]
[2045,1352292.1860547955,652345.5944372646,699946.59161753079,2420.2859162559985,558.73241131225132,{"$f":"Výpočty!AD504","v":177.11155737172402},{"$f":"Výpočty!AD505","v":381.6208539405273},null,null,null,null,null,null,null,null,null,null,null,null,{"$f":"Výpočty!AD524","v":13.098702577864579},null,null,{"$f":"Výpočty!AD525","v":66.417054818417753},null,null,{"$f":"Výpočty!AD526","v":20.484242603717647},null,null,null,null,null,null,null,null,null,null,null,null,null,null,null,null,null,100.30532166386877,100.26393689059314]
[2046,1356397.4049237426,654065.80442054663,702331.60050319601,2419.0588852747965,560.71285125812915,{"$f":"Výpočty!AE504","v":177.92725349901445},{"$f":"Výpočty!AE505","v":382.78559775911464},null,null,null,null,null,null,null,null,null,null,null,null,{"$f":"Výpočty!AE524","v":13.052437910011559},null,null,{"$f":"Výpočty!AE525","v":66.844794059785244},null,null,{"$f":"Výpočty!AE526","v":20.10276803020319},null,null,null,null,null,null,null,null,null,null,null,null,null,null,null,null,null,100.30357484212962,100.35445231129989]
[2047,1360519.4759637201,655791.84712291998,704727.62884080026,2419.5874141279128,562.29399608366271,{"$f":"Výpočty!AF504","v":178.57309300276196},{"$f":"Výpočty!AF505","v":383.72090308090077},null,null,null,null,null,null,null,null,null,null,null,null,{"$f":"Výpočty!AF524","v":13.015735055622656},null,null,{"$f":"Výpočty!AF525","v":66.761243821224383},null,null,{"$f":"Výpočty!AF526","v":20.223021123152975},null,null,null,null,null,null,null,null,null,null,null,null,null,null,null,null,null,100.30389847584598,100.28198833359816]
[2048,1364680.1328151934,657536.44572815078,707143.68708704249,2419.8273870211942,563.95763604242597,{"$f":"Výpočty!AG504","v":179.39750206213358},{"$f":"Výpočty!AG505","v":384.56013398029233},null,null,null,null,null,null,null,null,null,null,null,null,{"$f":"Výpočty!AG524","v":12.97733944654258},null,null,{"$f":"Výpočty!AG525","v":66.328383298151508},null,null,{"$f":"Výpočty!AG526","v":20.69427725530592},null,null,null,null,null,null,null,null,null,null,null,null,null,null,null,null,null,100.30581383985893,100.29586656986389]
[2049,1368893.2917010617,659303.67180092726,709589.61990013428,2421.3808789626432,565.33579809530693,{"$f":"Výpočty!AH504","v":180.30153338015958},{"$f":"Výpočty!AH505","v":385.03426471514734},null,null,null,null,null,null,null,null,null,null,null,null,{"$f":"Výpočty!AH524","v":12.945703599612601},null,null,{"$f":"Výpočty!AH525","v":66.178374135067983},null,null,{"$f":"Výpočty!AH526","v":20.87592226531941},null,null,null,null,null,null,null,null,null,null,null,null,null,null,null,null,null,100.30872867454859,100.2443733296267]
[2050,1373166.3526125427,661100.63877813064,712065.71383441205,2425.2605777554231,566.19332586661972,{"$f":"Výpočty!AI504","v":180.90405763484839},{"$f":"Výpočty!AI505","v":385.28926823177136},null,null,null,null,null,null,null,null,null,null,null,null,{"$f":"Výpočty!AI524","v":12.926096691779733},null,null,{"$f":"Výpočty!AI525","v":65.055533937931145},null,null,{"$f":"Výpočty!AI526","v":22.018369370289129},null,null,null,null,null,null,null,null,null,null,null,null,null,null,null,null,null,100.31215441973356,100.15168467558607]
[]
[]
[{"$f":"Výpočty!A500","v":"Očekávané počty lékařů podle pohlaví (fyzický počet lékařů: FPP a přepočtený počet lékařů: PPP)"}]
[null,{"$f":"Výpočty!B501","v":2017},{"$f":"Výpočty!C501","v":2018},{"$f":"Výpočty!D501","v":2019},{"$f":"Výpočty!E501","v":2020},{"$f":"Výpočty!F501","v":2021},{"$f":"Výpočty!G501","v":2022},{"$f":"Výpočty!H501","v":2023},{"$f":"Výpočty!I501","v":2024},{"$f":"Výpočty!J501","v":2025},{"$f":"Výpočty!K501","v":2026},{"$f":"Výpočty!L501","v":2027},{"$f":"Výpočty!M501","v":2028},{"$f":"Výpočty!N501","v":2029},{"$f":"Výpočty!O501","v":2030},{"$f":"Výpočty!P501","v":2031},{"$f":"Výpočty!Q501","v":2032},{"$f":"Výpočty!R501","v":2033},{"$f":"Výpočty!S501","v":2034},{"$f":"Výpočty!T501","v":2035},{"$f":"Výpočty!U501","v":2036},{"$f":"Výpočty!V501","v":2037},{"$f":"Výpočty!W501","v":2038},{"$f":"Výpočty!X501","v":2039},{"$f":"Výpočty!Y501","v":2040},{"$f":"Výpočty!Z501","v":2041},{"$f":"Výpočty!AA501","v":2042},{"$f":"Výpočty!AB501","v":2043},{"$f":"Výpočty!AC501","v":2044},{"$f":"Výpočty!AD501","v":2045},{"$f":"Výpočty!AE501","v":2046},{"$f":"Výpočty!AF501","v":2047},{"$f":"Výpočty!AG501","v":2048},{"$f":"Výpočty!AH501","v":2049},{"$f":"Výpočty!AI501","v":2050}]
[{"$f":"Výpočty!A502","v":"FPP – muži"},{"$f":"Výpočty!B502","v":231},{"$f":"Výpočty!C502","v":231.17906141640367},{"$f":"Výpočty!D502","v":231.0514018026376},{"$f":"Výpočty!E502","v":230.63258281842718},{"$f":"Výpočty!F502","v":229.94210599009304},{"$f":"Výpočty!G502","v":229.00285914337408},{"$f":"Výpočty!H502","v":227.8377915424191},{"$f":"Výpočty!I502","v":226.48041874219646},{"$f":"Výpočty!J502","v":224.96889421856886},{"$f":"Výpočty!K502","v":223.3418642256527},{"$f":"Výpočty!L502","v":221.63811802546007},{"$f":"Výpočty!M502","v":219.89466813160956},{"$f":"Výpočty!N502","v":218.17226229090303},{"$f":"Výpočty!O502","v":216.49442585126403},{"$f":"Výpočty!P502","v":214.90198534792651},{"$f":"Výpočty!Q502","v":213.43284657124457},{"$f":"Výpočty!R502","v":212.12052219969124},{"$f":"Výpočty!S502","v":210.98669546252972},{"$f":"Výpočty!T502","v":210.05314078220755},{"$f":"Výpočty!U502","v":209.33460830996614},{"$f":"Výpočty!V502","v":208.84442329337},{"$f":"Výpočty!W502","v":208.58222064334049},{"$f":"Výpočty!X502","v":208.54407966607366},{"$f":"Výpočty!Y502","v":208.71301320359976},{"$f":"Výpočty!Z502","v":209.07160164375011},{"$f":"Výpočty!AA502","v":209.59774765611212},{"$f":"Výpočty!AB502","v":210.26036110584184},{"$f":"Výpočty!AC502","v":211.02824711146454},{"$f":"Výpočty!AD502","v":211.87352712591172},{"$f":"Výpočty!AE502","v":212.76061890430887},{"$f":"Výpočty!AF502","v":213.66872153007805},{"$f":"Výpočty!AG502","v":214.57070544935084},{"$f":"Výpočty!AH502","v":215.45410769888164},{"$f":"Výpočty!AI502","v":216.29985988300518}]
[{"$f":"Výpočty!A503","v":"FPP – ženy"},{"$f":"Výpočty!B503","v":406},{"$f":"Výpočty!C503","v":410.03191034193242},{"$f":"Výpočty!D503","v":413.69536707817184},{"$f":"Výpočty!E503","v":417.03165538669691},{"$f":"Výpočty!F503","v":420.07467357778387},{"$f":"Výpočty!G503","v":422.86046676506214},{"$f":"Výpočty!H503","v":425.42030158962069},{"$f":"Výpočty!I503","v":427.7788511538613},{"$f":"Výpočty!J503","v":429.96984410818317},{"$f":"Výpočty!K503","v":432.01038399048662},{"$f":"Výpočty!L503","v":433.91294904071219},{"$f":"Výpočty!M503","v":435.684640772526},{"$f":"Výpočty!N503","v":437.33625171697832},{"$f":"Výpočty!O503","v":438.88354241569573},{"$f":"Výpočty!P503","v":440.35259619564943},{"$f":"Výpočty!Q503","v":441.58498324949676},{"$f":"Výpočty!R503","v":442.92412765984341},{"$f":"Výpočty!S503","v":444.25849060514139},{"$f":"Výpočty!T503","v":445.52966641493674},{"$f":"Výpočty!U503","v":446.83191586594933},{"$f":"Výpočty!V503","v":448.05118636704771},{"$f":"Výpočty!W503","v":449.36390357172206},{"$f":"Výpočty!X503","v":450.54494928522161},{"$f":"Výpočty!Y503","v":451.87491820805678},{"$f":"Výpočty!Z503","v":453.09969404181038},{"$f":"Výpočty!AA503","v":454.27551093632576},{"$f":"Výpočty!AB503","v":455.43839282684922},{"$f":"Výpočty!AC503","v":456.5751447962628},{"$f":"Výpočty!AD503","v":457.64806391098102},{"$f":"Výpočty!AE503","v":458.71630016023204},{"$f":"Výpočty!AF503","v":459.57189478675696},{"$f":"Výpočty!AG503","v":460.46467487343853},{"$f":"Výpočty!AH503","v":461.24372750043915},{"$f":"Výpočty!AI503","v":461.84920547895803}]
[{"$f":"Výpočty!A504","v":"PPP – muži"},{"$f":"Výpočty!B504","v":193.70365913003377},{"$f":"Výpočty!C504","v":192.92717916818273},{"$f":"Výpočty!D504","v":191.82227134547918},{"$f":"Výpočty!E504","v":191.60963829209237},{"$f":"Výpočty!F504","v":190.36167552030648},{"$f":"Výpočty!G504","v":189.23582860732563},{"$f":"Výpočty!H504","v":187.76594075769756},{"$f":"Výpočty!I504","v":186.21830328126907},{"$f":"Výpočty!J504","v":184.76798199780549},{"$f":"Výpočty!K504","v":182.79375524421505},{"$f":"Výpočty!L504","v":181.68311371258517},{"$f":"Výpočty!M504","v":180.30282973449303},{"$f":"Výpočty!N504","v":178.91126240832222},{"$f":"Výpočty!O504","v":177.94874281302867},{"$f":"Výpočty!P504","v":177.10229167190653},{"$f":"Výpočty!Q504","v":176.27551629168661},{"$f":"Výpočty!R504","v":175.55393946416871},{"$f":"Výpočty!S504","v":174.79934651770458},{"$f":"Výpočty!T504","v":174.02952050821182},{"$f":"Výpočty!U504","v":173.7504427508193},{"$f":"Výpočty!V504","v":173.55812787574732},{"$f":"Výpočty!W504","v":173.49012939468258},{"$f":"Výpočty!X504","v":173.62613272321505},{"$f":"Výpočty!Y504","v":173.92916703744098},{"$f":"Výpočty!Z504","v":174.50824027469275},{"$f":"Výpočty!AA504","v":174.79857401671501},{"$f":"Výpočty!AB504","v":175.53477591264615},{"$f":"Výpočty!AC504","v":176.43384837191428},{"$f":"Výpočty!AD504","v":177.11155737172402},{"$f":"Výpočty!AE504","v":177.92725349901445},{"$f":"Výpočty!AF504","v":178.57309300276196},{"$f":"Výpočty!AG504","v":179.39750206213358},{"$f":"Výpočty!AH504","v":180.30153338015958},{"$f":"Výpočty!AI504","v":180.90405763484839}]
[{"$f":"Výpočty!A505","v":"PPP – ženy"},{"$f":"Výpočty!B505","v":340.17960058272047},{"$f":"Výpočty!C505","v":343.73430644474308},{"$f":"Výpočty!D505","v":346.44896000861661},{"$f":"Výpočty!E505","v":349.08604657882717},{"$f":"Výpočty!F505","v":350.98593089780741},{"$f":"Výpočty!G505","v":352.54881441321595},{"$f":"Výpočty!H505","v":353.47192939508381},{"$f":"Výpočty!I505","v":355.76008600806341},{"$f":"Výpočty!J505","v":356.09183578160878},{"$f":"Výpočty!K505","v":357.62428667286753},{"$f":"Výpočty!L505","v":359.19081202214409},{"$f":"Výpočty!M505","v":361.07264023031934},{"$f":"Výpočty!N505","v":362.93077884873338},{"$f":"Výpočty!O505","v":364.68803826375989},{"$f":"Výpočty!P505","v":366.02802977785092},{"$f":"Výpočty!Q505","v":367.27994834228662},{"$f":"Výpočty!R505","v":368.45192941421362},{"$f":"Výpočty!S505","v":369.64928170230291},{"$f":"Výpočty!T505","v":371.09151954493421},{"$f":"Výpočty!U505","v":372.11171456627739},{"$f":"Výpočty!V505","v":373.09263565341377},{"$f":"Výpočty!W505","v":374.37507927219616},{"$f":"Výpočty!X505","v":375.18215843945143},{"$f":"Výpočty!Y505","v":376.75348568035326},{"$f":"Výpočty!Z505","v":377.8698654139302},{"$f":"Výpočty!AA505","v":378.9875846797529},{"$f":"Výpočty!AB505","v":379.95221101613998},{"$f":"Výpočty!AC505","v":380.8277440209057},{"$f":"Výpočty!AD505","v":381.6208539405273},{"$f":"Výpočty!AE505","v":382.78559775911464},{"$f":"Výpočty!AF505","v":383.72090308090077},{"$f":"Výpočty!AG505","v":384.56013398029233},{"$f":"Výpočty!AH505","v":385.03426471514734},{"$f":"Výpočty!AI505","v":385.28926823177136}]
[]
[]
[{"$f":"Výpočty!A508","v":"Očekávané počty lékařů celkem (fyzický počet lékařů: FPP a přepočtený počet lékařů: PPP)"}]
[null,{"$f":"Výpočty!B509","v":2017},{"$f":"Výpočty!C509","v":2018},{"$f":"Výpočty!D509","v":2019},{"$f":"Výpočty!E509","v":2020},{"$f":"Výpočty!F509","v":2021},{"$f":"Výpočty!G509","v":2022},{"$f":"Výpočty!H509","v":2023},{"$f":"Výpočty!I509","v":2024},{"$f":"Výpočty!J509","v":2025},{"$f":"Výpočty!K509","v":2026},{"$f":"Výpočty!L509","v":2027},{"$f":"Výpočty!M509","v":2028},{"$f":"Výpočty!N509","v":2029},{"$f":"Výpočty!O509","v":2030},{"$f":"Výpočty!P509","v":2031},{"$f":"Výpočty!Q509","v":2032},{"$f":"Výpočty!R509","v":2033},{"$f":"Výpočty!S509","v":2034},{"$f":"Výpočty!T509","v":2035},{"$f":"Výpočty!U509","v":2036},{"$f":"Výpočty!V509","v":2037},{"$f":"Výpočty!W509","v":2038},{"$f":"Výpočty!X509","v":2039},{"$f":"Výpočty!Y509","v":2040},{"$f":"Výpočty!Z509","v":2041},{"$f":"Výpočty!AA509","v":2042},{"$f":"Výpočty!AB509","v":2043},{"$f":"Výpočty!AC509","v":2044},{"$f":"Výpočty!AD509","v":2045},{"$f":"Výpočty!AE509","v":2046},{"$f":"Výpočty!AF509","v":2047},{"$f":"Výpočty!AG509","v":2048},{"$f":"Výpočty!AH509","v":2049},{"$f":"Výpočty!AI509","v":2050}]
[{"$f":"Výpočty!A510","v":"FPP"},{"$f":"Výpočty!B510","v":637},{"$f":"Výpočty!C510","v":641.21097175833609},{"$f":"Výpočty!D510","v":644.74676888080944},{"$f":"Výpočty!E510","v":647.66423820512409},{"$f":"Výpočty!F510","v":650.01677956787694},{"$f":"Výpočty!G510","v":651.8633259084362},{"$f":"Výpočty!H510","v":653.25809313203979},{"$f":"Výpočty!I510","v":654.25926989605773},{"$f":"Výpočty!J510","v":654.93873832675206},{"$f":"Výpočty!K510","v":655.35224821613929},{"$f":"Výpočty!L510","v":655.55106706617221},{"$f":"Výpočty!M510","v":655.57930890413559},{"$f":"Výpočty!N510","v":655.50851400788133},{"$f":"Výpočty!O510","v":655.37796826695978},{"$f":"Výpočty!P510","v":655.25458154357591},{"$f":"Výpočty!Q510","v":655.01782982074133},{"$f":"Výpočty!R510","v":655.04464985953462},{"$f":"Výpočty!S510","v":655.24518606767106},{"$f":"Výpočty!T510","v":655.58280719714435},{"$f":"Výpočty!U510","v":656.16652417591547},{"$f":"Výpočty!V510","v":656.89560966041768},{"$f":"Výpočty!W510","v":657.94612421506258},{"$f":"Výpočty!X510","v":659.08902895129529},{"$f":"Výpočty!Y510","v":660.58793141165654},{"$f":"Výpočty!Z510","v":662.17129568556049},{"$f":"Výpočty!AA510","v":663.87325859243788},{"$f":"Výpočty!AB510","v":665.69875393269103},{"$f":"Výpočty!AC510","v":667.60339190772731},{"$f":"Výpočty!AD510","v":669.52159103689269},{"$f":"Výpočty!AE510","v":671.47691906454088},{"$f":"Výpočty!AF510","v":673.24061631683503},{"$f":"Výpočty!AG510","v":675.03538032278936},{"$f":"Výpočty!AH510","v":676.69783519932082},{"$f":"Výpočty!AI510","v":678.14906536196327}]
[{"$f":"Výpočty!A511","v":"PPP"},{"$f":"Výpočty!B511","v":533.88325971275424},{"$f":"Výpočty!C511","v":536.66148561292584},{"$f":"Výpočty!D511","v":538.27123135409579},{"$f":"Výpočty!E511","v":540.69568487091954},{"$f":"Výpočty!F511","v":541.34760641811386},{"$f":"Výpočty!G511","v":541.78464302054158},{"$f":"Výpočty!H511","v":541.2378701527814},{"$f":"Výpočty!I511","v":541.97838928933243},{"$f":"Výpočty!J511","v":540.85981777941424},{"$f":"Výpočty!K511","v":540.41804191708252},{"$f":"Výpočty!L511","v":540.87392573472926},{"$f":"Výpočty!M511","v":541.3754699648124},{"$f":"Výpočty!N511","v":541.8420412570556},{"$f":"Výpočty!O511","v":542.63678107678857},{"$f":"Výpočty!P511","v":543.1303214497575},{"$f":"Výpočty!Q511","v":543.5554646339732},{"$f":"Výpočty!R511","v":544.00586887838233},{"$f":"Výpočty!S511","v":544.44862822000755},{"$f":"Výpočty!T511","v":545.12104005314609},{"$f":"Výpočty!U511","v":545.86215731709672},{"$f":"Výpočty!V511","v":546.65076352916105},{"$f":"Výpočty!W511","v":547.86520866687874},{"$f":"Výpočty!X511","v":548.80829116266648},{"$f":"Výpočty!Y511","v":550.68265271779421},{"$f":"Výpočty!Z511","v":552.37810568862301},{"$f":"Výpočty!AA511","v":553.78615869646796},{"$f":"Výpočty!AB511","v":555.48698692878611},{"$f":"Výpočty!AC511","v":557.26159239281992},{"$f":"Výpočty!AD511","v":558.73241131225132},{"$f":"Výpočty!AE511","v":560.71285125812915},{"$f":"Výpočty!AF511","v":562.29399608366271},{"$f":"Výpočty!AG511","v":563.95763604242597},{"$f":"Výpočty!AH511","v":565.33579809530693},{"$f":"Výpočty!AI511","v":566.19332586661972}]
[]
[]
["Očekávaný počet obyvatel na 1 lékaře (fyzický počet lékařů: FPP a přepočtený počet lékařů: PPP) "]
[null,{"$f":"Výpočty!B515","v":2017},{"$f":"Výpočty!C515","v":2018},{"$f":"Výpočty!D515","v":2019},{"$f":"Výpočty!E515","v":2020},{"$f":"Výpočty!F515","v":2021},{"$f":"Výpočty!G515","v":2022},{"$f":"Výpočty!H515","v":2023},{"$f":"Výpočty!I515","v":2024},{"$f":"Výpočty!J515","v":2025},{"$f":"Výpočty!K515","v":2026},{"$f":"Výpočty!L515","v":2027},{"$f":"Výpočty!M515","v":2028},{"$f":"Výpočty!N515","v":2029},{"$f":"Výpočty!O515","v":2030},{"$f":"Výpočty!P515","v":2031},{"$f":"Výpočty!Q515","v":2032},{"$f":"Výpočty!R515","v":2033},{"$f":"Výpočty!S515","v":2034},{"$f":"Výpočty!T515","v":2035},{"$f":"Výpočty!U515","v":2036},{"$f":"Výpočty!V515","v":2037},{"$f":"Výpočty!W515","v":2038},{"$f":"Výpočty!X515","v":2039},{"$f":"Výpočty!Y515","v":2040},{"$f":"Výpočty!Z515","v":2041},{"$f":"Výpočty!AA515","v":2042},{"$f":"Výpočty!AB515","v":2043},{"$f":"Výpočty!AC515","v":2044},{"$f":"Výpočty!AD515","v":2045},{"$f":"Výpočty!AE515","v":2046},{"$f":"Výpočty!AF515","v":2047},{"$f":"Výpočty!AG515","v":2048},{"$f":"Výpočty!AH515","v":2049},{"$f":"Výpočty!AI515","v":2050}]
["FPP",{"$f":"E5","v":1740.5999218068978},{"$f":"E6","v":1742.707481164492},{"$f":"E7","v":1747.3903086612302},{"$f":"E8","v":1755.6065215059543},{"$f":"E9","v":1767.0830321985511},{"$f":"E10","v":1780.7506509600125},{"$f":"E11","v":1797.7588073557831},{"$f":"E12","v":1816.8555916242358},{"$f":"E13","v":1836.2741442984022},{"$f":"E14","v":1856.265013194198},{"$f":"E15","v":1874.4489615772641},{"$f":"E16","v":1891.8479585053021},{"$f":"E17","v":1908.2855791213155},{"$f":"E18","v":1924.3327405647542},{"$f":"E19","v":1938.9876888615536},{"$f":"E20","v":1953.0905233700726},{"$f":"E21","v":1965.5629187796462},{"$f":"E22","v":1976.6914348273735},{"$f":"E23","v":1986.5827021494254},{"$f":"E24","v":1994.9560161803247},{"$f":"E25","v":2002.1386184305466},{"$f":"E26","v":2007.6201508478835},{"$f":"E27","v":2012.1215901196852},{"$f":"E28","v":2014.8975628088347},{"$f":"E29","v":2016.818727773385},{"$f":"E30","v":2018.1606345075536},{"$f":"E31","v":2018.96508220642},{"$f":"E32","v":2019.4263978693373},{"$f":"E33","v":2019.7887628395843},{"$f":"E34","v":2020.0208918772507},{"$f":"E35","v":2020.8517474879193},{"$f":"E36","v":2021.6423799336692},{"$f":"E37","v":2022.9018337229572},{"$f":"E38","v":2024.873914527351}]
["PPP",{"$f":"B5/B92","v":2076.7876310404308},{"$f":"B6/C92","v":2082.2123208856033},{"$f":"B7/D92","v":2093.0419272989739},{"$f":"B8/E92","v":2102.9270108019232},{"$f":"B9/F92","v":2121.8041942012128},{"$f":"B10/G92","v":2142.5598840836747},{"$f":"B11/H92","v":2169.841681760106},{"$f":"B12/I92","v":2193.2509420556694},{"$f":"B13/J92","v":2223.5836935095126},{"$f":"B14/K92","v":2251.0489201402911},{"$f":"B15/L92","v":2271.8732748187899},{"$f":"B16/M92","v":2290.9356740326966},{"$f":"B17/N92","v":2308.6016754448256},{"$f":"B18/O92","v":2324.1426415627575},{"$f":"B19/P92","v":2339.2738657855498},{"$f":"B20/Q92","v":2353.5944338684913},{"$f":"B21/R92","v":2366.7602641190215},{"$f":"B22/S92","v":2378.9527236873614},{"$f":"B23/T92","v":2389.1381343076309},{"$f":"B24/U92","v":2398.0840904134166},{"$f":"B25/V92","v":2405.916457314966},{"$f":"B26/W92","v":2411.0052550345122},{"$f":"B27/X92","v":2416.4490338773762},{"$f":"B28/Y92","v":2417.0309459600435},{"$f":"B29/Z92","v":2417.6908106589935},{"$f":"B30/AA92","v":2419.3506026716391},{"$f":"B31/AB92","v":2419.5391990897019},{"$f":"B32/AC92","v":2419.2873353009209},{"$f":"B33/AD92","v":2420.2859162559985},{"$f":"B34/AE92","v":2419.0588852747965},{"$f":"B35/AF92","v":2419.5874141279128},{"$f":"B36/AG92","v":2419.8273870211942},{"$f":"B37/AH92","v":2421.3808789626432},{"$f":"B38/AI92","v":2425.2605777554231}]
[]
[]
[{"$f":"Výpočty!A514","v":"Očekávaný vývoj vybraných věkových kategorií (%; fyzický počet lékařů)"}]
[{"$f":"Výpočty!A515","v":"Věk"},{"$f":"Výpočty!B515","v":2017},{"$f":"Výpočty!C515","v":2018},{"$f":"Výpočty!D515","v":2019},{"$f":"Výpočty!E515","v":2020},{"$f":"Výpočty!F515","v":2021},{"$f":"Výpočty!G515","v":2022},{"$f":"Výpočty!H515","v":2023},{"$f":"Výpočty!I515","v":2024},{"$f":"Výpočty!J515","v":2025},{"$f":"Výpočty!K515","v":2026},{"$f":"Výpočty!L515","v":2027},{"$f":"Výpočty!M515","v":2028},{"$f":"Výpočty!N515","v":2029},{"$f":"Výpočty!O515","v":2030},{"$f":"Výpočty!P515","v":2031},{"$f":"Výpočty!Q515","v":2032},{"$f":"Výpočty!R515","v":2033},{"$f":"Výpočty!S515","v":2034},{"$f":"Výpočty!T515","v":2035},{"$f":"Výpočty!U515","v":2036},{"$f":"Výpočty!V515","v":2037},{"$f":"Výpočty!W515","v":2038},{"$f":"Výpočty!X515","v":2039},{"$f":"Výpočty!Y515","v":2040},{"$f":"Výpočty!Z515","v":2041},{"$f":"Výpočty!AA515","v":2042},{"$f":"Výpočty!AB515","v":2043},{"$f":"Výpočty!AC515","v":2044},{"$f":"Výpočty!AD515","v":2045},{"$f":"Výpočty!AE515","v":2046},{"$f":"Výpočty!AF515","v":2047},{"$f":"Výpočty!AG515","v":2048},{"$f":"Výpočty!AH515","v":2049},{"$f":"Výpočty!AI515","v":2050}]
[{"$f":"Výpočty!A516","v":"–39"},{"$f":"Výpočty!B516","v":13.186813186813186},{"$f":"Výpočty!C516","v":14.341684674690091},{"$f":"Výpočty!D516","v":14.576540643049981},{"$f":"Výpočty!E516","v":15.032201824285089},{"$f":"Výpočty!F516","v":15.773233968373152},{"$f":"Výpočty!G516","v":15.930895939844604},{"$f":"Výpočty!H516","v":15.64031648969233},{"$f":"Výpočty!I516","v":15.650605456436139},{"$f":"Výpočty!J516","v":14.439661692148711},{"$f":"Výpočty!K516","v":14.295337548796406},{"$f":"Výpočty!L516","v":14.260856341399332},{"$f":"Výpočty!M516","v":14.088380036570788},{"$f":"Výpočty!N516","v":13.950742644998517},{"$f":"Výpočty!O516","v":14.11085696079833},{"$f":"Výpočty!P516","v":14.158789596617105},{"$f":"Výpočty!Q516","v":14.166186355308145},{"$f":"Výpočty!R516","v":14.165606337338861},{"$f":"Výpočty!S516","v":14.161270987699908},{"$f":"Výpočty!T516","v":14.153978019896062},{"$f":"Výpočty!U516","v":14.141386830033483},{"$f":"Výpočty!V516","v":14.125691368354515},{"$f":"Výpočty!W516","v":14.103137478559082},{"$f":"Výpočty!X516","v":14.07868168895865},{"$f":"Výpočty!Y516","v":14.046736553998151},{"$f":"Výpočty!Z516","v":14.013148416050377},{"$f":"Výpočty!AA516","v":13.977223096715703},{"$f":"Výpočty!AB516","v":13.938894415037993},{"$f":"Výpočty!AC516","v":13.899127469640909},{"$f":"Výpočty!AD516","v":13.85930605900181},{"$f":"Výpočty!AE516","v":13.818948023138605},{"$f":"Výpočty!AF516","v":13.782746344173747},{"$f":"Výpočty!AG516","v":13.746101187841507},{"$f":"Výpočty!AH516","v":13.712330911413341},{"$f":"Výpočty!AI516","v":13.682986701953794}]
[{"$f":"Výpočty!A517","v":"40–64"},{"$f":"Výpočty!B517","v":65.306122448979593},{"$f":"Výpočty!C517","v":62.14873463266953},{"$f":"Výpočty!D517","v":60.462280903523421},{"$f":"Výpočty!E517","v":57.943553357763399},{"$f":"Výpočty!F517","v":55.214022768440351},{"$f":"Výpočty!G517","v":54.259957307337501},{"$f":"Výpočty!H517","v":53.780087529528316},{"$f":"Výpočty!I517","v":54.218299710266535},{"$f":"Výpočty!J517","v":55.170278103332642},{"$f":"Výpočty!K517","v":55.946335366119854},{"$f":"Výpočty!L517","v":56.8830662646942},{"$f":"Výpočty!M517","v":57.825246351895842},{"$f":"Výpočty!N517","v":58.866216030269577},{"$f":"Výpočty!O517","v":59.408869870467001},{"$f":"Výpočty!P517","v":60.239034422089418},{"$f":"Výpočty!Q517","v":61.102052581416039},{"$f":"Výpočty!R517","v":62.12386229064434},{"$f":"Výpočty!S517","v":61.871940060832124},{"$f":"Výpočty!T517","v":62.75483393216841},{"$f":"Výpočty!U517","v":63.016708916470904},{"$f":"Výpočty!V517","v":62.663192487209514},{"$f":"Výpočty!W517","v":62.170162548422972},{"$f":"Výpočty!X517","v":62.405133043269494},{"$f":"Výpočty!Y517","v":62.12087725927281},{"$f":"Výpočty!Z517","v":62.590803404331524},{"$f":"Výpočty!AA517","v":62.937734398170306},{"$f":"Výpočty!AB517","v":63.769905923750173},{"$f":"Výpočty!AC517","v":63.890383891598717},{"$f":"Výpočty!AD517","v":64.131940674678447},{"$f":"Výpočty!AE517","v":64.568450184340477},{"$f":"Výpočty!AF517","v":64.497371756267839},{"$f":"Výpočty!AG517","v":64.106676761334185},{"$f":"Výpočty!AH517","v":63.961212551769584},{"$f":"Výpočty!AI517","v":62.866449297047694}]
[{"$f":"Výpočty!A518","v":"65+"},{"$f":"Výpočty!B518","v":21.507064364207224},{"$f":"Výpočty!C518","v":23.509580692640387},{"$f":"Výpočty!D518","v":24.96117845342658},{"$f":"Výpočty!E518","v":27.024244817951509},{"$f":"Výpočty!F518","v":29.012743263186504},{"$f":"Výpočty!G518","v":29.809146752817892},{"$f":"Výpočty!H518","v":30.579595980779345},{"$f":"Výpočty!I518","v":30.131094833297333},{"$f":"Výpočty!J518","v":30.390060204518644},{"$f":"Výpočty!K518","v":29.758327085083746},{"$f":"Výpočty!L518","v":28.856077393906482},{"$f":"Výpočty!M518","v":28.086373611533357},{"$f":"Výpočty!N518","v":27.18304132473191},{"$f":"Výpočty!O518","v":26.480273168734666},{"$f":"Výpočty!P518","v":25.602175981293485},{"$f":"Výpočty!Q518","v":24.731761063275819},{"$f":"Výpočty!R518","v":23.71053137201681},{"$f":"Výpočty!S518","v":23.966788951467962},{"$f":"Výpočty!T518","v":23.091188047935532},{"$f":"Výpočty!U518","v":22.84190425349561},{"$f":"Výpočty!V518","v":23.211116144435977},{"$f":"Výpočty!W518","v":23.726699973017944},{"$f":"Výpočty!X518","v":23.516185267771863},{"$f":"Výpočty!Y518","v":23.832386186729032},{"$f":"Výpočty!Z518","v":23.396048179618095},{"$f":"Výpočty!AA518","v":23.085042505113989},{"$f":"Výpočty!AB518","v":22.291199661211838},{"$f":"Výpočty!AC518","v":22.210488638760374},{"$f":"Výpočty!AD518","v":22.008753266319747},{"$f":"Výpočty!AE518","v":21.612601792520934},{"$f":"Výpočty!AF518","v":21.719881899558398},{"$f":"Výpočty!AG518","v":22.147222050824304},{"$f":"Výpočty!AH518","v":22.326456536817069},{"$f":"Výpočty!AI518","v":23.450564000998497}]
[{"$f":"Výpočty!A519","v":"Celkem"},{"$f":"Výpočty!B519","v":100},{"$f":"Výpočty!C519","v":100},{"$f":"Výpočty!D519","v":99.999999999999986},{"$f":"Výpočty!E519","v":100},{"$f":"Výpočty!F519","v":100.00000000000001},{"$f":"Výpočty!G519","v":100},{"$f":"Výpočty!H519","v":99.999999999999986},{"$f":"Výpočty!I519","v":100},{"$f":"Výpočty!J519","v":100},{"$f":"Výpočty!K519","v":100.00000000000001},{"$f":"Výpočty!L519","v":100},{"$f":"Výpočty!M519","v":99.999999999999986},{"$f":"Výpočty!N519","v":100},{"$f":"Výpočty!O519","v":100},{"$f":"Výpočty!P519","v":100.00000000000001},{"$f":"Výpočty!Q519","v":100},{"$f":"Výpočty!R519","v":100},{"$f":"Výpočty!S519","v":99.999999999999986},{"$f":"Výpočty!T519","v":100},{"$f":"Výpočty!U519","v":100},{"$f":"Výpočty!V519","v":100},{"$f":"Výpočty!W519","v":100},{"$f":"Výpočty!X519","v":100},{"$f":"Výpočty!Y519","v":100},{"$f":"Výpočty!Z519","v":99.999999999999986},{"$f":"Výpočty!AA519","v":100},{"$f":"Výpočty!AB519","v":100},{"$f":"Výpočty!AC519","v":100},{"$f":"Výpočty!AD519","v":100},{"$f":"Výpočty!AE519","v":100.00000000000001},{"$f":"Výpočty!AF519","v":99.999999999999986},{"$f":"Výpočty!AG519","v":100},{"$f":"Výpočty!AH519","v":100},{"$f":"Výpočty!AI519","v":99.999999999999986}]
[]
[]
[{"$f":"Výpočty!A522","v":"Očekávaný vývoj vybraných věkových kategorií (%; přepočtený počet lékařů)"}]
[{"$f":"Výpočty!A523","v":"Věk"},{"$f":"Výpočty!B523","v":2017},{"$f":"Výpočty!C523","v":2018},{"$f":"Výpočty!D523","v":2019},{"$f":"Výpočty!E523","v":2020},{"$f":"Výpočty!F523","v":2021},{"$f":"Výpočty!G523","v":2022},{"$f":"Výpočty!H523","v":2023},{"$f":"Výpočty!I523","v":2024},{"$f":"Výpočty!J523","v":2025},{"$f":"Výpočty!K523","v":2026},{"$f":"Výpočty!L523","v":2027},{"$f":"Výpočty!M523","v":2028},{"$f":"Výpočty!N523","v":2029},{"$f":"Výpočty!O523","v":2030},{"$f":"Výpočty!P523","v":2031},{"$f":"Výpočty!Q523","v":2032},{"$f":"Výpočty!R523","v":2033},{"$f":"Výpočty!S523","v":2034},{"$f":"Výpočty!T523","v":2035},{"$f":"Výpočty!U523","v":2036},{"$f":"Výpočty!V523","v":2037},{"$f":"Výpočty!W523","v":2038},{"$f":"Výpočty!X523","v":2039},{"$f":"Výpočty!Y523","v":2040},{"$f":"Výpočty!Z523","v":2041},{"$f":"Výpočty!AA523","v":2042},{"$f":"Výpočty!AB523","v":2043},{"$f":"Výpočty!AC523","v":2044},{"$f":"Výpočty!AD523","v":2045},{"$f":"Výpočty!AE523","v":2046},{"$f":"Výpočty!AF523","v":2047},{"$f":"Výpočty!AG523","v":2048},{"$f":"Výpočty!AH523","v":2049},{"$f":"Výpočty!AI523","v":2050}]
[{"$f":"Výpočty!A524","v":"–39"},{"$f":"Výpočty!B524","v":12.067883048761828},{"$f":"Výpočty!C524","v":13.288517369148209},{"$f":"Výpočty!D524","v":13.558485533034474},{"$f":"Výpočty!E524","v":14.202766344758931},{"$f":"Výpočty!F524","v":15.007163670722354},{"$f":"Výpočty!G524","v":15.203798184398597},{"$f":"Výpočty!H524","v":14.985554192839047},{"$f":"Výpočty!I524","v":15.020820981249029},{"$f":"Výpočty!J524","v":13.814748230846087},{"$f":"Výpočty!K524","v":13.681650754380147},{"$f":"Výpočty!L524","v":13.63913186116203},{"$f":"Výpočty!M524","v":13.45196371512019},{"$f":"Výpočty!N524","v":13.299196076339916},{"$f":"Výpočty!O524","v":13.439078132047648},{"$f":"Výpočty!P524","v":13.472673878949614},{"$f":"Výpočty!Q524","v":13.464439514596037},{"$f":"Výpočty!R524","v":13.453291765917392},{"$f":"Výpočty!S524","v":13.442351210103258},{"$f":"Výpočty!T524","v":13.425769945843129},{"$f":"Výpočty!U524","v":13.407541772749763},{"$f":"Výpočty!V524","v":13.38819986117492},{"$f":"Výpočty!W524","v":13.358522425982859},{"$f":"Výpočty!X524","v":13.335566889646403},{"$f":"Výpočty!Y524","v":13.290176547730916},{"$f":"Výpočty!Z524","v":13.249384074099837},{"$f":"Výpočty!AA524","v":13.21569627817958},{"$f":"Výpočty!AB524","v":13.175231551068787},{"$f":"Výpočty!AC524","v":13.133274886156634},{"$f":"Výpočty!AD524","v":13.098702577864579},{"$f":"Výpočty!AE524","v":13.052437910011559},{"$f":"Výpočty!AF524","v":13.015735055622656},{"$f":"Výpočty!AG524","v":12.97733944654258},{"$f":"Výpočty!AH524","v":12.945703599612601},{"$f":"Výpočty!AI524","v":12.926096691779733}]
[{"$f":"Výpočty!A525","v":"40–64"},{"$f":"Výpočty!B525","v":67.622978176399045},{"$f":"Výpočty!C525","v":64.47965093680159},{"$f":"Výpočty!D525","v":62.810279624782083},{"$f":"Výpočty!E525","v":60.156520657088208},{"$f":"Výpočty!F525","v":57.375586397295237},{"$f":"Výpočty!G525","v":56.410671384032113},{"$f":"Výpočty!H525","v":55.906340523805298},{"$f":"Výpočty!I525","v":56.406892973636928},{"$f":"Výpočty!J525","v":57.398913724375198},{"$f":"Výpočty!K525","v":58.256914979674903},{"$f":"Výpočty!L525","v":59.258278183098284},{"$f":"Výpočty!M525","v":60.277382302185259},{"$f":"Výpočty!N525","v":61.309370076474785},{"$f":"Výpočty!O525","v":61.91323156030991},{"$f":"Výpočty!P525","v":62.721386256323846},{"$f":"Výpočty!Q525","v":63.544074822708687},{"$f":"Výpočty!R525","v":64.52554540138641},{"$f":"Výpočty!S525","v":64.216963887340569},{"$f":"Výpočty!T525","v":65.068228769786046},{"$f":"Výpočty!U525","v":65.277989062431573},{"$f":"Výpočty!V525","v":64.873297466809206},{"$f":"Výpočty!W525","v":64.3329753470951},{"$f":"Výpočty!X525","v":64.590010893881342},{"$f":"Výpočty!Y525","v":64.29177925979765},{"$f":"Výpočty!Z525","v":64.77152525142516},{"$f":"Výpočty!AA525","v":65.153029914138202},{"$f":"Výpočty!AB525","v":66.035664238303269},{"$f":"Výpočty!AC525","v":66.156819464137101},{"$f":"Výpočty!AD525","v":66.417054818417753},{"$f":"Výpočty!AE525","v":66.844794059785244},{"$f":"Výpočty!AF525","v":66.761243821224383},{"$f":"Výpočty!AG525","v":66.328383298151508},{"$f":"Výpočty!AH525","v":66.178374135067983},{"$f":"Výpočty!AI525","v":65.055533937931145}]
[{"$f":"Výpočty!A526","v":"65+"},{"$f":"Výpočty!B526","v":20.309138774839131},{"$f":"Výpočty!C526","v":22.231831694050186},{"$f":"Výpočty!D526","v":23.631234842183432},{"$f":"Výpočty!E526","v":25.640712998152861},{"$f":"Výpočty!F526","v":27.617249931982407},{"$f":"Výpočty!G526","v":28.385530431569272},{"$f":"Výpočty!H526","v":29.108105283355666},{"$f":"Výpočty!I526","v":28.572286045114041},{"$f":"Výpočty!J526","v":28.786338044778727},{"$f":"Výpočty!K526","v":28.061434265944971},{"$f":"Výpočty!L526","v":27.102589955739674},{"$f":"Výpočty!M526","v":26.270653982694533},{"$f":"Výpočty!N526","v":25.391433847185297},{"$f":"Výpočty!O526","v":24.647690307642435},{"$f":"Výpočty!P526","v":23.805939864726533},{"$f":"Výpočty!Q526","v":22.991485662695279},{"$f":"Výpočty!R526","v":22.021162832696199},{"$f":"Výpočty!S526","v":22.340684902556159},{"$f":"Výpočty!T526","v":21.506001284370811},{"$f":"Výpočty!U526","v":21.314469164818675},{"$f":"Výpočty!V526","v":21.738502672015883},{"$f":"Výpočty!W526","v":22.308502226922037},{"$f":"Výpočty!X526","v":22.074422216472239},{"$f":"Výpočty!Y526","v":22.418044192471463},{"$f":"Výpočty!Z526","v":21.979090674474982},{"$f":"Výpočty!AA526","v":21.631273807682213},{"$f":"Výpočty!AB526","v":20.789104210627958},{"$f":"Výpočty!AC526","v":20.709905649706268},{"$f":"Výpočty!AD526","v":20.484242603717647},{"$f":"Výpočty!AE526","v":20.10276803020319},{"$f":"Výpočty!AF526","v":20.223021123152975},{"$f":"Výpočty!AG526","v":20.69427725530592},{"$f":"Výpočty!AH526","v":20.87592226531941},{"$f":"Výpočty!AI526","v":22.018369370289129}]
[{"$f":"Výpočty!A527","v":"Celkem"},{"$f":"Výpočty!B527","v":100},{"$f":"Výpočty!C527","v":99.999999999999986},{"$f":"Výpočty!D527","v":99.999999999999986},{"$f":"Výpočty!E527","v":100},{"$f":"Výpočty!F527","v":100},{"$f":"Výpočty!G527","v":99.999999999999972},{"$f":"Výpočty!H527","v":100.00000000000001},{"$f":"Výpočty!I527","v":100},{"$f":"Výpočty!J527","v":100.00000000000001},{"$f":"Výpočty!K527","v":100.00000000000001},{"$f":"Výpočty!L527","v":99.999999999999986},{"$f":"Výpočty!M527","v":99.999999999999972},{"$f":"Výpočty!N527","v":100},{"$f":"Výpočty!O527","v":99.999999999999986},{"$f":"Výpočty!P527","v":100},{"$f":"Výpočty!Q527","v":100},{"$f":"Výpočty!R527","v":100},{"$f":"Výpočty!S527","v":99.999999999999986},{"$f":"Výpočty!T527","v":99.999999999999986},{"$f":"Výpočty!U527","v":100.00000000000001},{"$f":"Výpočty!V527","v":100.00000000000001},{"$f":"Výpočty!W527","v":100},{"$f":"Výpočty!X527","v":99.999999999999986},{"$f":"Výpočty!Y527","v":100.00000000000003},{"$f":"Výpočty!Z527","v":99.999999999999972},{"$f":"Výpočty!AA527","v":100},{"$f":"Výpočty!AB527","v":100.00000000000001},{"$f":"Výpočty!AC527","v":100.00000000000001},{"$f":"Výpočty!AD527","v":99.999999999999986},{"$f":"Výpočty!AE527","v":100},{"$f":"Výpočty!AF527","v":100.00000000000001},{"$f":"Výpočty!AG527","v":100.00000000000001},{"$f":"Výpočty!AH527","v":100},{"$f":"Výpočty!AI527","v":100}]
[]
[]
[{"$f":"Výpočty!A530","v":"Očekávaný průměrný věk lékařů podle pohlaví"}]
[null,{"$f":"Výpočty!B531","v":2017},{"$f":"Výpočty!C531","v":2018},{"$f":"Výpočty!D531","v":2019},{"$f":"Výpočty!E531","v":2020},{"$f":"Výpočty!F531","v":2021},{"$f":"Výpočty!G531","v":2022},{"$f":"Výpočty!H531","v":2023},{"$f":"Výpočty!I531","v":2024},{"$f":"Výpočty!J531","v":2025},{"$f":"Výpočty!K531","v":2026},{"$f":"Výpočty!L531","v":2027},{"$f":"Výpočty!M531","v":2028},{"$f":"Výpočty!N531","v":2029},{"$f":"Výpočty!O531","v":2030},{"$f":"Výpočty!P531","v":2031},{"$f":"Výpočty!Q531","v":2032},{"$f":"Výpočty!R531","v":2033},{"$f":"Výpočty!S531","v":2034},{"$f":"Výpočty!T531","v":2035},{"$f":"Výpočty!U531","v":2036},{"$f":"Výpočty!V531","v":2037},{"$f":"Výpočty!W531","v":2038},{"$f":"Výpočty!X531","v":2039},{"$f":"Výpočty!Y531","v":2040},{"$f":"Výpočty!Z531","v":2041},{"$f":"Výpočty!AA531","v":2042},{"$f":"Výpočty!AB531","v":2043},{"$f":"Výpočty!AC531","v":2044},{"$f":"Výpočty!AD531","v":2045},{"$f":"Výpočty!AE531","v":2046},{"$f":"Výpočty!AF531","v":2047},{"$f":"Výpočty!AG531","v":2048},{"$f":"Výpočty!AH531","v":2049},{"$f":"Výpočty!AI531","v":2050}]
[{"$f":"Výpočty!A532","v":"Muži"},{"$f":"Výpočty!B532","v":57.31818181818182},{"$f":"Výpočty!C532","v":57.457030918580081},{"$f":"Výpočty!D532","v":57.570512180843117},{"$f":"Výpočty!E532","v":57.657358830622975},{"$f":"Výpočty!F532","v":57.716305211631848},{"$f":"Výpočty!G532","v":57.746203704629451},{"$f":"Výpočty!H532","v":57.746109194589039},{"$f":"Výpočty!I532","v":57.715416586650967},{"$f":"Výpočty!J532","v":57.654094403497282},{"$f":"Výpočty!K532","v":57.562842117873871},{"$f":"Výpočty!L532","v":57.443164872662898},{"$f":"Výpočty!M532","v":57.296314484974609},{"$f":"Výpočty!N532","v":57.128531627462408},{"$f":"Výpočty!O532","v":56.941715475727136},{"$f":"Výpočty!P532","v":56.740882938785532},{"$f":"Výpočty!Q532","v":56.531287527041243},{"$f":"Výpočty!R532","v":56.319334685922819},{"$f":"Výpočty!S532","v":56.110169471943493},{"$f":"Výpočty!T532","v":55.909759295622898},{"$f":"Výpočty!U532","v":55.722961765089117},{"$f":"Výpočty!V532","v":55.55493273021478},{"$f":"Výpočty!W532","v":55.408905732758818},{"$f":"Výpočty!X532","v":55.287845346073027},{"$f":"Výpočty!Y532","v":55.192891181615714},{"$f":"Výpočty!Z532","v":55.124364862466173},{"$f":"Výpočty!AA532","v":55.081692613189844},{"$f":"Výpočty!AB532","v":55.063064002938809},{"$f":"Výpočty!AC532","v":55.065830498093426},{"$f":"Výpočty!AD532","v":55.087404029049253},{"$f":"Výpočty!AE532","v":55.12354971921269},{"$f":"Výpočty!AF532","v":55.171623721327911},{"$f":"Výpočty!AG532","v":55.227482294412589},{"$f":"Výpočty!AH532","v":55.289439737644415},{"$f":"Výpočty!AI532","v":55.354290046258079}]
[{"$f":"Výpočty!A533","v":"Ženy"},{"$f":"Výpočty!B533","v":53.652709359605915},{"$f":"Výpočty!C533","v":53.809294313561317},{"$f":"Výpočty!D533","v":53.949852395220276},{"$f":"Výpočty!E533","v":54.074753085190451},{"$f":"Výpočty!F533","v":54.184568151455935},{"$f":"Výpočty!G533","v":54.280033676636513},{"$f":"Výpočty!H533","v":54.362071323053421},{"$f":"Výpočty!I533","v":54.431687514376151},{"$f":"Výpočty!J533","v":54.490010818837881},{"$f":"Výpočty!K533","v":54.538253976509701},{"$f":"Výpočty!L533","v":54.577634265828522},{"$f":"Výpočty!M533","v":54.60931090328716},{"$f":"Výpočty!N533","v":54.634368183182247},{"$f":"Výpočty!O533","v":54.653815087726414},{"$f":"Výpočty!P533","v":54.668642220549089},{"$f":"Výpočty!Q533","v":54.662733659358672},{"$f":"Výpočty!R533","v":54.666676225982833},{"$f":"Výpočty!S533","v":54.670758911656335},{"$f":"Výpočty!T533","v":54.669393267962434},{"$f":"Výpočty!U533","v":54.670849365152698},{"$f":"Výpočty!V533","v":54.665339986205133},{"$f":"Výpočty!W533","v":54.670170358272586},{"$f":"Výpočty!X533","v":54.666710775659887},{"$f":"Výpočty!Y533","v":54.681852367088894},{"$f":"Výpočty!Z533","v":54.693256176155117},{"$f":"Výpočty!AA533","v":54.706107404456453},{"$f":"Výpočty!AB533","v":54.723826257641079},{"$f":"Výpočty!AC533","v":54.745637662276756},{"$f":"Výpočty!AD533","v":54.7680991269442},{"$f":"Výpočty!AE533","v":54.796393722027126},{"$f":"Výpočty!AF533","v":54.812094231056314},{"$f":"Výpočty!AG533","v":54.836933526158489},{"$f":"Výpočty!AH533","v":54.857564082881595},{"$f":"Výpočty!AI533","v":54.868404550221825}]
[{"$f":"Výpočty!A534","v":"Celkem"},{"$f":"Výpočty!B534","v":54.981946624803768},{"$f":"Výpočty!C534","v":55.124431392906729},{"$f":"Výpočty!D534","v":55.24735175356637},{"$f":"Výpočty!E534","v":55.350515382301509},{"$f":"Výpočty!F534","v":55.433912911386535},{"$f":"Výpočty!G534","v":55.497716609759458},{"$f":"Výpočty!H534","v":55.542327217702898},{"$f":"Výpočty!I534","v":55.568393357982885},{"$f":"Výpočty!J534","v":55.576861150938406},{"$f":"Výpočty!K534","v":55.569023544853792},{"$f":"Výpočty!L534","v":55.546454000476331},{"$f":"Výpočty!M534","v":55.51058669530579},{"$f":"Výpočty!N534","v":55.464498180784886},{"$f":"Výpočty!O534","v":55.409589167552276},{"$f":"Výpočty!P534","v":55.348269127420522},{"$f":"Výpočty!Q534","v":55.271588491692533},{"$f":"Výpočty!R534","v":55.201850088734624},{"$f":"Výpočty!S534","v":55.134244159600605},{"$f":"Výpočty!T534","v":55.066814885749409},{"$f":"Výpočty!U534","v":55.00650125994477},{"$f":"Výpočty!V534","v":54.948164960000724},{"$f":"Výpočty!W534","v":54.90436440426982},{"$f":"Výpočty!X534","v":54.863245586050645},{"$f":"Výpočty!Y534","v":54.843315278795373},{"$f":"Výpočty!Z534","v":54.829372894165786},{"$f":"Výpočty!AA534","v":54.824686986906244},{"$f":"Výpočty!AB534","v":54.830974198666446},{"$f":"Výpočty!AC534","v":54.846850049300357},{"$f":"Výpočty!AD534","v":54.869144794094126},{"$f":"Výpočty!AE534","v":54.900054637932364},{"$f":"Výpočty!AF534","v":54.926199358817257},{"$f":"Výpočty!AG534","v":54.961075648422607},{"$f":"Výpočty!AH534","v":54.995069153821227},{"$f":"Výpočty!AI534","v":55.023380749526524}]
[]
[]
[{"$f":"Výpočty!A537","v":"Očekávané počty příchozích do a odchozích ze systému podle pohlaví"}]
[null,{"$f":"Výpočty!B538","v":2017},{"$f":"Výpočty!C538","v":2018},{"$f":"Výpočty!D538","v":2019},{"$f":"Výpočty!E538","v":2020},{"$f":"Výpočty!F538","v":2021},{"$f":"Výpočty!G538","v":2022},{"$f":"Výpočty!H538","v":2023},{"$f":"Výpočty!I538","v":2024},{"$f":"Výpočty!J538","v":2025},{"$f":"Výpočty!K538","v":2026},{"$f":"Výpočty!L538","v":2027},{"$f":"Výpočty!M538","v":2028},{"$f":"Výpočty!N538","v":2029},{"$f":"Výpočty!O538","v":2030},{"$f":"Výpočty!P538","v":2031},{"$f":"Výpočty!Q538","v":2032},{"$f":"Výpočty!R538","v":2033},{"$f":"Výpočty!S538","v":2034},{"$f":"Výpočty!T538","v":2035},{"$f":"Výpočty!U538","v":2036},{"$f":"Výpočty!V538","v":2037},{"$f":"Výpočty!W538","v":2038},{"$f":"Výpočty!X538","v":2039},{"$f":"Výpočty!Y538","v":2040},{"$f":"Výpočty!Z538","v":2041},{"$f":"Výpočty!AA538","v":2042},{"$f":"Výpočty!AB538","v":2043},{"$f":"Výpočty!AC538","v":2044},{"$f":"Výpočty!AD538","v":2045},{"$f":"Výpočty!AE538","v":2046},{"$f":"Výpočty!AF538","v":2047},{"$f":"Výpočty!AG538","v":2048},{"$f":"Výpočty!AH538","v":2049}]
[{"$f":"Výpočty!A539","v":"Příchozí – muži"},{"$f":"Výpočty!B539","v":5.8},{"$f":"Výpočty!C539","v":5.8},{"$f":"Výpočty!D539","v":5.8},{"$f":"Výpočty!E539","v":5.8},{"$f":"Výpočty!F539","v":5.8},{"$f":"Výpočty!G539","v":5.8},{"$f":"Výpočty!H539","v":5.8},{"$f":"Výpočty!I539","v":5.8},{"$f":"Výpočty!J539","v":5.8},{"$f":"Výpočty!K539","v":5.8},{"$f":"Výpočty!L539","v":5.8},{"$f":"Výpočty!M539","v":5.8},{"$f":"Výpočty!N539","v":5.8},{"$f":"Výpočty!O539","v":5.8},{"$f":"Výpočty!P539","v":5.8},{"$f":"Výpočty!Q539","v":5.8},{"$f":"Výpočty!R539","v":5.8},{"$f":"Výpočty!S539","v":5.8},{"$f":"Výpočty!T539","v":5.8},{"$f":"Výpočty!U539","v":5.8},{"$f":"Výpočty!V539","v":5.8},{"$f":"Výpočty!W539","v":5.8},{"$f":"Výpočty!X539","v":5.8},{"$f":"Výpočty!Y539","v":5.8},{"$f":"Výpočty!Z539","v":5.8},{"$f":"Výpočty!AA539","v":5.8},{"$f":"Výpočty!AB539","v":5.8},{"$f":"Výpočty!AC539","v":5.8},{"$f":"Výpočty!AD539","v":5.8},{"$f":"Výpočty!AE539","v":5.8},{"$f":"Výpočty!AF539","v":5.8},{"$f":"Výpočty!AG539","v":5.8},{"$f":"Výpočty!AH539","v":5.8}]
[{"$f":"Výpočty!A540","v":"Příchozí – ženy"},{"$f":"Výpočty!B540","v":12.6},{"$f":"Výpočty!C540","v":12.6},{"$f":"Výpočty!D540","v":12.6},{"$f":"Výpočty!E540","v":12.6},{"$f":"Výpočty!F540","v":12.6},{"$f":"Výpočty!G540","v":12.6},{"$f":"Výpočty!H540","v":12.6},{"$f":"Výpočty!I540","v":12.6},{"$f":"Výpočty!J540","v":12.6},{"$f":"Výpočty!K540","v":12.6},{"$f":"Výpočty!L540","v":12.6},{"$f":"Výpočty!M540","v":12.6},{"$f":"Výpočty!N540","v":12.6},{"$f":"Výpočty!O540","v":12.6},{"$f":"Výpočty!P540","v":12.6},{"$f":"Výpočty!Q540","v":12.6},{"$f":"Výpočty!R540","v":12.6},{"$f":"Výpočty!S540","v":12.6},{"$f":"Výpočty!T540","v":12.6},{"$f":"Výpočty!U540","v":12.6},{"$f":"Výpočty!V540","v":12.6},{"$f":"Výpočty!W540","v":12.6},{"$f":"Výpočty!X540","v":12.6},{"$f":"Výpočty!Y540","v":12.6},{"$f":"Výpočty!Z540","v":12.6},{"$f":"Výpočty!AA540","v":12.6},{"$f":"Výpočty!AB540","v":12.6},{"$f":"Výpočty!AC540","v":12.6},{"$f":"Výpočty!AD540","v":12.6},{"$f":"Výpočty!AE540","v":12.6},{"$f":"Výpočty!AF540","v":12.6},{"$f":"Výpočty!AG540","v":12.6},{"$f":"Výpočty!AH540","v":12.6}]
[{"$f":"Výpočty!A541","v":"Odchozí – muži"},{"$f":"-Výpočty!B541","v":-5.6209385835963221},{"$f":"-Výpočty!C541","v":-5.92765961376608},{"$f":"-Výpočty!D541","v":-6.2188189842103689},{"$f":"-Výpočty!E541","v":-6.4904768283341712},{"$f":"-Výpočty!F541","v":-6.739246846718987},{"$f":"-Výpočty!G541","v":-6.9650676009549937},{"$f":"-Výpočty!H541","v":-7.1573728002226007},{"$f":"-Výpočty!I541","v":-7.3115245236276003},{"$f":"-Výpočty!J541","v":-7.4270299929161467},{"$f":"-Výpočty!K541","v":-7.5037462001926531},{"$f":"-Výpočty!L541","v":-7.5434498938504584},{"$f":"-Výpočty!M541","v":-7.5224058407065595},{"$f":"-Výpočty!N541","v":-7.4778364396390256},{"$f":"-Výpočty!O541","v":-7.3924405033375065},{"$f":"-Výpočty!P541","v":-7.2691387766819364},{"$f":"-Výpočty!Q541","v":-7.112324371553381},{"$f":"-Výpočty!R541","v":-6.933826737161465},{"$f":"-Výpočty!S541","v":-6.7335546803221886},{"$f":"-Výpočty!T541","v":-6.5185324722413824},{"$f":"-Výpočty!U541","v":-6.2901850165961433},{"$f":"-Výpočty!V541","v":-6.0622026500295068},{"$f":"-Výpočty!W541","v":-5.838140977266864},{"$f":"-Výpočty!X541","v":-5.6310664624739069},{"$f":"-Výpočty!Y541","v":-5.4414115598496497},{"$f":"-Výpočty!Z541","v":-5.2738539876379713},{"$f":"-Výpočty!AA541","v":-5.1373865502702856},{"$f":"-Výpočty!AB541","v":-5.0321139943772888},{"$f":"-Výpočty!AC541","v":-4.9547199855528579},{"$f":"-Výpočty!AD541","v":-4.9129082216028142},{"$f":"-Výpočty!AE541","v":-4.8918973742308411},{"$f":"-Výpočty!AF541","v":-4.8980160807272357},{"$f":"-Výpočty!AG541","v":-4.916597750469144},{"$f":"-Výpočty!AH541","v":-4.9542478158764638}]
[{"$f":"Výpočty!A542","v":"Odchozí – ženy"},{"$f":"-Výpočty!B542","v":-8.5680896580675778},{"$f":"-Výpočty!C542","v":-8.9365432637606226},{"$f":"-Výpočty!D542","v":-9.2637116914749065},{"$f":"-Výpočty!E542","v":-9.5569818089129814},{"$f":"-Výpočty!F542","v":-9.8142068127217676},{"$f":"-Výpočty!G542","v":-10.040165175441414},{"$f":"-Výpočty!H542","v":-10.241450435759441},{"$f":"-Výpočty!I542","v":-10.409007045678093},{"$f":"-Výpočty!J542","v":-10.559460117696556},{"$f":"-Výpočty!K542","v":-10.697434949774433},{"$f":"-Výpočty!L542","v":-10.828308268186362},{"$f":"-Výpočty!M542","v":-10.948389055547521},{"$f":"-Výpočty!N542","v":-11.052709301282567},{"$f":"-Výpočty!O542","v":-11.13094622004636},{"$f":"-Výpočty!P542","v":-11.367612946152621},{"$f":"-Výpočty!Q542","v":-11.260855589653373},{"$f":"-Výpočty!R542","v":-11.265637054702077},{"$f":"-Výpočty!S542","v":-11.328824190204577},{"$f":"-Výpočty!T542","v":-11.297750548987466},{"$f":"-Výpočty!U542","v":-11.380729498901625},{"$f":"-Výpočty!V542","v":-11.287282795325595},{"$f":"-Výpočty!W542","v":-11.418954286500439},{"$f":"-Výpočty!X542","v":-11.270031077164838},{"$f":"-Výpočty!Y542","v":-11.375224166246371},{"$f":"-Výpočty!Z542","v":-11.424183105484689},{"$f":"-Výpočty!AA542","v":-11.437118109476495},{"$f":"-Výpočty!AB542","v":-11.46324803058647},{"$f":"-Výpočty!AC542","v":-11.527080885281761},{"$f":"-Výpočty!AD542","v":-11.53176375074897},{"$f":"-Výpočty!AE542","v":-11.744405373475123},{"$f":"-Výpočty!AF542","v":-11.707219913318452},{"$f":"-Výpočty!AG542","v":-11.820947372999358},{"$f":"-Výpočty!AH542","v":-11.994522021481089}]
[]
[]
[{"$f":"Výpočty!A545","v":"Očekávané saldo celkem a podle pohlaví"}]
[null,{"$f":"Výpočty!B546","v":2017},{"$f":"Výpočty!C546","v":2018},{"$f":"Výpočty!D546","v":2019},{"$f":"Výpočty!E546","v":2020},{"$f":"Výpočty!F546","v":2021},{"$f":"Výpočty!G546","v":2022},{"$f":"Výpočty!H546","v":2023},{"$f":"Výpočty!I546","v":2024},{"$f":"Výpočty!J546","v":2025},{"$f":"Výpočty!K546","v":2026},{"$f":"Výpočty!L546","v":2027},{"$f":"Výpočty!M546","v":2028},{"$f":"Výpočty!N546","v":2029},{"$f":"Výpočty!O546","v":2030},{"$f":"Výpočty!P546","v":2031},{"$f":"Výpočty!Q546","v":2032},{"$f":"Výpočty!R546","v":2033},{"$f":"Výpočty!S546","v":2034},{"$f":"Výpočty!T546","v":2035},{"$f":"Výpočty!U546","v":2036},{"$f":"Výpočty!V546","v":2037},{"$f":"Výpočty!W546","v":2038},{"$f":"Výpočty!X546","v":2039},{"$f":"Výpočty!Y546","v":2040},{"$f":"Výpočty!Z546","v":2041},{"$f":"Výpočty!AA546","v":2042},{"$f":"Výpočty!AB546","v":2043},{"$f":"Výpočty!AC546","v":2044},{"$f":"Výpočty!AD546","v":2045},{"$f":"Výpočty!AE546","v":2046},{"$f":"Výpočty!AF546","v":2047},{"$f":"Výpočty!AG546","v":2048},{"$f":"Výpočty!AH546","v":2049}]
[{"$f":"Výpočty!A547","v":"Muži"},{"$f":"Výpočty!B547","v":0.17906141640367768},{"$f":"Výpočty!C547","v":-0.12765961376608015},{"$f":"Výpočty!D547","v":-0.41881898421036912},{"$f":"Výpočty!E547","v":-0.69047682833417134},{"$f":"Výpočty!F547","v":-0.93924684671898717},{"$f":"Výpočty!G547","v":-1.1650676009549938},{"$f":"Výpočty!H547","v":-1.3573728002226009},{"$f":"Výpočty!I547","v":-1.5115245236276005},{"$f":"Výpočty!J547","v":-1.6270299929161469},{"$f":"Výpočty!K547","v":-1.7037462001926533},{"$f":"Výpočty!L547","v":-1.7434498938504586},{"$f":"Výpočty!M547","v":-1.7224058407065597},{"$f":"Výpočty!N547","v":-1.6778364396390257},{"$f":"Výpočty!O547","v":-1.5924405033375066},{"$f":"Výpočty!P547","v":-1.4691387766819366},{"$f":"Výpočty!Q547","v":-1.3123243715533812},{"$f":"Výpočty!R547","v":-1.1338267371614652},{"$f":"Výpočty!S547","v":-0.9335546803221888},{"$f":"Výpočty!T547","v":-0.71853247224138261},{"$f":"Výpočty!U547","v":-0.49018501659614344},{"$f":"Výpočty!V547","v":-0.26220265002950693},{"$f":"Výpočty!W547","v":-3.8140977266864162E-2},{"$f":"Výpočty!X547","v":0.16893353752609297},{"$f":"Výpočty!Y547","v":0.35858844015035007},{"$f":"Výpočty!Z547","v":0.52614601236202851},{"$f":"Výpočty!AA547","v":0.66261344972971425},{"$f":"Výpočty!AB547","v":0.76788600562271103},{"$f":"Výpočty!AC547","v":0.84528001444714196},{"$f":"Výpočty!AD547","v":0.88709177839718567},{"$f":"Výpočty!AE547","v":0.90810262576915868},{"$f":"Výpočty!AF547","v":0.90198391927276411},{"$f":"Výpočty!AG547","v":0.88340224953085578},{"$f":"Výpočty!AH547","v":0.84575218412353603}]
[{"$f":"Výpočty!A548","v":"Ženy"},{"$f":"Výpočty!B548","v":4.0319103419324218},{"$f":"Výpočty!C548","v":3.6634567362393771},{"$f":"Výpočty!D548","v":3.3362883085250932},{"$f":"Výpočty!E548","v":3.0430181910870182},{"$f":"Výpočty!F548","v":2.785793187278232},{"$f":"Výpočty!G548","v":2.5598348245585854},{"$f":"Výpočty!H548","v":2.3585495642405583},{"$f":"Výpočty!I548","v":2.1909929543219064},{"$f":"Výpočty!J548","v":2.0405398823034435},{"$f":"Výpočty!K548","v":1.9025650502255669},{"$f":"Výpočty!L548","v":1.7716917318136378},{"$f":"Výpočty!M548","v":1.6516109444524787},{"$f":"Výpočty!N548","v":1.5472906987174326},{"$f":"Výpočty!O548","v":1.4690537799536401},{"$f":"Výpočty!P548","v":1.2323870538473791},{"$f":"Výpočty!Q548","v":1.339144410346627},{"$f":"Výpočty!R548","v":1.3343629452979222},{"$f":"Výpočty!S548","v":1.2711758097954231},{"$f":"Výpočty!T548","v":1.3022494510125338},{"$f":"Výpočty!U548","v":1.2192705010983751},{"$f":"Výpočty!V548","v":1.3127172046744047},{"$f":"Výpočty!W548","v":1.1810457134995609},{"$f":"Výpočty!X548","v":1.3299689228351621},{"$f":"Výpočty!Y548","v":1.224775833753629},{"$f":"Výpočty!Z548","v":1.1758168945153109},{"$f":"Výpočty!AA548","v":1.1628818905235043},{"$f":"Výpočty!AB548","v":1.1367519694135293},{"$f":"Výpočty!AC548","v":1.0729191147182391},{"$f":"Výpočty!AD548","v":1.0682362492510293},{"$f":"Výpočty!AE548","v":0.85559462652487639},{"$f":"Výpočty!AF548","v":0.8927800866815474},{"$f":"Výpočty!AG548","v":0.77905262700064171},{"$f":"Výpočty!AH548","v":0.60547797851891083}]
[{"$f":"Výpočty!A549","v":"Celkem"},{"$f":"Výpočty!B549","v":4.2109717583360995},{"$f":"Výpočty!C549","v":3.5357971224732969},{"$f":"Výpočty!D549","v":2.9174693243147241},{"$f":"Výpočty!E549","v":2.3525413627528469},{"$f":"Výpočty!F549","v":1.8465463405592448},{"$f":"Výpočty!G549","v":1.3947672236035915},{"$f":"Výpočty!H549","v":1.0011767640179574},{"$f":"Výpočty!I549","v":0.67946843069430596},{"$f":"Výpočty!J549","v":0.4135098893872966},{"$f":"Výpočty!K549","v":0.19881885003291355},{"$f":"Výpočty!L549","v":2.824183796317925E-2},{"$f":"Výpočty!M549","v":-7.0794896254080975E-2},{"$f":"Výpočty!N549","v":-0.1305457409215931},{"$f":"Výpočty!O549","v":-0.12338672338386658},{"$f":"Výpočty!P549","v":-0.23675172283455748},{"$f":"Výpočty!Q549","v":2.6820038793245793E-2},{"$f":"Výpočty!R549","v":0.20053620813645701},{"$f":"Výpočty!S549","v":0.3376211294732343},{"$f":"Výpočty!T549","v":0.58371697877115114},{"$f":"Výpočty!U549","v":0.72908548450223165},{"$f":"Výpočty!V549","v":1.0505145546448977},{"$f":"Výpočty!W549","v":1.1429047362326967},{"$f":"Výpočty!X549","v":1.4989024603612551},{"$f":"Výpočty!Y549","v":1.583364273903979},{"$f":"Výpočty!Z549","v":1.7019629068773394},{"$f":"Výpočty!AA549","v":1.8254953402532186},{"$f":"Výpočty!AB549","v":1.9046379750362403},{"$f":"Výpočty!AC549","v":1.918199129165381},{"$f":"Výpočty!AD549","v":1.955328027648215},{"$f":"Výpočty!AE549","v":1.7636972522940351},{"$f":"Výpočty!AF549","v":1.7947640059543115},{"$f":"Výpočty!AG549","v":1.6624548765314975},{"$f":"Výpočty!AH549","v":1.4512301626424469}]
[]
[]
["Očekávaná zkrácená věková struktura (%; fyzický počet lékařů)",null,null,null,null,null,null,null,null,null,null,"Očekávaná zkrácená věková struktura (%; přepočtený počet lékařů)"]
["Věk",2017,null,2025,null,"Věk",2017,null,2050,null,null,"Věk",2017,null,2025,null,"Věk",2017,null,2050]
[null,"Muži","Ženy","Muži","Ženy",null,"Muži","Ženy","Muži","Ženy",null,null,"Muži","Ženy","Muži","Ženy",null,"Muži","Ženy","Muži","Ženy"]
["–34",{"$f":"-Výpočty!B445","v":-2.197802197802198},{"$f":"Výpočty!C445","v":5.3375196232339093},{"$f":"-Výpočty!R445","v":-1.6976049475488819},{"$f":"Výpočty!S445","v":3.8955562735817177},"–34",{"$f":"B142","v":-2.197802197802198},{"$f":"C142","v":5.3375196232339093},{"$f":"-Výpočty!BP445","v":-1.6480270054274888},{"$f":"Výpočty!BQ445","v":3.7996511230824614},null,"–34",{"$f":"-Výpočty!B488","v":-1.8704489800610662},{"$f":"Výpočty!C488","v":4.5425189515768754},{"$f":"-Výpočty!R488","v":-1.4662793823716216},{"$f":"Výpočty!S488","v":3.3647250233740391},"–34",{"$f":"M142","v":-1.8704489800610662},{"$f":"N142","v":4.5425189515768754},{"$f":"-Výpočty!BP488","v":-1.4079553426119755},{"$f":"Výpočty!BQ488","v":3.2461477155332483}]
["35–39",{"$f":"-Výpočty!B446","v":-1.5698587127158554},{"$f":"Výpočty!C446","v":4.0816326530612246},{"$f":"-Výpočty!R446","v":-3.0753301126545902},{"$f":"Výpočty!S446","v":5.7711703583635225},"35–39",{"$f":"B143","v":-1.5698587127158554},{"$f":"C143","v":4.0816326530612246},{"$f":"-Výpočty!BP446","v":-2.5402347290554745},{"$f":"Výpočty!BQ446","v":5.6950738443883706},null,"35–39",{"$f":"-Výpočty!B489","v":-1.5708097547566351},{"$f":"Výpočty!C489","v":4.084105362367251},{"$f":"-Výpočty!R489","v":-3.1230403480130562},{"$f":"Výpočty!S489","v":5.8607034770873696},"35–39",{"$f":"M143","v":-1.5708097547566351},{"$f":"N143","v":4.084105362367251},{"$f":"-Výpočty!BP489","v":-2.551550475527236},{"$f":"Výpočty!BQ489","v":5.7204431581072726}]
["40–44",{"$f":"-Výpočty!B447","v":-3.1397174254317108},{"$f":"Výpočty!C447","v":8.0062794348508639},{"$f":"-Výpočty!R447","v":-3.2326829647222595},{"$f":"Výpočty!S447","v":8.7245235342426799},"40–44",-3.1397174254317108,8.0062794348508639,{"$f":"-Výpočty!BP447","v":-3.3131025660835389},{"$f":"Výpočty!BQ447","v":7.8238470981663202},null,"40–44",{"$f":"-Výpočty!B490","v":-3.0253225826833661},{"$f":"Výpočty!C490","v":7.7145725858425829},{"$f":"-Výpočty!R490","v":-3.1613099116374728},{"$f":"Výpočty!S490","v":8.5318984336236738},"40–44",-3.0253225826833661,7.7145725858425829,{"$f":"-Výpočty!BP490","v":-3.2046698884128642},{"$f":"Výpočty!BQ490","v":7.5677847899163933}]
["45–49",{"$f":"-Výpočty!B448","v":-3.296703296703297},{"$f":"Výpočty!C448","v":8.3202511773940344},{"$f":"-Výpočty!R448","v":-3.0176036311416934},{"$f":"Výpočty!S448","v":6.8919292829222751},"45–49",-3.296703296703297,8.3202511773940344,{"$f":"-Výpočty!BP448","v":-3.8558149075260388},{"$f":"Výpočty!BQ448","v":8.9047443759377494},null,"45–49",{"$f":"-Výpočty!B491","v":-3.380200681157306},{"$f":"Výpočty!C491","v":8.5309826714922483},{"$f":"-Výpočty!R491","v":-3.1401301490082467},{"$f":"Výpočty!S491","v":7.1717685857731635},"45–49",-3.380200681157306,8.5309826714922483,{"$f":"-Výpočty!BP491","v":-3.9686801005453041},{"$f":"Výpočty!BQ491","v":9.1653989241671621}]
["50–54",{"$f":"-Výpočty!B449","v":-3.1397174254317108},{"$f":"Výpočty!C449","v":6.593406593406594},{"$f":"-Výpočty!R449","v":-3.8948635356092236},{"$f":"Výpočty!S449","v":10.600978171230139},"50–54",-3.1397174254317108,6.593406593406594,{"$f":"-Výpočty!BP449","v":-4.2166759931972306},{"$f":"Výpočty!BQ449","v":9.1839189063208746},null,"50–54",{"$f":"-Výpočty!B492","v":-3.1941766843091761},{"$f":"Výpočty!C492","v":6.7077710370492687},{"$f":"-Výpočty!R492","v":-4.021457194239284},{"$f":"Výpočty!S492","v":10.945538795622728},"50–54",-3.1941766843091761,6.7077710370492687,{"$f":"-Výpočty!BP492","v":-4.3063160079927494},{"$f":"Výpočty!BQ492","v":9.3791548286377893}]
["55–59",{"$f":"-Výpočty!B450","v":-4.395604395604396},{"$f":"Výpočty!C450","v":8.791208791208792},{"$f":"-Výpočty!R450","v":-2.8336254682287696},{"$f":"Výpočty!S450","v":7.1648082590549622},"55–59",-4.395604395604396,8.791208791208792,{"$f":"-Výpočty!BP450","v":-4.2697089871820202},{"$f":"Výpočty!BQ450","v":8.963202762446473},null,"55–59",{"$f":"-Výpočty!B493","v":-4.7240135422786578},{"$f":"Výpočty!C493","v":9.4480270845573155},{"$f":"-Výpočty!R493","v":-3.0907068496456391},{"$f":"Výpočty!S493","v":7.8148372856419499},"55–59",-4.7240135422786578,9.4480270845573155,{"$f":"-Výpočty!BP493","v":-4.6063624095572786},{"$f":"Výpočty!BQ493","v":9.6699237344096005}]
["60–64",{"$f":"-Výpočty!B451","v":-8.3202511773940344},{"$f":"Výpočty!C451","v":11.302982731554161},{"$f":"-Výpočty!R451","v":-3.6519362061489735},{"$f":"Výpočty!S451","v":5.1573270500316628},"60–64",-8.3202511773940344,11.302982731554161,{"$f":"-Výpočty!BP451","v":-4.4709941634258943},{"$f":"Výpočty!BQ451","v":7.8644395367615614},null,"60–64",{"$f":"-Výpočty!B494","v":-8.8607143941803503},{"$f":"Výpočty!C494","v":12.037196912848778},{"$f":"-Výpočty!R494","v":-3.9471016949576292},{"$f":"Výpočty!S494","v":5.5741648242254103},"60–64",-8.8607143941803503,12.037196912848778,{"$f":"-Výpočty!BP494","v":-4.7797336562816657},{"$f":"Výpočty!BQ494","v":8.4075095980103409}]
["65–69",{"$f":"-Výpočty!B452","v":-5.6514913657770807},{"$f":"Výpočty!C452","v":5.8084772370486659},{"$f":"-Výpočty!R452","v":-4.8996301567106393},{"$f":"Výpočty!S452","v":7.8260599646249016},"65–69",-5.6514913657770807,5.8084772370486659,{"$f":"-Výpočty!BP452","v":-3.4113194030004568},{"$f":"Výpočty!BQ452","v":6.8974970474753388},null,"65–69",{"$f":"-Výpočty!B495","v":-5.5907130440747066},{"$f":"Výpočty!C495","v":5.7460106286323382},{"$f":"-Výpočty!R495","v":-4.9191522541044783},{"$f":"Výpočty!S495","v":7.8572421355138982},"65–69",-5.5907130440747066,5.7460106286323382,{"$f":"-Výpočty!BP495","v":-3.3876131548429904},{"$f":"Výpočty!BQ495","v":6.8495643395239743}]
["70+",{"$f":"-Výpočty!B453","v":-4.5525902668759812},{"$f":"Výpočty!C453","v":5.4945054945054945},{"$f":"-Výpočty!R453","v":-8.0463317350438288},{"$f":"Výpočty!S453","v":9.6180383481392759},"70+",-4.5525902668759812,5.4945054945054945,{"$f":"-Výpočty!BP453","v":-4.169743861501896},{"$f":"Výpočty!BQ453","v":8.9720036890208057},null,"70+",{"$f":"-Výpočty!B496","v":-4.0656255931536007},{"$f":"Výpočty!C496","v":4.9067895089784841},{"$f":"-Výpočty!R496","v":-7.2927207198529675},{"$f":"Výpočty!S496","v":8.7172229353073831},"70+",-4.0656255931536007,4.9067895089784841,{"$f":"-Výpočty!BP496","v":-3.7380532776897359},{"$f":"Výpočty!BQ496","v":8.0431385982324279}]

{"sheet":"Grafy","index":4,"n_rows":155,"n_cols":15,"rows_kept":155,"cut":false,"hidden":false,"merged":[[154,1,154,18]]}
[null,"Odbornost:",null,"Všeobecné praktické lékařství",null,null,null,null,null,null,null,"Územní jednotka:",null,null,"Středočeský kraj"]
[]
[null,"Očekávaný vývoj počtu lékařů celkem",null,null,null,null,null,null,null,null,null,"Očekávaný vývoj počtu lékařů podle pohlaví"]
[]
[]
[]
[]
[]
[]
[]
[]
[]
[]
[]
[]
[]
[]
[]
[]
[]
[]
[]
[null,"Vysvětlivky: viz textový box."]
[]
[null,"Očekávaný vývoj počtu obyvatel ve věku 15 a více let na 1 lékaře",null,null,null,null,null,null,null,null,null,"Očekávaný vývoj struktury lékařů podle věkových kategorií (FPP)"]
[]
[]
[]
[]
[]
[]
[]
[]
[]
[]
[]
[]
[]
[]
[]
[]
[]
[]
[]
[]
[]
[null,"Očekávaný vývoj struktury lékařů podle věkových kategorií (PPP)",null,null,null,null,null,null,null,null,null,"Očekávaný vývoj průměrného věku lékařů"]
[]
[]
[]
[]
[]
[]
[]
[]
[]
[]
[]
[]
[]
[]
[]
[]
[]
[]
[]
[]
[]
[null,"Očekávané počty příchozích do a odchozích ze systému podle pohlaví",null,null,null,null,null,null,null,null,null,"Očekávané saldo "]
[]
[]
[]
[]
[]
[]
[]
[]
[]
[]
[]
[]
[]
[]
[]
[]
[]
[]
[]
[]
[]
[null,"Porovnání počáteční věkové struktury lékařů k 1.1. 2017 s očekávanou",null,null,null,null,null,null,null,null,null,"Porovnání počáteční věkové struktury lékařů k 1.1. 2017 s očekávanou"]
[null,"věkovou strukturou lékařů k 1. 1. 2025 (FPP)",null,null,null,null,null,null,null,null,null,"věkovou strukturou lékařů k 1. 1. 2050 (FPP)"]
[]
[]
[]
[]
[]
[]
[]
[]
[]
[]
[]
[]
[]
[]
[]
[]
[]
[]
[]
[]
[]
[]
[]
[]
[]
[]
[]
[]
[]
[]
[null,"Porovnání počáteční věkové struktury lékařů k 1.1. 2017 s očekávanou",null,null,null,null,null,null,null,null,null,"Porovnání počáteční věkové struktury lékařů k 1.1. 2017 s očekávanou"]
[null,"věkovou strukturou lékařů k 1. 1. 2025 (PPP)",null,null,null,null,null,null,null,null,null,"věkovou strukturou lékařů k 1. 1. 2050 (PPP)"]
[]
[]
[]
[]
[]
[]
[]
[]
[]
[]
[]
[]
[]
[]
[]
[]
[]
[]
[]
[]
[]
[]
[]
[]
[]
[]
[]
[]
[]
[]
[null,"Poznámka:\nV případě dvou odborností a několika územních jednotek: Praktické lékařství pro děti a dorost: Pardubický kraj; Ambulantní gynekologie: Jihočeský kraj, Ústecký kraj, Liberecký kraj, Olomoucký kraj a Zlínský kraj odhadované počty lékařů dosahují v některých letech záporných hodnot jako důsledek jejich negativního vývoje v období 2011–2016, kterého parametry jsou zafixovány v celém predikovaném intervalu. V těchto případech je vypovídající schopnost některých grafů minimální, resp. žádná.\n\nPoužité zkratky:\nFPP – fyzický počet lékařů\nPPP – přepočtený počet lékařů na základě jejich úvazkové kapacity\n\nDoporučená citace: Burcin, B., Šídlo, L. 2017. Modelové projekce budoucího počtu a struktury lékařů primární zdravotní péče a jejich kapacit. Aplikace se základními výsledky na úrovni Česka a jednotlivých krajů. Katedra demografie a geodemografie, Centrum populačního plánování a aplikované demografie, Přírodovědecká fakulta Univerzity Karlovy, Praha. "]